{"text_format":"1","workbook":"xlsx","n_sheets":3,"sheets":["Details","SNPs","BHQplex design output"],"not_rendered":{"charts":0,"images":1,"macros":1,"external_links":0,"defined_names":1,"comments":0,"pivot_tables":0},"unopened":[],"bounds":{"document_bytes":16777216,"sheet_cells":100000,"rows_first":2000,"rows_last":500,"rows_between":2000,"halvings":0,"cell_chars":16384,"cell_head_chars":4096},"cells_cut":0,"cells_raw":0,"read":"whole","date_system":"1900"}

{"sheet":"Details","index":0,"n_rows":15,"n_cols":4,"rows_kept":15,"cut":false,"hidden":false,"merged":[[12,1,12,2],[7,1,7,2],[8,1,8,2],[9,1,9,2],[10,1,10,2],[11,1,11,2],[2,1,2,2],[3,1,3,2],[4,1,4,2],[5,1,5,2],[6,1,6,2]]}
["BHQplex Submission Form","For US orders\nLGC Genomics LLC\nSuite 420H\n100 Cummings Center \nBeverly, MA 01915\nUSA\n \nTel: +1 (978) 232 9430\nFax: +1 (978) 232 9435\n","For Europe and Rest of World\nLGC Genomics Ltd.\nUnit 1-2, Trident Industrial Estate\nPindar Road\nHoddesdon, Herts\nEN11 0WZ\nUK\nTel  +44 (0)1992 470 757\nFax +44 (0)1438 900 670                                                                                                                                                                      "]
["SNP Validation setup order ","Please email this spreadsheet to \nSales.US@lgcgroup.com","Please email this spreadsheet to \norders.uk@lgcgroup.com"]
["Organisation"]
["Department"]
["Contact name"]
["Contact email address"]
["Contact phone number"]
["Order number",null,null,"(Issued by your purchasing dept)"]
["Quote number",null,null,"(If known)"]
["Organism"]
["Instrument"]
["SNP Analysis or QPCR"]
[]
[]
["Please do not change the formatting of this document as it is fed directly into the LGC Genomics laboratory information management system. Any changes made to the formatting will result in a delay to your order."]

{"sheet":"SNPs","index":1,"n_rows":9,"n_cols":22,"rows_kept":9,"cut":false,"hidden":false,"merged":[[0,2,0,6]]}
["Unique identifier no longer than 20 Letters long. Alpanumeric and underscore characters only. Please do not uses space characters - replace with underscore. Please do not use commas or common regrex characters \"/\"\"^\"\"?\"\"*\"\"|\"\"\\\" when naming ","Ambiguity codes are not accepted currenlty. If you have ambiguities please highlight these as 'N'. Please do not use lower case sequence as this will be ignored. Sequence should follow seq[A1/A2]seq format.","Dye selection for Mutliplexing only"]
[null,"Sequence","Dye 1","Dye 2","Dye3","Dye4","Dye5",null,null,null,null,null,null,null,null,null,null,null,null,null,null,"FAM"]
[null,null,"FAM","CFO560",null,null,null,null,null,null,null,null,null,null,null,null,null,null,null,null,null,"CFO560"]
[null,null,null,null,"Q670","Q670","Dy754",null,null,null,null,null,null,null,null,null,null,null,null,null,null,"CFR610"]
[null,null,"FAM",null,null,null,null,null,null,null,null,null,null,null,null,null,null,null,null,null,null,"TAMRA"]
[null,null,null,null,null,null,null,null,null,null,null,null,null,null,null,null,null,null,null,null,null,"CFR635"]
[null,null,null,null,null,null,null,null,null,null,null,null,null,null,null,null,null,null,null,null,null,"Q670"]
[null,null,null,null,null,null,null,null,null,null,null,null,null,null,null,null,null,null,null,null,null,"Q705"]
[null,null,null,null,null,null,null,null,null,null,null,null,null,null,null,null,null,null,null,null,null,"Dy754"]

{"sheet":"BHQplex design output","index":2,"n_rows":2359,"n_cols":6,"rows_kept":2359,"cut":false,"hidden":true,"merged":[[2,5,10,15]]}
["Name","WT","Mut","Source"]
[{"$f":"IF(SNPs!A3<>\"\",SNPs!A3,\"\")","v":""},{"$f":"IF(SNPs!B3<>\"\",MID(SNPs!B3,FIND(\"[\",SNPs!B3)+1,FIND(\"/\",SNPs!B3)-FIND(\"[\",SNPs!B3)-1),\"\")","v":""},{"$f":"IF(SNPs!B3<>\"\",MID(SNPs!B3,FIND(\"[\",SNPs!B3)+3,FIND(\"/\",SNPs!B3)-FIND(\"/\",SNPs!B3)+1),\"\")","v":""},{"$f":"IF(SNPs!B3<>\"\",SNPs!B3,\"\")","v":""}]
[{"$f":"IF(SNPs!A4<>\"\",SNPs!A4,\"\")","v":""},{"$f":"IF(SNPs!B4<>\"\",MID(SNPs!B4,FIND(\"[\",SNPs!B4)+1,FIND(\"/\",SNPs!B4)-FIND(\"[\",SNPs!B4)-1),\"\")","v":""},{"$f":"IF(SNPs!B4<>\"\",MID(SNPs!B4,FIND(\"[\",SNPs!B4)+3,FIND(\"/\",SNPs!B4)-FIND(\"/\",SNPs!B4)+1),\"\")","v":""},{"$f":"IF(SNPs!B4<>\"\",SNPs!B4,\"\")","v":""},null,"BHQplex ready design format - instructions                                                                                                                                                                           1. Please press the button below to export BHQplex design cvs file                                                                                                        2. Do not alter the information in the columns to the left this has been done for you                                                          3. You will need to have macros enabled in order for this use this form                                                                                        4. The file will save to the current working directory - usually the customer file for the project - you will be prompted to save the file with a file name and to the current directory or change the directory.                                                                  5. The will save as a .csv file ready for BHQplex design"]
[{"$f":"IF(SNPs!A5<>\"\",SNPs!A5,\"\")","v":""},{"$f":"IF(SNPs!B5<>\"\",MID(SNPs!B5,FIND(\"[\",SNPs!B5)+1,FIND(\"/\",SNPs!B5)-FIND(\"[\",SNPs!B5)-1),\"\")","v":""},{"$f":"IF(SNPs!B5<>\"\",MID(SNPs!B5,FIND(\"[\",SNPs!B5)+3,FIND(\"/\",SNPs!B5)-FIND(\"/\",SNPs!B5)+1),\"\")","v":""},{"$f":"IF(SNPs!B5<>\"\",SNPs!B5,\"\")","v":""}]
[{"$f":"IF(SNPs!A6<>\"\",SNPs!A6,\"\")","v":""},{"$f":"IF(SNPs!B6<>\"\",MID(SNPs!B6,FIND(\"[\",SNPs!B6)+1,FIND(\"/\",SNPs!B6)-FIND(\"[\",SNPs!B6)-1),\"\")","v":""},{"$f":"IF(SNPs!B6<>\"\",MID(SNPs!B6,FIND(\"[\",SNPs!B6)+3,FIND(\"/\",SNPs!B6)-FIND(\"/\",SNPs!B6)+1),\"\")","v":""},{"$f":"IF(SNPs!B6<>\"\",SNPs!B6,\"\")","v":""}]
[{"$f":"IF(SNPs!A7<>\"\",SNPs!A7,\"\")","v":""},{"$f":"IF(SNPs!B7<>\"\",MID(SNPs!B7,FIND(\"[\",SNPs!B7)+1,FIND(\"/\",SNPs!B7)-FIND(\"[\",SNPs!B7)-1),\"\")","v":""},{"$f":"IF(SNPs!B7<>\"\",MID(SNPs!B7,FIND(\"[\",SNPs!B7)+3,FIND(\"/\",SNPs!B7)-FIND(\"/\",SNPs!B7)+1),\"\")","v":""},{"$f":"IF(SNPs!B7<>\"\",SNPs!B7,\"\")","v":""}]
[{"$f":"IF(SNPs!A8<>\"\",SNPs!A8,\"\")","v":""},{"$f":"IF(SNPs!B8<>\"\",MID(SNPs!B8,FIND(\"[\",SNPs!B8)+1,FIND(\"/\",SNPs!B8)-FIND(\"[\",SNPs!B8)-1),\"\")","v":""},{"$f":"IF(SNPs!B8<>\"\",MID(SNPs!B8,FIND(\"[\",SNPs!B8)+3,FIND(\"/\",SNPs!B8)-FIND(\"/\",SNPs!B8)+1),\"\")","v":""},{"$f":"IF(SNPs!B8<>\"\",SNPs!B8,\"\")","v":""}]
[{"$f":"IF(SNPs!A9<>\"\",SNPs!A9,\"\")","v":""},{"$f":"IF(SNPs!B9<>\"\",MID(SNPs!B9,FIND(\"[\",SNPs!B9)+1,FIND(\"/\",SNPs!B9)-FIND(\"[\",SNPs!B9)-1),\"\")","v":""},{"$f":"IF(SNPs!B9<>\"\",MID(SNPs!B9,FIND(\"[\",SNPs!B9)+3,FIND(\"/\",SNPs!B9)-FIND(\"/\",SNPs!B9)+1),\"\")","v":""},{"$f":"IF(SNPs!B9<>\"\",SNPs!B9,\"\")","v":""}]
[{"$f":"IF(SNPs!A10<>\"\",SNPs!A10,\"\")","v":""},{"$f":"IF(SNPs!B10<>\"\",MID(SNPs!B10,FIND(\"[\",SNPs!B10)+1,FIND(\"/\",SNPs!B10)-FIND(\"[\",SNPs!B10)-1),\"\")","v":""},{"$f":"IF(SNPs!B10<>\"\",MID(SNPs!B10,FIND(\"[\",SNPs!B10)+3,FIND(\"/\",SNPs!B10)-FIND(\"/\",SNPs!B10)+1),\"\")","v":""},{"$f":"IF(SNPs!B10<>\"\",SNPs!B10,\"\")","v":""}]
[{"$f":"IF(SNPs!A11<>\"\",SNPs!A11,\"\")","v":""},{"$f":"IF(SNPs!B11<>\"\",MID(SNPs!B11,FIND(\"[\",SNPs!B11)+1,FIND(\"/\",SNPs!B11)-FIND(\"[\",SNPs!B11)-1),\"\")","v":""},{"$f":"IF(SNPs!B11<>\"\",MID(SNPs!B11,FIND(\"[\",SNPs!B11)+3,FIND(\"/\",SNPs!B11)-FIND(\"/\",SNPs!B11)+1),\"\")","v":""},{"$f":"IF(SNPs!B11<>\"\",SNPs!B11,\"\")","v":""}]
[{"$f":"IF(SNPs!A12<>\"\",SNPs!A12,\"\")","v":""},{"$f":"IF(SNPs!B12<>\"\",MID(SNPs!B12,FIND(\"[\",SNPs!B12)+1,FIND(\"/\",SNPs!B12)-FIND(\"[\",SNPs!B12)-1),\"\")","v":""},{"$f":"IF(SNPs!B12<>\"\",MID(SNPs!B12,FIND(\"[\",SNPs!B12)+3,FIND(\"/\",SNPs!B12)-FIND(\"/\",SNPs!B12)+1),\"\")","v":""},{"$f":"IF(SNPs!B12<>\"\",SNPs!B12,\"\")","v":""}]
[{"$f":"IF(SNPs!A13<>\"\",SNPs!A13,\"\")","v":""},{"$f":"IF(SNPs!B13<>\"\",MID(SNPs!B13,FIND(\"[\",SNPs!B13)+1,FIND(\"/\",SNPs!B13)-FIND(\"[\",SNPs!B13)-1),\"\")","v":""},{"$f":"IF(SNPs!B13<>\"\",MID(SNPs!B13,FIND(\"[\",SNPs!B13)+3,FIND(\"/\",SNPs!B13)-FIND(\"/\",SNPs!B13)+1),\"\")","v":""},{"$f":"IF(SNPs!B13<>\"\",SNPs!B13,\"\")","v":""}]
[{"$f":"IF(SNPs!A14<>\"\",SNPs!A14,\"\")","v":""},{"$f":"IF(SNPs!B14<>\"\",MID(SNPs!B14,FIND(\"[\",SNPs!B14)+1,FIND(\"/\",SNPs!B14)-FIND(\"[\",SNPs!B14)-1),\"\")","v":""},{"$f":"IF(SNPs!B14<>\"\",MID(SNPs!B14,FIND(\"[\",SNPs!B14)+3,FIND(\"/\",SNPs!B14)-FIND(\"/\",SNPs!B14)+1),\"\")","v":""},{"$f":"IF(SNPs!B14<>\"\",SNPs!B14,\"\")","v":""}]
[{"$f":"IF(SNPs!A15<>\"\",SNPs!A15,\"\")","v":""},{"$f":"IF(SNPs!B15<>\"\",MID(SNPs!B15,FIND(\"[\",SNPs!B15)+1,FIND(\"/\",SNPs!B15)-FIND(\"[\",SNPs!B15)-1),\"\")","v":""},{"$f":"IF(SNPs!B15<>\"\",MID(SNPs!B15,FIND(\"[\",SNPs!B15)+3,FIND(\"/\",SNPs!B15)-FIND(\"/\",SNPs!B15)+1),\"\")","v":""},{"$f":"IF(SNPs!B15<>\"\",SNPs!B15,\"\")","v":""}]
[{"$f":"IF(SNPs!A16<>\"\",SNPs!A16,\"\")","v":""},{"$f":"IF(SNPs!B16<>\"\",MID(SNPs!B16,FIND(\"[\",SNPs!B16)+1,FIND(\"/\",SNPs!B16)-FIND(\"[\",SNPs!B16)-1),\"\")","v":""},{"$f":"IF(SNPs!B16<>\"\",MID(SNPs!B16,FIND(\"[\",SNPs!B16)+3,FIND(\"/\",SNPs!B16)-FIND(\"/\",SNPs!B16)+1),\"\")","v":""},{"$f":"IF(SNPs!B16<>\"\",SNPs!B16,\"\")","v":""}]
[{"$f":"IF(SNPs!A17<>\"\",SNPs!A17,\"\")","v":""},{"$f":"IF(SNPs!B17<>\"\",MID(SNPs!B17,FIND(\"[\",SNPs!B17)+1,FIND(\"/\",SNPs!B17)-FIND(\"[\",SNPs!B17)-1),\"\")","v":""},{"$f":"IF(SNPs!B17<>\"\",MID(SNPs!B17,FIND(\"[\",SNPs!B17)+3,FIND(\"/\",SNPs!B17)-FIND(\"/\",SNPs!B17)+1),\"\")","v":""},{"$f":"IF(SNPs!B17<>\"\",SNPs!B17,\"\")","v":""}]
[{"$f":"IF(SNPs!A18<>\"\",SNPs!A18,\"\")","v":""},{"$f":"IF(SNPs!B18<>\"\",MID(SNPs!B18,FIND(\"[\",SNPs!B18)+1,FIND(\"/\",SNPs!B18)-FIND(\"[\",SNPs!B18)-1),\"\")","v":""},{"$f":"IF(SNPs!B18<>\"\",MID(SNPs!B18,FIND(\"[\",SNPs!B18)+3,FIND(\"/\",SNPs!B18)-FIND(\"/\",SNPs!B18)+1),\"\")","v":""},{"$f":"IF(SNPs!B18<>\"\",SNPs!B18,\"\")","v":""}]
[{"$f":"IF(SNPs!A19<>\"\",SNPs!A19,\"\")","v":""},{"$f":"IF(SNPs!B19<>\"\",MID(SNPs!B19,FIND(\"[\",SNPs!B19)+1,FIND(\"/\",SNPs!B19)-FIND(\"[\",SNPs!B19)-1),\"\")","v":""},{"$f":"IF(SNPs!B19<>\"\",MID(SNPs!B19,FIND(\"[\",SNPs!B19)+3,FIND(\"/\",SNPs!B19)-FIND(\"/\",SNPs!B19)+1),\"\")","v":""},{"$f":"IF(SNPs!B19<>\"\",SNPs!B19,\"\")","v":""}]
[{"$f":"IF(SNPs!A20<>\"\",SNPs!A20,\"\")","v":""},{"$f":"IF(SNPs!B20<>\"\",MID(SNPs!B20,FIND(\"[\",SNPs!B20)+1,FIND(\"/\",SNPs!B20)-FIND(\"[\",SNPs!B20)-1),\"\")","v":""},{"$f":"IF(SNPs!B20<>\"\",MID(SNPs!B20,FIND(\"[\",SNPs!B20)+3,FIND(\"/\",SNPs!B20)-FIND(\"/\",SNPs!B20)+1),\"\")","v":""},{"$f":"IF(SNPs!B20<>\"\",SNPs!B20,\"\")","v":""}]
[{"$f":"IF(SNPs!A21<>\"\",SNPs!A21,\"\")","v":""},{"$f":"IF(SNPs!B21<>\"\",MID(SNPs!B21,FIND(\"[\",SNPs!B21)+1,FIND(\"/\",SNPs!B21)-FIND(\"[\",SNPs!B21)-1),\"\")","v":""},{"$f":"IF(SNPs!B21<>\"\",MID(SNPs!B21,FIND(\"[\",SNPs!B21)+3,FIND(\"/\",SNPs!B21)-FIND(\"/\",SNPs!B21)+1),\"\")","v":""},{"$f":"IF(SNPs!B21<>\"\",SNPs!B21,\"\")","v":""}]
[{"$f":"IF(SNPs!A22<>\"\",SNPs!A22,\"\")","v":""},{"$f":"IF(SNPs!B22<>\"\",MID(SNPs!B22,FIND(\"[\",SNPs!B22)+1,FIND(\"/\",SNPs!B22)-FIND(\"[\",SNPs!B22)-1),\"\")","v":""},{"$f":"IF(SNPs!B22<>\"\",MID(SNPs!B22,FIND(\"[\",SNPs!B22)+3,FIND(\"/\",SNPs!B22)-FIND(\"/\",SNPs!B22)+1),\"\")","v":""},{"$f":"IF(SNPs!B22<>\"\",SNPs!B22,\"\")","v":""}]
[{"$f":"IF(SNPs!A23<>\"\",SNPs!A23,\"\")","v":""},{"$f":"IF(SNPs!B23<>\"\",MID(SNPs!B23,FIND(\"[\",SNPs!B23)+1,FIND(\"/\",SNPs!B23)-FIND(\"[\",SNPs!B23)-1),\"\")","v":""},{"$f":"IF(SNPs!B23<>\"\",MID(SNPs!B23,FIND(\"[\",SNPs!B23)+3,FIND(\"/\",SNPs!B23)-FIND(\"/\",SNPs!B23)+1),\"\")","v":""},{"$f":"IF(SNPs!B23<>\"\",SNPs!B23,\"\")","v":""}]
[{"$f":"IF(SNPs!A24<>\"\",SNPs!A24,\"\")","v":""},{"$f":"IF(SNPs!B24<>\"\",MID(SNPs!B24,FIND(\"[\",SNPs!B24)+1,FIND(\"/\",SNPs!B24)-FIND(\"[\",SNPs!B24)-1),\"\")","v":""},{"$f":"IF(SNPs!B24<>\"\",MID(SNPs!B24,FIND(\"[\",SNPs!B24)+3,FIND(\"/\",SNPs!B24)-FIND(\"/\",SNPs!B24)+1),\"\")","v":""},{"$f":"IF(SNPs!B24<>\"\",SNPs!B24,\"\")","v":""}]
[{"$f":"IF(SNPs!A25<>\"\",SNPs!A25,\"\")","v":""},{"$f":"IF(SNPs!B25<>\"\",MID(SNPs!B25,FIND(\"[\",SNPs!B25)+1,FIND(\"/\",SNPs!B25)-FIND(\"[\",SNPs!B25)-1),\"\")","v":""},{"$f":"IF(SNPs!B25<>\"\",MID(SNPs!B25,FIND(\"[\",SNPs!B25)+3,FIND(\"/\",SNPs!B25)-FIND(\"/\",SNPs!B25)+1),\"\")","v":""},{"$f":"IF(SNPs!B25<>\"\",SNPs!B25,\"\")","v":""}]
[{"$f":"IF(SNPs!A26<>\"\",SNPs!A26,\"\")","v":""},{"$f":"IF(SNPs!B26<>\"\",MID(SNPs!B26,FIND(\"[\",SNPs!B26)+1,FIND(\"/\",SNPs!B26)-FIND(\"[\",SNPs!B26)-1),\"\")","v":""},{"$f":"IF(SNPs!B26<>\"\",MID(SNPs!B26,FIND(\"[\",SNPs!B26)+3,FIND(\"/\",SNPs!B26)-FIND(\"/\",SNPs!B26)+1),\"\")","v":""},{"$f":"IF(SNPs!B26<>\"\",SNPs!B26,\"\")","v":""}]
[{"$f":"IF(SNPs!A27<>\"\",SNPs!A27,\"\")","v":""},{"$f":"IF(SNPs!B27<>\"\",MID(SNPs!B27,FIND(\"[\",SNPs!B27)+1,FIND(\"/\",SNPs!B27)-FIND(\"[\",SNPs!B27)-1),\"\")","v":""},{"$f":"IF(SNPs!B27<>\"\",MID(SNPs!B27,FIND(\"[\",SNPs!B27)+3,FIND(\"/\",SNPs!B27)-FIND(\"/\",SNPs!B27)+1),\"\")","v":""},{"$f":"IF(SNPs!B27<>\"\",SNPs!B27,\"\")","v":""}]
[{"$f":"IF(SNPs!A28<>\"\",SNPs!A28,\"\")","v":""},{"$f":"IF(SNPs!B28<>\"\",MID(SNPs!B28,FIND(\"[\",SNPs!B28)+1,FIND(\"/\",SNPs!B28)-FIND(\"[\",SNPs!B28)-1),\"\")","v":""},{"$f":"IF(SNPs!B28<>\"\",MID(SNPs!B28,FIND(\"[\",SNPs!B28)+3,FIND(\"/\",SNPs!B28)-FIND(\"/\",SNPs!B28)+1),\"\")","v":""},{"$f":"IF(SNPs!B28<>\"\",SNPs!B28,\"\")","v":""}]
[{"$f":"IF(SNPs!A29<>\"\",SNPs!A29,\"\")","v":""},{"$f":"IF(SNPs!B29<>\"\",MID(SNPs!B29,FIND(\"[\",SNPs!B29)+1,FIND(\"/\",SNPs!B29)-FIND(\"[\",SNPs!B29)-1),\"\")","v":""},{"$f":"IF(SNPs!B29<>\"\",MID(SNPs!B29,FIND(\"[\",SNPs!B29)+3,FIND(\"/\",SNPs!B29)-FIND(\"/\",SNPs!B29)+1),\"\")","v":""},{"$f":"IF(SNPs!B29<>\"\",SNPs!B29,\"\")","v":""}]
[{"$f":"IF(SNPs!A30<>\"\",SNPs!A30,\"\")","v":""},{"$f":"IF(SNPs!B30<>\"\",MID(SNPs!B30,FIND(\"[\",SNPs!B30)+1,FIND(\"/\",SNPs!B30)-FIND(\"[\",SNPs!B30)-1),\"\")","v":""},{"$f":"IF(SNPs!B30<>\"\",MID(SNPs!B30,FIND(\"[\",SNPs!B30)+3,FIND(\"/\",SNPs!B30)-FIND(\"/\",SNPs!B30)+1),\"\")","v":""},{"$f":"IF(SNPs!B30<>\"\",SNPs!B30,\"\")","v":""}]
[{"$f":"IF(SNPs!A31<>\"\",SNPs!A31,\"\")","v":""},{"$f":"IF(SNPs!B31<>\"\",MID(SNPs!B31,FIND(\"[\",SNPs!B31)+1,FIND(\"/\",SNPs!B31)-FIND(\"[\",SNPs!B31)-1),\"\")","v":""},{"$f":"IF(SNPs!B31<>\"\",MID(SNPs!B31,FIND(\"[\",SNPs!B31)+3,FIND(\"/\",SNPs!B31)-FIND(\"/\",SNPs!B31)+1),\"\")","v":""},{"$f":"IF(SNPs!B31<>\"\",SNPs!B31,\"\")","v":""}]
[{"$f":"IF(SNPs!A32<>\"\",SNPs!A32,\"\")","v":""},{"$f":"IF(SNPs!B32<>\"\",MID(SNPs!B32,FIND(\"[\",SNPs!B32)+1,FIND(\"/\",SNPs!B32)-FIND(\"[\",SNPs!B32)-1),\"\")","v":""},{"$f":"IF(SNPs!B32<>\"\",MID(SNPs!B32,FIND(\"[\",SNPs!B32)+3,FIND(\"/\",SNPs!B32)-FIND(\"/\",SNPs!B32)+1),\"\")","v":""},{"$f":"IF(SNPs!B32<>\"\",SNPs!B32,\"\")","v":""}]
[{"$f":"IF(SNPs!A33<>\"\",SNPs!A33,\"\")","v":""},{"$f":"IF(SNPs!B33<>\"\",MID(SNPs!B33,FIND(\"[\",SNPs!B33)+1,FIND(\"/\",SNPs!B33)-FIND(\"[\",SNPs!B33)-1),\"\")","v":""},{"$f":"IF(SNPs!B33<>\"\",MID(SNPs!B33,FIND(\"[\",SNPs!B33)+3,FIND(\"/\",SNPs!B33)-FIND(\"/\",SNPs!B33)+1),\"\")","v":""},{"$f":"IF(SNPs!B33<>\"\",SNPs!B33,\"\")","v":""}]
[{"$f":"IF(SNPs!A34<>\"\",SNPs!A34,\"\")","v":""},{"$f":"IF(SNPs!B34<>\"\",MID(SNPs!B34,FIND(\"[\",SNPs!B34)+1,FIND(\"/\",SNPs!B34)-FIND(\"[\",SNPs!B34)-1),\"\")","v":""},{"$f":"IF(SNPs!B34<>\"\",MID(SNPs!B34,FIND(\"[\",SNPs!B34)+3,FIND(\"/\",SNPs!B34)-FIND(\"/\",SNPs!B34)+1),\"\")","v":""},{"$f":"IF(SNPs!B34<>\"\",SNPs!B34,\"\")","v":""}]
[{"$f":"IF(SNPs!A35<>\"\",SNPs!A35,\"\")","v":""},{"$f":"IF(SNPs!B35<>\"\",MID(SNPs!B35,FIND(\"[\",SNPs!B35)+1,FIND(\"/\",SNPs!B35)-FIND(\"[\",SNPs!B35)-1),\"\")","v":""},{"$f":"IF(SNPs!B35<>\"\",MID(SNPs!B35,FIND(\"[\",SNPs!B35)+3,FIND(\"/\",SNPs!B35)-FIND(\"/\",SNPs!B35)+1),\"\")","v":""},{"$f":"IF(SNPs!B35<>\"\",SNPs!B35,\"\")","v":""}]
[{"$f":"IF(SNPs!A36<>\"\",SNPs!A36,\"\")","v":""},{"$f":"IF(SNPs!B36<>\"\",MID(SNPs!B36,FIND(\"[\",SNPs!B36)+1,FIND(\"/\",SNPs!B36)-FIND(\"[\",SNPs!B36)-1),\"\")","v":""},{"$f":"IF(SNPs!B36<>\"\",MID(SNPs!B36,FIND(\"[\",SNPs!B36)+3,FIND(\"/\",SNPs!B36)-FIND(\"/\",SNPs!B36)+1),\"\")","v":""},{"$f":"IF(SNPs!B36<>\"\",SNPs!B36,\"\")","v":""}]
[{"$f":"IF(SNPs!A37<>\"\",SNPs!A37,\"\")","v":""},{"$f":"IF(SNPs!B37<>\"\",MID(SNPs!B37,FIND(\"[\",SNPs!B37)+1,FIND(\"/\",SNPs!B37)-FIND(\"[\",SNPs!B37)-1),\"\")","v":""},{"$f":"IF(SNPs!B37<>\"\",MID(SNPs!B37,FIND(\"[\",SNPs!B37)+3,FIND(\"/\",SNPs!B37)-FIND(\"/\",SNPs!B37)+1),\"\")","v":""},{"$f":"IF(SNPs!B37<>\"\",SNPs!B37,\"\")","v":""}]
[{"$f":"IF(SNPs!A38<>\"\",SNPs!A38,\"\")","v":""},{"$f":"IF(SNPs!B38<>\"\",MID(SNPs!B38,FIND(\"[\",SNPs!B38)+1,FIND(\"/\",SNPs!B38)-FIND(\"[\",SNPs!B38)-1),\"\")","v":""},{"$f":"IF(SNPs!B38<>\"\",MID(SNPs!B38,FIND(\"[\",SNPs!B38)+3,FIND(\"/\",SNPs!B38)-FIND(\"/\",SNPs!B38)+1),\"\")","v":""},{"$f":"IF(SNPs!B38<>\"\",SNPs!B38,\"\")","v":""}]
[{"$f":"IF(SNPs!A39<>\"\",SNPs!A39,\"\")","v":""},{"$f":"IF(SNPs!B39<>\"\",MID(SNPs!B39,FIND(\"[\",SNPs!B39)+1,FIND(\"/\",SNPs!B39)-FIND(\"[\",SNPs!B39)-1),\"\")","v":""},{"$f":"IF(SNPs!B39<>\"\",MID(SNPs!B39,FIND(\"[\",SNPs!B39)+3,FIND(\"/\",SNPs!B39)-FIND(\"/\",SNPs!B39)+1),\"\")","v":""},{"$f":"IF(SNPs!B39<>\"\",SNPs!B39,\"\")","v":""}]
[{"$f":"IF(SNPs!A40<>\"\",SNPs!A40,\"\")","v":""},{"$f":"IF(SNPs!B40<>\"\",MID(SNPs!B40,FIND(\"[\",SNPs!B40)+1,FIND(\"/\",SNPs!B40)-FIND(\"[\",SNPs!B40)-1),\"\")","v":""},{"$f":"IF(SNPs!B40<>\"\",MID(SNPs!B40,FIND(\"[\",SNPs!B40)+3,FIND(\"/\",SNPs!B40)-FIND(\"/\",SNPs!B40)+1),\"\")","v":""},{"$f":"IF(SNPs!B40<>\"\",SNPs!B40,\"\")","v":""}]
[{"$f":"IF(SNPs!A41<>\"\",SNPs!A41,\"\")","v":""},{"$f":"IF(SNPs!B41<>\"\",MID(SNPs!B41,FIND(\"[\",SNPs!B41)+1,FIND(\"/\",SNPs!B41)-FIND(\"[\",SNPs!B41)-1),\"\")","v":""},{"$f":"IF(SNPs!B41<>\"\",MID(SNPs!B41,FIND(\"[\",SNPs!B41)+3,FIND(\"/\",SNPs!B41)-FIND(\"/\",SNPs!B41)+1),\"\")","v":""},{"$f":"IF(SNPs!B41<>\"\",SNPs!B41,\"\")","v":""}]
[{"$f":"IF(SNPs!A42<>\"\",SNPs!A42,\"\")","v":""},{"$f":"IF(SNPs!B42<>\"\",MID(SNPs!B42,FIND(\"[\",SNPs!B42)+1,FIND(\"/\",SNPs!B42)-FIND(\"[\",SNPs!B42)-1),\"\")","v":""},{"$f":"IF(SNPs!B42<>\"\",MID(SNPs!B42,FIND(\"[\",SNPs!B42)+3,FIND(\"/\",SNPs!B42)-FIND(\"/\",SNPs!B42)+1),\"\")","v":""},{"$f":"IF(SNPs!B42<>\"\",SNPs!B42,\"\")","v":""}]
[{"$f":"IF(SNPs!A43<>\"\",SNPs!A43,\"\")","v":""},{"$f":"IF(SNPs!B43<>\"\",MID(SNPs!B43,FIND(\"[\",SNPs!B43)+1,FIND(\"/\",SNPs!B43)-FIND(\"[\",SNPs!B43)-1),\"\")","v":""},{"$f":"IF(SNPs!B43<>\"\",MID(SNPs!B43,FIND(\"[\",SNPs!B43)+3,FIND(\"/\",SNPs!B43)-FIND(\"/\",SNPs!B43)+1),\"\")","v":""},{"$f":"IF(SNPs!B43<>\"\",SNPs!B43,\"\")","v":""}]
[{"$f":"IF(SNPs!A44<>\"\",SNPs!A44,\"\")","v":""},{"$f":"IF(SNPs!B44<>\"\",MID(SNPs!B44,FIND(\"[\",SNPs!B44)+1,FIND(\"/\",SNPs!B44)-FIND(\"[\",SNPs!B44)-1),\"\")","v":""},{"$f":"IF(SNPs!B44<>\"\",MID(SNPs!B44,FIND(\"[\",SNPs!B44)+3,FIND(\"/\",SNPs!B44)-FIND(\"/\",SNPs!B44)+1),\"\")","v":""},{"$f":"IF(SNPs!B44<>\"\",SNPs!B44,\"\")","v":""}]
[{"$f":"IF(SNPs!A45<>\"\",SNPs!A45,\"\")","v":""},{"$f":"IF(SNPs!B45<>\"\",MID(SNPs!B45,FIND(\"[\",SNPs!B45)+1,FIND(\"/\",SNPs!B45)-FIND(\"[\",SNPs!B45)-1),\"\")","v":""},{"$f":"IF(SNPs!B45<>\"\",MID(SNPs!B45,FIND(\"[\",SNPs!B45)+3,FIND(\"/\",SNPs!B45)-FIND(\"/\",SNPs!B45)+1),\"\")","v":""},{"$f":"IF(SNPs!B45<>\"\",SNPs!B45,\"\")","v":""}]
[{"$f":"IF(SNPs!A46<>\"\",SNPs!A46,\"\")","v":""},{"$f":"IF(SNPs!B46<>\"\",MID(SNPs!B46,FIND(\"[\",SNPs!B46)+1,FIND(\"/\",SNPs!B46)-FIND(\"[\",SNPs!B46)-1),\"\")","v":""},{"$f":"IF(SNPs!B46<>\"\",MID(SNPs!B46,FIND(\"[\",SNPs!B46)+3,FIND(\"/\",SNPs!B46)-FIND(\"/\",SNPs!B46)+1),\"\")","v":""},{"$f":"IF(SNPs!B46<>\"\",SNPs!B46,\"\")","v":""}]
[{"$f":"IF(SNPs!A47<>\"\",SNPs!A47,\"\")","v":""},{"$f":"IF(SNPs!B47<>\"\",MID(SNPs!B47,FIND(\"[\",SNPs!B47)+1,FIND(\"/\",SNPs!B47)-FIND(\"[\",SNPs!B47)-1),\"\")","v":""},{"$f":"IF(SNPs!B47<>\"\",MID(SNPs!B47,FIND(\"[\",SNPs!B47)+3,FIND(\"/\",SNPs!B47)-FIND(\"/\",SNPs!B47)+1),\"\")","v":""},{"$f":"IF(SNPs!B47<>\"\",SNPs!B47,\"\")","v":""}]
[{"$f":"IF(SNPs!A48<>\"\",SNPs!A48,\"\")","v":""},{"$f":"IF(SNPs!B48<>\"\",MID(SNPs!B48,FIND(\"[\",SNPs!B48)+1,FIND(\"/\",SNPs!B48)-FIND(\"[\",SNPs!B48)-1),\"\")","v":""},{"$f":"IF(SNPs!B48<>\"\",MID(SNPs!B48,FIND(\"[\",SNPs!B48)+3,FIND(\"/\",SNPs!B48)-FIND(\"/\",SNPs!B48)+1),\"\")","v":""},{"$f":"IF(SNPs!B48<>\"\",SNPs!B48,\"\")","v":""}]
[{"$f":"IF(SNPs!A49<>\"\",SNPs!A49,\"\")","v":""},{"$f":"IF(SNPs!B49<>\"\",MID(SNPs!B49,FIND(\"[\",SNPs!B49)+1,FIND(\"/\",SNPs!B49)-FIND(\"[\",SNPs!B49)-1),\"\")","v":""},{"$f":"IF(SNPs!B49<>\"\",MID(SNPs!B49,FIND(\"[\",SNPs!B49)+3,FIND(\"/\",SNPs!B49)-FIND(\"/\",SNPs!B49)+1),\"\")","v":""},{"$f":"IF(SNPs!B49<>\"\",SNPs!B49,\"\")","v":""}]
[{"$f":"IF(SNPs!A50<>\"\",SNPs!A50,\"\")","v":""},{"$f":"IF(SNPs!B50<>\"\",MID(SNPs!B50,FIND(\"[\",SNPs!B50)+1,FIND(\"/\",SNPs!B50)-FIND(\"[\",SNPs!B50)-1),\"\")","v":""},{"$f":"IF(SNPs!B50<>\"\",MID(SNPs!B50,FIND(\"[\",SNPs!B50)+3,FIND(\"/\",SNPs!B50)-FIND(\"/\",SNPs!B50)+1),\"\")","v":""},{"$f":"IF(SNPs!B50<>\"\",SNPs!B50,\"\")","v":""}]
[{"$f":"IF(SNPs!A51<>\"\",SNPs!A51,\"\")","v":""},{"$f":"IF(SNPs!B51<>\"\",MID(SNPs!B51,FIND(\"[\",SNPs!B51)+1,FIND(\"/\",SNPs!B51)-FIND(\"[\",SNPs!B51)-1),\"\")","v":""},{"$f":"IF(SNPs!B51<>\"\",MID(SNPs!B51,FIND(\"[\",SNPs!B51)+3,FIND(\"/\",SNPs!B51)-FIND(\"/\",SNPs!B51)+1),\"\")","v":""},{"$f":"IF(SNPs!B51<>\"\",SNPs!B51,\"\")","v":""}]
[{"$f":"IF(SNPs!A52<>\"\",SNPs!A52,\"\")","v":""},{"$f":"IF(SNPs!B52<>\"\",MID(SNPs!B52,FIND(\"[\",SNPs!B52)+1,FIND(\"/\",SNPs!B52)-FIND(\"[\",SNPs!B52)-1),\"\")","v":""},{"$f":"IF(SNPs!B52<>\"\",MID(SNPs!B52,FIND(\"[\",SNPs!B52)+3,FIND(\"/\",SNPs!B52)-FIND(\"/\",SNPs!B52)+1),\"\")","v":""},{"$f":"IF(SNPs!B52<>\"\",SNPs!B52,\"\")","v":""}]
[{"$f":"IF(SNPs!A53<>\"\",SNPs!A53,\"\")","v":""},{"$f":"IF(SNPs!B53<>\"\",MID(SNPs!B53,FIND(\"[\",SNPs!B53)+1,FIND(\"/\",SNPs!B53)-FIND(\"[\",SNPs!B53)-1),\"\")","v":""},{"$f":"IF(SNPs!B53<>\"\",MID(SNPs!B53,FIND(\"[\",SNPs!B53)+3,FIND(\"/\",SNPs!B53)-FIND(\"/\",SNPs!B53)+1),\"\")","v":""},{"$f":"IF(SNPs!B53<>\"\",SNPs!B53,\"\")","v":""}]
[{"$f":"IF(SNPs!A54<>\"\",SNPs!A54,\"\")","v":""},{"$f":"IF(SNPs!B54<>\"\",MID(SNPs!B54,FIND(\"[\",SNPs!B54)+1,FIND(\"/\",SNPs!B54)-FIND(\"[\",SNPs!B54)-1),\"\")","v":""},{"$f":"IF(SNPs!B54<>\"\",MID(SNPs!B54,FIND(\"[\",SNPs!B54)+3,FIND(\"/\",SNPs!B54)-FIND(\"/\",SNPs!B54)+1),\"\")","v":""},{"$f":"IF(SNPs!B54<>\"\",SNPs!B54,\"\")","v":""}]
[{"$f":"IF(SNPs!A55<>\"\",SNPs!A55,\"\")","v":""},{"$f":"IF(SNPs!B55<>\"\",MID(SNPs!B55,FIND(\"[\",SNPs!B55)+1,FIND(\"/\",SNPs!B55)-FIND(\"[\",SNPs!B55)-1),\"\")","v":""},{"$f":"IF(SNPs!B55<>\"\",MID(SNPs!B55,FIND(\"[\",SNPs!B55)+3,FIND(\"/\",SNPs!B55)-FIND(\"/\",SNPs!B55)+1),\"\")","v":""},{"$f":"IF(SNPs!B55<>\"\",SNPs!B55,\"\")","v":""}]
[{"$f":"IF(SNPs!A56<>\"\",SNPs!A56,\"\")","v":""},{"$f":"IF(SNPs!B56<>\"\",MID(SNPs!B56,FIND(\"[\",SNPs!B56)+1,FIND(\"/\",SNPs!B56)-FIND(\"[\",SNPs!B56)-1),\"\")","v":""},{"$f":"IF(SNPs!B56<>\"\",MID(SNPs!B56,FIND(\"[\",SNPs!B56)+3,FIND(\"/\",SNPs!B56)-FIND(\"/\",SNPs!B56)+1),\"\")","v":""},{"$f":"IF(SNPs!B56<>\"\",SNPs!B56,\"\")","v":""}]
[{"$f":"IF(SNPs!A57<>\"\",SNPs!A57,\"\")","v":""},{"$f":"IF(SNPs!B57<>\"\",MID(SNPs!B57,FIND(\"[\",SNPs!B57)+1,FIND(\"/\",SNPs!B57)-FIND(\"[\",SNPs!B57)-1),\"\")","v":""},{"$f":"IF(SNPs!B57<>\"\",MID(SNPs!B57,FIND(\"[\",SNPs!B57)+3,FIND(\"/\",SNPs!B57)-FIND(\"/\",SNPs!B57)+1),\"\")","v":""},{"$f":"IF(SNPs!B57<>\"\",SNPs!B57,\"\")","v":""}]
[{"$f":"IF(SNPs!A58<>\"\",SNPs!A58,\"\")","v":""},{"$f":"IF(SNPs!B58<>\"\",MID(SNPs!B58,FIND(\"[\",SNPs!B58)+1,FIND(\"/\",SNPs!B58)-FIND(\"[\",SNPs!B58)-1),\"\")","v":""},{"$f":"IF(SNPs!B58<>\"\",MID(SNPs!B58,FIND(\"[\",SNPs!B58)+3,FIND(\"/\",SNPs!B58)-FIND(\"/\",SNPs!B58)+1),\"\")","v":""},{"$f":"IF(SNPs!B58<>\"\",SNPs!B58,\"\")","v":""}]
[{"$f":"IF(SNPs!A59<>\"\",SNPs!A59,\"\")","v":""},{"$f":"IF(SNPs!B59<>\"\",MID(SNPs!B59,FIND(\"[\",SNPs!B59)+1,FIND(\"/\",SNPs!B59)-FIND(\"[\",SNPs!B59)-1),\"\")","v":""},{"$f":"IF(SNPs!B59<>\"\",MID(SNPs!B59,FIND(\"[\",SNPs!B59)+3,FIND(\"/\",SNPs!B59)-FIND(\"/\",SNPs!B59)+1),\"\")","v":""},{"$f":"IF(SNPs!B59<>\"\",SNPs!B59,\"\")","v":""}]
[{"$f":"IF(SNPs!A60<>\"\",SNPs!A60,\"\")","v":""},{"$f":"IF(SNPs!B60<>\"\",MID(SNPs!B60,FIND(\"[\",SNPs!B60)+1,FIND(\"/\",SNPs!B60)-FIND(\"[\",SNPs!B60)-1),\"\")","v":""},{"$f":"IF(SNPs!B60<>\"\",MID(SNPs!B60,FIND(\"[\",SNPs!B60)+3,FIND(\"/\",SNPs!B60)-FIND(\"/\",SNPs!B60)+1),\"\")","v":""},{"$f":"IF(SNPs!B60<>\"\",SNPs!B60,\"\")","v":""}]
[{"$f":"IF(SNPs!A61<>\"\",SNPs!A61,\"\")","v":""},{"$f":"IF(SNPs!B61<>\"\",MID(SNPs!B61,FIND(\"[\",SNPs!B61)+1,FIND(\"/\",SNPs!B61)-FIND(\"[\",SNPs!B61)-1),\"\")","v":""},{"$f":"IF(SNPs!B61<>\"\",MID(SNPs!B61,FIND(\"[\",SNPs!B61)+3,FIND(\"/\",SNPs!B61)-FIND(\"/\",SNPs!B61)+1),\"\")","v":""},{"$f":"IF(SNPs!B61<>\"\",SNPs!B61,\"\")","v":""}]
[{"$f":"IF(SNPs!A62<>\"\",SNPs!A62,\"\")","v":""},{"$f":"IF(SNPs!B62<>\"\",MID(SNPs!B62,FIND(\"[\",SNPs!B62)+1,FIND(\"/\",SNPs!B62)-FIND(\"[\",SNPs!B62)-1),\"\")","v":""},{"$f":"IF(SNPs!B62<>\"\",MID(SNPs!B62,FIND(\"[\",SNPs!B62)+3,FIND(\"/\",SNPs!B62)-FIND(\"/\",SNPs!B62)+1),\"\")","v":""},{"$f":"IF(SNPs!B62<>\"\",SNPs!B62,\"\")","v":""}]
[{"$f":"IF(SNPs!A63<>\"\",SNPs!A63,\"\")","v":""},{"$f":"IF(SNPs!B63<>\"\",MID(SNPs!B63,FIND(\"[\",SNPs!B63)+1,FIND(\"/\",SNPs!B63)-FIND(\"[\",SNPs!B63)-1),\"\")","v":""},{"$f":"IF(SNPs!B63<>\"\",MID(SNPs!B63,FIND(\"[\",SNPs!B63)+3,FIND(\"/\",SNPs!B63)-FIND(\"/\",SNPs!B63)+1),\"\")","v":""},{"$f":"IF(SNPs!B63<>\"\",SNPs!B63,\"\")","v":""}]
[{"$f":"IF(SNPs!A64<>\"\",SNPs!A64,\"\")","v":""},{"$f":"IF(SNPs!B64<>\"\",MID(SNPs!B64,FIND(\"[\",SNPs!B64)+1,FIND(\"/\",SNPs!B64)-FIND(\"[\",SNPs!B64)-1),\"\")","v":""},{"$f":"IF(SNPs!B64<>\"\",MID(SNPs!B64,FIND(\"[\",SNPs!B64)+3,FIND(\"/\",SNPs!B64)-FIND(\"/\",SNPs!B64)+1),\"\")","v":""},{"$f":"IF(SNPs!B64<>\"\",SNPs!B64,\"\")","v":""}]
[{"$f":"IF(SNPs!A65<>\"\",SNPs!A65,\"\")","v":""},{"$f":"IF(SNPs!B65<>\"\",MID(SNPs!B65,FIND(\"[\",SNPs!B65)+1,FIND(\"/\",SNPs!B65)-FIND(\"[\",SNPs!B65)-1),\"\")","v":""},{"$f":"IF(SNPs!B65<>\"\",MID(SNPs!B65,FIND(\"[\",SNPs!B65)+3,FIND(\"/\",SNPs!B65)-FIND(\"/\",SNPs!B65)+1),\"\")","v":""},{"$f":"IF(SNPs!B65<>\"\",SNPs!B65,\"\")","v":""}]
[{"$f":"IF(SNPs!A66<>\"\",SNPs!A66,\"\")","v":""},{"$f":"IF(SNPs!B66<>\"\",MID(SNPs!B66,FIND(\"[\",SNPs!B66)+1,FIND(\"/\",SNPs!B66)-FIND(\"[\",SNPs!B66)-1),\"\")","v":""},{"$f":"IF(SNPs!B66<>\"\",MID(SNPs!B66,FIND(\"[\",SNPs!B66)+3,FIND(\"/\",SNPs!B66)-FIND(\"/\",SNPs!B66)+1),\"\")","v":""},{"$f":"IF(SNPs!B66<>\"\",SNPs!B66,\"\")","v":""}]
[{"$f":"IF(SNPs!A67<>\"\",SNPs!A67,\"\")","v":""},{"$f":"IF(SNPs!B67<>\"\",MID(SNPs!B67,FIND(\"[\",SNPs!B67)+1,FIND(\"/\",SNPs!B67)-FIND(\"[\",SNPs!B67)-1),\"\")","v":""},{"$f":"IF(SNPs!B67<>\"\",MID(SNPs!B67,FIND(\"[\",SNPs!B67)+3,FIND(\"/\",SNPs!B67)-FIND(\"/\",SNPs!B67)+1),\"\")","v":""},{"$f":"IF(SNPs!B67<>\"\",SNPs!B67,\"\")","v":""}]
[{"$f":"IF(SNPs!A68<>\"\",SNPs!A68,\"\")","v":""},{"$f":"IF(SNPs!B68<>\"\",MID(SNPs!B68,FIND(\"[\",SNPs!B68)+1,FIND(\"/\",SNPs!B68)-FIND(\"[\",SNPs!B68)-1),\"\")","v":""},{"$f":"IF(SNPs!B68<>\"\",MID(SNPs!B68,FIND(\"[\",SNPs!B68)+3,FIND(\"/\",SNPs!B68)-FIND(\"/\",SNPs!B68)+1),\"\")","v":""},{"$f":"IF(SNPs!B68<>\"\",SNPs!B68,\"\")","v":""}]
[{"$f":"IF(SNPs!A69<>\"\",SNPs!A69,\"\")","v":""},{"$f":"IF(SNPs!B69<>\"\",MID(SNPs!B69,FIND(\"[\",SNPs!B69)+1,FIND(\"/\",SNPs!B69)-FIND(\"[\",SNPs!B69)-1),\"\")","v":""},{"$f":"IF(SNPs!B69<>\"\",MID(SNPs!B69,FIND(\"[\",SNPs!B69)+3,FIND(\"/\",SNPs!B69)-FIND(\"/\",SNPs!B69)+1),\"\")","v":""},{"$f":"IF(SNPs!B69<>\"\",SNPs!B69,\"\")","v":""}]
[{"$f":"IF(SNPs!A70<>\"\",SNPs!A70,\"\")","v":""},{"$f":"IF(SNPs!B70<>\"\",MID(SNPs!B70,FIND(\"[\",SNPs!B70)+1,FIND(\"/\",SNPs!B70)-FIND(\"[\",SNPs!B70)-1),\"\")","v":""},{"$f":"IF(SNPs!B70<>\"\",MID(SNPs!B70,FIND(\"[\",SNPs!B70)+3,FIND(\"/\",SNPs!B70)-FIND(\"/\",SNPs!B70)+1),\"\")","v":""},{"$f":"IF(SNPs!B70<>\"\",SNPs!B70,\"\")","v":""}]
[{"$f":"IF(SNPs!A71<>\"\",SNPs!A71,\"\")","v":""},{"$f":"IF(SNPs!B71<>\"\",MID(SNPs!B71,FIND(\"[\",SNPs!B71)+1,FIND(\"/\",SNPs!B71)-FIND(\"[\",SNPs!B71)-1),\"\")","v":""},{"$f":"IF(SNPs!B71<>\"\",MID(SNPs!B71,FIND(\"[\",SNPs!B71)+3,FIND(\"/\",SNPs!B71)-FIND(\"/\",SNPs!B71)+1),\"\")","v":""},{"$f":"IF(SNPs!B71<>\"\",SNPs!B71,\"\")","v":""}]
[{"$f":"IF(SNPs!A72<>\"\",SNPs!A72,\"\")","v":""},{"$f":"IF(SNPs!B72<>\"\",MID(SNPs!B72,FIND(\"[\",SNPs!B72)+1,FIND(\"/\",SNPs!B72)-FIND(\"[\",SNPs!B72)-1),\"\")","v":""},{"$f":"IF(SNPs!B72<>\"\",MID(SNPs!B72,FIND(\"[\",SNPs!B72)+3,FIND(\"/\",SNPs!B72)-FIND(\"/\",SNPs!B72)+1),\"\")","v":""},{"$f":"IF(SNPs!B72<>\"\",SNPs!B72,\"\")","v":""}]
[{"$f":"IF(SNPs!A73<>\"\",SNPs!A73,\"\")","v":""},{"$f":"IF(SNPs!B73<>\"\",MID(SNPs!B73,FIND(\"[\",SNPs!B73)+1,FIND(\"/\",SNPs!B73)-FIND(\"[\",SNPs!B73)-1),\"\")","v":""},{"$f":"IF(SNPs!B73<>\"\",MID(SNPs!B73,FIND(\"[\",SNPs!B73)+3,FIND(\"/\",SNPs!B73)-FIND(\"/\",SNPs!B73)+1),\"\")","v":""},{"$f":"IF(SNPs!B73<>\"\",SNPs!B73,\"\")","v":""}]
[{"$f":"IF(SNPs!A74<>\"\",SNPs!A74,\"\")","v":""},{"$f":"IF(SNPs!B74<>\"\",MID(SNPs!B74,FIND(\"[\",SNPs!B74)+1,FIND(\"/\",SNPs!B74)-FIND(\"[\",SNPs!B74)-1),\"\")","v":""},{"$f":"IF(SNPs!B74<>\"\",MID(SNPs!B74,FIND(\"[\",SNPs!B74)+3,FIND(\"/\",SNPs!B74)-FIND(\"/\",SNPs!B74)+1),\"\")","v":""},{"$f":"IF(SNPs!B74<>\"\",SNPs!B74,\"\")","v":""}]
[{"$f":"IF(SNPs!A75<>\"\",SNPs!A75,\"\")","v":""},{"$f":"IF(SNPs!B75<>\"\",MID(SNPs!B75,FIND(\"[\",SNPs!B75)+1,FIND(\"/\",SNPs!B75)-FIND(\"[\",SNPs!B75)-1),\"\")","v":""},{"$f":"IF(SNPs!B75<>\"\",MID(SNPs!B75,FIND(\"[\",SNPs!B75)+3,FIND(\"/\",SNPs!B75)-FIND(\"/\",SNPs!B75)+1),\"\")","v":""},{"$f":"IF(SNPs!B75<>\"\",SNPs!B75,\"\")","v":""}]
[{"$f":"IF(SNPs!A76<>\"\",SNPs!A76,\"\")","v":""},{"$f":"IF(SNPs!B76<>\"\",MID(SNPs!B76,FIND(\"[\",SNPs!B76)+1,FIND(\"/\",SNPs!B76)-FIND(\"[\",SNPs!B76)-1),\"\")","v":""},{"$f":"IF(SNPs!B76<>\"\",MID(SNPs!B76,FIND(\"[\",SNPs!B76)+3,FIND(\"/\",SNPs!B76)-FIND(\"/\",SNPs!B76)+1),\"\")","v":""},{"$f":"IF(SNPs!B76<>\"\",SNPs!B76,\"\")","v":""}]
[{"$f":"IF(SNPs!A77<>\"\",SNPs!A77,\"\")","v":""},{"$f":"IF(SNPs!B77<>\"\",MID(SNPs!B77,FIND(\"[\",SNPs!B77)+1,FIND(\"/\",SNPs!B77)-FIND(\"[\",SNPs!B77)-1),\"\")","v":""},{"$f":"IF(SNPs!B77<>\"\",MID(SNPs!B77,FIND(\"[\",SNPs!B77)+3,FIND(\"/\",SNPs!B77)-FIND(\"/\",SNPs!B77)+1),\"\")","v":""},{"$f":"IF(SNPs!B77<>\"\",SNPs!B77,\"\")","v":""}]
[{"$f":"IF(SNPs!A78<>\"\",SNPs!A78,\"\")","v":""},{"$f":"IF(SNPs!B78<>\"\",MID(SNPs!B78,FIND(\"[\",SNPs!B78)+1,FIND(\"/\",SNPs!B78)-FIND(\"[\",SNPs!B78)-1),\"\")","v":""},{"$f":"IF(SNPs!B78<>\"\",MID(SNPs!B78,FIND(\"[\",SNPs!B78)+3,FIND(\"/\",SNPs!B78)-FIND(\"/\",SNPs!B78)+1),\"\")","v":""},{"$f":"IF(SNPs!B78<>\"\",SNPs!B78,\"\")","v":""}]
[{"$f":"IF(SNPs!A79<>\"\",SNPs!A79,\"\")","v":""},{"$f":"IF(SNPs!B79<>\"\",MID(SNPs!B79,FIND(\"[\",SNPs!B79)+1,FIND(\"/\",SNPs!B79)-FIND(\"[\",SNPs!B79)-1),\"\")","v":""},{"$f":"IF(SNPs!B79<>\"\",MID(SNPs!B79,FIND(\"[\",SNPs!B79)+3,FIND(\"/\",SNPs!B79)-FIND(\"/\",SNPs!B79)+1),\"\")","v":""},{"$f":"IF(SNPs!B79<>\"\",SNPs!B79,\"\")","v":""}]
[{"$f":"IF(SNPs!A80<>\"\",SNPs!A80,\"\")","v":""},{"$f":"IF(SNPs!B80<>\"\",MID(SNPs!B80,FIND(\"[\",SNPs!B80)+1,FIND(\"/\",SNPs!B80)-FIND(\"[\",SNPs!B80)-1),\"\")","v":""},{"$f":"IF(SNPs!B80<>\"\",MID(SNPs!B80,FIND(\"[\",SNPs!B80)+3,FIND(\"/\",SNPs!B80)-FIND(\"/\",SNPs!B80)+1),\"\")","v":""},{"$f":"IF(SNPs!B80<>\"\",SNPs!B80,\"\")","v":""}]
[{"$f":"IF(SNPs!A81<>\"\",SNPs!A81,\"\")","v":""},{"$f":"IF(SNPs!B81<>\"\",MID(SNPs!B81,FIND(\"[\",SNPs!B81)+1,FIND(\"/\",SNPs!B81)-FIND(\"[\",SNPs!B81)-1),\"\")","v":""},{"$f":"IF(SNPs!B81<>\"\",MID(SNPs!B81,FIND(\"[\",SNPs!B81)+3,FIND(\"/\",SNPs!B81)-FIND(\"/\",SNPs!B81)+1),\"\")","v":""},{"$f":"IF(SNPs!B81<>\"\",SNPs!B81,\"\")","v":""}]
[{"$f":"IF(SNPs!A82<>\"\",SNPs!A82,\"\")","v":""},{"$f":"IF(SNPs!B82<>\"\",MID(SNPs!B82,FIND(\"[\",SNPs!B82)+1,FIND(\"/\",SNPs!B82)-FIND(\"[\",SNPs!B82)-1),\"\")","v":""},{"$f":"IF(SNPs!B82<>\"\",MID(SNPs!B82,FIND(\"[\",SNPs!B82)+3,FIND(\"/\",SNPs!B82)-FIND(\"/\",SNPs!B82)+1),\"\")","v":""},{"$f":"IF(SNPs!B82<>\"\",SNPs!B82,\"\")","v":""}]
[{"$f":"IF(SNPs!A83<>\"\",SNPs!A83,\"\")","v":""},{"$f":"IF(SNPs!B83<>\"\",MID(SNPs!B83,FIND(\"[\",SNPs!B83)+1,FIND(\"/\",SNPs!B83)-FIND(\"[\",SNPs!B83)-1),\"\")","v":""},{"$f":"IF(SNPs!B83<>\"\",MID(SNPs!B83,FIND(\"[\",SNPs!B83)+3,FIND(\"/\",SNPs!B83)-FIND(\"/\",SNPs!B83)+1),\"\")","v":""},{"$f":"IF(SNPs!B83<>\"\",SNPs!B83,\"\")","v":""}]
[{"$f":"IF(SNPs!A84<>\"\",SNPs!A84,\"\")","v":""},{"$f":"IF(SNPs!B84<>\"\",MID(SNPs!B84,FIND(\"[\",SNPs!B84)+1,FIND(\"/\",SNPs!B84)-FIND(\"[\",SNPs!B84)-1),\"\")","v":""},{"$f":"IF(SNPs!B84<>\"\",MID(SNPs!B84,FIND(\"[\",SNPs!B84)+3,FIND(\"/\",SNPs!B84)-FIND(\"/\",SNPs!B84)+1),\"\")","v":""},{"$f":"IF(SNPs!B84<>\"\",SNPs!B84,\"\")","v":""}]
[{"$f":"IF(SNPs!A85<>\"\",SNPs!A85,\"\")","v":""},{"$f":"IF(SNPs!B85<>\"\",MID(SNPs!B85,FIND(\"[\",SNPs!B85)+1,FIND(\"/\",SNPs!B85)-FIND(\"[\",SNPs!B85)-1),\"\")","v":""},{"$f":"IF(SNPs!B85<>\"\",MID(SNPs!B85,FIND(\"[\",SNPs!B85)+3,FIND(\"/\",SNPs!B85)-FIND(\"/\",SNPs!B85)+1),\"\")","v":""},{"$f":"IF(SNPs!B85<>\"\",SNPs!B85,\"\")","v":""}]
[{"$f":"IF(SNPs!A86<>\"\",SNPs!A86,\"\")","v":""},{"$f":"IF(SNPs!B86<>\"\",MID(SNPs!B86,FIND(\"[\",SNPs!B86)+1,FIND(\"/\",SNPs!B86)-FIND(\"[\",SNPs!B86)-1),\"\")","v":""},{"$f":"IF(SNPs!B86<>\"\",MID(SNPs!B86,FIND(\"[\",SNPs!B86)+3,FIND(\"/\",SNPs!B86)-FIND(\"/\",SNPs!B86)+1),\"\")","v":""},{"$f":"IF(SNPs!B86<>\"\",SNPs!B86,\"\")","v":""}]
[{"$f":"IF(SNPs!A87<>\"\",SNPs!A87,\"\")","v":""},{"$f":"IF(SNPs!B87<>\"\",MID(SNPs!B87,FIND(\"[\",SNPs!B87)+1,FIND(\"/\",SNPs!B87)-FIND(\"[\",SNPs!B87)-1),\"\")","v":""},{"$f":"IF(SNPs!B87<>\"\",MID(SNPs!B87,FIND(\"[\",SNPs!B87)+3,FIND(\"/\",SNPs!B87)-FIND(\"/\",SNPs!B87)+1),\"\")","v":""},{"$f":"IF(SNPs!B87<>\"\",SNPs!B87,\"\")","v":""}]
[{"$f":"IF(SNPs!A88<>\"\",SNPs!A88,\"\")","v":""},{"$f":"IF(SNPs!B88<>\"\",MID(SNPs!B88,FIND(\"[\",SNPs!B88)+1,FIND(\"/\",SNPs!B88)-FIND(\"[\",SNPs!B88)-1),\"\")","v":""},{"$f":"IF(SNPs!B88<>\"\",MID(SNPs!B88,FIND(\"[\",SNPs!B88)+3,FIND(\"/\",SNPs!B88)-FIND(\"/\",SNPs!B88)+1),\"\")","v":""},{"$f":"IF(SNPs!B88<>\"\",SNPs!B88,\"\")","v":""}]
[{"$f":"IF(SNPs!A89<>\"\",SNPs!A89,\"\")","v":""},{"$f":"IF(SNPs!B89<>\"\",MID(SNPs!B89,FIND(\"[\",SNPs!B89)+1,FIND(\"/\",SNPs!B89)-FIND(\"[\",SNPs!B89)-1),\"\")","v":""},{"$f":"IF(SNPs!B89<>\"\",MID(SNPs!B89,FIND(\"[\",SNPs!B89)+3,FIND(\"/\",SNPs!B89)-FIND(\"/\",SNPs!B89)+1),\"\")","v":""},{"$f":"IF(SNPs!B89<>\"\",SNPs!B89,\"\")","v":""}]
[{"$f":"IF(SNPs!A90<>\"\",SNPs!A90,\"\")","v":""},{"$f":"IF(SNPs!B90<>\"\",MID(SNPs!B90,FIND(\"[\",SNPs!B90)+1,FIND(\"/\",SNPs!B90)-FIND(\"[\",SNPs!B90)-1),\"\")","v":""},{"$f":"IF(SNPs!B90<>\"\",MID(SNPs!B90,FIND(\"[\",SNPs!B90)+3,FIND(\"/\",SNPs!B90)-FIND(\"/\",SNPs!B90)+1),\"\")","v":""},{"$f":"IF(SNPs!B90<>\"\",SNPs!B90,\"\")","v":""}]
[{"$f":"IF(SNPs!A91<>\"\",SNPs!A91,\"\")","v":""},{"$f":"IF(SNPs!B91<>\"\",MID(SNPs!B91,FIND(\"[\",SNPs!B91)+1,FIND(\"/\",SNPs!B91)-FIND(\"[\",SNPs!B91)-1),\"\")","v":""},{"$f":"IF(SNPs!B91<>\"\",MID(SNPs!B91,FIND(\"[\",SNPs!B91)+3,FIND(\"/\",SNPs!B91)-FIND(\"/\",SNPs!B91)+1),\"\")","v":""},{"$f":"IF(SNPs!B91<>\"\",SNPs!B91,\"\")","v":""}]
[{"$f":"IF(SNPs!A92<>\"\",SNPs!A92,\"\")","v":""},{"$f":"IF(SNPs!B92<>\"\",MID(SNPs!B92,FIND(\"[\",SNPs!B92)+1,FIND(\"/\",SNPs!B92)-FIND(\"[\",SNPs!B92)-1),\"\")","v":""},{"$f":"IF(SNPs!B92<>\"\",MID(SNPs!B92,FIND(\"[\",SNPs!B92)+3,FIND(\"/\",SNPs!B92)-FIND(\"/\",SNPs!B92)+1),\"\")","v":""},{"$f":"IF(SNPs!B92<>\"\",SNPs!B92,\"\")","v":""}]
[{"$f":"IF(SNPs!A93<>\"\",SNPs!A93,\"\")","v":""},{"$f":"IF(SNPs!B93<>\"\",MID(SNPs!B93,FIND(\"[\",SNPs!B93)+1,FIND(\"/\",SNPs!B93)-FIND(\"[\",SNPs!B93)-1),\"\")","v":""},{"$f":"IF(SNPs!B93<>\"\",MID(SNPs!B93,FIND(\"[\",SNPs!B93)+3,FIND(\"/\",SNPs!B93)-FIND(\"/\",SNPs!B93)+1),\"\")","v":""},{"$f":"IF(SNPs!B93<>\"\",SNPs!B93,\"\")","v":""}]
[{"$f":"IF(SNPs!A94<>\"\",SNPs!A94,\"\")","v":""},{"$f":"IF(SNPs!B94<>\"\",MID(SNPs!B94,FIND(\"[\",SNPs!B94)+1,FIND(\"/\",SNPs!B94)-FIND(\"[\",SNPs!B94)-1),\"\")","v":""},{"$f":"IF(SNPs!B94<>\"\",MID(SNPs!B94,FIND(\"[\",SNPs!B94)+3,FIND(\"/\",SNPs!B94)-FIND(\"/\",SNPs!B94)+1),\"\")","v":""},{"$f":"IF(SNPs!B94<>\"\",SNPs!B94,\"\")","v":""}]
[{"$f":"IF(SNPs!A95<>\"\",SNPs!A95,\"\")","v":""},{"$f":"IF(SNPs!B95<>\"\",MID(SNPs!B95,FIND(\"[\",SNPs!B95)+1,FIND(\"/\",SNPs!B95)-FIND(\"[\",SNPs!B95)-1),\"\")","v":""},{"$f":"IF(SNPs!B95<>\"\",MID(SNPs!B95,FIND(\"[\",SNPs!B95)+3,FIND(\"/\",SNPs!B95)-FIND(\"/\",SNPs!B95)+1),\"\")","v":""},{"$f":"IF(SNPs!B95<>\"\",SNPs!B95,\"\")","v":""}]
[{"$f":"IF(SNPs!A96<>\"\",SNPs!A96,\"\")","v":""},{"$f":"IF(SNPs!B96<>\"\",MID(SNPs!B96,FIND(\"[\",SNPs!B96)+1,FIND(\"/\",SNPs!B96)-FIND(\"[\",SNPs!B96)-1),\"\")","v":""},{"$f":"IF(SNPs!B96<>\"\",MID(SNPs!B96,FIND(\"[\",SNPs!B96)+3,FIND(\"/\",SNPs!B96)-FIND(\"/\",SNPs!B96)+1),\"\")","v":""},{"$f":"IF(SNPs!B96<>\"\",SNPs!B96,\"\")","v":""}]
[{"$f":"IF(SNPs!A97<>\"\",SNPs!A97,\"\")","v":""},{"$f":"IF(SNPs!B97<>\"\",MID(SNPs!B97,FIND(\"[\",SNPs!B97)+1,FIND(\"/\",SNPs!B97)-FIND(\"[\",SNPs!B97)-1),\"\")","v":""},{"$f":"IF(SNPs!B97<>\"\",MID(SNPs!B97,FIND(\"[\",SNPs!B97)+3,FIND(\"/\",SNPs!B97)-FIND(\"/\",SNPs!B97)+1),\"\")","v":""},{"$f":"IF(SNPs!B97<>\"\",SNPs!B97,\"\")","v":""}]
[{"$f":"IF(SNPs!A98<>\"\",SNPs!A98,\"\")","v":""},{"$f":"IF(SNPs!B98<>\"\",MID(SNPs!B98,FIND(\"[\",SNPs!B98)+1,FIND(\"/\",SNPs!B98)-FIND(\"[\",SNPs!B98)-1),\"\")","v":""},{"$f":"IF(SNPs!B98<>\"\",MID(SNPs!B98,FIND(\"[\",SNPs!B98)+3,FIND(\"/\",SNPs!B98)-FIND(\"/\",SNPs!B98)+1),\"\")","v":""},{"$f":"IF(SNPs!B98<>\"\",SNPs!B98,\"\")","v":""}]
[{"$f":"IF(SNPs!A99<>\"\",SNPs!A99,\"\")","v":""},{"$f":"IF(SNPs!B99<>\"\",MID(SNPs!B99,FIND(\"[\",SNPs!B99)+1,FIND(\"/\",SNPs!B99)-FIND(\"[\",SNPs!B99)-1),\"\")","v":""},{"$f":"IF(SNPs!B99<>\"\",MID(SNPs!B99,FIND(\"[\",SNPs!B99)+3,FIND(\"/\",SNPs!B99)-FIND(\"/\",SNPs!B99)+1),\"\")","v":""},{"$f":"IF(SNPs!B99<>\"\",SNPs!B99,\"\")","v":""}]
[{"$f":"IF(SNPs!A100<>\"\",SNPs!A100,\"\")","v":""},{"$f":"IF(SNPs!B100<>\"\",MID(SNPs!B100,FIND(\"[\",SNPs!B100)+1,FIND(\"/\",SNPs!B100)-FIND(\"[\",SNPs!B100)-1),\"\")","v":""},{"$f":"IF(SNPs!B100<>\"\",MID(SNPs!B100,FIND(\"[\",SNPs!B100)+3,FIND(\"/\",SNPs!B100)-FIND(\"/\",SNPs!B100)+1),\"\")","v":""},{"$f":"IF(SNPs!B100<>\"\",SNPs!B100,\"\")","v":""}]
[{"$f":"IF(SNPs!A101<>\"\",SNPs!A101,\"\")","v":""},{"$f":"IF(SNPs!B101<>\"\",MID(SNPs!B101,FIND(\"[\",SNPs!B101)+1,FIND(\"/\",SNPs!B101)-FIND(\"[\",SNPs!B101)-1),\"\")","v":""},{"$f":"IF(SNPs!B101<>\"\",MID(SNPs!B101,FIND(\"[\",SNPs!B101)+3,FIND(\"/\",SNPs!B101)-FIND(\"/\",SNPs!B101)+1),\"\")","v":""},{"$f":"IF(SNPs!B101<>\"\",SNPs!B101,\"\")","v":""}]
[{"$f":"IF(SNPs!A102<>\"\",SNPs!A102,\"\")","v":""},{"$f":"IF(SNPs!B102<>\"\",MID(SNPs!B102,FIND(\"[\",SNPs!B102)+1,FIND(\"/\",SNPs!B102)-FIND(\"[\",SNPs!B102)-1),\"\")","v":""},{"$f":"IF(SNPs!B102<>\"\",MID(SNPs!B102,FIND(\"[\",SNPs!B102)+3,FIND(\"/\",SNPs!B102)-FIND(\"/\",SNPs!B102)+1),\"\")","v":""},{"$f":"IF(SNPs!B102<>\"\",SNPs!B102,\"\")","v":""}]
[{"$f":"IF(SNPs!A103<>\"\",SNPs!A103,\"\")","v":""},{"$f":"IF(SNPs!B103<>\"\",MID(SNPs!B103,FIND(\"[\",SNPs!B103)+1,FIND(\"/\",SNPs!B103)-FIND(\"[\",SNPs!B103)-1),\"\")","v":""},{"$f":"IF(SNPs!B103<>\"\",MID(SNPs!B103,FIND(\"[\",SNPs!B103)+3,FIND(\"/\",SNPs!B103)-FIND(\"/\",SNPs!B103)+1),\"\")","v":""},{"$f":"IF(SNPs!B103<>\"\",SNPs!B103,\"\")","v":""}]
[{"$f":"IF(SNPs!A104<>\"\",SNPs!A104,\"\")","v":""},{"$f":"IF(SNPs!B104<>\"\",MID(SNPs!B104,FIND(\"[\",SNPs!B104)+1,FIND(\"/\",SNPs!B104)-FIND(\"[\",SNPs!B104)-1),\"\")","v":""},{"$f":"IF(SNPs!B104<>\"\",MID(SNPs!B104,FIND(\"[\",SNPs!B104)+3,FIND(\"/\",SNPs!B104)-FIND(\"/\",SNPs!B104)+1),\"\")","v":""},{"$f":"IF(SNPs!B104<>\"\",SNPs!B104,\"\")","v":""}]
[{"$f":"IF(SNPs!A105<>\"\",SNPs!A105,\"\")","v":""},{"$f":"IF(SNPs!B105<>\"\",MID(SNPs!B105,FIND(\"[\",SNPs!B105)+1,FIND(\"/\",SNPs!B105)-FIND(\"[\",SNPs!B105)-1),\"\")","v":""},{"$f":"IF(SNPs!B105<>\"\",MID(SNPs!B105,FIND(\"[\",SNPs!B105)+3,FIND(\"/\",SNPs!B105)-FIND(\"/\",SNPs!B105)+1),\"\")","v":""},{"$f":"IF(SNPs!B105<>\"\",SNPs!B105,\"\")","v":""}]
[{"$f":"IF(SNPs!A106<>\"\",SNPs!A106,\"\")","v":""},{"$f":"IF(SNPs!B106<>\"\",MID(SNPs!B106,FIND(\"[\",SNPs!B106)+1,FIND(\"/\",SNPs!B106)-FIND(\"[\",SNPs!B106)-1),\"\")","v":""},{"$f":"IF(SNPs!B106<>\"\",MID(SNPs!B106,FIND(\"[\",SNPs!B106)+3,FIND(\"/\",SNPs!B106)-FIND(\"/\",SNPs!B106)+1),\"\")","v":""},{"$f":"IF(SNPs!B106<>\"\",SNPs!B106,\"\")","v":""}]
[{"$f":"IF(SNPs!A107<>\"\",SNPs!A107,\"\")","v":""},{"$f":"IF(SNPs!B107<>\"\",MID(SNPs!B107,FIND(\"[\",SNPs!B107)+1,FIND(\"/\",SNPs!B107)-FIND(\"[\",SNPs!B107)-1),\"\")","v":""},{"$f":"IF(SNPs!B107<>\"\",MID(SNPs!B107,FIND(\"[\",SNPs!B107)+3,FIND(\"/\",SNPs!B107)-FIND(\"/\",SNPs!B107)+1),\"\")","v":""},{"$f":"IF(SNPs!B107<>\"\",SNPs!B107,\"\")","v":""}]
[{"$f":"IF(SNPs!A108<>\"\",SNPs!A108,\"\")","v":""},{"$f":"IF(SNPs!B108<>\"\",MID(SNPs!B108,FIND(\"[\",SNPs!B108)+1,FIND(\"/\",SNPs!B108)-FIND(\"[\",SNPs!B108)-1),\"\")","v":""},{"$f":"IF(SNPs!B108<>\"\",MID(SNPs!B108,FIND(\"[\",SNPs!B108)+3,FIND(\"/\",SNPs!B108)-FIND(\"/\",SNPs!B108)+1),\"\")","v":""},{"$f":"IF(SNPs!B108<>\"\",SNPs!B108,\"\")","v":""}]
[{"$f":"IF(SNPs!A109<>\"\",SNPs!A109,\"\")","v":""},{"$f":"IF(SNPs!B109<>\"\",MID(SNPs!B109,FIND(\"[\",SNPs!B109)+1,FIND(\"/\",SNPs!B109)-FIND(\"[\",SNPs!B109)-1),\"\")","v":""},{"$f":"IF(SNPs!B109<>\"\",MID(SNPs!B109,FIND(\"[\",SNPs!B109)+3,FIND(\"/\",SNPs!B109)-FIND(\"/\",SNPs!B109)+1),\"\")","v":""},{"$f":"IF(SNPs!B109<>\"\",SNPs!B109,\"\")","v":""}]
[{"$f":"IF(SNPs!A110<>\"\",SNPs!A110,\"\")","v":""},{"$f":"IF(SNPs!B110<>\"\",MID(SNPs!B110,FIND(\"[\",SNPs!B110)+1,FIND(\"/\",SNPs!B110)-FIND(\"[\",SNPs!B110)-1),\"\")","v":""},{"$f":"IF(SNPs!B110<>\"\",MID(SNPs!B110,FIND(\"[\",SNPs!B110)+3,FIND(\"/\",SNPs!B110)-FIND(\"/\",SNPs!B110)+1),\"\")","v":""},{"$f":"IF(SNPs!B110<>\"\",SNPs!B110,\"\")","v":""}]
[{"$f":"IF(SNPs!A111<>\"\",SNPs!A111,\"\")","v":""},{"$f":"IF(SNPs!B111<>\"\",MID(SNPs!B111,FIND(\"[\",SNPs!B111)+1,FIND(\"/\",SNPs!B111)-FIND(\"[\",SNPs!B111)-1),\"\")","v":""},{"$f":"IF(SNPs!B111<>\"\",MID(SNPs!B111,FIND(\"[\",SNPs!B111)+3,FIND(\"/\",SNPs!B111)-FIND(\"/\",SNPs!B111)+1),\"\")","v":""},{"$f":"IF(SNPs!B111<>\"\",SNPs!B111,\"\")","v":""}]
[{"$f":"IF(SNPs!A112<>\"\",SNPs!A112,\"\")","v":""},{"$f":"IF(SNPs!B112<>\"\",MID(SNPs!B112,FIND(\"[\",SNPs!B112)+1,FIND(\"/\",SNPs!B112)-FIND(\"[\",SNPs!B112)-1),\"\")","v":""},{"$f":"IF(SNPs!B112<>\"\",MID(SNPs!B112,FIND(\"[\",SNPs!B112)+3,FIND(\"/\",SNPs!B112)-FIND(\"/\",SNPs!B112)+1),\"\")","v":""},{"$f":"IF(SNPs!B112<>\"\",SNPs!B112,\"\")","v":""}]
[{"$f":"IF(SNPs!A113<>\"\",SNPs!A113,\"\")","v":""},{"$f":"IF(SNPs!B113<>\"\",MID(SNPs!B113,FIND(\"[\",SNPs!B113)+1,FIND(\"/\",SNPs!B113)-FIND(\"[\",SNPs!B113)-1),\"\")","v":""},{"$f":"IF(SNPs!B113<>\"\",MID(SNPs!B113,FIND(\"[\",SNPs!B113)+3,FIND(\"/\",SNPs!B113)-FIND(\"/\",SNPs!B113)+1),\"\")","v":""},{"$f":"IF(SNPs!B113<>\"\",SNPs!B113,\"\")","v":""}]
[{"$f":"IF(SNPs!A114<>\"\",SNPs!A114,\"\")","v":""},{"$f":"IF(SNPs!B114<>\"\",MID(SNPs!B114,FIND(\"[\",SNPs!B114)+1,FIND(\"/\",SNPs!B114)-FIND(\"[\",SNPs!B114)-1),\"\")","v":""},{"$f":"IF(SNPs!B114<>\"\",MID(SNPs!B114,FIND(\"[\",SNPs!B114)+3,FIND(\"/\",SNPs!B114)-FIND(\"/\",SNPs!B114)+1),\"\")","v":""},{"$f":"IF(SNPs!B114<>\"\",SNPs!B114,\"\")","v":""}]
[{"$f":"IF(SNPs!A115<>\"\",SNPs!A115,\"\")","v":""},{"$f":"IF(SNPs!B115<>\"\",MID(SNPs!B115,FIND(\"[\",SNPs!B115)+1,FIND(\"/\",SNPs!B115)-FIND(\"[\",SNPs!B115)-1),\"\")","v":""},{"$f":"IF(SNPs!B115<>\"\",MID(SNPs!B115,FIND(\"[\",SNPs!B115)+3,FIND(\"/\",SNPs!B115)-FIND(\"/\",SNPs!B115)+1),\"\")","v":""},{"$f":"IF(SNPs!B115<>\"\",SNPs!B115,\"\")","v":""}]
[{"$f":"IF(SNPs!A116<>\"\",SNPs!A116,\"\")","v":""},{"$f":"IF(SNPs!B116<>\"\",MID(SNPs!B116,FIND(\"[\",SNPs!B116)+1,FIND(\"/\",SNPs!B116)-FIND(\"[\",SNPs!B116)-1),\"\")","v":""},{"$f":"IF(SNPs!B116<>\"\",MID(SNPs!B116,FIND(\"[\",SNPs!B116)+3,FIND(\"/\",SNPs!B116)-FIND(\"/\",SNPs!B116)+1),\"\")","v":""},{"$f":"IF(SNPs!B116<>\"\",SNPs!B116,\"\")","v":""}]
[{"$f":"IF(SNPs!A117<>\"\",SNPs!A117,\"\")","v":""},{"$f":"IF(SNPs!B117<>\"\",MID(SNPs!B117,FIND(\"[\",SNPs!B117)+1,FIND(\"/\",SNPs!B117)-FIND(\"[\",SNPs!B117)-1),\"\")","v":""},{"$f":"IF(SNPs!B117<>\"\",MID(SNPs!B117,FIND(\"[\",SNPs!B117)+3,FIND(\"/\",SNPs!B117)-FIND(\"/\",SNPs!B117)+1),\"\")","v":""},{"$f":"IF(SNPs!B117<>\"\",SNPs!B117,\"\")","v":""}]
[{"$f":"IF(SNPs!A118<>\"\",SNPs!A118,\"\")","v":""},{"$f":"IF(SNPs!B118<>\"\",MID(SNPs!B118,FIND(\"[\",SNPs!B118)+1,FIND(\"/\",SNPs!B118)-FIND(\"[\",SNPs!B118)-1),\"\")","v":""},{"$f":"IF(SNPs!B118<>\"\",MID(SNPs!B118,FIND(\"[\",SNPs!B118)+3,FIND(\"/\",SNPs!B118)-FIND(\"/\",SNPs!B118)+1),\"\")","v":""},{"$f":"IF(SNPs!B118<>\"\",SNPs!B118,\"\")","v":""}]
[{"$f":"IF(SNPs!A119<>\"\",SNPs!A119,\"\")","v":""},{"$f":"IF(SNPs!B119<>\"\",MID(SNPs!B119,FIND(\"[\",SNPs!B119)+1,FIND(\"/\",SNPs!B119)-FIND(\"[\",SNPs!B119)-1),\"\")","v":""},{"$f":"IF(SNPs!B119<>\"\",MID(SNPs!B119,FIND(\"[\",SNPs!B119)+3,FIND(\"/\",SNPs!B119)-FIND(\"/\",SNPs!B119)+1),\"\")","v":""},{"$f":"IF(SNPs!B119<>\"\",SNPs!B119,\"\")","v":""}]
[{"$f":"IF(SNPs!A120<>\"\",SNPs!A120,\"\")","v":""},{"$f":"IF(SNPs!B120<>\"\",MID(SNPs!B120,FIND(\"[\",SNPs!B120)+1,FIND(\"/\",SNPs!B120)-FIND(\"[\",SNPs!B120)-1),\"\")","v":""},{"$f":"IF(SNPs!B120<>\"\",MID(SNPs!B120,FIND(\"[\",SNPs!B120)+3,FIND(\"/\",SNPs!B120)-FIND(\"/\",SNPs!B120)+1),\"\")","v":""},{"$f":"IF(SNPs!B120<>\"\",SNPs!B120,\"\")","v":""}]
[{"$f":"IF(SNPs!A121<>\"\",SNPs!A121,\"\")","v":""},{"$f":"IF(SNPs!B121<>\"\",MID(SNPs!B121,FIND(\"[\",SNPs!B121)+1,FIND(\"/\",SNPs!B121)-FIND(\"[\",SNPs!B121)-1),\"\")","v":""},{"$f":"IF(SNPs!B121<>\"\",MID(SNPs!B121,FIND(\"[\",SNPs!B121)+3,FIND(\"/\",SNPs!B121)-FIND(\"/\",SNPs!B121)+1),\"\")","v":""},{"$f":"IF(SNPs!B121<>\"\",SNPs!B121,\"\")","v":""}]
[{"$f":"IF(SNPs!A122<>\"\",SNPs!A122,\"\")","v":""},{"$f":"IF(SNPs!B122<>\"\",MID(SNPs!B122,FIND(\"[\",SNPs!B122)+1,FIND(\"/\",SNPs!B122)-FIND(\"[\",SNPs!B122)-1),\"\")","v":""},{"$f":"IF(SNPs!B122<>\"\",MID(SNPs!B122,FIND(\"[\",SNPs!B122)+3,FIND(\"/\",SNPs!B122)-FIND(\"/\",SNPs!B122)+1),\"\")","v":""},{"$f":"IF(SNPs!B122<>\"\",SNPs!B122,\"\")","v":""}]
[{"$f":"IF(SNPs!A123<>\"\",SNPs!A123,\"\")","v":""},{"$f":"IF(SNPs!B123<>\"\",MID(SNPs!B123,FIND(\"[\",SNPs!B123)+1,FIND(\"/\",SNPs!B123)-FIND(\"[\",SNPs!B123)-1),\"\")","v":""},{"$f":"IF(SNPs!B123<>\"\",MID(SNPs!B123,FIND(\"[\",SNPs!B123)+3,FIND(\"/\",SNPs!B123)-FIND(\"/\",SNPs!B123)+1),\"\")","v":""},{"$f":"IF(SNPs!B123<>\"\",SNPs!B123,\"\")","v":""}]
[{"$f":"IF(SNPs!A124<>\"\",SNPs!A124,\"\")","v":""},{"$f":"IF(SNPs!B124<>\"\",MID(SNPs!B124,FIND(\"[\",SNPs!B124)+1,FIND(\"/\",SNPs!B124)-FIND(\"[\",SNPs!B124)-1),\"\")","v":""},{"$f":"IF(SNPs!B124<>\"\",MID(SNPs!B124,FIND(\"[\",SNPs!B124)+3,FIND(\"/\",SNPs!B124)-FIND(\"/\",SNPs!B124)+1),\"\")","v":""},{"$f":"IF(SNPs!B124<>\"\",SNPs!B124,\"\")","v":""}]
[{"$f":"IF(SNPs!A125<>\"\",SNPs!A125,\"\")","v":""},{"$f":"IF(SNPs!B125<>\"\",MID(SNPs!B125,FIND(\"[\",SNPs!B125)+1,FIND(\"/\",SNPs!B125)-FIND(\"[\",SNPs!B125)-1),\"\")","v":""},{"$f":"IF(SNPs!B125<>\"\",MID(SNPs!B125,FIND(\"[\",SNPs!B125)+3,FIND(\"/\",SNPs!B125)-FIND(\"/\",SNPs!B125)+1),\"\")","v":""},{"$f":"IF(SNPs!B125<>\"\",SNPs!B125,\"\")","v":""}]
[{"$f":"IF(SNPs!A126<>\"\",SNPs!A126,\"\")","v":""},{"$f":"IF(SNPs!B126<>\"\",MID(SNPs!B126,FIND(\"[\",SNPs!B126)+1,FIND(\"/\",SNPs!B126)-FIND(\"[\",SNPs!B126)-1),\"\")","v":""},{"$f":"IF(SNPs!B126<>\"\",MID(SNPs!B126,FIND(\"[\",SNPs!B126)+3,FIND(\"/\",SNPs!B126)-FIND(\"/\",SNPs!B126)+1),\"\")","v":""},{"$f":"IF(SNPs!B126<>\"\",SNPs!B126,\"\")","v":""}]
[{"$f":"IF(SNPs!A127<>\"\",SNPs!A127,\"\")","v":""},{"$f":"IF(SNPs!B127<>\"\",MID(SNPs!B127,FIND(\"[\",SNPs!B127)+1,FIND(\"/\",SNPs!B127)-FIND(\"[\",SNPs!B127)-1),\"\")","v":""},{"$f":"IF(SNPs!B127<>\"\",MID(SNPs!B127,FIND(\"[\",SNPs!B127)+3,FIND(\"/\",SNPs!B127)-FIND(\"/\",SNPs!B127)+1),\"\")","v":""},{"$f":"IF(SNPs!B127<>\"\",SNPs!B127,\"\")","v":""}]
[{"$f":"IF(SNPs!A128<>\"\",SNPs!A128,\"\")","v":""},{"$f":"IF(SNPs!B128<>\"\",MID(SNPs!B128,FIND(\"[\",SNPs!B128)+1,FIND(\"/\",SNPs!B128)-FIND(\"[\",SNPs!B128)-1),\"\")","v":""},{"$f":"IF(SNPs!B128<>\"\",MID(SNPs!B128,FIND(\"[\",SNPs!B128)+3,FIND(\"/\",SNPs!B128)-FIND(\"/\",SNPs!B128)+1),\"\")","v":""},{"$f":"IF(SNPs!B128<>\"\",SNPs!B128,\"\")","v":""}]
[{"$f":"IF(SNPs!A129<>\"\",SNPs!A129,\"\")","v":""},{"$f":"IF(SNPs!B129<>\"\",MID(SNPs!B129,FIND(\"[\",SNPs!B129)+1,FIND(\"/\",SNPs!B129)-FIND(\"[\",SNPs!B129)-1),\"\")","v":""},{"$f":"IF(SNPs!B129<>\"\",MID(SNPs!B129,FIND(\"[\",SNPs!B129)+3,FIND(\"/\",SNPs!B129)-FIND(\"/\",SNPs!B129)+1),\"\")","v":""},{"$f":"IF(SNPs!B129<>\"\",SNPs!B129,\"\")","v":""}]
[{"$f":"IF(SNPs!A130<>\"\",SNPs!A130,\"\")","v":""},{"$f":"IF(SNPs!B130<>\"\",MID(SNPs!B130,FIND(\"[\",SNPs!B130)+1,FIND(\"/\",SNPs!B130)-FIND(\"[\",SNPs!B130)-1),\"\")","v":""},{"$f":"IF(SNPs!B130<>\"\",MID(SNPs!B130,FIND(\"[\",SNPs!B130)+3,FIND(\"/\",SNPs!B130)-FIND(\"/\",SNPs!B130)+1),\"\")","v":""},{"$f":"IF(SNPs!B130<>\"\",SNPs!B130,\"\")","v":""}]
[{"$f":"IF(SNPs!A131<>\"\",SNPs!A131,\"\")","v":""},{"$f":"IF(SNPs!B131<>\"\",MID(SNPs!B131,FIND(\"[\",SNPs!B131)+1,FIND(\"/\",SNPs!B131)-FIND(\"[\",SNPs!B131)-1),\"\")","v":""},{"$f":"IF(SNPs!B131<>\"\",MID(SNPs!B131,FIND(\"[\",SNPs!B131)+3,FIND(\"/\",SNPs!B131)-FIND(\"/\",SNPs!B131)+1),\"\")","v":""},{"$f":"IF(SNPs!B131<>\"\",SNPs!B131,\"\")","v":""}]
[{"$f":"IF(SNPs!A132<>\"\",SNPs!A132,\"\")","v":""},{"$f":"IF(SNPs!B132<>\"\",MID(SNPs!B132,FIND(\"[\",SNPs!B132)+1,FIND(\"/\",SNPs!B132)-FIND(\"[\",SNPs!B132)-1),\"\")","v":""},{"$f":"IF(SNPs!B132<>\"\",MID(SNPs!B132,FIND(\"[\",SNPs!B132)+3,FIND(\"/\",SNPs!B132)-FIND(\"/\",SNPs!B132)+1),\"\")","v":""},{"$f":"IF(SNPs!B132<>\"\",SNPs!B132,\"\")","v":""}]
[{"$f":"IF(SNPs!A133<>\"\",SNPs!A133,\"\")","v":""},{"$f":"IF(SNPs!B133<>\"\",MID(SNPs!B133,FIND(\"[\",SNPs!B133)+1,FIND(\"/\",SNPs!B133)-FIND(\"[\",SNPs!B133)-1),\"\")","v":""},{"$f":"IF(SNPs!B133<>\"\",MID(SNPs!B133,FIND(\"[\",SNPs!B133)+3,FIND(\"/\",SNPs!B133)-FIND(\"/\",SNPs!B133)+1),\"\")","v":""},{"$f":"IF(SNPs!B133<>\"\",SNPs!B133,\"\")","v":""}]
[{"$f":"IF(SNPs!A134<>\"\",SNPs!A134,\"\")","v":""},{"$f":"IF(SNPs!B134<>\"\",MID(SNPs!B134,FIND(\"[\",SNPs!B134)+1,FIND(\"/\",SNPs!B134)-FIND(\"[\",SNPs!B134)-1),\"\")","v":""},{"$f":"IF(SNPs!B134<>\"\",MID(SNPs!B134,FIND(\"[\",SNPs!B134)+3,FIND(\"/\",SNPs!B134)-FIND(\"/\",SNPs!B134)+1),\"\")","v":""},{"$f":"IF(SNPs!B134<>\"\",SNPs!B134,\"\")","v":""}]
[{"$f":"IF(SNPs!A135<>\"\",SNPs!A135,\"\")","v":""},{"$f":"IF(SNPs!B135<>\"\",MID(SNPs!B135,FIND(\"[\",SNPs!B135)+1,FIND(\"/\",SNPs!B135)-FIND(\"[\",SNPs!B135)-1),\"\")","v":""},{"$f":"IF(SNPs!B135<>\"\",MID(SNPs!B135,FIND(\"[\",SNPs!B135)+3,FIND(\"/\",SNPs!B135)-FIND(\"/\",SNPs!B135)+1),\"\")","v":""},{"$f":"IF(SNPs!B135<>\"\",SNPs!B135,\"\")","v":""}]
[{"$f":"IF(SNPs!A136<>\"\",SNPs!A136,\"\")","v":""},{"$f":"IF(SNPs!B136<>\"\",MID(SNPs!B136,FIND(\"[\",SNPs!B136)+1,FIND(\"/\",SNPs!B136)-FIND(\"[\",SNPs!B136)-1),\"\")","v":""},{"$f":"IF(SNPs!B136<>\"\",MID(SNPs!B136,FIND(\"[\",SNPs!B136)+3,FIND(\"/\",SNPs!B136)-FIND(\"/\",SNPs!B136)+1),\"\")","v":""},{"$f":"IF(SNPs!B136<>\"\",SNPs!B136,\"\")","v":""}]
[{"$f":"IF(SNPs!A137<>\"\",SNPs!A137,\"\")","v":""},{"$f":"IF(SNPs!B137<>\"\",MID(SNPs!B137,FIND(\"[\",SNPs!B137)+1,FIND(\"/\",SNPs!B137)-FIND(\"[\",SNPs!B137)-1),\"\")","v":""},{"$f":"IF(SNPs!B137<>\"\",MID(SNPs!B137,FIND(\"[\",SNPs!B137)+3,FIND(\"/\",SNPs!B137)-FIND(\"/\",SNPs!B137)+1),\"\")","v":""},{"$f":"IF(SNPs!B137<>\"\",SNPs!B137,\"\")","v":""}]
[{"$f":"IF(SNPs!A138<>\"\",SNPs!A138,\"\")","v":""},{"$f":"IF(SNPs!B138<>\"\",MID(SNPs!B138,FIND(\"[\",SNPs!B138)+1,FIND(\"/\",SNPs!B138)-FIND(\"[\",SNPs!B138)-1),\"\")","v":""},{"$f":"IF(SNPs!B138<>\"\",MID(SNPs!B138,FIND(\"[\",SNPs!B138)+3,FIND(\"/\",SNPs!B138)-FIND(\"/\",SNPs!B138)+1),\"\")","v":""},{"$f":"IF(SNPs!B138<>\"\",SNPs!B138,\"\")","v":""}]
[{"$f":"IF(SNPs!A139<>\"\",SNPs!A139,\"\")","v":""},{"$f":"IF(SNPs!B139<>\"\",MID(SNPs!B139,FIND(\"[\",SNPs!B139)+1,FIND(\"/\",SNPs!B139)-FIND(\"[\",SNPs!B139)-1),\"\")","v":""},{"$f":"IF(SNPs!B139<>\"\",MID(SNPs!B139,FIND(\"[\",SNPs!B139)+3,FIND(\"/\",SNPs!B139)-FIND(\"/\",SNPs!B139)+1),\"\")","v":""},{"$f":"IF(SNPs!B139<>\"\",SNPs!B139,\"\")","v":""}]
[{"$f":"IF(SNPs!A140<>\"\",SNPs!A140,\"\")","v":""},{"$f":"IF(SNPs!B140<>\"\",MID(SNPs!B140,FIND(\"[\",SNPs!B140)+1,FIND(\"/\",SNPs!B140)-FIND(\"[\",SNPs!B140)-1),\"\")","v":""},{"$f":"IF(SNPs!B140<>\"\",MID(SNPs!B140,FIND(\"[\",SNPs!B140)+3,FIND(\"/\",SNPs!B140)-FIND(\"/\",SNPs!B140)+1),\"\")","v":""},{"$f":"IF(SNPs!B140<>\"\",SNPs!B140,\"\")","v":""}]
[{"$f":"IF(SNPs!A141<>\"\",SNPs!A141,\"\")","v":""},{"$f":"IF(SNPs!B141<>\"\",MID(SNPs!B141,FIND(\"[\",SNPs!B141)+1,FIND(\"/\",SNPs!B141)-FIND(\"[\",SNPs!B141)-1),\"\")","v":""},{"$f":"IF(SNPs!B141<>\"\",MID(SNPs!B141,FIND(\"[\",SNPs!B141)+3,FIND(\"/\",SNPs!B141)-FIND(\"/\",SNPs!B141)+1),\"\")","v":""},{"$f":"IF(SNPs!B141<>\"\",SNPs!B141,\"\")","v":""}]
[{"$f":"IF(SNPs!A142<>\"\",SNPs!A142,\"\")","v":""},{"$f":"IF(SNPs!B142<>\"\",MID(SNPs!B142,FIND(\"[\",SNPs!B142)+1,FIND(\"/\",SNPs!B142)-FIND(\"[\",SNPs!B142)-1),\"\")","v":""},{"$f":"IF(SNPs!B142<>\"\",MID(SNPs!B142,FIND(\"[\",SNPs!B142)+3,FIND(\"/\",SNPs!B142)-FIND(\"/\",SNPs!B142)+1),\"\")","v":""},{"$f":"IF(SNPs!B142<>\"\",SNPs!B142,\"\")","v":""}]
[{"$f":"IF(SNPs!A143<>\"\",SNPs!A143,\"\")","v":""},{"$f":"IF(SNPs!B143<>\"\",MID(SNPs!B143,FIND(\"[\",SNPs!B143)+1,FIND(\"/\",SNPs!B143)-FIND(\"[\",SNPs!B143)-1),\"\")","v":""},{"$f":"IF(SNPs!B143<>\"\",MID(SNPs!B143,FIND(\"[\",SNPs!B143)+3,FIND(\"/\",SNPs!B143)-FIND(\"/\",SNPs!B143)+1),\"\")","v":""},{"$f":"IF(SNPs!B143<>\"\",SNPs!B143,\"\")","v":""}]
[{"$f":"IF(SNPs!A144<>\"\",SNPs!A144,\"\")","v":""},{"$f":"IF(SNPs!B144<>\"\",MID(SNPs!B144,FIND(\"[\",SNPs!B144)+1,FIND(\"/\",SNPs!B144)-FIND(\"[\",SNPs!B144)-1),\"\")","v":""},{"$f":"IF(SNPs!B144<>\"\",MID(SNPs!B144,FIND(\"[\",SNPs!B144)+3,FIND(\"/\",SNPs!B144)-FIND(\"/\",SNPs!B144)+1),\"\")","v":""},{"$f":"IF(SNPs!B144<>\"\",SNPs!B144,\"\")","v":""}]
[{"$f":"IF(SNPs!A145<>\"\",SNPs!A145,\"\")","v":""},{"$f":"IF(SNPs!B145<>\"\",MID(SNPs!B145,FIND(\"[\",SNPs!B145)+1,FIND(\"/\",SNPs!B145)-FIND(\"[\",SNPs!B145)-1),\"\")","v":""},{"$f":"IF(SNPs!B145<>\"\",MID(SNPs!B145,FIND(\"[\",SNPs!B145)+3,FIND(\"/\",SNPs!B145)-FIND(\"/\",SNPs!B145)+1),\"\")","v":""},{"$f":"IF(SNPs!B145<>\"\",SNPs!B145,\"\")","v":""}]
[{"$f":"IF(SNPs!A146<>\"\",SNPs!A146,\"\")","v":""},{"$f":"IF(SNPs!B146<>\"\",MID(SNPs!B146,FIND(\"[\",SNPs!B146)+1,FIND(\"/\",SNPs!B146)-FIND(\"[\",SNPs!B146)-1),\"\")","v":""},{"$f":"IF(SNPs!B146<>\"\",MID(SNPs!B146,FIND(\"[\",SNPs!B146)+3,FIND(\"/\",SNPs!B146)-FIND(\"/\",SNPs!B146)+1),\"\")","v":""},{"$f":"IF(SNPs!B146<>\"\",SNPs!B146,\"\")","v":""}]
[{"$f":"IF(SNPs!A147<>\"\",SNPs!A147,\"\")","v":""},{"$f":"IF(SNPs!B147<>\"\",MID(SNPs!B147,FIND(\"[\",SNPs!B147)+1,FIND(\"/\",SNPs!B147)-FIND(\"[\",SNPs!B147)-1),\"\")","v":""},{"$f":"IF(SNPs!B147<>\"\",MID(SNPs!B147,FIND(\"[\",SNPs!B147)+3,FIND(\"/\",SNPs!B147)-FIND(\"/\",SNPs!B147)+1),\"\")","v":""},{"$f":"IF(SNPs!B147<>\"\",SNPs!B147,\"\")","v":""}]
[{"$f":"IF(SNPs!A148<>\"\",SNPs!A148,\"\")","v":""},{"$f":"IF(SNPs!B148<>\"\",MID(SNPs!B148,FIND(\"[\",SNPs!B148)+1,FIND(\"/\",SNPs!B148)-FIND(\"[\",SNPs!B148)-1),\"\")","v":""},{"$f":"IF(SNPs!B148<>\"\",MID(SNPs!B148,FIND(\"[\",SNPs!B148)+3,FIND(\"/\",SNPs!B148)-FIND(\"/\",SNPs!B148)+1),\"\")","v":""},{"$f":"IF(SNPs!B148<>\"\",SNPs!B148,\"\")","v":""}]
[{"$f":"IF(SNPs!A149<>\"\",SNPs!A149,\"\")","v":""},{"$f":"IF(SNPs!B149<>\"\",MID(SNPs!B149,FIND(\"[\",SNPs!B149)+1,FIND(\"/\",SNPs!B149)-FIND(\"[\",SNPs!B149)-1),\"\")","v":""},{"$f":"IF(SNPs!B149<>\"\",MID(SNPs!B149,FIND(\"[\",SNPs!B149)+3,FIND(\"/\",SNPs!B149)-FIND(\"/\",SNPs!B149)+1),\"\")","v":""},{"$f":"IF(SNPs!B149<>\"\",SNPs!B149,\"\")","v":""}]
[{"$f":"IF(SNPs!A150<>\"\",SNPs!A150,\"\")","v":""},{"$f":"IF(SNPs!B150<>\"\",MID(SNPs!B150,FIND(\"[\",SNPs!B150)+1,FIND(\"/\",SNPs!B150)-FIND(\"[\",SNPs!B150)-1),\"\")","v":""},{"$f":"IF(SNPs!B150<>\"\",MID(SNPs!B150,FIND(\"[\",SNPs!B150)+3,FIND(\"/\",SNPs!B150)-FIND(\"/\",SNPs!B150)+1),\"\")","v":""},{"$f":"IF(SNPs!B150<>\"\",SNPs!B150,\"\")","v":""}]
[{"$f":"IF(SNPs!A151<>\"\",SNPs!A151,\"\")","v":""},{"$f":"IF(SNPs!B151<>\"\",MID(SNPs!B151,FIND(\"[\",SNPs!B151)+1,FIND(\"/\",SNPs!B151)-FIND(\"[\",SNPs!B151)-1),\"\")","v":""},{"$f":"IF(SNPs!B151<>\"\",MID(SNPs!B151,FIND(\"[\",SNPs!B151)+3,FIND(\"/\",SNPs!B151)-FIND(\"/\",SNPs!B151)+1),\"\")","v":""},{"$f":"IF(SNPs!B151<>\"\",SNPs!B151,\"\")","v":""}]
[{"$f":"IF(SNPs!A152<>\"\",SNPs!A152,\"\")","v":""},{"$f":"IF(SNPs!B152<>\"\",MID(SNPs!B152,FIND(\"[\",SNPs!B152)+1,FIND(\"/\",SNPs!B152)-FIND(\"[\",SNPs!B152)-1),\"\")","v":""},{"$f":"IF(SNPs!B152<>\"\",MID(SNPs!B152,FIND(\"[\",SNPs!B152)+3,FIND(\"/\",SNPs!B152)-FIND(\"/\",SNPs!B152)+1),\"\")","v":""},{"$f":"IF(SNPs!B152<>\"\",SNPs!B152,\"\")","v":""}]
[{"$f":"IF(SNPs!A153<>\"\",SNPs!A153,\"\")","v":""},{"$f":"IF(SNPs!B153<>\"\",MID(SNPs!B153,FIND(\"[\",SNPs!B153)+1,FIND(\"/\",SNPs!B153)-FIND(\"[\",SNPs!B153)-1),\"\")","v":""},{"$f":"IF(SNPs!B153<>\"\",MID(SNPs!B153,FIND(\"[\",SNPs!B153)+3,FIND(\"/\",SNPs!B153)-FIND(\"/\",SNPs!B153)+1),\"\")","v":""},{"$f":"IF(SNPs!B153<>\"\",SNPs!B153,\"\")","v":""}]
[{"$f":"IF(SNPs!A154<>\"\",SNPs!A154,\"\")","v":""},{"$f":"IF(SNPs!B154<>\"\",MID(SNPs!B154,FIND(\"[\",SNPs!B154)+1,FIND(\"/\",SNPs!B154)-FIND(\"[\",SNPs!B154)-1),\"\")","v":""},{"$f":"IF(SNPs!B154<>\"\",MID(SNPs!B154,FIND(\"[\",SNPs!B154)+3,FIND(\"/\",SNPs!B154)-FIND(\"/\",SNPs!B154)+1),\"\")","v":""},{"$f":"IF(SNPs!B154<>\"\",SNPs!B154,\"\")","v":""}]
[{"$f":"IF(SNPs!A155<>\"\",SNPs!A155,\"\")","v":""},{"$f":"IF(SNPs!B155<>\"\",MID(SNPs!B155,FIND(\"[\",SNPs!B155)+1,FIND(\"/\",SNPs!B155)-FIND(\"[\",SNPs!B155)-1),\"\")","v":""},{"$f":"IF(SNPs!B155<>\"\",MID(SNPs!B155,FIND(\"[\",SNPs!B155)+3,FIND(\"/\",SNPs!B155)-FIND(\"/\",SNPs!B155)+1),\"\")","v":""},{"$f":"IF(SNPs!B155<>\"\",SNPs!B155,\"\")","v":""}]
[{"$f":"IF(SNPs!A156<>\"\",SNPs!A156,\"\")","v":""},{"$f":"IF(SNPs!B156<>\"\",MID(SNPs!B156,FIND(\"[\",SNPs!B156)+1,FIND(\"/\",SNPs!B156)-FIND(\"[\",SNPs!B156)-1),\"\")","v":""},{"$f":"IF(SNPs!B156<>\"\",MID(SNPs!B156,FIND(\"[\",SNPs!B156)+3,FIND(\"/\",SNPs!B156)-FIND(\"/\",SNPs!B156)+1),\"\")","v":""},{"$f":"IF(SNPs!B156<>\"\",SNPs!B156,\"\")","v":""}]
[{"$f":"IF(SNPs!A157<>\"\",SNPs!A157,\"\")","v":""},{"$f":"IF(SNPs!B157<>\"\",MID(SNPs!B157,FIND(\"[\",SNPs!B157)+1,FIND(\"/\",SNPs!B157)-FIND(\"[\",SNPs!B157)-1),\"\")","v":""},{"$f":"IF(SNPs!B157<>\"\",MID(SNPs!B157,FIND(\"[\",SNPs!B157)+3,FIND(\"/\",SNPs!B157)-FIND(\"/\",SNPs!B157)+1),\"\")","v":""},{"$f":"IF(SNPs!B157<>\"\",SNPs!B157,\"\")","v":""}]
[{"$f":"IF(SNPs!A158<>\"\",SNPs!A158,\"\")","v":""},{"$f":"IF(SNPs!B158<>\"\",MID(SNPs!B158,FIND(\"[\",SNPs!B158)+1,FIND(\"/\",SNPs!B158)-FIND(\"[\",SNPs!B158)-1),\"\")","v":""},{"$f":"IF(SNPs!B158<>\"\",MID(SNPs!B158,FIND(\"[\",SNPs!B158)+3,FIND(\"/\",SNPs!B158)-FIND(\"/\",SNPs!B158)+1),\"\")","v":""},{"$f":"IF(SNPs!B158<>\"\",SNPs!B158,\"\")","v":""}]
[{"$f":"IF(SNPs!A159<>\"\",SNPs!A159,\"\")","v":""},{"$f":"IF(SNPs!B159<>\"\",MID(SNPs!B159,FIND(\"[\",SNPs!B159)+1,FIND(\"/\",SNPs!B159)-FIND(\"[\",SNPs!B159)-1),\"\")","v":""},{"$f":"IF(SNPs!B159<>\"\",MID(SNPs!B159,FIND(\"[\",SNPs!B159)+3,FIND(\"/\",SNPs!B159)-FIND(\"/\",SNPs!B159)+1),\"\")","v":""},{"$f":"IF(SNPs!B159<>\"\",SNPs!B159,\"\")","v":""}]
[{"$f":"IF(SNPs!A160<>\"\",SNPs!A160,\"\")","v":""},{"$f":"IF(SNPs!B160<>\"\",MID(SNPs!B160,FIND(\"[\",SNPs!B160)+1,FIND(\"/\",SNPs!B160)-FIND(\"[\",SNPs!B160)-1),\"\")","v":""},{"$f":"IF(SNPs!B160<>\"\",MID(SNPs!B160,FIND(\"[\",SNPs!B160)+3,FIND(\"/\",SNPs!B160)-FIND(\"/\",SNPs!B160)+1),\"\")","v":""},{"$f":"IF(SNPs!B160<>\"\",SNPs!B160,\"\")","v":""}]
[{"$f":"IF(SNPs!A161<>\"\",SNPs!A161,\"\")","v":""},{"$f":"IF(SNPs!B161<>\"\",MID(SNPs!B161,FIND(\"[\",SNPs!B161)+1,FIND(\"/\",SNPs!B161)-FIND(\"[\",SNPs!B161)-1),\"\")","v":""},{"$f":"IF(SNPs!B161<>\"\",MID(SNPs!B161,FIND(\"[\",SNPs!B161)+3,FIND(\"/\",SNPs!B161)-FIND(\"/\",SNPs!B161)+1),\"\")","v":""},{"$f":"IF(SNPs!B161<>\"\",SNPs!B161,\"\")","v":""}]
[{"$f":"IF(SNPs!A162<>\"\",SNPs!A162,\"\")","v":""},{"$f":"IF(SNPs!B162<>\"\",MID(SNPs!B162,FIND(\"[\",SNPs!B162)+1,FIND(\"/\",SNPs!B162)-FIND(\"[\",SNPs!B162)-1),\"\")","v":""},{"$f":"IF(SNPs!B162<>\"\",MID(SNPs!B162,FIND(\"[\",SNPs!B162)+3,FIND(\"/\",SNPs!B162)-FIND(\"/\",SNPs!B162)+1),\"\")","v":""},{"$f":"IF(SNPs!B162<>\"\",SNPs!B162,\"\")","v":""}]
[{"$f":"IF(SNPs!A163<>\"\",SNPs!A163,\"\")","v":""},{"$f":"IF(SNPs!B163<>\"\",MID(SNPs!B163,FIND(\"[\",SNPs!B163)+1,FIND(\"/\",SNPs!B163)-FIND(\"[\",SNPs!B163)-1),\"\")","v":""},{"$f":"IF(SNPs!B163<>\"\",MID(SNPs!B163,FIND(\"[\",SNPs!B163)+3,FIND(\"/\",SNPs!B163)-FIND(\"/\",SNPs!B163)+1),\"\")","v":""},{"$f":"IF(SNPs!B163<>\"\",SNPs!B163,\"\")","v":""}]
[{"$f":"IF(SNPs!A164<>\"\",SNPs!A164,\"\")","v":""},{"$f":"IF(SNPs!B164<>\"\",MID(SNPs!B164,FIND(\"[\",SNPs!B164)+1,FIND(\"/\",SNPs!B164)-FIND(\"[\",SNPs!B164)-1),\"\")","v":""},{"$f":"IF(SNPs!B164<>\"\",MID(SNPs!B164,FIND(\"[\",SNPs!B164)+3,FIND(\"/\",SNPs!B164)-FIND(\"/\",SNPs!B164)+1),\"\")","v":""},{"$f":"IF(SNPs!B164<>\"\",SNPs!B164,\"\")","v":""}]
[{"$f":"IF(SNPs!A165<>\"\",SNPs!A165,\"\")","v":""},{"$f":"IF(SNPs!B165<>\"\",MID(SNPs!B165,FIND(\"[\",SNPs!B165)+1,FIND(\"/\",SNPs!B165)-FIND(\"[\",SNPs!B165)-1),\"\")","v":""},{"$f":"IF(SNPs!B165<>\"\",MID(SNPs!B165,FIND(\"[\",SNPs!B165)+3,FIND(\"/\",SNPs!B165)-FIND(\"/\",SNPs!B165)+1),\"\")","v":""},{"$f":"IF(SNPs!B165<>\"\",SNPs!B165,\"\")","v":""}]
[{"$f":"IF(SNPs!A166<>\"\",SNPs!A166,\"\")","v":""},{"$f":"IF(SNPs!B166<>\"\",MID(SNPs!B166,FIND(\"[\",SNPs!B166)+1,FIND(\"/\",SNPs!B166)-FIND(\"[\",SNPs!B166)-1),\"\")","v":""},{"$f":"IF(SNPs!B166<>\"\",MID(SNPs!B166,FIND(\"[\",SNPs!B166)+3,FIND(\"/\",SNPs!B166)-FIND(\"/\",SNPs!B166)+1),\"\")","v":""},{"$f":"IF(SNPs!B166<>\"\",SNPs!B166,\"\")","v":""}]
[{"$f":"IF(SNPs!A167<>\"\",SNPs!A167,\"\")","v":""},{"$f":"IF(SNPs!B167<>\"\",MID(SNPs!B167,FIND(\"[\",SNPs!B167)+1,FIND(\"/\",SNPs!B167)-FIND(\"[\",SNPs!B167)-1),\"\")","v":""},{"$f":"IF(SNPs!B167<>\"\",MID(SNPs!B167,FIND(\"[\",SNPs!B167)+3,FIND(\"/\",SNPs!B167)-FIND(\"/\",SNPs!B167)+1),\"\")","v":""},{"$f":"IF(SNPs!B167<>\"\",SNPs!B167,\"\")","v":""}]
[{"$f":"IF(SNPs!A168<>\"\",SNPs!A168,\"\")","v":""},{"$f":"IF(SNPs!B168<>\"\",MID(SNPs!B168,FIND(\"[\",SNPs!B168)+1,FIND(\"/\",SNPs!B168)-FIND(\"[\",SNPs!B168)-1),\"\")","v":""},{"$f":"IF(SNPs!B168<>\"\",MID(SNPs!B168,FIND(\"[\",SNPs!B168)+3,FIND(\"/\",SNPs!B168)-FIND(\"/\",SNPs!B168)+1),\"\")","v":""},{"$f":"IF(SNPs!B168<>\"\",SNPs!B168,\"\")","v":""}]
[{"$f":"IF(SNPs!A169<>\"\",SNPs!A169,\"\")","v":""},{"$f":"IF(SNPs!B169<>\"\",MID(SNPs!B169,FIND(\"[\",SNPs!B169)+1,FIND(\"/\",SNPs!B169)-FIND(\"[\",SNPs!B169)-1),\"\")","v":""},{"$f":"IF(SNPs!B169<>\"\",MID(SNPs!B169,FIND(\"[\",SNPs!B169)+3,FIND(\"/\",SNPs!B169)-FIND(\"/\",SNPs!B169)+1),\"\")","v":""},{"$f":"IF(SNPs!B169<>\"\",SNPs!B169,\"\")","v":""}]
[{"$f":"IF(SNPs!A170<>\"\",SNPs!A170,\"\")","v":""},{"$f":"IF(SNPs!B170<>\"\",MID(SNPs!B170,FIND(\"[\",SNPs!B170)+1,FIND(\"/\",SNPs!B170)-FIND(\"[\",SNPs!B170)-1),\"\")","v":""},{"$f":"IF(SNPs!B170<>\"\",MID(SNPs!B170,FIND(\"[\",SNPs!B170)+3,FIND(\"/\",SNPs!B170)-FIND(\"/\",SNPs!B170)+1),\"\")","v":""},{"$f":"IF(SNPs!B170<>\"\",SNPs!B170,\"\")","v":""}]
[{"$f":"IF(SNPs!A171<>\"\",SNPs!A171,\"\")","v":""},{"$f":"IF(SNPs!B171<>\"\",MID(SNPs!B171,FIND(\"[\",SNPs!B171)+1,FIND(\"/\",SNPs!B171)-FIND(\"[\",SNPs!B171)-1),\"\")","v":""},{"$f":"IF(SNPs!B171<>\"\",MID(SNPs!B171,FIND(\"[\",SNPs!B171)+3,FIND(\"/\",SNPs!B171)-FIND(\"/\",SNPs!B171)+1),\"\")","v":""},{"$f":"IF(SNPs!B171<>\"\",SNPs!B171,\"\")","v":""}]
[{"$f":"IF(SNPs!A172<>\"\",SNPs!A172,\"\")","v":""},{"$f":"IF(SNPs!B172<>\"\",MID(SNPs!B172,FIND(\"[\",SNPs!B172)+1,FIND(\"/\",SNPs!B172)-FIND(\"[\",SNPs!B172)-1),\"\")","v":""},{"$f":"IF(SNPs!B172<>\"\",MID(SNPs!B172,FIND(\"[\",SNPs!B172)+3,FIND(\"/\",SNPs!B172)-FIND(\"/\",SNPs!B172)+1),\"\")","v":""},{"$f":"IF(SNPs!B172<>\"\",SNPs!B172,\"\")","v":""}]
[{"$f":"IF(SNPs!A173<>\"\",SNPs!A173,\"\")","v":""},{"$f":"IF(SNPs!B173<>\"\",MID(SNPs!B173,FIND(\"[\",SNPs!B173)+1,FIND(\"/\",SNPs!B173)-FIND(\"[\",SNPs!B173)-1),\"\")","v":""},{"$f":"IF(SNPs!B173<>\"\",MID(SNPs!B173,FIND(\"[\",SNPs!B173)+3,FIND(\"/\",SNPs!B173)-FIND(\"/\",SNPs!B173)+1),\"\")","v":""},{"$f":"IF(SNPs!B173<>\"\",SNPs!B173,\"\")","v":""}]
[{"$f":"IF(SNPs!A174<>\"\",SNPs!A174,\"\")","v":""},{"$f":"IF(SNPs!B174<>\"\",MID(SNPs!B174,FIND(\"[\",SNPs!B174)+1,FIND(\"/\",SNPs!B174)-FIND(\"[\",SNPs!B174)-1),\"\")","v":""},{"$f":"IF(SNPs!B174<>\"\",MID(SNPs!B174,FIND(\"[\",SNPs!B174)+3,FIND(\"/\",SNPs!B174)-FIND(\"/\",SNPs!B174)+1),\"\")","v":""},{"$f":"IF(SNPs!B174<>\"\",SNPs!B174,\"\")","v":""}]
[{"$f":"IF(SNPs!A175<>\"\",SNPs!A175,\"\")","v":""},{"$f":"IF(SNPs!B175<>\"\",MID(SNPs!B175,FIND(\"[\",SNPs!B175)+1,FIND(\"/\",SNPs!B175)-FIND(\"[\",SNPs!B175)-1),\"\")","v":""},{"$f":"IF(SNPs!B175<>\"\",MID(SNPs!B175,FIND(\"[\",SNPs!B175)+3,FIND(\"/\",SNPs!B175)-FIND(\"/\",SNPs!B175)+1),\"\")","v":""},{"$f":"IF(SNPs!B175<>\"\",SNPs!B175,\"\")","v":""}]
[{"$f":"IF(SNPs!A176<>\"\",SNPs!A176,\"\")","v":""},{"$f":"IF(SNPs!B176<>\"\",MID(SNPs!B176,FIND(\"[\",SNPs!B176)+1,FIND(\"/\",SNPs!B176)-FIND(\"[\",SNPs!B176)-1),\"\")","v":""},{"$f":"IF(SNPs!B176<>\"\",MID(SNPs!B176,FIND(\"[\",SNPs!B176)+3,FIND(\"/\",SNPs!B176)-FIND(\"/\",SNPs!B176)+1),\"\")","v":""},{"$f":"IF(SNPs!B176<>\"\",SNPs!B176,\"\")","v":""}]
[{"$f":"IF(SNPs!A177<>\"\",SNPs!A177,\"\")","v":""},{"$f":"IF(SNPs!B177<>\"\",MID(SNPs!B177,FIND(\"[\",SNPs!B177)+1,FIND(\"/\",SNPs!B177)-FIND(\"[\",SNPs!B177)-1),\"\")","v":""},{"$f":"IF(SNPs!B177<>\"\",MID(SNPs!B177,FIND(\"[\",SNPs!B177)+3,FIND(\"/\",SNPs!B177)-FIND(\"/\",SNPs!B177)+1),\"\")","v":""},{"$f":"IF(SNPs!B177<>\"\",SNPs!B177,\"\")","v":""}]
[{"$f":"IF(SNPs!A178<>\"\",SNPs!A178,\"\")","v":""},{"$f":"IF(SNPs!B178<>\"\",MID(SNPs!B178,FIND(\"[\",SNPs!B178)+1,FIND(\"/\",SNPs!B178)-FIND(\"[\",SNPs!B178)-1),\"\")","v":""},{"$f":"IF(SNPs!B178<>\"\",MID(SNPs!B178,FIND(\"[\",SNPs!B178)+3,FIND(\"/\",SNPs!B178)-FIND(\"/\",SNPs!B178)+1),\"\")","v":""},{"$f":"IF(SNPs!B178<>\"\",SNPs!B178,\"\")","v":""}]
[{"$f":"IF(SNPs!A179<>\"\",SNPs!A179,\"\")","v":""},{"$f":"IF(SNPs!B179<>\"\",MID(SNPs!B179,FIND(\"[\",SNPs!B179)+1,FIND(\"/\",SNPs!B179)-FIND(\"[\",SNPs!B179)-1),\"\")","v":""},{"$f":"IF(SNPs!B179<>\"\",MID(SNPs!B179,FIND(\"[\",SNPs!B179)+3,FIND(\"/\",SNPs!B179)-FIND(\"/\",SNPs!B179)+1),\"\")","v":""},{"$f":"IF(SNPs!B179<>\"\",SNPs!B179,\"\")","v":""}]
[{"$f":"IF(SNPs!A180<>\"\",SNPs!A180,\"\")","v":""},{"$f":"IF(SNPs!B180<>\"\",MID(SNPs!B180,FIND(\"[\",SNPs!B180)+1,FIND(\"/\",SNPs!B180)-FIND(\"[\",SNPs!B180)-1),\"\")","v":""},{"$f":"IF(SNPs!B180<>\"\",MID(SNPs!B180,FIND(\"[\",SNPs!B180)+3,FIND(\"/\",SNPs!B180)-FIND(\"/\",SNPs!B180)+1),\"\")","v":""},{"$f":"IF(SNPs!B180<>\"\",SNPs!B180,\"\")","v":""}]
[{"$f":"IF(SNPs!A181<>\"\",SNPs!A181,\"\")","v":""},{"$f":"IF(SNPs!B181<>\"\",MID(SNPs!B181,FIND(\"[\",SNPs!B181)+1,FIND(\"/\",SNPs!B181)-FIND(\"[\",SNPs!B181)-1),\"\")","v":""},{"$f":"IF(SNPs!B181<>\"\",MID(SNPs!B181,FIND(\"[\",SNPs!B181)+3,FIND(\"/\",SNPs!B181)-FIND(\"/\",SNPs!B181)+1),\"\")","v":""},{"$f":"IF(SNPs!B181<>\"\",SNPs!B181,\"\")","v":""}]
[{"$f":"IF(SNPs!A182<>\"\",SNPs!A182,\"\")","v":""},{"$f":"IF(SNPs!B182<>\"\",MID(SNPs!B182,FIND(\"[\",SNPs!B182)+1,FIND(\"/\",SNPs!B182)-FIND(\"[\",SNPs!B182)-1),\"\")","v":""},{"$f":"IF(SNPs!B182<>\"\",MID(SNPs!B182,FIND(\"[\",SNPs!B182)+3,FIND(\"/\",SNPs!B182)-FIND(\"/\",SNPs!B182)+1),\"\")","v":""},{"$f":"IF(SNPs!B182<>\"\",SNPs!B182,\"\")","v":""}]
[{"$f":"IF(SNPs!A183<>\"\",SNPs!A183,\"\")","v":""},{"$f":"IF(SNPs!B183<>\"\",MID(SNPs!B183,FIND(\"[\",SNPs!B183)+1,FIND(\"/\",SNPs!B183)-FIND(\"[\",SNPs!B183)-1),\"\")","v":""},{"$f":"IF(SNPs!B183<>\"\",MID(SNPs!B183,FIND(\"[\",SNPs!B183)+3,FIND(\"/\",SNPs!B183)-FIND(\"/\",SNPs!B183)+1),\"\")","v":""},{"$f":"IF(SNPs!B183<>\"\",SNPs!B183,\"\")","v":""}]
[{"$f":"IF(SNPs!A184<>\"\",SNPs!A184,\"\")","v":""},{"$f":"IF(SNPs!B184<>\"\",MID(SNPs!B184,FIND(\"[\",SNPs!B184)+1,FIND(\"/\",SNPs!B184)-FIND(\"[\",SNPs!B184)-1),\"\")","v":""},{"$f":"IF(SNPs!B184<>\"\",MID(SNPs!B184,FIND(\"[\",SNPs!B184)+3,FIND(\"/\",SNPs!B184)-FIND(\"/\",SNPs!B184)+1),\"\")","v":""},{"$f":"IF(SNPs!B184<>\"\",SNPs!B184,\"\")","v":""}]
[{"$f":"IF(SNPs!A185<>\"\",SNPs!A185,\"\")","v":""},{"$f":"IF(SNPs!B185<>\"\",MID(SNPs!B185,FIND(\"[\",SNPs!B185)+1,FIND(\"/\",SNPs!B185)-FIND(\"[\",SNPs!B185)-1),\"\")","v":""},{"$f":"IF(SNPs!B185<>\"\",MID(SNPs!B185,FIND(\"[\",SNPs!B185)+3,FIND(\"/\",SNPs!B185)-FIND(\"/\",SNPs!B185)+1),\"\")","v":""},{"$f":"IF(SNPs!B185<>\"\",SNPs!B185,\"\")","v":""}]
[{"$f":"IF(SNPs!A186<>\"\",SNPs!A186,\"\")","v":""},{"$f":"IF(SNPs!B186<>\"\",MID(SNPs!B186,FIND(\"[\",SNPs!B186)+1,FIND(\"/\",SNPs!B186)-FIND(\"[\",SNPs!B186)-1),\"\")","v":""},{"$f":"IF(SNPs!B186<>\"\",MID(SNPs!B186,FIND(\"[\",SNPs!B186)+3,FIND(\"/\",SNPs!B186)-FIND(\"/\",SNPs!B186)+1),\"\")","v":""},{"$f":"IF(SNPs!B186<>\"\",SNPs!B186,\"\")","v":""}]
[{"$f":"IF(SNPs!A187<>\"\",SNPs!A187,\"\")","v":""},{"$f":"IF(SNPs!B187<>\"\",MID(SNPs!B187,FIND(\"[\",SNPs!B187)+1,FIND(\"/\",SNPs!B187)-FIND(\"[\",SNPs!B187)-1),\"\")","v":""},{"$f":"IF(SNPs!B187<>\"\",MID(SNPs!B187,FIND(\"[\",SNPs!B187)+3,FIND(\"/\",SNPs!B187)-FIND(\"/\",SNPs!B187)+1),\"\")","v":""},{"$f":"IF(SNPs!B187<>\"\",SNPs!B187,\"\")","v":""}]
[{"$f":"IF(SNPs!A188<>\"\",SNPs!A188,\"\")","v":""},{"$f":"IF(SNPs!B188<>\"\",MID(SNPs!B188,FIND(\"[\",SNPs!B188)+1,FIND(\"/\",SNPs!B188)-FIND(\"[\",SNPs!B188)-1),\"\")","v":""},{"$f":"IF(SNPs!B188<>\"\",MID(SNPs!B188,FIND(\"[\",SNPs!B188)+3,FIND(\"/\",SNPs!B188)-FIND(\"/\",SNPs!B188)+1),\"\")","v":""},{"$f":"IF(SNPs!B188<>\"\",SNPs!B188,\"\")","v":""}]
[{"$f":"IF(SNPs!A189<>\"\",SNPs!A189,\"\")","v":""},{"$f":"IF(SNPs!B189<>\"\",MID(SNPs!B189,FIND(\"[\",SNPs!B189)+1,FIND(\"/\",SNPs!B189)-FIND(\"[\",SNPs!B189)-1),\"\")","v":""},{"$f":"IF(SNPs!B189<>\"\",MID(SNPs!B189,FIND(\"[\",SNPs!B189)+3,FIND(\"/\",SNPs!B189)-FIND(\"/\",SNPs!B189)+1),\"\")","v":""},{"$f":"IF(SNPs!B189<>\"\",SNPs!B189,\"\")","v":""}]
[{"$f":"IF(SNPs!A190<>\"\",SNPs!A190,\"\")","v":""},{"$f":"IF(SNPs!B190<>\"\",MID(SNPs!B190,FIND(\"[\",SNPs!B190)+1,FIND(\"/\",SNPs!B190)-FIND(\"[\",SNPs!B190)-1),\"\")","v":""},{"$f":"IF(SNPs!B190<>\"\",MID(SNPs!B190,FIND(\"[\",SNPs!B190)+3,FIND(\"/\",SNPs!B190)-FIND(\"/\",SNPs!B190)+1),\"\")","v":""},{"$f":"IF(SNPs!B190<>\"\",SNPs!B190,\"\")","v":""}]
[{"$f":"IF(SNPs!A191<>\"\",SNPs!A191,\"\")","v":""},{"$f":"IF(SNPs!B191<>\"\",MID(SNPs!B191,FIND(\"[\",SNPs!B191)+1,FIND(\"/\",SNPs!B191)-FIND(\"[\",SNPs!B191)-1),\"\")","v":""},{"$f":"IF(SNPs!B191<>\"\",MID(SNPs!B191,FIND(\"[\",SNPs!B191)+3,FIND(\"/\",SNPs!B191)-FIND(\"/\",SNPs!B191)+1),\"\")","v":""},{"$f":"IF(SNPs!B191<>\"\",SNPs!B191,\"\")","v":""}]
[{"$f":"IF(SNPs!A192<>\"\",SNPs!A192,\"\")","v":""},{"$f":"IF(SNPs!B192<>\"\",MID(SNPs!B192,FIND(\"[\",SNPs!B192)+1,FIND(\"/\",SNPs!B192)-FIND(\"[\",SNPs!B192)-1),\"\")","v":""},{"$f":"IF(SNPs!B192<>\"\",MID(SNPs!B192,FIND(\"[\",SNPs!B192)+3,FIND(\"/\",SNPs!B192)-FIND(\"/\",SNPs!B192)+1),\"\")","v":""},{"$f":"IF(SNPs!B192<>\"\",SNPs!B192,\"\")","v":""}]
[{"$f":"IF(SNPs!A193<>\"\",SNPs!A193,\"\")","v":""},{"$f":"IF(SNPs!B193<>\"\",MID(SNPs!B193,FIND(\"[\",SNPs!B193)+1,FIND(\"/\",SNPs!B193)-FIND(\"[\",SNPs!B193)-1),\"\")","v":""},{"$f":"IF(SNPs!B193<>\"\",MID(SNPs!B193,FIND(\"[\",SNPs!B193)+3,FIND(\"/\",SNPs!B193)-FIND(\"/\",SNPs!B193)+1),\"\")","v":""},{"$f":"IF(SNPs!B193<>\"\",SNPs!B193,\"\")","v":""}]
[{"$f":"IF(SNPs!A194<>\"\",SNPs!A194,\"\")","v":""},{"$f":"IF(SNPs!B194<>\"\",MID(SNPs!B194,FIND(\"[\",SNPs!B194)+1,FIND(\"/\",SNPs!B194)-FIND(\"[\",SNPs!B194)-1),\"\")","v":""},{"$f":"IF(SNPs!B194<>\"\",MID(SNPs!B194,FIND(\"[\",SNPs!B194)+3,FIND(\"/\",SNPs!B194)-FIND(\"/\",SNPs!B194)+1),\"\")","v":""},{"$f":"IF(SNPs!B194<>\"\",SNPs!B194,\"\")","v":""}]
[{"$f":"IF(SNPs!A195<>\"\",SNPs!A195,\"\")","v":""},{"$f":"IF(SNPs!B195<>\"\",MID(SNPs!B195,FIND(\"[\",SNPs!B195)+1,FIND(\"/\",SNPs!B195)-FIND(\"[\",SNPs!B195)-1),\"\")","v":""},{"$f":"IF(SNPs!B195<>\"\",MID(SNPs!B195,FIND(\"[\",SNPs!B195)+3,FIND(\"/\",SNPs!B195)-FIND(\"/\",SNPs!B195)+1),\"\")","v":""},{"$f":"IF(SNPs!B195<>\"\",SNPs!B195,\"\")","v":""}]
[{"$f":"IF(SNPs!A196<>\"\",SNPs!A196,\"\")","v":""},{"$f":"IF(SNPs!B196<>\"\",MID(SNPs!B196,FIND(\"[\",SNPs!B196)+1,FIND(\"/\",SNPs!B196)-FIND(\"[\",SNPs!B196)-1),\"\")","v":""},{"$f":"IF(SNPs!B196<>\"\",MID(SNPs!B196,FIND(\"[\",SNPs!B196)+3,FIND(\"/\",SNPs!B196)-FIND(\"/\",SNPs!B196)+1),\"\")","v":""},{"$f":"IF(SNPs!B196<>\"\",SNPs!B196,\"\")","v":""}]
[{"$f":"IF(SNPs!A197<>\"\",SNPs!A197,\"\")","v":""},{"$f":"IF(SNPs!B197<>\"\",MID(SNPs!B197,FIND(\"[\",SNPs!B197)+1,FIND(\"/\",SNPs!B197)-FIND(\"[\",SNPs!B197)-1),\"\")","v":""},{"$f":"IF(SNPs!B197<>\"\",MID(SNPs!B197,FIND(\"[\",SNPs!B197)+3,FIND(\"/\",SNPs!B197)-FIND(\"/\",SNPs!B197)+1),\"\")","v":""},{"$f":"IF(SNPs!B197<>\"\",SNPs!B197,\"\")","v":""}]
[{"$f":"IF(SNPs!A198<>\"\",SNPs!A198,\"\")","v":""},{"$f":"IF(SNPs!B198<>\"\",MID(SNPs!B198,FIND(\"[\",SNPs!B198)+1,FIND(\"/\",SNPs!B198)-FIND(\"[\",SNPs!B198)-1),\"\")","v":""},{"$f":"IF(SNPs!B198<>\"\",MID(SNPs!B198,FIND(\"[\",SNPs!B198)+3,FIND(\"/\",SNPs!B198)-FIND(\"/\",SNPs!B198)+1),\"\")","v":""},{"$f":"IF(SNPs!B198<>\"\",SNPs!B198,\"\")","v":""}]
[{"$f":"IF(SNPs!A199<>\"\",SNPs!A199,\"\")","v":""},{"$f":"IF(SNPs!B199<>\"\",MID(SNPs!B199,FIND(\"[\",SNPs!B199)+1,FIND(\"/\",SNPs!B199)-FIND(\"[\",SNPs!B199)-1),\"\")","v":""},{"$f":"IF(SNPs!B199<>\"\",MID(SNPs!B199,FIND(\"[\",SNPs!B199)+3,FIND(\"/\",SNPs!B199)-FIND(\"/\",SNPs!B199)+1),\"\")","v":""},{"$f":"IF(SNPs!B199<>\"\",SNPs!B199,\"\")","v":""}]
[{"$f":"IF(SNPs!A200<>\"\",SNPs!A200,\"\")","v":""},{"$f":"IF(SNPs!B200<>\"\",MID(SNPs!B200,FIND(\"[\",SNPs!B200)+1,FIND(\"/\",SNPs!B200)-FIND(\"[\",SNPs!B200)-1),\"\")","v":""},{"$f":"IF(SNPs!B200<>\"\",MID(SNPs!B200,FIND(\"[\",SNPs!B200)+3,FIND(\"/\",SNPs!B200)-FIND(\"/\",SNPs!B200)+1),\"\")","v":""},{"$f":"IF(SNPs!B200<>\"\",SNPs!B200,\"\")","v":""}]
[{"$f":"IF(SNPs!A201<>\"\",SNPs!A201,\"\")","v":""},{"$f":"IF(SNPs!B201<>\"\",MID(SNPs!B201,FIND(\"[\",SNPs!B201)+1,FIND(\"/\",SNPs!B201)-FIND(\"[\",SNPs!B201)-1),\"\")","v":""},{"$f":"IF(SNPs!B201<>\"\",MID(SNPs!B201,FIND(\"[\",SNPs!B201)+3,FIND(\"/\",SNPs!B201)-FIND(\"/\",SNPs!B201)+1),\"\")","v":""},{"$f":"IF(SNPs!B201<>\"\",SNPs!B201,\"\")","v":""}]
[{"$f":"IF(SNPs!A202<>\"\",SNPs!A202,\"\")","v":""},{"$f":"IF(SNPs!B202<>\"\",MID(SNPs!B202,FIND(\"[\",SNPs!B202)+1,FIND(\"/\",SNPs!B202)-FIND(\"[\",SNPs!B202)-1),\"\")","v":""},{"$f":"IF(SNPs!B202<>\"\",MID(SNPs!B202,FIND(\"[\",SNPs!B202)+3,FIND(\"/\",SNPs!B202)-FIND(\"/\",SNPs!B202)+1),\"\")","v":""},{"$f":"IF(SNPs!B202<>\"\",SNPs!B202,\"\")","v":""}]
[{"$f":"IF(SNPs!A203<>\"\",SNPs!A203,\"\")","v":""},{"$f":"IF(SNPs!B203<>\"\",MID(SNPs!B203,FIND(\"[\",SNPs!B203)+1,FIND(\"/\",SNPs!B203)-FIND(\"[\",SNPs!B203)-1),\"\")","v":""},{"$f":"IF(SNPs!B203<>\"\",MID(SNPs!B203,FIND(\"[\",SNPs!B203)+3,FIND(\"/\",SNPs!B203)-FIND(\"/\",SNPs!B203)+1),\"\")","v":""},{"$f":"IF(SNPs!B203<>\"\",SNPs!B203,\"\")","v":""}]
[{"$f":"IF(SNPs!A204<>\"\",SNPs!A204,\"\")","v":""},{"$f":"IF(SNPs!B204<>\"\",MID(SNPs!B204,FIND(\"[\",SNPs!B204)+1,FIND(\"/\",SNPs!B204)-FIND(\"[\",SNPs!B204)-1),\"\")","v":""},{"$f":"IF(SNPs!B204<>\"\",MID(SNPs!B204,FIND(\"[\",SNPs!B204)+3,FIND(\"/\",SNPs!B204)-FIND(\"/\",SNPs!B204)+1),\"\")","v":""},{"$f":"IF(SNPs!B204<>\"\",SNPs!B204,\"\")","v":""}]
[{"$f":"IF(SNPs!A205<>\"\",SNPs!A205,\"\")","v":""},{"$f":"IF(SNPs!B205<>\"\",MID(SNPs!B205,FIND(\"[\",SNPs!B205)+1,FIND(\"/\",SNPs!B205)-FIND(\"[\",SNPs!B205)-1),\"\")","v":""},{"$f":"IF(SNPs!B205<>\"\",MID(SNPs!B205,FIND(\"[\",SNPs!B205)+3,FIND(\"/\",SNPs!B205)-FIND(\"/\",SNPs!B205)+1),\"\")","v":""},{"$f":"IF(SNPs!B205<>\"\",SNPs!B205,\"\")","v":""}]
[{"$f":"IF(SNPs!A206<>\"\",SNPs!A206,\"\")","v":""},{"$f":"IF(SNPs!B206<>\"\",MID(SNPs!B206,FIND(\"[\",SNPs!B206)+1,FIND(\"/\",SNPs!B206)-FIND(\"[\",SNPs!B206)-1),\"\")","v":""},{"$f":"IF(SNPs!B206<>\"\",MID(SNPs!B206,FIND(\"[\",SNPs!B206)+3,FIND(\"/\",SNPs!B206)-FIND(\"/\",SNPs!B206)+1),\"\")","v":""},{"$f":"IF(SNPs!B206<>\"\",SNPs!B206,\"\")","v":""}]
[{"$f":"IF(SNPs!A207<>\"\",SNPs!A207,\"\")","v":""},{"$f":"IF(SNPs!B207<>\"\",MID(SNPs!B207,FIND(\"[\",SNPs!B207)+1,FIND(\"/\",SNPs!B207)-FIND(\"[\",SNPs!B207)-1),\"\")","v":""},{"$f":"IF(SNPs!B207<>\"\",MID(SNPs!B207,FIND(\"[\",SNPs!B207)+3,FIND(\"/\",SNPs!B207)-FIND(\"/\",SNPs!B207)+1),\"\")","v":""},{"$f":"IF(SNPs!B207<>\"\",SNPs!B207,\"\")","v":""}]
[{"$f":"IF(SNPs!A208<>\"\",SNPs!A208,\"\")","v":""},{"$f":"IF(SNPs!B208<>\"\",MID(SNPs!B208,FIND(\"[\",SNPs!B208)+1,FIND(\"/\",SNPs!B208)-FIND(\"[\",SNPs!B208)-1),\"\")","v":""},{"$f":"IF(SNPs!B208<>\"\",MID(SNPs!B208,FIND(\"[\",SNPs!B208)+3,FIND(\"/\",SNPs!B208)-FIND(\"/\",SNPs!B208)+1),\"\")","v":""},{"$f":"IF(SNPs!B208<>\"\",SNPs!B208,\"\")","v":""}]
[{"$f":"IF(SNPs!A209<>\"\",SNPs!A209,\"\")","v":""},{"$f":"IF(SNPs!B209<>\"\",MID(SNPs!B209,FIND(\"[\",SNPs!B209)+1,FIND(\"/\",SNPs!B209)-FIND(\"[\",SNPs!B209)-1),\"\")","v":""},{"$f":"IF(SNPs!B209<>\"\",MID(SNPs!B209,FIND(\"[\",SNPs!B209)+3,FIND(\"/\",SNPs!B209)-FIND(\"/\",SNPs!B209)+1),\"\")","v":""},{"$f":"IF(SNPs!B209<>\"\",SNPs!B209,\"\")","v":""}]
[{"$f":"IF(SNPs!A210<>\"\",SNPs!A210,\"\")","v":""},{"$f":"IF(SNPs!B210<>\"\",MID(SNPs!B210,FIND(\"[\",SNPs!B210)+1,FIND(\"/\",SNPs!B210)-FIND(\"[\",SNPs!B210)-1),\"\")","v":""},{"$f":"IF(SNPs!B210<>\"\",MID(SNPs!B210,FIND(\"[\",SNPs!B210)+3,FIND(\"/\",SNPs!B210)-FIND(\"/\",SNPs!B210)+1),\"\")","v":""},{"$f":"IF(SNPs!B210<>\"\",SNPs!B210,\"\")","v":""}]
[{"$f":"IF(SNPs!A211<>\"\",SNPs!A211,\"\")","v":""},{"$f":"IF(SNPs!B211<>\"\",MID(SNPs!B211,FIND(\"[\",SNPs!B211)+1,FIND(\"/\",SNPs!B211)-FIND(\"[\",SNPs!B211)-1),\"\")","v":""},{"$f":"IF(SNPs!B211<>\"\",MID(SNPs!B211,FIND(\"[\",SNPs!B211)+3,FIND(\"/\",SNPs!B211)-FIND(\"/\",SNPs!B211)+1),\"\")","v":""},{"$f":"IF(SNPs!B211<>\"\",SNPs!B211,\"\")","v":""}]
[{"$f":"IF(SNPs!A212<>\"\",SNPs!A212,\"\")","v":""},{"$f":"IF(SNPs!B212<>\"\",MID(SNPs!B212,FIND(\"[\",SNPs!B212)+1,FIND(\"/\",SNPs!B212)-FIND(\"[\",SNPs!B212)-1),\"\")","v":""},{"$f":"IF(SNPs!B212<>\"\",MID(SNPs!B212,FIND(\"[\",SNPs!B212)+3,FIND(\"/\",SNPs!B212)-FIND(\"/\",SNPs!B212)+1),\"\")","v":""},{"$f":"IF(SNPs!B212<>\"\",SNPs!B212,\"\")","v":""}]
[{"$f":"IF(SNPs!A213<>\"\",SNPs!A213,\"\")","v":""},{"$f":"IF(SNPs!B213<>\"\",MID(SNPs!B213,FIND(\"[\",SNPs!B213)+1,FIND(\"/\",SNPs!B213)-FIND(\"[\",SNPs!B213)-1),\"\")","v":""},{"$f":"IF(SNPs!B213<>\"\",MID(SNPs!B213,FIND(\"[\",SNPs!B213)+3,FIND(\"/\",SNPs!B213)-FIND(\"/\",SNPs!B213)+1),\"\")","v":""},{"$f":"IF(SNPs!B213<>\"\",SNPs!B213,\"\")","v":""}]
[{"$f":"IF(SNPs!A214<>\"\",SNPs!A214,\"\")","v":""},{"$f":"IF(SNPs!B214<>\"\",MID(SNPs!B214,FIND(\"[\",SNPs!B214)+1,FIND(\"/\",SNPs!B214)-FIND(\"[\",SNPs!B214)-1),\"\")","v":""},{"$f":"IF(SNPs!B214<>\"\",MID(SNPs!B214,FIND(\"[\",SNPs!B214)+3,FIND(\"/\",SNPs!B214)-FIND(\"/\",SNPs!B214)+1),\"\")","v":""},{"$f":"IF(SNPs!B214<>\"\",SNPs!B214,\"\")","v":""}]
[{"$f":"IF(SNPs!A215<>\"\",SNPs!A215,\"\")","v":""},{"$f":"IF(SNPs!B215<>\"\",MID(SNPs!B215,FIND(\"[\",SNPs!B215)+1,FIND(\"/\",SNPs!B215)-FIND(\"[\",SNPs!B215)-1),\"\")","v":""},{"$f":"IF(SNPs!B215<>\"\",MID(SNPs!B215,FIND(\"[\",SNPs!B215)+3,FIND(\"/\",SNPs!B215)-FIND(\"/\",SNPs!B215)+1),\"\")","v":""},{"$f":"IF(SNPs!B215<>\"\",SNPs!B215,\"\")","v":""}]
[{"$f":"IF(SNPs!A216<>\"\",SNPs!A216,\"\")","v":""},{"$f":"IF(SNPs!B216<>\"\",MID(SNPs!B216,FIND(\"[\",SNPs!B216)+1,FIND(\"/\",SNPs!B216)-FIND(\"[\",SNPs!B216)-1),\"\")","v":""},{"$f":"IF(SNPs!B216<>\"\",MID(SNPs!B216,FIND(\"[\",SNPs!B216)+3,FIND(\"/\",SNPs!B216)-FIND(\"/\",SNPs!B216)+1),\"\")","v":""},{"$f":"IF(SNPs!B216<>\"\",SNPs!B216,\"\")","v":""}]
[{"$f":"IF(SNPs!A217<>\"\",SNPs!A217,\"\")","v":""},{"$f":"IF(SNPs!B217<>\"\",MID(SNPs!B217,FIND(\"[\",SNPs!B217)+1,FIND(\"/\",SNPs!B217)-FIND(\"[\",SNPs!B217)-1),\"\")","v":""},{"$f":"IF(SNPs!B217<>\"\",MID(SNPs!B217,FIND(\"[\",SNPs!B217)+3,FIND(\"/\",SNPs!B217)-FIND(\"/\",SNPs!B217)+1),\"\")","v":""},{"$f":"IF(SNPs!B217<>\"\",SNPs!B217,\"\")","v":""}]
[{"$f":"IF(SNPs!A218<>\"\",SNPs!A218,\"\")","v":""},{"$f":"IF(SNPs!B218<>\"\",MID(SNPs!B218,FIND(\"[\",SNPs!B218)+1,FIND(\"/\",SNPs!B218)-FIND(\"[\",SNPs!B218)-1),\"\")","v":""},{"$f":"IF(SNPs!B218<>\"\",MID(SNPs!B218,FIND(\"[\",SNPs!B218)+3,FIND(\"/\",SNPs!B218)-FIND(\"/\",SNPs!B218)+1),\"\")","v":""},{"$f":"IF(SNPs!B218<>\"\",SNPs!B218,\"\")","v":""}]
[{"$f":"IF(SNPs!A219<>\"\",SNPs!A219,\"\")","v":""},{"$f":"IF(SNPs!B219<>\"\",MID(SNPs!B219,FIND(\"[\",SNPs!B219)+1,FIND(\"/\",SNPs!B219)-FIND(\"[\",SNPs!B219)-1),\"\")","v":""},{"$f":"IF(SNPs!B219<>\"\",MID(SNPs!B219,FIND(\"[\",SNPs!B219)+3,FIND(\"/\",SNPs!B219)-FIND(\"/\",SNPs!B219)+1),\"\")","v":""},{"$f":"IF(SNPs!B219<>\"\",SNPs!B219,\"\")","v":""}]
[{"$f":"IF(SNPs!A220<>\"\",SNPs!A220,\"\")","v":""},{"$f":"IF(SNPs!B220<>\"\",MID(SNPs!B220,FIND(\"[\",SNPs!B220)+1,FIND(\"/\",SNPs!B220)-FIND(\"[\",SNPs!B220)-1),\"\")","v":""},{"$f":"IF(SNPs!B220<>\"\",MID(SNPs!B220,FIND(\"[\",SNPs!B220)+3,FIND(\"/\",SNPs!B220)-FIND(\"/\",SNPs!B220)+1),\"\")","v":""},{"$f":"IF(SNPs!B220<>\"\",SNPs!B220,\"\")","v":""}]
[{"$f":"IF(SNPs!A221<>\"\",SNPs!A221,\"\")","v":""},{"$f":"IF(SNPs!B221<>\"\",MID(SNPs!B221,FIND(\"[\",SNPs!B221)+1,FIND(\"/\",SNPs!B221)-FIND(\"[\",SNPs!B221)-1),\"\")","v":""},{"$f":"IF(SNPs!B221<>\"\",MID(SNPs!B221,FIND(\"[\",SNPs!B221)+3,FIND(\"/\",SNPs!B221)-FIND(\"/\",SNPs!B221)+1),\"\")","v":""},{"$f":"IF(SNPs!B221<>\"\",SNPs!B221,\"\")","v":""}]
[{"$f":"IF(SNPs!A222<>\"\",SNPs!A222,\"\")","v":""},{"$f":"IF(SNPs!B222<>\"\",MID(SNPs!B222,FIND(\"[\",SNPs!B222)+1,FIND(\"/\",SNPs!B222)-FIND(\"[\",SNPs!B222)-1),\"\")","v":""},{"$f":"IF(SNPs!B222<>\"\",MID(SNPs!B222,FIND(\"[\",SNPs!B222)+3,FIND(\"/\",SNPs!B222)-FIND(\"/\",SNPs!B222)+1),\"\")","v":""},{"$f":"IF(SNPs!B222<>\"\",SNPs!B222,\"\")","v":""}]
[{"$f":"IF(SNPs!A223<>\"\",SNPs!A223,\"\")","v":""},{"$f":"IF(SNPs!B223<>\"\",MID(SNPs!B223,FIND(\"[\",SNPs!B223)+1,FIND(\"/\",SNPs!B223)-FIND(\"[\",SNPs!B223)-1),\"\")","v":""},{"$f":"IF(SNPs!B223<>\"\",MID(SNPs!B223,FIND(\"[\",SNPs!B223)+3,FIND(\"/\",SNPs!B223)-FIND(\"/\",SNPs!B223)+1),\"\")","v":""},{"$f":"IF(SNPs!B223<>\"\",SNPs!B223,\"\")","v":""}]
[{"$f":"IF(SNPs!A224<>\"\",SNPs!A224,\"\")","v":""},{"$f":"IF(SNPs!B224<>\"\",MID(SNPs!B224,FIND(\"[\",SNPs!B224)+1,FIND(\"/\",SNPs!B224)-FIND(\"[\",SNPs!B224)-1),\"\")","v":""},{"$f":"IF(SNPs!B224<>\"\",MID(SNPs!B224,FIND(\"[\",SNPs!B224)+3,FIND(\"/\",SNPs!B224)-FIND(\"/\",SNPs!B224)+1),\"\")","v":""},{"$f":"IF(SNPs!B224<>\"\",SNPs!B224,\"\")","v":""}]
[{"$f":"IF(SNPs!A225<>\"\",SNPs!A225,\"\")","v":""},{"$f":"IF(SNPs!B225<>\"\",MID(SNPs!B225,FIND(\"[\",SNPs!B225)+1,FIND(\"/\",SNPs!B225)-FIND(\"[\",SNPs!B225)-1),\"\")","v":""},{"$f":"IF(SNPs!B225<>\"\",MID(SNPs!B225,FIND(\"[\",SNPs!B225)+3,FIND(\"/\",SNPs!B225)-FIND(\"/\",SNPs!B225)+1),\"\")","v":""},{"$f":"IF(SNPs!B225<>\"\",SNPs!B225,\"\")","v":""}]
[{"$f":"IF(SNPs!A226<>\"\",SNPs!A226,\"\")","v":""},{"$f":"IF(SNPs!B226<>\"\",MID(SNPs!B226,FIND(\"[\",SNPs!B226)+1,FIND(\"/\",SNPs!B226)-FIND(\"[\",SNPs!B226)-1),\"\")","v":""},{"$f":"IF(SNPs!B226<>\"\",MID(SNPs!B226,FIND(\"[\",SNPs!B226)+3,FIND(\"/\",SNPs!B226)-FIND(\"/\",SNPs!B226)+1),\"\")","v":""},{"$f":"IF(SNPs!B226<>\"\",SNPs!B226,\"\")","v":""}]
[{"$f":"IF(SNPs!A227<>\"\",SNPs!A227,\"\")","v":""},{"$f":"IF(SNPs!B227<>\"\",MID(SNPs!B227,FIND(\"[\",SNPs!B227)+1,FIND(\"/\",SNPs!B227)-FIND(\"[\",SNPs!B227)-1),\"\")","v":""},{"$f":"IF(SNPs!B227<>\"\",MID(SNPs!B227,FIND(\"[\",SNPs!B227)+3,FIND(\"/\",SNPs!B227)-FIND(\"/\",SNPs!B227)+1),\"\")","v":""},{"$f":"IF(SNPs!B227<>\"\",SNPs!B227,\"\")","v":""}]
[{"$f":"IF(SNPs!A228<>\"\",SNPs!A228,\"\")","v":""},{"$f":"IF(SNPs!B228<>\"\",MID(SNPs!B228,FIND(\"[\",SNPs!B228)+1,FIND(\"/\",SNPs!B228)-FIND(\"[\",SNPs!B228)-1),\"\")","v":""},{"$f":"IF(SNPs!B228<>\"\",MID(SNPs!B228,FIND(\"[\",SNPs!B228)+3,FIND(\"/\",SNPs!B228)-FIND(\"/\",SNPs!B228)+1),\"\")","v":""},{"$f":"IF(SNPs!B228<>\"\",SNPs!B228,\"\")","v":""}]
[{"$f":"IF(SNPs!A229<>\"\",SNPs!A229,\"\")","v":""},{"$f":"IF(SNPs!B229<>\"\",MID(SNPs!B229,FIND(\"[\",SNPs!B229)+1,FIND(\"/\",SNPs!B229)-FIND(\"[\",SNPs!B229)-1),\"\")","v":""},{"$f":"IF(SNPs!B229<>\"\",MID(SNPs!B229,FIND(\"[\",SNPs!B229)+3,FIND(\"/\",SNPs!B229)-FIND(\"/\",SNPs!B229)+1),\"\")","v":""},{"$f":"IF(SNPs!B229<>\"\",SNPs!B229,\"\")","v":""}]
[{"$f":"IF(SNPs!A230<>\"\",SNPs!A230,\"\")","v":""},{"$f":"IF(SNPs!B230<>\"\",MID(SNPs!B230,FIND(\"[\",SNPs!B230)+1,FIND(\"/\",SNPs!B230)-FIND(\"[\",SNPs!B230)-1),\"\")","v":""},{"$f":"IF(SNPs!B230<>\"\",MID(SNPs!B230,FIND(\"[\",SNPs!B230)+3,FIND(\"/\",SNPs!B230)-FIND(\"/\",SNPs!B230)+1),\"\")","v":""},{"$f":"IF(SNPs!B230<>\"\",SNPs!B230,\"\")","v":""}]
[{"$f":"IF(SNPs!A231<>\"\",SNPs!A231,\"\")","v":""},{"$f":"IF(SNPs!B231<>\"\",MID(SNPs!B231,FIND(\"[\",SNPs!B231)+1,FIND(\"/\",SNPs!B231)-FIND(\"[\",SNPs!B231)-1),\"\")","v":""},{"$f":"IF(SNPs!B231<>\"\",MID(SNPs!B231,FIND(\"[\",SNPs!B231)+3,FIND(\"/\",SNPs!B231)-FIND(\"/\",SNPs!B231)+1),\"\")","v":""},{"$f":"IF(SNPs!B231<>\"\",SNPs!B231,\"\")","v":""}]
[{"$f":"IF(SNPs!A232<>\"\",SNPs!A232,\"\")","v":""},{"$f":"IF(SNPs!B232<>\"\",MID(SNPs!B232,FIND(\"[\",SNPs!B232)+1,FIND(\"/\",SNPs!B232)-FIND(\"[\",SNPs!B232)-1),\"\")","v":""},{"$f":"IF(SNPs!B232<>\"\",MID(SNPs!B232,FIND(\"[\",SNPs!B232)+3,FIND(\"/\",SNPs!B232)-FIND(\"/\",SNPs!B232)+1),\"\")","v":""},{"$f":"IF(SNPs!B232<>\"\",SNPs!B232,\"\")","v":""}]
[{"$f":"IF(SNPs!A233<>\"\",SNPs!A233,\"\")","v":""},{"$f":"IF(SNPs!B233<>\"\",MID(SNPs!B233,FIND(\"[\",SNPs!B233)+1,FIND(\"/\",SNPs!B233)-FIND(\"[\",SNPs!B233)-1),\"\")","v":""},{"$f":"IF(SNPs!B233<>\"\",MID(SNPs!B233,FIND(\"[\",SNPs!B233)+3,FIND(\"/\",SNPs!B233)-FIND(\"/\",SNPs!B233)+1),\"\")","v":""},{"$f":"IF(SNPs!B233<>\"\",SNPs!B233,\"\")","v":""}]
[{"$f":"IF(SNPs!A234<>\"\",SNPs!A234,\"\")","v":""},{"$f":"IF(SNPs!B234<>\"\",MID(SNPs!B234,FIND(\"[\",SNPs!B234)+1,FIND(\"/\",SNPs!B234)-FIND(\"[\",SNPs!B234)-1),\"\")","v":""},{"$f":"IF(SNPs!B234<>\"\",MID(SNPs!B234,FIND(\"[\",SNPs!B234)+3,FIND(\"/\",SNPs!B234)-FIND(\"/\",SNPs!B234)+1),\"\")","v":""},{"$f":"IF(SNPs!B234<>\"\",SNPs!B234,\"\")","v":""}]
[{"$f":"IF(SNPs!A235<>\"\",SNPs!A235,\"\")","v":""},{"$f":"IF(SNPs!B235<>\"\",MID(SNPs!B235,FIND(\"[\",SNPs!B235)+1,FIND(\"/\",SNPs!B235)-FIND(\"[\",SNPs!B235)-1),\"\")","v":""},{"$f":"IF(SNPs!B235<>\"\",MID(SNPs!B235,FIND(\"[\",SNPs!B235)+3,FIND(\"/\",SNPs!B235)-FIND(\"/\",SNPs!B235)+1),\"\")","v":""},{"$f":"IF(SNPs!B235<>\"\",SNPs!B235,\"\")","v":""}]
[{"$f":"IF(SNPs!A236<>\"\",SNPs!A236,\"\")","v":""},{"$f":"IF(SNPs!B236<>\"\",MID(SNPs!B236,FIND(\"[\",SNPs!B236)+1,FIND(\"/\",SNPs!B236)-FIND(\"[\",SNPs!B236)-1),\"\")","v":""},{"$f":"IF(SNPs!B236<>\"\",MID(SNPs!B236,FIND(\"[\",SNPs!B236)+3,FIND(\"/\",SNPs!B236)-FIND(\"/\",SNPs!B236)+1),\"\")","v":""},{"$f":"IF(SNPs!B236<>\"\",SNPs!B236,\"\")","v":""}]
[{"$f":"IF(SNPs!A237<>\"\",SNPs!A237,\"\")","v":""},{"$f":"IF(SNPs!B237<>\"\",MID(SNPs!B237,FIND(\"[\",SNPs!B237)+1,FIND(\"/\",SNPs!B237)-FIND(\"[\",SNPs!B237)-1),\"\")","v":""},{"$f":"IF(SNPs!B237<>\"\",MID(SNPs!B237,FIND(\"[\",SNPs!B237)+3,FIND(\"/\",SNPs!B237)-FIND(\"/\",SNPs!B237)+1),\"\")","v":""},{"$f":"IF(SNPs!B237<>\"\",SNPs!B237,\"\")","v":""}]
[{"$f":"IF(SNPs!A238<>\"\",SNPs!A238,\"\")","v":""},{"$f":"IF(SNPs!B238<>\"\",MID(SNPs!B238,FIND(\"[\",SNPs!B238)+1,FIND(\"/\",SNPs!B238)-FIND(\"[\",SNPs!B238)-1),\"\")","v":""},{"$f":"IF(SNPs!B238<>\"\",MID(SNPs!B238,FIND(\"[\",SNPs!B238)+3,FIND(\"/\",SNPs!B238)-FIND(\"/\",SNPs!B238)+1),\"\")","v":""},{"$f":"IF(SNPs!B238<>\"\",SNPs!B238,\"\")","v":""}]
[{"$f":"IF(SNPs!A239<>\"\",SNPs!A239,\"\")","v":""},{"$f":"IF(SNPs!B239<>\"\",MID(SNPs!B239,FIND(\"[\",SNPs!B239)+1,FIND(\"/\",SNPs!B239)-FIND(\"[\",SNPs!B239)-1),\"\")","v":""},{"$f":"IF(SNPs!B239<>\"\",MID(SNPs!B239,FIND(\"[\",SNPs!B239)+3,FIND(\"/\",SNPs!B239)-FIND(\"/\",SNPs!B239)+1),\"\")","v":""},{"$f":"IF(SNPs!B239<>\"\",SNPs!B239,\"\")","v":""}]
[{"$f":"IF(SNPs!A240<>\"\",SNPs!A240,\"\")","v":""},{"$f":"IF(SNPs!B240<>\"\",MID(SNPs!B240,FIND(\"[\",SNPs!B240)+1,FIND(\"/\",SNPs!B240)-FIND(\"[\",SNPs!B240)-1),\"\")","v":""},{"$f":"IF(SNPs!B240<>\"\",MID(SNPs!B240,FIND(\"[\",SNPs!B240)+3,FIND(\"/\",SNPs!B240)-FIND(\"/\",SNPs!B240)+1),\"\")","v":""},{"$f":"IF(SNPs!B240<>\"\",SNPs!B240,\"\")","v":""}]
[{"$f":"IF(SNPs!A241<>\"\",SNPs!A241,\"\")","v":""},{"$f":"IF(SNPs!B241<>\"\",MID(SNPs!B241,FIND(\"[\",SNPs!B241)+1,FIND(\"/\",SNPs!B241)-FIND(\"[\",SNPs!B241)-1),\"\")","v":""},{"$f":"IF(SNPs!B241<>\"\",MID(SNPs!B241,FIND(\"[\",SNPs!B241)+3,FIND(\"/\",SNPs!B241)-FIND(\"/\",SNPs!B241)+1),\"\")","v":""},{"$f":"IF(SNPs!B241<>\"\",SNPs!B241,\"\")","v":""}]
[{"$f":"IF(SNPs!A242<>\"\",SNPs!A242,\"\")","v":""},{"$f":"IF(SNPs!B242<>\"\",MID(SNPs!B242,FIND(\"[\",SNPs!B242)+1,FIND(\"/\",SNPs!B242)-FIND(\"[\",SNPs!B242)-1),\"\")","v":""},{"$f":"IF(SNPs!B242<>\"\",MID(SNPs!B242,FIND(\"[\",SNPs!B242)+3,FIND(\"/\",SNPs!B242)-FIND(\"/\",SNPs!B242)+1),\"\")","v":""},{"$f":"IF(SNPs!B242<>\"\",SNPs!B242,\"\")","v":""}]
[{"$f":"IF(SNPs!A243<>\"\",SNPs!A243,\"\")","v":""},{"$f":"IF(SNPs!B243<>\"\",MID(SNPs!B243,FIND(\"[\",SNPs!B243)+1,FIND(\"/\",SNPs!B243)-FIND(\"[\",SNPs!B243)-1),\"\")","v":""},{"$f":"IF(SNPs!B243<>\"\",MID(SNPs!B243,FIND(\"[\",SNPs!B243)+3,FIND(\"/\",SNPs!B243)-FIND(\"/\",SNPs!B243)+1),\"\")","v":""},{"$f":"IF(SNPs!B243<>\"\",SNPs!B243,\"\")","v":""}]
[{"$f":"IF(SNPs!A244<>\"\",SNPs!A244,\"\")","v":""},{"$f":"IF(SNPs!B244<>\"\",MID(SNPs!B244,FIND(\"[\",SNPs!B244)+1,FIND(\"/\",SNPs!B244)-FIND(\"[\",SNPs!B244)-1),\"\")","v":""},{"$f":"IF(SNPs!B244<>\"\",MID(SNPs!B244,FIND(\"[\",SNPs!B244)+3,FIND(\"/\",SNPs!B244)-FIND(\"/\",SNPs!B244)+1),\"\")","v":""},{"$f":"IF(SNPs!B244<>\"\",SNPs!B244,\"\")","v":""}]
[{"$f":"IF(SNPs!A245<>\"\",SNPs!A245,\"\")","v":""},{"$f":"IF(SNPs!B245<>\"\",MID(SNPs!B245,FIND(\"[\",SNPs!B245)+1,FIND(\"/\",SNPs!B245)-FIND(\"[\",SNPs!B245)-1),\"\")","v":""},{"$f":"IF(SNPs!B245<>\"\",MID(SNPs!B245,FIND(\"[\",SNPs!B245)+3,FIND(\"/\",SNPs!B245)-FIND(\"/\",SNPs!B245)+1),\"\")","v":""},{"$f":"IF(SNPs!B245<>\"\",SNPs!B245,\"\")","v":""}]
[{"$f":"IF(SNPs!A246<>\"\",SNPs!A246,\"\")","v":""},{"$f":"IF(SNPs!B246<>\"\",MID(SNPs!B246,FIND(\"[\",SNPs!B246)+1,FIND(\"/\",SNPs!B246)-FIND(\"[\",SNPs!B246)-1),\"\")","v":""},{"$f":"IF(SNPs!B246<>\"\",MID(SNPs!B246,FIND(\"[\",SNPs!B246)+3,FIND(\"/\",SNPs!B246)-FIND(\"/\",SNPs!B246)+1),\"\")","v":""},{"$f":"IF(SNPs!B246<>\"\",SNPs!B246,\"\")","v":""}]
[{"$f":"IF(SNPs!A247<>\"\",SNPs!A247,\"\")","v":""},{"$f":"IF(SNPs!B247<>\"\",MID(SNPs!B247,FIND(\"[\",SNPs!B247)+1,FIND(\"/\",SNPs!B247)-FIND(\"[\",SNPs!B247)-1),\"\")","v":""},{"$f":"IF(SNPs!B247<>\"\",MID(SNPs!B247,FIND(\"[\",SNPs!B247)+3,FIND(\"/\",SNPs!B247)-FIND(\"/\",SNPs!B247)+1),\"\")","v":""},{"$f":"IF(SNPs!B247<>\"\",SNPs!B247,\"\")","v":""}]
[{"$f":"IF(SNPs!A248<>\"\",SNPs!A248,\"\")","v":""},{"$f":"IF(SNPs!B248<>\"\",MID(SNPs!B248,FIND(\"[\",SNPs!B248)+1,FIND(\"/\",SNPs!B248)-FIND(\"[\",SNPs!B248)-1),\"\")","v":""},{"$f":"IF(SNPs!B248<>\"\",MID(SNPs!B248,FIND(\"[\",SNPs!B248)+3,FIND(\"/\",SNPs!B248)-FIND(\"/\",SNPs!B248)+1),\"\")","v":""},{"$f":"IF(SNPs!B248<>\"\",SNPs!B248,\"\")","v":""}]
[{"$f":"IF(SNPs!A249<>\"\",SNPs!A249,\"\")","v":""},{"$f":"IF(SNPs!B249<>\"\",MID(SNPs!B249,FIND(\"[\",SNPs!B249)+1,FIND(\"/\",SNPs!B249)-FIND(\"[\",SNPs!B249)-1),\"\")","v":""},{"$f":"IF(SNPs!B249<>\"\",MID(SNPs!B249,FIND(\"[\",SNPs!B249)+3,FIND(\"/\",SNPs!B249)-FIND(\"/\",SNPs!B249)+1),\"\")","v":""},{"$f":"IF(SNPs!B249<>\"\",SNPs!B249,\"\")","v":""}]
[{"$f":"IF(SNPs!A250<>\"\",SNPs!A250,\"\")","v":""},{"$f":"IF(SNPs!B250<>\"\",MID(SNPs!B250,FIND(\"[\",SNPs!B250)+1,FIND(\"/\",SNPs!B250)-FIND(\"[\",SNPs!B250)-1),\"\")","v":""},{"$f":"IF(SNPs!B250<>\"\",MID(SNPs!B250,FIND(\"[\",SNPs!B250)+3,FIND(\"/\",SNPs!B250)-FIND(\"/\",SNPs!B250)+1),\"\")","v":""},{"$f":"IF(SNPs!B250<>\"\",SNPs!B250,\"\")","v":""}]
[{"$f":"IF(SNPs!A251<>\"\",SNPs!A251,\"\")","v":""},{"$f":"IF(SNPs!B251<>\"\",MID(SNPs!B251,FIND(\"[\",SNPs!B251)+1,FIND(\"/\",SNPs!B251)-FIND(\"[\",SNPs!B251)-1),\"\")","v":""},{"$f":"IF(SNPs!B251<>\"\",MID(SNPs!B251,FIND(\"[\",SNPs!B251)+3,FIND(\"/\",SNPs!B251)-FIND(\"/\",SNPs!B251)+1),\"\")","v":""},{"$f":"IF(SNPs!B251<>\"\",SNPs!B251,\"\")","v":""}]
[{"$f":"IF(SNPs!A252<>\"\",SNPs!A252,\"\")","v":""},{"$f":"IF(SNPs!B252<>\"\",MID(SNPs!B252,FIND(\"[\",SNPs!B252)+1,FIND(\"/\",SNPs!B252)-FIND(\"[\",SNPs!B252)-1),\"\")","v":""},{"$f":"IF(SNPs!B252<>\"\",MID(SNPs!B252,FIND(\"[\",SNPs!B252)+3,FIND(\"/\",SNPs!B252)-FIND(\"/\",SNPs!B252)+1),\"\")","v":""},{"$f":"IF(SNPs!B252<>\"\",SNPs!B252,\"\")","v":""}]
[{"$f":"IF(SNPs!A253<>\"\",SNPs!A253,\"\")","v":""},{"$f":"IF(SNPs!B253<>\"\",MID(SNPs!B253,FIND(\"[\",SNPs!B253)+1,FIND(\"/\",SNPs!B253)-FIND(\"[\",SNPs!B253)-1),\"\")","v":""},{"$f":"IF(SNPs!B253<>\"\",MID(SNPs!B253,FIND(\"[\",SNPs!B253)+3,FIND(\"/\",SNPs!B253)-FIND(\"/\",SNPs!B253)+1),\"\")","v":""},{"$f":"IF(SNPs!B253<>\"\",SNPs!B253,\"\")","v":""}]
[{"$f":"IF(SNPs!A254<>\"\",SNPs!A254,\"\")","v":""},{"$f":"IF(SNPs!B254<>\"\",MID(SNPs!B254,FIND(\"[\",SNPs!B254)+1,FIND(\"/\",SNPs!B254)-FIND(\"[\",SNPs!B254)-1),\"\")","v":""},{"$f":"IF(SNPs!B254<>\"\",MID(SNPs!B254,FIND(\"[\",SNPs!B254)+3,FIND(\"/\",SNPs!B254)-FIND(\"/\",SNPs!B254)+1),\"\")","v":""},{"$f":"IF(SNPs!B254<>\"\",SNPs!B254,\"\")","v":""}]
[{"$f":"IF(SNPs!A255<>\"\",SNPs!A255,\"\")","v":""},{"$f":"IF(SNPs!B255<>\"\",MID(SNPs!B255,FIND(\"[\",SNPs!B255)+1,FIND(\"/\",SNPs!B255)-FIND(\"[\",SNPs!B255)-1),\"\")","v":""},{"$f":"IF(SNPs!B255<>\"\",MID(SNPs!B255,FIND(\"[\",SNPs!B255)+3,FIND(\"/\",SNPs!B255)-FIND(\"/\",SNPs!B255)+1),\"\")","v":""},{"$f":"IF(SNPs!B255<>\"\",SNPs!B255,\"\")","v":""}]
[{"$f":"IF(SNPs!A256<>\"\",SNPs!A256,\"\")","v":""},{"$f":"IF(SNPs!B256<>\"\",MID(SNPs!B256,FIND(\"[\",SNPs!B256)+1,FIND(\"/\",SNPs!B256)-FIND(\"[\",SNPs!B256)-1),\"\")","v":""},{"$f":"IF(SNPs!B256<>\"\",MID(SNPs!B256,FIND(\"[\",SNPs!B256)+3,FIND(\"/\",SNPs!B256)-FIND(\"/\",SNPs!B256)+1),\"\")","v":""},{"$f":"IF(SNPs!B256<>\"\",SNPs!B256,\"\")","v":""}]
[{"$f":"IF(SNPs!A257<>\"\",SNPs!A257,\"\")","v":""},{"$f":"IF(SNPs!B257<>\"\",MID(SNPs!B257,FIND(\"[\",SNPs!B257)+1,FIND(\"/\",SNPs!B257)-FIND(\"[\",SNPs!B257)-1),\"\")","v":""},{"$f":"IF(SNPs!B257<>\"\",MID(SNPs!B257,FIND(\"[\",SNPs!B257)+3,FIND(\"/\",SNPs!B257)-FIND(\"/\",SNPs!B257)+1),\"\")","v":""},{"$f":"IF(SNPs!B257<>\"\",SNPs!B257,\"\")","v":""}]
[{"$f":"IF(SNPs!A258<>\"\",SNPs!A258,\"\")","v":""},{"$f":"IF(SNPs!B258<>\"\",MID(SNPs!B258,FIND(\"[\",SNPs!B258)+1,FIND(\"/\",SNPs!B258)-FIND(\"[\",SNPs!B258)-1),\"\")","v":""},{"$f":"IF(SNPs!B258<>\"\",MID(SNPs!B258,FIND(\"[\",SNPs!B258)+3,FIND(\"/\",SNPs!B258)-FIND(\"/\",SNPs!B258)+1),\"\")","v":""},{"$f":"IF(SNPs!B258<>\"\",SNPs!B258,\"\")","v":""}]
[{"$f":"IF(SNPs!A259<>\"\",SNPs!A259,\"\")","v":""},{"$f":"IF(SNPs!B259<>\"\",MID(SNPs!B259,FIND(\"[\",SNPs!B259)+1,FIND(\"/\",SNPs!B259)-FIND(\"[\",SNPs!B259)-1),\"\")","v":""},{"$f":"IF(SNPs!B259<>\"\",MID(SNPs!B259,FIND(\"[\",SNPs!B259)+3,FIND(\"/\",SNPs!B259)-FIND(\"/\",SNPs!B259)+1),\"\")","v":""},{"$f":"IF(SNPs!B259<>\"\",SNPs!B259,\"\")","v":""}]
[{"$f":"IF(SNPs!A260<>\"\",SNPs!A260,\"\")","v":""},{"$f":"IF(SNPs!B260<>\"\",MID(SNPs!B260,FIND(\"[\",SNPs!B260)+1,FIND(\"/\",SNPs!B260)-FIND(\"[\",SNPs!B260)-1),\"\")","v":""},{"$f":"IF(SNPs!B260<>\"\",MID(SNPs!B260,FIND(\"[\",SNPs!B260)+3,FIND(\"/\",SNPs!B260)-FIND(\"/\",SNPs!B260)+1),\"\")","v":""},{"$f":"IF(SNPs!B260<>\"\",SNPs!B260,\"\")","v":""}]
[{"$f":"IF(SNPs!A261<>\"\",SNPs!A261,\"\")","v":""},{"$f":"IF(SNPs!B261<>\"\",MID(SNPs!B261,FIND(\"[\",SNPs!B261)+1,FIND(\"/\",SNPs!B261)-FIND(\"[\",SNPs!B261)-1),\"\")","v":""},{"$f":"IF(SNPs!B261<>\"\",MID(SNPs!B261,FIND(\"[\",SNPs!B261)+3,FIND(\"/\",SNPs!B261)-FIND(\"/\",SNPs!B261)+1),\"\")","v":""},{"$f":"IF(SNPs!B261<>\"\",SNPs!B261,\"\")","v":""}]
[{"$f":"IF(SNPs!A262<>\"\",SNPs!A262,\"\")","v":""},{"$f":"IF(SNPs!B262<>\"\",MID(SNPs!B262,FIND(\"[\",SNPs!B262)+1,FIND(\"/\",SNPs!B262)-FIND(\"[\",SNPs!B262)-1),\"\")","v":""},{"$f":"IF(SNPs!B262<>\"\",MID(SNPs!B262,FIND(\"[\",SNPs!B262)+3,FIND(\"/\",SNPs!B262)-FIND(\"/\",SNPs!B262)+1),\"\")","v":""},{"$f":"IF(SNPs!B262<>\"\",SNPs!B262,\"\")","v":""}]
[{"$f":"IF(SNPs!A263<>\"\",SNPs!A263,\"\")","v":""},{"$f":"IF(SNPs!B263<>\"\",MID(SNPs!B263,FIND(\"[\",SNPs!B263)+1,FIND(\"/\",SNPs!B263)-FIND(\"[\",SNPs!B263)-1),\"\")","v":""},{"$f":"IF(SNPs!B263<>\"\",MID(SNPs!B263,FIND(\"[\",SNPs!B263)+3,FIND(\"/\",SNPs!B263)-FIND(\"/\",SNPs!B263)+1),\"\")","v":""},{"$f":"IF(SNPs!B263<>\"\",SNPs!B263,\"\")","v":""}]
[{"$f":"IF(SNPs!A264<>\"\",SNPs!A264,\"\")","v":""},{"$f":"IF(SNPs!B264<>\"\",MID(SNPs!B264,FIND(\"[\",SNPs!B264)+1,FIND(\"/\",SNPs!B264)-FIND(\"[\",SNPs!B264)-1),\"\")","v":""},{"$f":"IF(SNPs!B264<>\"\",MID(SNPs!B264,FIND(\"[\",SNPs!B264)+3,FIND(\"/\",SNPs!B264)-FIND(\"/\",SNPs!B264)+1),\"\")","v":""},{"$f":"IF(SNPs!B264<>\"\",SNPs!B264,\"\")","v":""}]
[{"$f":"IF(SNPs!A265<>\"\",SNPs!A265,\"\")","v":""},{"$f":"IF(SNPs!B265<>\"\",MID(SNPs!B265,FIND(\"[\",SNPs!B265)+1,FIND(\"/\",SNPs!B265)-FIND(\"[\",SNPs!B265)-1),\"\")","v":""},{"$f":"IF(SNPs!B265<>\"\",MID(SNPs!B265,FIND(\"[\",SNPs!B265)+3,FIND(\"/\",SNPs!B265)-FIND(\"/\",SNPs!B265)+1),\"\")","v":""},{"$f":"IF(SNPs!B265<>\"\",SNPs!B265,\"\")","v":""}]
[{"$f":"IF(SNPs!A266<>\"\",SNPs!A266,\"\")","v":""},{"$f":"IF(SNPs!B266<>\"\",MID(SNPs!B266,FIND(\"[\",SNPs!B266)+1,FIND(\"/\",SNPs!B266)-FIND(\"[\",SNPs!B266)-1),\"\")","v":""},{"$f":"IF(SNPs!B266<>\"\",MID(SNPs!B266,FIND(\"[\",SNPs!B266)+3,FIND(\"/\",SNPs!B266)-FIND(\"/\",SNPs!B266)+1),\"\")","v":""},{"$f":"IF(SNPs!B266<>\"\",SNPs!B266,\"\")","v":""}]
[{"$f":"IF(SNPs!A267<>\"\",SNPs!A267,\"\")","v":""},{"$f":"IF(SNPs!B267<>\"\",MID(SNPs!B267,FIND(\"[\",SNPs!B267)+1,FIND(\"/\",SNPs!B267)-FIND(\"[\",SNPs!B267)-1),\"\")","v":""},{"$f":"IF(SNPs!B267<>\"\",MID(SNPs!B267,FIND(\"[\",SNPs!B267)+3,FIND(\"/\",SNPs!B267)-FIND(\"/\",SNPs!B267)+1),\"\")","v":""},{"$f":"IF(SNPs!B267<>\"\",SNPs!B267,\"\")","v":""}]
[{"$f":"IF(SNPs!A268<>\"\",SNPs!A268,\"\")","v":""},{"$f":"IF(SNPs!B268<>\"\",MID(SNPs!B268,FIND(\"[\",SNPs!B268)+1,FIND(\"/\",SNPs!B268)-FIND(\"[\",SNPs!B268)-1),\"\")","v":""},{"$f":"IF(SNPs!B268<>\"\",MID(SNPs!B268,FIND(\"[\",SNPs!B268)+3,FIND(\"/\",SNPs!B268)-FIND(\"/\",SNPs!B268)+1),\"\")","v":""},{"$f":"IF(SNPs!B268<>\"\",SNPs!B268,\"\")","v":""}]
[{"$f":"IF(SNPs!A269<>\"\",SNPs!A269,\"\")","v":""},{"$f":"IF(SNPs!B269<>\"\",MID(SNPs!B269,FIND(\"[\",SNPs!B269)+1,FIND(\"/\",SNPs!B269)-FIND(\"[\",SNPs!B269)-1),\"\")","v":""},{"$f":"IF(SNPs!B269<>\"\",MID(SNPs!B269,FIND(\"[\",SNPs!B269)+3,FIND(\"/\",SNPs!B269)-FIND(\"/\",SNPs!B269)+1),\"\")","v":""},{"$f":"IF(SNPs!B269<>\"\",SNPs!B269,\"\")","v":""}]
[{"$f":"IF(SNPs!A270<>\"\",SNPs!A270,\"\")","v":""},{"$f":"IF(SNPs!B270<>\"\",MID(SNPs!B270,FIND(\"[\",SNPs!B270)+1,FIND(\"/\",SNPs!B270)-FIND(\"[\",SNPs!B270)-1),\"\")","v":""},{"$f":"IF(SNPs!B270<>\"\",MID(SNPs!B270,FIND(\"[\",SNPs!B270)+3,FIND(\"/\",SNPs!B270)-FIND(\"/\",SNPs!B270)+1),\"\")","v":""},{"$f":"IF(SNPs!B270<>\"\",SNPs!B270,\"\")","v":""}]
[{"$f":"IF(SNPs!A271<>\"\",SNPs!A271,\"\")","v":""},{"$f":"IF(SNPs!B271<>\"\",MID(SNPs!B271,FIND(\"[\",SNPs!B271)+1,FIND(\"/\",SNPs!B271)-FIND(\"[\",SNPs!B271)-1),\"\")","v":""},{"$f":"IF(SNPs!B271<>\"\",MID(SNPs!B271,FIND(\"[\",SNPs!B271)+3,FIND(\"/\",SNPs!B271)-FIND(\"/\",SNPs!B271)+1),\"\")","v":""},{"$f":"IF(SNPs!B271<>\"\",SNPs!B271,\"\")","v":""}]
[{"$f":"IF(SNPs!A272<>\"\",SNPs!A272,\"\")","v":""},{"$f":"IF(SNPs!B272<>\"\",MID(SNPs!B272,FIND(\"[\",SNPs!B272)+1,FIND(\"/\",SNPs!B272)-FIND(\"[\",SNPs!B272)-1),\"\")","v":""},{"$f":"IF(SNPs!B272<>\"\",MID(SNPs!B272,FIND(\"[\",SNPs!B272)+3,FIND(\"/\",SNPs!B272)-FIND(\"/\",SNPs!B272)+1),\"\")","v":""},{"$f":"IF(SNPs!B272<>\"\",SNPs!B272,\"\")","v":""}]
[{"$f":"IF(SNPs!A273<>\"\",SNPs!A273,\"\")","v":""},{"$f":"IF(SNPs!B273<>\"\",MID(SNPs!B273,FIND(\"[\",SNPs!B273)+1,FIND(\"/\",SNPs!B273)-FIND(\"[\",SNPs!B273)-1),\"\")","v":""},{"$f":"IF(SNPs!B273<>\"\",MID(SNPs!B273,FIND(\"[\",SNPs!B273)+3,FIND(\"/\",SNPs!B273)-FIND(\"/\",SNPs!B273)+1),\"\")","v":""},{"$f":"IF(SNPs!B273<>\"\",SNPs!B273,\"\")","v":""}]
[{"$f":"IF(SNPs!A274<>\"\",SNPs!A274,\"\")","v":""},{"$f":"IF(SNPs!B274<>\"\",MID(SNPs!B274,FIND(\"[\",SNPs!B274)+1,FIND(\"/\",SNPs!B274)-FIND(\"[\",SNPs!B274)-1),\"\")","v":""},{"$f":"IF(SNPs!B274<>\"\",MID(SNPs!B274,FIND(\"[\",SNPs!B274)+3,FIND(\"/\",SNPs!B274)-FIND(\"/\",SNPs!B274)+1),\"\")","v":""},{"$f":"IF(SNPs!B274<>\"\",SNPs!B274,\"\")","v":""}]
[{"$f":"IF(SNPs!A275<>\"\",SNPs!A275,\"\")","v":""},{"$f":"IF(SNPs!B275<>\"\",MID(SNPs!B275,FIND(\"[\",SNPs!B275)+1,FIND(\"/\",SNPs!B275)-FIND(\"[\",SNPs!B275)-1),\"\")","v":""},{"$f":"IF(SNPs!B275<>\"\",MID(SNPs!B275,FIND(\"[\",SNPs!B275)+3,FIND(\"/\",SNPs!B275)-FIND(\"/\",SNPs!B275)+1),\"\")","v":""},{"$f":"IF(SNPs!B275<>\"\",SNPs!B275,\"\")","v":""}]
[{"$f":"IF(SNPs!A276<>\"\",SNPs!A276,\"\")","v":""},{"$f":"IF(SNPs!B276<>\"\",MID(SNPs!B276,FIND(\"[\",SNPs!B276)+1,FIND(\"/\",SNPs!B276)-FIND(\"[\",SNPs!B276)-1),\"\")","v":""},{"$f":"IF(SNPs!B276<>\"\",MID(SNPs!B276,FIND(\"[\",SNPs!B276)+3,FIND(\"/\",SNPs!B276)-FIND(\"/\",SNPs!B276)+1),\"\")","v":""},{"$f":"IF(SNPs!B276<>\"\",SNPs!B276,\"\")","v":""}]
[{"$f":"IF(SNPs!A277<>\"\",SNPs!A277,\"\")","v":""},{"$f":"IF(SNPs!B277<>\"\",MID(SNPs!B277,FIND(\"[\",SNPs!B277)+1,FIND(\"/\",SNPs!B277)-FIND(\"[\",SNPs!B277)-1),\"\")","v":""},{"$f":"IF(SNPs!B277<>\"\",MID(SNPs!B277,FIND(\"[\",SNPs!B277)+3,FIND(\"/\",SNPs!B277)-FIND(\"/\",SNPs!B277)+1),\"\")","v":""},{"$f":"IF(SNPs!B277<>\"\",SNPs!B277,\"\")","v":""}]
[{"$f":"IF(SNPs!A278<>\"\",SNPs!A278,\"\")","v":""},{"$f":"IF(SNPs!B278<>\"\",MID(SNPs!B278,FIND(\"[\",SNPs!B278)+1,FIND(\"/\",SNPs!B278)-FIND(\"[\",SNPs!B278)-1),\"\")","v":""},{"$f":"IF(SNPs!B278<>\"\",MID(SNPs!B278,FIND(\"[\",SNPs!B278)+3,FIND(\"/\",SNPs!B278)-FIND(\"/\",SNPs!B278)+1),\"\")","v":""},{"$f":"IF(SNPs!B278<>\"\",SNPs!B278,\"\")","v":""}]
[{"$f":"IF(SNPs!A279<>\"\",SNPs!A279,\"\")","v":""},{"$f":"IF(SNPs!B279<>\"\",MID(SNPs!B279,FIND(\"[\",SNPs!B279)+1,FIND(\"/\",SNPs!B279)-FIND(\"[\",SNPs!B279)-1),\"\")","v":""},{"$f":"IF(SNPs!B279<>\"\",MID(SNPs!B279,FIND(\"[\",SNPs!B279)+3,FIND(\"/\",SNPs!B279)-FIND(\"/\",SNPs!B279)+1),\"\")","v":""},{"$f":"IF(SNPs!B279<>\"\",SNPs!B279,\"\")","v":""}]
[{"$f":"IF(SNPs!A280<>\"\",SNPs!A280,\"\")","v":""},{"$f":"IF(SNPs!B280<>\"\",MID(SNPs!B280,FIND(\"[\",SNPs!B280)+1,FIND(\"/\",SNPs!B280)-FIND(\"[\",SNPs!B280)-1),\"\")","v":""},{"$f":"IF(SNPs!B280<>\"\",MID(SNPs!B280,FIND(\"[\",SNPs!B280)+3,FIND(\"/\",SNPs!B280)-FIND(\"/\",SNPs!B280)+1),\"\")","v":""},{"$f":"IF(SNPs!B280<>\"\",SNPs!B280,\"\")","v":""}]
[{"$f":"IF(SNPs!A281<>\"\",SNPs!A281,\"\")","v":""},{"$f":"IF(SNPs!B281<>\"\",MID(SNPs!B281,FIND(\"[\",SNPs!B281)+1,FIND(\"/\",SNPs!B281)-FIND(\"[\",SNPs!B281)-1),\"\")","v":""},{"$f":"IF(SNPs!B281<>\"\",MID(SNPs!B281,FIND(\"[\",SNPs!B281)+3,FIND(\"/\",SNPs!B281)-FIND(\"/\",SNPs!B281)+1),\"\")","v":""},{"$f":"IF(SNPs!B281<>\"\",SNPs!B281,\"\")","v":""}]
[{"$f":"IF(SNPs!A282<>\"\",SNPs!A282,\"\")","v":""},{"$f":"IF(SNPs!B282<>\"\",MID(SNPs!B282,FIND(\"[\",SNPs!B282)+1,FIND(\"/\",SNPs!B282)-FIND(\"[\",SNPs!B282)-1),\"\")","v":""},{"$f":"IF(SNPs!B282<>\"\",MID(SNPs!B282,FIND(\"[\",SNPs!B282)+3,FIND(\"/\",SNPs!B282)-FIND(\"/\",SNPs!B282)+1),\"\")","v":""},{"$f":"IF(SNPs!B282<>\"\",SNPs!B282,\"\")","v":""}]
[{"$f":"IF(SNPs!A283<>\"\",SNPs!A283,\"\")","v":""},{"$f":"IF(SNPs!B283<>\"\",MID(SNPs!B283,FIND(\"[\",SNPs!B283)+1,FIND(\"/\",SNPs!B283)-FIND(\"[\",SNPs!B283)-1),\"\")","v":""},{"$f":"IF(SNPs!B283<>\"\",MID(SNPs!B283,FIND(\"[\",SNPs!B283)+3,FIND(\"/\",SNPs!B283)-FIND(\"/\",SNPs!B283)+1),\"\")","v":""},{"$f":"IF(SNPs!B283<>\"\",SNPs!B283,\"\")","v":""}]
[{"$f":"IF(SNPs!A284<>\"\",SNPs!A284,\"\")","v":""},{"$f":"IF(SNPs!B284<>\"\",MID(SNPs!B284,FIND(\"[\",SNPs!B284)+1,FIND(\"/\",SNPs!B284)-FIND(\"[\",SNPs!B284)-1),\"\")","v":""},{"$f":"IF(SNPs!B284<>\"\",MID(SNPs!B284,FIND(\"[\",SNPs!B284)+3,FIND(\"/\",SNPs!B284)-FIND(\"/\",SNPs!B284)+1),\"\")","v":""},{"$f":"IF(SNPs!B284<>\"\",SNPs!B284,\"\")","v":""}]
[{"$f":"IF(SNPs!A285<>\"\",SNPs!A285,\"\")","v":""},{"$f":"IF(SNPs!B285<>\"\",MID(SNPs!B285,FIND(\"[\",SNPs!B285)+1,FIND(\"/\",SNPs!B285)-FIND(\"[\",SNPs!B285)-1),\"\")","v":""},{"$f":"IF(SNPs!B285<>\"\",MID(SNPs!B285,FIND(\"[\",SNPs!B285)+3,FIND(\"/\",SNPs!B285)-FIND(\"/\",SNPs!B285)+1),\"\")","v":""},{"$f":"IF(SNPs!B285<>\"\",SNPs!B285,\"\")","v":""}]
[{"$f":"IF(SNPs!A286<>\"\",SNPs!A286,\"\")","v":""},{"$f":"IF(SNPs!B286<>\"\",MID(SNPs!B286,FIND(\"[\",SNPs!B286)+1,FIND(\"/\",SNPs!B286)-FIND(\"[\",SNPs!B286)-1),\"\")","v":""},{"$f":"IF(SNPs!B286<>\"\",MID(SNPs!B286,FIND(\"[\",SNPs!B286)+3,FIND(\"/\",SNPs!B286)-FIND(\"/\",SNPs!B286)+1),\"\")","v":""},{"$f":"IF(SNPs!B286<>\"\",SNPs!B286,\"\")","v":""}]
[{"$f":"IF(SNPs!A287<>\"\",SNPs!A287,\"\")","v":""},{"$f":"IF(SNPs!B287<>\"\",MID(SNPs!B287,FIND(\"[\",SNPs!B287)+1,FIND(\"/\",SNPs!B287)-FIND(\"[\",SNPs!B287)-1),\"\")","v":""},{"$f":"IF(SNPs!B287<>\"\",MID(SNPs!B287,FIND(\"[\",SNPs!B287)+3,FIND(\"/\",SNPs!B287)-FIND(\"/\",SNPs!B287)+1),\"\")","v":""},{"$f":"IF(SNPs!B287<>\"\",SNPs!B287,\"\")","v":""}]
[{"$f":"IF(SNPs!A288<>\"\",SNPs!A288,\"\")","v":""},{"$f":"IF(SNPs!B288<>\"\",MID(SNPs!B288,FIND(\"[\",SNPs!B288)+1,FIND(\"/\",SNPs!B288)-FIND(\"[\",SNPs!B288)-1),\"\")","v":""},{"$f":"IF(SNPs!B288<>\"\",MID(SNPs!B288,FIND(\"[\",SNPs!B288)+3,FIND(\"/\",SNPs!B288)-FIND(\"/\",SNPs!B288)+1),\"\")","v":""},{"$f":"IF(SNPs!B288<>\"\",SNPs!B288,\"\")","v":""}]
[{"$f":"IF(SNPs!A289<>\"\",SNPs!A289,\"\")","v":""},{"$f":"IF(SNPs!B289<>\"\",MID(SNPs!B289,FIND(\"[\",SNPs!B289)+1,FIND(\"/\",SNPs!B289)-FIND(\"[\",SNPs!B289)-1),\"\")","v":""},{"$f":"IF(SNPs!B289<>\"\",MID(SNPs!B289,FIND(\"[\",SNPs!B289)+3,FIND(\"/\",SNPs!B289)-FIND(\"/\",SNPs!B289)+1),\"\")","v":""},{"$f":"IF(SNPs!B289<>\"\",SNPs!B289,\"\")","v":""}]
[{"$f":"IF(SNPs!A290<>\"\",SNPs!A290,\"\")","v":""},{"$f":"IF(SNPs!B290<>\"\",MID(SNPs!B290,FIND(\"[\",SNPs!B290)+1,FIND(\"/\",SNPs!B290)-FIND(\"[\",SNPs!B290)-1),\"\")","v":""},{"$f":"IF(SNPs!B290<>\"\",MID(SNPs!B290,FIND(\"[\",SNPs!B290)+3,FIND(\"/\",SNPs!B290)-FIND(\"/\",SNPs!B290)+1),\"\")","v":""},{"$f":"IF(SNPs!B290<>\"\",SNPs!B290,\"\")","v":""}]
[{"$f":"IF(SNPs!A291<>\"\",SNPs!A291,\"\")","v":""},{"$f":"IF(SNPs!B291<>\"\",MID(SNPs!B291,FIND(\"[\",SNPs!B291)+1,FIND(\"/\",SNPs!B291)-FIND(\"[\",SNPs!B291)-1),\"\")","v":""},{"$f":"IF(SNPs!B291<>\"\",MID(SNPs!B291,FIND(\"[\",SNPs!B291)+3,FIND(\"/\",SNPs!B291)-FIND(\"/\",SNPs!B291)+1),\"\")","v":""},{"$f":"IF(SNPs!B291<>\"\",SNPs!B291,\"\")","v":""}]
[{"$f":"IF(SNPs!A292<>\"\",SNPs!A292,\"\")","v":""},{"$f":"IF(SNPs!B292<>\"\",MID(SNPs!B292,FIND(\"[\",SNPs!B292)+1,FIND(\"/\",SNPs!B292)-FIND(\"[\",SNPs!B292)-1),\"\")","v":""},{"$f":"IF(SNPs!B292<>\"\",MID(SNPs!B292,FIND(\"[\",SNPs!B292)+3,FIND(\"/\",SNPs!B292)-FIND(\"/\",SNPs!B292)+1),\"\")","v":""},{"$f":"IF(SNPs!B292<>\"\",SNPs!B292,\"\")","v":""}]
[{"$f":"IF(SNPs!A293<>\"\",SNPs!A293,\"\")","v":""},{"$f":"IF(SNPs!B293<>\"\",MID(SNPs!B293,FIND(\"[\",SNPs!B293)+1,FIND(\"/\",SNPs!B293)-FIND(\"[\",SNPs!B293)-1),\"\")","v":""},{"$f":"IF(SNPs!B293<>\"\",MID(SNPs!B293,FIND(\"[\",SNPs!B293)+3,FIND(\"/\",SNPs!B293)-FIND(\"/\",SNPs!B293)+1),\"\")","v":""},{"$f":"IF(SNPs!B293<>\"\",SNPs!B293,\"\")","v":""}]
[{"$f":"IF(SNPs!A294<>\"\",SNPs!A294,\"\")","v":""},{"$f":"IF(SNPs!B294<>\"\",MID(SNPs!B294,FIND(\"[\",SNPs!B294)+1,FIND(\"/\",SNPs!B294)-FIND(\"[\",SNPs!B294)-1),\"\")","v":""},{"$f":"IF(SNPs!B294<>\"\",MID(SNPs!B294,FIND(\"[\",SNPs!B294)+3,FIND(\"/\",SNPs!B294)-FIND(\"/\",SNPs!B294)+1),\"\")","v":""},{"$f":"IF(SNPs!B294<>\"\",SNPs!B294,\"\")","v":""}]
[{"$f":"IF(SNPs!A295<>\"\",SNPs!A295,\"\")","v":""},{"$f":"IF(SNPs!B295<>\"\",MID(SNPs!B295,FIND(\"[\",SNPs!B295)+1,FIND(\"/\",SNPs!B295)-FIND(\"[\",SNPs!B295)-1),\"\")","v":""},{"$f":"IF(SNPs!B295<>\"\",MID(SNPs!B295,FIND(\"[\",SNPs!B295)+3,FIND(\"/\",SNPs!B295)-FIND(\"/\",SNPs!B295)+1),\"\")","v":""},{"$f":"IF(SNPs!B295<>\"\",SNPs!B295,\"\")","v":""}]
[{"$f":"IF(SNPs!A296<>\"\",SNPs!A296,\"\")","v":""},{"$f":"IF(SNPs!B296<>\"\",MID(SNPs!B296,FIND(\"[\",SNPs!B296)+1,FIND(\"/\",SNPs!B296)-FIND(\"[\",SNPs!B296)-1),\"\")","v":""},{"$f":"IF(SNPs!B296<>\"\",MID(SNPs!B296,FIND(\"[\",SNPs!B296)+3,FIND(\"/\",SNPs!B296)-FIND(\"/\",SNPs!B296)+1),\"\")","v":""},{"$f":"IF(SNPs!B296<>\"\",SNPs!B296,\"\")","v":""}]
[{"$f":"IF(SNPs!A297<>\"\",SNPs!A297,\"\")","v":""},{"$f":"IF(SNPs!B297<>\"\",MID(SNPs!B297,FIND(\"[\",SNPs!B297)+1,FIND(\"/\",SNPs!B297)-FIND(\"[\",SNPs!B297)-1),\"\")","v":""},{"$f":"IF(SNPs!B297<>\"\",MID(SNPs!B297,FIND(\"[\",SNPs!B297)+3,FIND(\"/\",SNPs!B297)-FIND(\"/\",SNPs!B297)+1),\"\")","v":""},{"$f":"IF(SNPs!B297<>\"\",SNPs!B297,\"\")","v":""}]
[{"$f":"IF(SNPs!A298<>\"\",SNPs!A298,\"\")","v":""},{"$f":"IF(SNPs!B298<>\"\",MID(SNPs!B298,FIND(\"[\",SNPs!B298)+1,FIND(\"/\",SNPs!B298)-FIND(\"[\",SNPs!B298)-1),\"\")","v":""},{"$f":"IF(SNPs!B298<>\"\",MID(SNPs!B298,FIND(\"[\",SNPs!B298)+3,FIND(\"/\",SNPs!B298)-FIND(\"/\",SNPs!B298)+1),\"\")","v":""},{"$f":"IF(SNPs!B298<>\"\",SNPs!B298,\"\")","v":""}]
[{"$f":"IF(SNPs!A299<>\"\",SNPs!A299,\"\")","v":""},{"$f":"IF(SNPs!B299<>\"\",MID(SNPs!B299,FIND(\"[\",SNPs!B299)+1,FIND(\"/\",SNPs!B299)-FIND(\"[\",SNPs!B299)-1),\"\")","v":""},{"$f":"IF(SNPs!B299<>\"\",MID(SNPs!B299,FIND(\"[\",SNPs!B299)+3,FIND(\"/\",SNPs!B299)-FIND(\"/\",SNPs!B299)+1),\"\")","v":""},{"$f":"IF(SNPs!B299<>\"\",SNPs!B299,\"\")","v":""}]
[{"$f":"IF(SNPs!A300<>\"\",SNPs!A300,\"\")","v":""},{"$f":"IF(SNPs!B300<>\"\",MID(SNPs!B300,FIND(\"[\",SNPs!B300)+1,FIND(\"/\",SNPs!B300)-FIND(\"[\",SNPs!B300)-1),\"\")","v":""},{"$f":"IF(SNPs!B300<>\"\",MID(SNPs!B300,FIND(\"[\",SNPs!B300)+3,FIND(\"/\",SNPs!B300)-FIND(\"/\",SNPs!B300)+1),\"\")","v":""},{"$f":"IF(SNPs!B300<>\"\",SNPs!B300,\"\")","v":""}]
[{"$f":"IF(SNPs!A301<>\"\",SNPs!A301,\"\")","v":""},{"$f":"IF(SNPs!B301<>\"\",MID(SNPs!B301,FIND(\"[\",SNPs!B301)+1,FIND(\"/\",SNPs!B301)-FIND(\"[\",SNPs!B301)-1),\"\")","v":""},{"$f":"IF(SNPs!B301<>\"\",MID(SNPs!B301,FIND(\"[\",SNPs!B301)+3,FIND(\"/\",SNPs!B301)-FIND(\"/\",SNPs!B301)+1),\"\")","v":""},{"$f":"IF(SNPs!B301<>\"\",SNPs!B301,\"\")","v":""}]
[{"$f":"IF(SNPs!A302<>\"\",SNPs!A302,\"\")","v":""},{"$f":"IF(SNPs!B302<>\"\",MID(SNPs!B302,FIND(\"[\",SNPs!B302)+1,FIND(\"/\",SNPs!B302)-FIND(\"[\",SNPs!B302)-1),\"\")","v":""},{"$f":"IF(SNPs!B302<>\"\",MID(SNPs!B302,FIND(\"[\",SNPs!B302)+3,FIND(\"/\",SNPs!B302)-FIND(\"/\",SNPs!B302)+1),\"\")","v":""},{"$f":"IF(SNPs!B302<>\"\",SNPs!B302,\"\")","v":""}]
[{"$f":"IF(SNPs!A303<>\"\",SNPs!A303,\"\")","v":""},{"$f":"IF(SNPs!B303<>\"\",MID(SNPs!B303,FIND(\"[\",SNPs!B303)+1,FIND(\"/\",SNPs!B303)-FIND(\"[\",SNPs!B303)-1),\"\")","v":""},{"$f":"IF(SNPs!B303<>\"\",MID(SNPs!B303,FIND(\"[\",SNPs!B303)+3,FIND(\"/\",SNPs!B303)-FIND(\"/\",SNPs!B303)+1),\"\")","v":""},{"$f":"IF(SNPs!B303<>\"\",SNPs!B303,\"\")","v":""}]
[{"$f":"IF(SNPs!A304<>\"\",SNPs!A304,\"\")","v":""},{"$f":"IF(SNPs!B304<>\"\",MID(SNPs!B304,FIND(\"[\",SNPs!B304)+1,FIND(\"/\",SNPs!B304)-FIND(\"[\",SNPs!B304)-1),\"\")","v":""},{"$f":"IF(SNPs!B304<>\"\",MID(SNPs!B304,FIND(\"[\",SNPs!B304)+3,FIND(\"/\",SNPs!B304)-FIND(\"/\",SNPs!B304)+1),\"\")","v":""},{"$f":"IF(SNPs!B304<>\"\",SNPs!B304,\"\")","v":""}]
[{"$f":"IF(SNPs!A305<>\"\",SNPs!A305,\"\")","v":""},{"$f":"IF(SNPs!B305<>\"\",MID(SNPs!B305,FIND(\"[\",SNPs!B305)+1,FIND(\"/\",SNPs!B305)-FIND(\"[\",SNPs!B305)-1),\"\")","v":""},{"$f":"IF(SNPs!B305<>\"\",MID(SNPs!B305,FIND(\"[\",SNPs!B305)+3,FIND(\"/\",SNPs!B305)-FIND(\"/\",SNPs!B305)+1),\"\")","v":""},{"$f":"IF(SNPs!B305<>\"\",SNPs!B305,\"\")","v":""}]
[{"$f":"IF(SNPs!A306<>\"\",SNPs!A306,\"\")","v":""},{"$f":"IF(SNPs!B306<>\"\",MID(SNPs!B306,FIND(\"[\",SNPs!B306)+1,FIND(\"/\",SNPs!B306)-FIND(\"[\",SNPs!B306)-1),\"\")","v":""},{"$f":"IF(SNPs!B306<>\"\",MID(SNPs!B306,FIND(\"[\",SNPs!B306)+3,FIND(\"/\",SNPs!B306)-FIND(\"/\",SNPs!B306)+1),\"\")","v":""},{"$f":"IF(SNPs!B306<>\"\",SNPs!B306,\"\")","v":""}]
[{"$f":"IF(SNPs!A307<>\"\",SNPs!A307,\"\")","v":""},{"$f":"IF(SNPs!B307<>\"\",MID(SNPs!B307,FIND(\"[\",SNPs!B307)+1,FIND(\"/\",SNPs!B307)-FIND(\"[\",SNPs!B307)-1),\"\")","v":""},{"$f":"IF(SNPs!B307<>\"\",MID(SNPs!B307,FIND(\"[\",SNPs!B307)+3,FIND(\"/\",SNPs!B307)-FIND(\"/\",SNPs!B307)+1),\"\")","v":""},{"$f":"IF(SNPs!B307<>\"\",SNPs!B307,\"\")","v":""}]
[{"$f":"IF(SNPs!A308<>\"\",SNPs!A308,\"\")","v":""},{"$f":"IF(SNPs!B308<>\"\",MID(SNPs!B308,FIND(\"[\",SNPs!B308)+1,FIND(\"/\",SNPs!B308)-FIND(\"[\",SNPs!B308)-1),\"\")","v":""},{"$f":"IF(SNPs!B308<>\"\",MID(SNPs!B308,FIND(\"[\",SNPs!B308)+3,FIND(\"/\",SNPs!B308)-FIND(\"/\",SNPs!B308)+1),\"\")","v":""},{"$f":"IF(SNPs!B308<>\"\",SNPs!B308,\"\")","v":""}]
[{"$f":"IF(SNPs!A309<>\"\",SNPs!A309,\"\")","v":""},{"$f":"IF(SNPs!B309<>\"\",MID(SNPs!B309,FIND(\"[\",SNPs!B309)+1,FIND(\"/\",SNPs!B309)-FIND(\"[\",SNPs!B309)-1),\"\")","v":""},{"$f":"IF(SNPs!B309<>\"\",MID(SNPs!B309,FIND(\"[\",SNPs!B309)+3,FIND(\"/\",SNPs!B309)-FIND(\"/\",SNPs!B309)+1),\"\")","v":""},{"$f":"IF(SNPs!B309<>\"\",SNPs!B309,\"\")","v":""}]
[{"$f":"IF(SNPs!A310<>\"\",SNPs!A310,\"\")","v":""},{"$f":"IF(SNPs!B310<>\"\",MID(SNPs!B310,FIND(\"[\",SNPs!B310)+1,FIND(\"/\",SNPs!B310)-FIND(\"[\",SNPs!B310)-1),\"\")","v":""},{"$f":"IF(SNPs!B310<>\"\",MID(SNPs!B310,FIND(\"[\",SNPs!B310)+3,FIND(\"/\",SNPs!B310)-FIND(\"/\",SNPs!B310)+1),\"\")","v":""},{"$f":"IF(SNPs!B310<>\"\",SNPs!B310,\"\")","v":""}]
[{"$f":"IF(SNPs!A311<>\"\",SNPs!A311,\"\")","v":""},{"$f":"IF(SNPs!B311<>\"\",MID(SNPs!B311,FIND(\"[\",SNPs!B311)+1,FIND(\"/\",SNPs!B311)-FIND(\"[\",SNPs!B311)-1),\"\")","v":""},{"$f":"IF(SNPs!B311<>\"\",MID(SNPs!B311,FIND(\"[\",SNPs!B311)+3,FIND(\"/\",SNPs!B311)-FIND(\"/\",SNPs!B311)+1),\"\")","v":""},{"$f":"IF(SNPs!B311<>\"\",SNPs!B311,\"\")","v":""}]
[{"$f":"IF(SNPs!A312<>\"\",SNPs!A312,\"\")","v":""},{"$f":"IF(SNPs!B312<>\"\",MID(SNPs!B312,FIND(\"[\",SNPs!B312)+1,FIND(\"/\",SNPs!B312)-FIND(\"[\",SNPs!B312)-1),\"\")","v":""},{"$f":"IF(SNPs!B312<>\"\",MID(SNPs!B312,FIND(\"[\",SNPs!B312)+3,FIND(\"/\",SNPs!B312)-FIND(\"/\",SNPs!B312)+1),\"\")","v":""},{"$f":"IF(SNPs!B312<>\"\",SNPs!B312,\"\")","v":""}]
[{"$f":"IF(SNPs!A313<>\"\",SNPs!A313,\"\")","v":""},{"$f":"IF(SNPs!B313<>\"\",MID(SNPs!B313,FIND(\"[\",SNPs!B313)+1,FIND(\"/\",SNPs!B313)-FIND(\"[\",SNPs!B313)-1),\"\")","v":""},{"$f":"IF(SNPs!B313<>\"\",MID(SNPs!B313,FIND(\"[\",SNPs!B313)+3,FIND(\"/\",SNPs!B313)-FIND(\"/\",SNPs!B313)+1),\"\")","v":""},{"$f":"IF(SNPs!B313<>\"\",SNPs!B313,\"\")","v":""}]
[{"$f":"IF(SNPs!A314<>\"\",SNPs!A314,\"\")","v":""},{"$f":"IF(SNPs!B314<>\"\",MID(SNPs!B314,FIND(\"[\",SNPs!B314)+1,FIND(\"/\",SNPs!B314)-FIND(\"[\",SNPs!B314)-1),\"\")","v":""},{"$f":"IF(SNPs!B314<>\"\",MID(SNPs!B314,FIND(\"[\",SNPs!B314)+3,FIND(\"/\",SNPs!B314)-FIND(\"/\",SNPs!B314)+1),\"\")","v":""},{"$f":"IF(SNPs!B314<>\"\",SNPs!B314,\"\")","v":""}]
[{"$f":"IF(SNPs!A315<>\"\",SNPs!A315,\"\")","v":""},{"$f":"IF(SNPs!B315<>\"\",MID(SNPs!B315,FIND(\"[\",SNPs!B315)+1,FIND(\"/\",SNPs!B315)-FIND(\"[\",SNPs!B315)-1),\"\")","v":""},{"$f":"IF(SNPs!B315<>\"\",MID(SNPs!B315,FIND(\"[\",SNPs!B315)+3,FIND(\"/\",SNPs!B315)-FIND(\"/\",SNPs!B315)+1),\"\")","v":""},{"$f":"IF(SNPs!B315<>\"\",SNPs!B315,\"\")","v":""}]
[{"$f":"IF(SNPs!A316<>\"\",SNPs!A316,\"\")","v":""},{"$f":"IF(SNPs!B316<>\"\",MID(SNPs!B316,FIND(\"[\",SNPs!B316)+1,FIND(\"/\",SNPs!B316)-FIND(\"[\",SNPs!B316)-1),\"\")","v":""},{"$f":"IF(SNPs!B316<>\"\",MID(SNPs!B316,FIND(\"[\",SNPs!B316)+3,FIND(\"/\",SNPs!B316)-FIND(\"/\",SNPs!B316)+1),\"\")","v":""},{"$f":"IF(SNPs!B316<>\"\",SNPs!B316,\"\")","v":""}]
[{"$f":"IF(SNPs!A317<>\"\",SNPs!A317,\"\")","v":""},{"$f":"IF(SNPs!B317<>\"\",MID(SNPs!B317,FIND(\"[\",SNPs!B317)+1,FIND(\"/\",SNPs!B317)-FIND(\"[\",SNPs!B317)-1),\"\")","v":""},{"$f":"IF(SNPs!B317<>\"\",MID(SNPs!B317,FIND(\"[\",SNPs!B317)+3,FIND(\"/\",SNPs!B317)-FIND(\"/\",SNPs!B317)+1),\"\")","v":""},{"$f":"IF(SNPs!B317<>\"\",SNPs!B317,\"\")","v":""}]
[{"$f":"IF(SNPs!A318<>\"\",SNPs!A318,\"\")","v":""},{"$f":"IF(SNPs!B318<>\"\",MID(SNPs!B318,FIND(\"[\",SNPs!B318)+1,FIND(\"/\",SNPs!B318)-FIND(\"[\",SNPs!B318)-1),\"\")","v":""},{"$f":"IF(SNPs!B318<>\"\",MID(SNPs!B318,FIND(\"[\",SNPs!B318)+3,FIND(\"/\",SNPs!B318)-FIND(\"/\",SNPs!B318)+1),\"\")","v":""},{"$f":"IF(SNPs!B318<>\"\",SNPs!B318,\"\")","v":""}]
[{"$f":"IF(SNPs!A319<>\"\",SNPs!A319,\"\")","v":""},{"$f":"IF(SNPs!B319<>\"\",MID(SNPs!B319,FIND(\"[\",SNPs!B319)+1,FIND(\"/\",SNPs!B319)-FIND(\"[\",SNPs!B319)-1),\"\")","v":""},{"$f":"IF(SNPs!B319<>\"\",MID(SNPs!B319,FIND(\"[\",SNPs!B319)+3,FIND(\"/\",SNPs!B319)-FIND(\"/\",SNPs!B319)+1),\"\")","v":""},{"$f":"IF(SNPs!B319<>\"\",SNPs!B319,\"\")","v":""}]
[{"$f":"IF(SNPs!A320<>\"\",SNPs!A320,\"\")","v":""},{"$f":"IF(SNPs!B320<>\"\",MID(SNPs!B320,FIND(\"[\",SNPs!B320)+1,FIND(\"/\",SNPs!B320)-FIND(\"[\",SNPs!B320)-1),\"\")","v":""},{"$f":"IF(SNPs!B320<>\"\",MID(SNPs!B320,FIND(\"[\",SNPs!B320)+3,FIND(\"/\",SNPs!B320)-FIND(\"/\",SNPs!B320)+1),\"\")","v":""},{"$f":"IF(SNPs!B320<>\"\",SNPs!B320,\"\")","v":""}]
[{"$f":"IF(SNPs!A321<>\"\",SNPs!A321,\"\")","v":""},{"$f":"IF(SNPs!B321<>\"\",MID(SNPs!B321,FIND(\"[\",SNPs!B321)+1,FIND(\"/\",SNPs!B321)-FIND(\"[\",SNPs!B321)-1),\"\")","v":""},{"$f":"IF(SNPs!B321<>\"\",MID(SNPs!B321,FIND(\"[\",SNPs!B321)+3,FIND(\"/\",SNPs!B321)-FIND(\"/\",SNPs!B321)+1),\"\")","v":""},{"$f":"IF(SNPs!B321<>\"\",SNPs!B321,\"\")","v":""}]
[{"$f":"IF(SNPs!A322<>\"\",SNPs!A322,\"\")","v":""},{"$f":"IF(SNPs!B322<>\"\",MID(SNPs!B322,FIND(\"[\",SNPs!B322)+1,FIND(\"/\",SNPs!B322)-FIND(\"[\",SNPs!B322)-1),\"\")","v":""},{"$f":"IF(SNPs!B322<>\"\",MID(SNPs!B322,FIND(\"[\",SNPs!B322)+3,FIND(\"/\",SNPs!B322)-FIND(\"/\",SNPs!B322)+1),\"\")","v":""},{"$f":"IF(SNPs!B322<>\"\",SNPs!B322,\"\")","v":""}]
[{"$f":"IF(SNPs!A323<>\"\",SNPs!A323,\"\")","v":""},{"$f":"IF(SNPs!B323<>\"\",MID(SNPs!B323,FIND(\"[\",SNPs!B323)+1,FIND(\"/\",SNPs!B323)-FIND(\"[\",SNPs!B323)-1),\"\")","v":""},{"$f":"IF(SNPs!B323<>\"\",MID(SNPs!B323,FIND(\"[\",SNPs!B323)+3,FIND(\"/\",SNPs!B323)-FIND(\"/\",SNPs!B323)+1),\"\")","v":""},{"$f":"IF(SNPs!B323<>\"\",SNPs!B323,\"\")","v":""}]
[{"$f":"IF(SNPs!A324<>\"\",SNPs!A324,\"\")","v":""},{"$f":"IF(SNPs!B324<>\"\",MID(SNPs!B324,FIND(\"[\",SNPs!B324)+1,FIND(\"/\",SNPs!B324)-FIND(\"[\",SNPs!B324)-1),\"\")","v":""},{"$f":"IF(SNPs!B324<>\"\",MID(SNPs!B324,FIND(\"[\",SNPs!B324)+3,FIND(\"/\",SNPs!B324)-FIND(\"/\",SNPs!B324)+1),\"\")","v":""},{"$f":"IF(SNPs!B324<>\"\",SNPs!B324,\"\")","v":""}]
[{"$f":"IF(SNPs!A325<>\"\",SNPs!A325,\"\")","v":""},{"$f":"IF(SNPs!B325<>\"\",MID(SNPs!B325,FIND(\"[\",SNPs!B325)+1,FIND(\"/\",SNPs!B325)-FIND(\"[\",SNPs!B325)-1),\"\")","v":""},{"$f":"IF(SNPs!B325<>\"\",MID(SNPs!B325,FIND(\"[\",SNPs!B325)+3,FIND(\"/\",SNPs!B325)-FIND(\"/\",SNPs!B325)+1),\"\")","v":""},{"$f":"IF(SNPs!B325<>\"\",SNPs!B325,\"\")","v":""}]
[{"$f":"IF(SNPs!A326<>\"\",SNPs!A326,\"\")","v":""},{"$f":"IF(SNPs!B326<>\"\",MID(SNPs!B326,FIND(\"[\",SNPs!B326)+1,FIND(\"/\",SNPs!B326)-FIND(\"[\",SNPs!B326)-1),\"\")","v":""},{"$f":"IF(SNPs!B326<>\"\",MID(SNPs!B326,FIND(\"[\",SNPs!B326)+3,FIND(\"/\",SNPs!B326)-FIND(\"/\",SNPs!B326)+1),\"\")","v":""},{"$f":"IF(SNPs!B326<>\"\",SNPs!B326,\"\")","v":""}]
[{"$f":"IF(SNPs!A327<>\"\",SNPs!A327,\"\")","v":""},{"$f":"IF(SNPs!B327<>\"\",MID(SNPs!B327,FIND(\"[\",SNPs!B327)+1,FIND(\"/\",SNPs!B327)-FIND(\"[\",SNPs!B327)-1),\"\")","v":""},{"$f":"IF(SNPs!B327<>\"\",MID(SNPs!B327,FIND(\"[\",SNPs!B327)+3,FIND(\"/\",SNPs!B327)-FIND(\"/\",SNPs!B327)+1),\"\")","v":""},{"$f":"IF(SNPs!B327<>\"\",SNPs!B327,\"\")","v":""}]
[{"$f":"IF(SNPs!A328<>\"\",SNPs!A328,\"\")","v":""},{"$f":"IF(SNPs!B328<>\"\",MID(SNPs!B328,FIND(\"[\",SNPs!B328)+1,FIND(\"/\",SNPs!B328)-FIND(\"[\",SNPs!B328)-1),\"\")","v":""},{"$f":"IF(SNPs!B328<>\"\",MID(SNPs!B328,FIND(\"[\",SNPs!B328)+3,FIND(\"/\",SNPs!B328)-FIND(\"/\",SNPs!B328)+1),\"\")","v":""},{"$f":"IF(SNPs!B328<>\"\",SNPs!B328,\"\")","v":""}]
[{"$f":"IF(SNPs!A329<>\"\",SNPs!A329,\"\")","v":""},{"$f":"IF(SNPs!B329<>\"\",MID(SNPs!B329,FIND(\"[\",SNPs!B329)+1,FIND(\"/\",SNPs!B329)-FIND(\"[\",SNPs!B329)-1),\"\")","v":""},{"$f":"IF(SNPs!B329<>\"\",MID(SNPs!B329,FIND(\"[\",SNPs!B329)+3,FIND(\"/\",SNPs!B329)-FIND(\"/\",SNPs!B329)+1),\"\")","v":""},{"$f":"IF(SNPs!B329<>\"\",SNPs!B329,\"\")","v":""}]
[{"$f":"IF(SNPs!A330<>\"\",SNPs!A330,\"\")","v":""},{"$f":"IF(SNPs!B330<>\"\",MID(SNPs!B330,FIND(\"[\",SNPs!B330)+1,FIND(\"/\",SNPs!B330)-FIND(\"[\",SNPs!B330)-1),\"\")","v":""},{"$f":"IF(SNPs!B330<>\"\",MID(SNPs!B330,FIND(\"[\",SNPs!B330)+3,FIND(\"/\",SNPs!B330)-FIND(\"/\",SNPs!B330)+1),\"\")","v":""},{"$f":"IF(SNPs!B330<>\"\",SNPs!B330,\"\")","v":""}]
[{"$f":"IF(SNPs!A331<>\"\",SNPs!A331,\"\")","v":""},{"$f":"IF(SNPs!B331<>\"\",MID(SNPs!B331,FIND(\"[\",SNPs!B331)+1,FIND(\"/\",SNPs!B331)-FIND(\"[\",SNPs!B331)-1),\"\")","v":""},{"$f":"IF(SNPs!B331<>\"\",MID(SNPs!B331,FIND(\"[\",SNPs!B331)+3,FIND(\"/\",SNPs!B331)-FIND(\"/\",SNPs!B331)+1),\"\")","v":""},{"$f":"IF(SNPs!B331<>\"\",SNPs!B331,\"\")","v":""}]
[{"$f":"IF(SNPs!A332<>\"\",SNPs!A332,\"\")","v":""},{"$f":"IF(SNPs!B332<>\"\",MID(SNPs!B332,FIND(\"[\",SNPs!B332)+1,FIND(\"/\",SNPs!B332)-FIND(\"[\",SNPs!B332)-1),\"\")","v":""},{"$f":"IF(SNPs!B332<>\"\",MID(SNPs!B332,FIND(\"[\",SNPs!B332)+3,FIND(\"/\",SNPs!B332)-FIND(\"/\",SNPs!B332)+1),\"\")","v":""},{"$f":"IF(SNPs!B332<>\"\",SNPs!B332,\"\")","v":""}]
[{"$f":"IF(SNPs!A333<>\"\",SNPs!A333,\"\")","v":""},{"$f":"IF(SNPs!B333<>\"\",MID(SNPs!B333,FIND(\"[\",SNPs!B333)+1,FIND(\"/\",SNPs!B333)-FIND(\"[\",SNPs!B333)-1),\"\")","v":""},{"$f":"IF(SNPs!B333<>\"\",MID(SNPs!B333,FIND(\"[\",SNPs!B333)+3,FIND(\"/\",SNPs!B333)-FIND(\"/\",SNPs!B333)+1),\"\")","v":""},{"$f":"IF(SNPs!B333<>\"\",SNPs!B333,\"\")","v":""}]
[{"$f":"IF(SNPs!A334<>\"\",SNPs!A334,\"\")","v":""},{"$f":"IF(SNPs!B334<>\"\",MID(SNPs!B334,FIND(\"[\",SNPs!B334)+1,FIND(\"/\",SNPs!B334)-FIND(\"[\",SNPs!B334)-1),\"\")","v":""},{"$f":"IF(SNPs!B334<>\"\",MID(SNPs!B334,FIND(\"[\",SNPs!B334)+3,FIND(\"/\",SNPs!B334)-FIND(\"/\",SNPs!B334)+1),\"\")","v":""},{"$f":"IF(SNPs!B334<>\"\",SNPs!B334,\"\")","v":""}]
[{"$f":"IF(SNPs!A335<>\"\",SNPs!A335,\"\")","v":""},{"$f":"IF(SNPs!B335<>\"\",MID(SNPs!B335,FIND(\"[\",SNPs!B335)+1,FIND(\"/\",SNPs!B335)-FIND(\"[\",SNPs!B335)-1),\"\")","v":""},{"$f":"IF(SNPs!B335<>\"\",MID(SNPs!B335,FIND(\"[\",SNPs!B335)+3,FIND(\"/\",SNPs!B335)-FIND(\"/\",SNPs!B335)+1),\"\")","v":""},{"$f":"IF(SNPs!B335<>\"\",SNPs!B335,\"\")","v":""}]
[{"$f":"IF(SNPs!A336<>\"\",SNPs!A336,\"\")","v":""},{"$f":"IF(SNPs!B336<>\"\",MID(SNPs!B336,FIND(\"[\",SNPs!B336)+1,FIND(\"/\",SNPs!B336)-FIND(\"[\",SNPs!B336)-1),\"\")","v":""},{"$f":"IF(SNPs!B336<>\"\",MID(SNPs!B336,FIND(\"[\",SNPs!B336)+3,FIND(\"/\",SNPs!B336)-FIND(\"/\",SNPs!B336)+1),\"\")","v":""},{"$f":"IF(SNPs!B336<>\"\",SNPs!B336,\"\")","v":""}]
[{"$f":"IF(SNPs!A337<>\"\",SNPs!A337,\"\")","v":""},{"$f":"IF(SNPs!B337<>\"\",MID(SNPs!B337,FIND(\"[\",SNPs!B337)+1,FIND(\"/\",SNPs!B337)-FIND(\"[\",SNPs!B337)-1),\"\")","v":""},{"$f":"IF(SNPs!B337<>\"\",MID(SNPs!B337,FIND(\"[\",SNPs!B337)+3,FIND(\"/\",SNPs!B337)-FIND(\"/\",SNPs!B337)+1),\"\")","v":""},{"$f":"IF(SNPs!B337<>\"\",SNPs!B337,\"\")","v":""}]
[{"$f":"IF(SNPs!A338<>\"\",SNPs!A338,\"\")","v":""},{"$f":"IF(SNPs!B338<>\"\",MID(SNPs!B338,FIND(\"[\",SNPs!B338)+1,FIND(\"/\",SNPs!B338)-FIND(\"[\",SNPs!B338)-1),\"\")","v":""},{"$f":"IF(SNPs!B338<>\"\",MID(SNPs!B338,FIND(\"[\",SNPs!B338)+3,FIND(\"/\",SNPs!B338)-FIND(\"/\",SNPs!B338)+1),\"\")","v":""},{"$f":"IF(SNPs!B338<>\"\",SNPs!B338,\"\")","v":""}]
[{"$f":"IF(SNPs!A339<>\"\",SNPs!A339,\"\")","v":""},{"$f":"IF(SNPs!B339<>\"\",MID(SNPs!B339,FIND(\"[\",SNPs!B339)+1,FIND(\"/\",SNPs!B339)-FIND(\"[\",SNPs!B339)-1),\"\")","v":""},{"$f":"IF(SNPs!B339<>\"\",MID(SNPs!B339,FIND(\"[\",SNPs!B339)+3,FIND(\"/\",SNPs!B339)-FIND(\"/\",SNPs!B339)+1),\"\")","v":""},{"$f":"IF(SNPs!B339<>\"\",SNPs!B339,\"\")","v":""}]
[{"$f":"IF(SNPs!A340<>\"\",SNPs!A340,\"\")","v":""},{"$f":"IF(SNPs!B340<>\"\",MID(SNPs!B340,FIND(\"[\",SNPs!B340)+1,FIND(\"/\",SNPs!B340)-FIND(\"[\",SNPs!B340)-1),\"\")","v":""},{"$f":"IF(SNPs!B340<>\"\",MID(SNPs!B340,FIND(\"[\",SNPs!B340)+3,FIND(\"/\",SNPs!B340)-FIND(\"/\",SNPs!B340)+1),\"\")","v":""},{"$f":"IF(SNPs!B340<>\"\",SNPs!B340,\"\")","v":""}]
[{"$f":"IF(SNPs!A341<>\"\",SNPs!A341,\"\")","v":""},{"$f":"IF(SNPs!B341<>\"\",MID(SNPs!B341,FIND(\"[\",SNPs!B341)+1,FIND(\"/\",SNPs!B341)-FIND(\"[\",SNPs!B341)-1),\"\")","v":""},{"$f":"IF(SNPs!B341<>\"\",MID(SNPs!B341,FIND(\"[\",SNPs!B341)+3,FIND(\"/\",SNPs!B341)-FIND(\"/\",SNPs!B341)+1),\"\")","v":""},{"$f":"IF(SNPs!B341<>\"\",SNPs!B341,\"\")","v":""}]
[{"$f":"IF(SNPs!A342<>\"\",SNPs!A342,\"\")","v":""},{"$f":"IF(SNPs!B342<>\"\",MID(SNPs!B342,FIND(\"[\",SNPs!B342)+1,FIND(\"/\",SNPs!B342)-FIND(\"[\",SNPs!B342)-1),\"\")","v":""},{"$f":"IF(SNPs!B342<>\"\",MID(SNPs!B342,FIND(\"[\",SNPs!B342)+3,FIND(\"/\",SNPs!B342)-FIND(\"/\",SNPs!B342)+1),\"\")","v":""},{"$f":"IF(SNPs!B342<>\"\",SNPs!B342,\"\")","v":""}]
[{"$f":"IF(SNPs!A343<>\"\",SNPs!A343,\"\")","v":""},{"$f":"IF(SNPs!B343<>\"\",MID(SNPs!B343,FIND(\"[\",SNPs!B343)+1,FIND(\"/\",SNPs!B343)-FIND(\"[\",SNPs!B343)-1),\"\")","v":""},{"$f":"IF(SNPs!B343<>\"\",MID(SNPs!B343,FIND(\"[\",SNPs!B343)+3,FIND(\"/\",SNPs!B343)-FIND(\"/\",SNPs!B343)+1),\"\")","v":""},{"$f":"IF(SNPs!B343<>\"\",SNPs!B343,\"\")","v":""}]
[{"$f":"IF(SNPs!A344<>\"\",SNPs!A344,\"\")","v":""},{"$f":"IF(SNPs!B344<>\"\",MID(SNPs!B344,FIND(\"[\",SNPs!B344)+1,FIND(\"/\",SNPs!B344)-FIND(\"[\",SNPs!B344)-1),\"\")","v":""},{"$f":"IF(SNPs!B344<>\"\",MID(SNPs!B344,FIND(\"[\",SNPs!B344)+3,FIND(\"/\",SNPs!B344)-FIND(\"/\",SNPs!B344)+1),\"\")","v":""},{"$f":"IF(SNPs!B344<>\"\",SNPs!B344,\"\")","v":""}]
[{"$f":"IF(SNPs!A345<>\"\",SNPs!A345,\"\")","v":""},{"$f":"IF(SNPs!B345<>\"\",MID(SNPs!B345,FIND(\"[\",SNPs!B345)+1,FIND(\"/\",SNPs!B345)-FIND(\"[\",SNPs!B345)-1),\"\")","v":""},{"$f":"IF(SNPs!B345<>\"\",MID(SNPs!B345,FIND(\"[\",SNPs!B345)+3,FIND(\"/\",SNPs!B345)-FIND(\"/\",SNPs!B345)+1),\"\")","v":""},{"$f":"IF(SNPs!B345<>\"\",SNPs!B345,\"\")","v":""}]
[{"$f":"IF(SNPs!A346<>\"\",SNPs!A346,\"\")","v":""},{"$f":"IF(SNPs!B346<>\"\",MID(SNPs!B346,FIND(\"[\",SNPs!B346)+1,FIND(\"/\",SNPs!B346)-FIND(\"[\",SNPs!B346)-1),\"\")","v":""},{"$f":"IF(SNPs!B346<>\"\",MID(SNPs!B346,FIND(\"[\",SNPs!B346)+3,FIND(\"/\",SNPs!B346)-FIND(\"/\",SNPs!B346)+1),\"\")","v":""},{"$f":"IF(SNPs!B346<>\"\",SNPs!B346,\"\")","v":""}]
[{"$f":"IF(SNPs!A347<>\"\",SNPs!A347,\"\")","v":""},{"$f":"IF(SNPs!B347<>\"\",MID(SNPs!B347,FIND(\"[\",SNPs!B347)+1,FIND(\"/\",SNPs!B347)-FIND(\"[\",SNPs!B347)-1),\"\")","v":""},{"$f":"IF(SNPs!B347<>\"\",MID(SNPs!B347,FIND(\"[\",SNPs!B347)+3,FIND(\"/\",SNPs!B347)-FIND(\"/\",SNPs!B347)+1),\"\")","v":""},{"$f":"IF(SNPs!B347<>\"\",SNPs!B347,\"\")","v":""}]
[{"$f":"IF(SNPs!A348<>\"\",SNPs!A348,\"\")","v":""},{"$f":"IF(SNPs!B348<>\"\",MID(SNPs!B348,FIND(\"[\",SNPs!B348)+1,FIND(\"/\",SNPs!B348)-FIND(\"[\",SNPs!B348)-1),\"\")","v":""},{"$f":"IF(SNPs!B348<>\"\",MID(SNPs!B348,FIND(\"[\",SNPs!B348)+3,FIND(\"/\",SNPs!B348)-FIND(\"/\",SNPs!B348)+1),\"\")","v":""},{"$f":"IF(SNPs!B348<>\"\",SNPs!B348,\"\")","v":""}]
[{"$f":"IF(SNPs!A349<>\"\",SNPs!A349,\"\")","v":""},{"$f":"IF(SNPs!B349<>\"\",MID(SNPs!B349,FIND(\"[\",SNPs!B349)+1,FIND(\"/\",SNPs!B349)-FIND(\"[\",SNPs!B349)-1),\"\")","v":""},{"$f":"IF(SNPs!B349<>\"\",MID(SNPs!B349,FIND(\"[\",SNPs!B349)+3,FIND(\"/\",SNPs!B349)-FIND(\"/\",SNPs!B349)+1),\"\")","v":""},{"$f":"IF(SNPs!B349<>\"\",SNPs!B349,\"\")","v":""}]
[{"$f":"IF(SNPs!A350<>\"\",SNPs!A350,\"\")","v":""},{"$f":"IF(SNPs!B350<>\"\",MID(SNPs!B350,FIND(\"[\",SNPs!B350)+1,FIND(\"/\",SNPs!B350)-FIND(\"[\",SNPs!B350)-1),\"\")","v":""},{"$f":"IF(SNPs!B350<>\"\",MID(SNPs!B350,FIND(\"[\",SNPs!B350)+3,FIND(\"/\",SNPs!B350)-FIND(\"/\",SNPs!B350)+1),\"\")","v":""},{"$f":"IF(SNPs!B350<>\"\",SNPs!B350,\"\")","v":""}]
[{"$f":"IF(SNPs!A351<>\"\",SNPs!A351,\"\")","v":""},{"$f":"IF(SNPs!B351<>\"\",MID(SNPs!B351,FIND(\"[\",SNPs!B351)+1,FIND(\"/\",SNPs!B351)-FIND(\"[\",SNPs!B351)-1),\"\")","v":""},{"$f":"IF(SNPs!B351<>\"\",MID(SNPs!B351,FIND(\"[\",SNPs!B351)+3,FIND(\"/\",SNPs!B351)-FIND(\"/\",SNPs!B351)+1),\"\")","v":""},{"$f":"IF(SNPs!B351<>\"\",SNPs!B351,\"\")","v":""}]
[{"$f":"IF(SNPs!A352<>\"\",SNPs!A352,\"\")","v":""},{"$f":"IF(SNPs!B352<>\"\",MID(SNPs!B352,FIND(\"[\",SNPs!B352)+1,FIND(\"/\",SNPs!B352)-FIND(\"[\",SNPs!B352)-1),\"\")","v":""},{"$f":"IF(SNPs!B352<>\"\",MID(SNPs!B352,FIND(\"[\",SNPs!B352)+3,FIND(\"/\",SNPs!B352)-FIND(\"/\",SNPs!B352)+1),\"\")","v":""},{"$f":"IF(SNPs!B352<>\"\",SNPs!B352,\"\")","v":""}]
[{"$f":"IF(SNPs!A353<>\"\",SNPs!A353,\"\")","v":""},{"$f":"IF(SNPs!B353<>\"\",MID(SNPs!B353,FIND(\"[\",SNPs!B353)+1,FIND(\"/\",SNPs!B353)-FIND(\"[\",SNPs!B353)-1),\"\")","v":""},{"$f":"IF(SNPs!B353<>\"\",MID(SNPs!B353,FIND(\"[\",SNPs!B353)+3,FIND(\"/\",SNPs!B353)-FIND(\"/\",SNPs!B353)+1),\"\")","v":""},{"$f":"IF(SNPs!B353<>\"\",SNPs!B353,\"\")","v":""}]
[{"$f":"IF(SNPs!A354<>\"\",SNPs!A354,\"\")","v":""},{"$f":"IF(SNPs!B354<>\"\",MID(SNPs!B354,FIND(\"[\",SNPs!B354)+1,FIND(\"/\",SNPs!B354)-FIND(\"[\",SNPs!B354)-1),\"\")","v":""},{"$f":"IF(SNPs!B354<>\"\",MID(SNPs!B354,FIND(\"[\",SNPs!B354)+3,FIND(\"/\",SNPs!B354)-FIND(\"/\",SNPs!B354)+1),\"\")","v":""},{"$f":"IF(SNPs!B354<>\"\",SNPs!B354,\"\")","v":""}]
[{"$f":"IF(SNPs!A355<>\"\",SNPs!A355,\"\")","v":""},{"$f":"IF(SNPs!B355<>\"\",MID(SNPs!B355,FIND(\"[\",SNPs!B355)+1,FIND(\"/\",SNPs!B355)-FIND(\"[\",SNPs!B355)-1),\"\")","v":""},{"$f":"IF(SNPs!B355<>\"\",MID(SNPs!B355,FIND(\"[\",SNPs!B355)+3,FIND(\"/\",SNPs!B355)-FIND(\"/\",SNPs!B355)+1),\"\")","v":""},{"$f":"IF(SNPs!B355<>\"\",SNPs!B355,\"\")","v":""}]
[{"$f":"IF(SNPs!A356<>\"\",SNPs!A356,\"\")","v":""},{"$f":"IF(SNPs!B356<>\"\",MID(SNPs!B356,FIND(\"[\",SNPs!B356)+1,FIND(\"/\",SNPs!B356)-FIND(\"[\",SNPs!B356)-1),\"\")","v":""},{"$f":"IF(SNPs!B356<>\"\",MID(SNPs!B356,FIND(\"[\",SNPs!B356)+3,FIND(\"/\",SNPs!B356)-FIND(\"/\",SNPs!B356)+1),\"\")","v":""},{"$f":"IF(SNPs!B356<>\"\",SNPs!B356,\"\")","v":""}]
[{"$f":"IF(SNPs!A357<>\"\",SNPs!A357,\"\")","v":""},{"$f":"IF(SNPs!B357<>\"\",MID(SNPs!B357,FIND(\"[\",SNPs!B357)+1,FIND(\"/\",SNPs!B357)-FIND(\"[\",SNPs!B357)-1),\"\")","v":""},{"$f":"IF(SNPs!B357<>\"\",MID(SNPs!B357,FIND(\"[\",SNPs!B357)+3,FIND(\"/\",SNPs!B357)-FIND(\"/\",SNPs!B357)+1),\"\")","v":""},{"$f":"IF(SNPs!B357<>\"\",SNPs!B357,\"\")","v":""}]
[{"$f":"IF(SNPs!A358<>\"\",SNPs!A358,\"\")","v":""},{"$f":"IF(SNPs!B358<>\"\",MID(SNPs!B358,FIND(\"[\",SNPs!B358)+1,FIND(\"/\",SNPs!B358)-FIND(\"[\",SNPs!B358)-1),\"\")","v":""},{"$f":"IF(SNPs!B358<>\"\",MID(SNPs!B358,FIND(\"[\",SNPs!B358)+3,FIND(\"/\",SNPs!B358)-FIND(\"/\",SNPs!B358)+1),\"\")","v":""},{"$f":"IF(SNPs!B358<>\"\",SNPs!B358,\"\")","v":""}]
[{"$f":"IF(SNPs!A359<>\"\",SNPs!A359,\"\")","v":""},{"$f":"IF(SNPs!B359<>\"\",MID(SNPs!B359,FIND(\"[\",SNPs!B359)+1,FIND(\"/\",SNPs!B359)-FIND(\"[\",SNPs!B359)-1),\"\")","v":""},{"$f":"IF(SNPs!B359<>\"\",MID(SNPs!B359,FIND(\"[\",SNPs!B359)+3,FIND(\"/\",SNPs!B359)-FIND(\"/\",SNPs!B359)+1),\"\")","v":""},{"$f":"IF(SNPs!B359<>\"\",SNPs!B359,\"\")","v":""}]
[{"$f":"IF(SNPs!A360<>\"\",SNPs!A360,\"\")","v":""},{"$f":"IF(SNPs!B360<>\"\",MID(SNPs!B360,FIND(\"[\",SNPs!B360)+1,FIND(\"/\",SNPs!B360)-FIND(\"[\",SNPs!B360)-1),\"\")","v":""},{"$f":"IF(SNPs!B360<>\"\",MID(SNPs!B360,FIND(\"[\",SNPs!B360)+3,FIND(\"/\",SNPs!B360)-FIND(\"/\",SNPs!B360)+1),\"\")","v":""},{"$f":"IF(SNPs!B360<>\"\",SNPs!B360,\"\")","v":""}]
[{"$f":"IF(SNPs!A361<>\"\",SNPs!A361,\"\")","v":""},{"$f":"IF(SNPs!B361<>\"\",MID(SNPs!B361,FIND(\"[\",SNPs!B361)+1,FIND(\"/\",SNPs!B361)-FIND(\"[\",SNPs!B361)-1),\"\")","v":""},{"$f":"IF(SNPs!B361<>\"\",MID(SNPs!B361,FIND(\"[\",SNPs!B361)+3,FIND(\"/\",SNPs!B361)-FIND(\"/\",SNPs!B361)+1),\"\")","v":""},{"$f":"IF(SNPs!B361<>\"\",SNPs!B361,\"\")","v":""}]
[{"$f":"IF(SNPs!A362<>\"\",SNPs!A362,\"\")","v":""},{"$f":"IF(SNPs!B362<>\"\",MID(SNPs!B362,FIND(\"[\",SNPs!B362)+1,FIND(\"/\",SNPs!B362)-FIND(\"[\",SNPs!B362)-1),\"\")","v":""},{"$f":"IF(SNPs!B362<>\"\",MID(SNPs!B362,FIND(\"[\",SNPs!B362)+3,FIND(\"/\",SNPs!B362)-FIND(\"/\",SNPs!B362)+1),\"\")","v":""},{"$f":"IF(SNPs!B362<>\"\",SNPs!B362,\"\")","v":""}]
[{"$f":"IF(SNPs!A363<>\"\",SNPs!A363,\"\")","v":""},{"$f":"IF(SNPs!B363<>\"\",MID(SNPs!B363,FIND(\"[\",SNPs!B363)+1,FIND(\"/\",SNPs!B363)-FIND(\"[\",SNPs!B363)-1),\"\")","v":""},{"$f":"IF(SNPs!B363<>\"\",MID(SNPs!B363,FIND(\"[\",SNPs!B363)+3,FIND(\"/\",SNPs!B363)-FIND(\"/\",SNPs!B363)+1),\"\")","v":""},{"$f":"IF(SNPs!B363<>\"\",SNPs!B363,\"\")","v":""}]
[{"$f":"IF(SNPs!A364<>\"\",SNPs!A364,\"\")","v":""},{"$f":"IF(SNPs!B364<>\"\",MID(SNPs!B364,FIND(\"[\",SNPs!B364)+1,FIND(\"/\",SNPs!B364)-FIND(\"[\",SNPs!B364)-1),\"\")","v":""},{"$f":"IF(SNPs!B364<>\"\",MID(SNPs!B364,FIND(\"[\",SNPs!B364)+3,FIND(\"/\",SNPs!B364)-FIND(\"/\",SNPs!B364)+1),\"\")","v":""},{"$f":"IF(SNPs!B364<>\"\",SNPs!B364,\"\")","v":""}]
[{"$f":"IF(SNPs!A365<>\"\",SNPs!A365,\"\")","v":""},{"$f":"IF(SNPs!B365<>\"\",MID(SNPs!B365,FIND(\"[\",SNPs!B365)+1,FIND(\"/\",SNPs!B365)-FIND(\"[\",SNPs!B365)-1),\"\")","v":""},{"$f":"IF(SNPs!B365<>\"\",MID(SNPs!B365,FIND(\"[\",SNPs!B365)+3,FIND(\"/\",SNPs!B365)-FIND(\"/\",SNPs!B365)+1),\"\")","v":""},{"$f":"IF(SNPs!B365<>\"\",SNPs!B365,\"\")","v":""}]
[{"$f":"IF(SNPs!A366<>\"\",SNPs!A366,\"\")","v":""},{"$f":"IF(SNPs!B366<>\"\",MID(SNPs!B366,FIND(\"[\",SNPs!B366)+1,FIND(\"/\",SNPs!B366)-FIND(\"[\",SNPs!B366)-1),\"\")","v":""},{"$f":"IF(SNPs!B366<>\"\",MID(SNPs!B366,FIND(\"[\",SNPs!B366)+3,FIND(\"/\",SNPs!B366)-FIND(\"/\",SNPs!B366)+1),\"\")","v":""},{"$f":"IF(SNPs!B366<>\"\",SNPs!B366,\"\")","v":""}]
[{"$f":"IF(SNPs!A367<>\"\",SNPs!A367,\"\")","v":""},{"$f":"IF(SNPs!B367<>\"\",MID(SNPs!B367,FIND(\"[\",SNPs!B367)+1,FIND(\"/\",SNPs!B367)-FIND(\"[\",SNPs!B367)-1),\"\")","v":""},{"$f":"IF(SNPs!B367<>\"\",MID(SNPs!B367,FIND(\"[\",SNPs!B367)+3,FIND(\"/\",SNPs!B367)-FIND(\"/\",SNPs!B367)+1),\"\")","v":""},{"$f":"IF(SNPs!B367<>\"\",SNPs!B367,\"\")","v":""}]
[{"$f":"IF(SNPs!A368<>\"\",SNPs!A368,\"\")","v":""},{"$f":"IF(SNPs!B368<>\"\",MID(SNPs!B368,FIND(\"[\",SNPs!B368)+1,FIND(\"/\",SNPs!B368)-FIND(\"[\",SNPs!B368)-1),\"\")","v":""},{"$f":"IF(SNPs!B368<>\"\",MID(SNPs!B368,FIND(\"[\",SNPs!B368)+3,FIND(\"/\",SNPs!B368)-FIND(\"/\",SNPs!B368)+1),\"\")","v":""},{"$f":"IF(SNPs!B368<>\"\",SNPs!B368,\"\")","v":""}]
[{"$f":"IF(SNPs!A369<>\"\",SNPs!A369,\"\")","v":""},{"$f":"IF(SNPs!B369<>\"\",MID(SNPs!B369,FIND(\"[\",SNPs!B369)+1,FIND(\"/\",SNPs!B369)-FIND(\"[\",SNPs!B369)-1),\"\")","v":""},{"$f":"IF(SNPs!B369<>\"\",MID(SNPs!B369,FIND(\"[\",SNPs!B369)+3,FIND(\"/\",SNPs!B369)-FIND(\"/\",SNPs!B369)+1),\"\")","v":""},{"$f":"IF(SNPs!B369<>\"\",SNPs!B369,\"\")","v":""}]
[{"$f":"IF(SNPs!A370<>\"\",SNPs!A370,\"\")","v":""},{"$f":"IF(SNPs!B370<>\"\",MID(SNPs!B370,FIND(\"[\",SNPs!B370)+1,FIND(\"/\",SNPs!B370)-FIND(\"[\",SNPs!B370)-1),\"\")","v":""},{"$f":"IF(SNPs!B370<>\"\",MID(SNPs!B370,FIND(\"[\",SNPs!B370)+3,FIND(\"/\",SNPs!B370)-FIND(\"/\",SNPs!B370)+1),\"\")","v":""},{"$f":"IF(SNPs!B370<>\"\",SNPs!B370,\"\")","v":""}]
[{"$f":"IF(SNPs!A371<>\"\",SNPs!A371,\"\")","v":""},{"$f":"IF(SNPs!B371<>\"\",MID(SNPs!B371,FIND(\"[\",SNPs!B371)+1,FIND(\"/\",SNPs!B371)-FIND(\"[\",SNPs!B371)-1),\"\")","v":""},{"$f":"IF(SNPs!B371<>\"\",MID(SNPs!B371,FIND(\"[\",SNPs!B371)+3,FIND(\"/\",SNPs!B371)-FIND(\"/\",SNPs!B371)+1),\"\")","v":""},{"$f":"IF(SNPs!B371<>\"\",SNPs!B371,\"\")","v":""}]
[{"$f":"IF(SNPs!A372<>\"\",SNPs!A372,\"\")","v":""},{"$f":"IF(SNPs!B372<>\"\",MID(SNPs!B372,FIND(\"[\",SNPs!B372)+1,FIND(\"/\",SNPs!B372)-FIND(\"[\",SNPs!B372)-1),\"\")","v":""},{"$f":"IF(SNPs!B372<>\"\",MID(SNPs!B372,FIND(\"[\",SNPs!B372)+3,FIND(\"/\",SNPs!B372)-FIND(\"/\",SNPs!B372)+1),\"\")","v":""},{"$f":"IF(SNPs!B372<>\"\",SNPs!B372,\"\")","v":""}]
[{"$f":"IF(SNPs!A373<>\"\",SNPs!A373,\"\")","v":""},{"$f":"IF(SNPs!B373<>\"\",MID(SNPs!B373,FIND(\"[\",SNPs!B373)+1,FIND(\"/\",SNPs!B373)-FIND(\"[\",SNPs!B373)-1),\"\")","v":""},{"$f":"IF(SNPs!B373<>\"\",MID(SNPs!B373,FIND(\"[\",SNPs!B373)+3,FIND(\"/\",SNPs!B373)-FIND(\"/\",SNPs!B373)+1),\"\")","v":""},{"$f":"IF(SNPs!B373<>\"\",SNPs!B373,\"\")","v":""}]
[{"$f":"IF(SNPs!A374<>\"\",SNPs!A374,\"\")","v":""},{"$f":"IF(SNPs!B374<>\"\",MID(SNPs!B374,FIND(\"[\",SNPs!B374)+1,FIND(\"/\",SNPs!B374)-FIND(\"[\",SNPs!B374)-1),\"\")","v":""},{"$f":"IF(SNPs!B374<>\"\",MID(SNPs!B374,FIND(\"[\",SNPs!B374)+3,FIND(\"/\",SNPs!B374)-FIND(\"/\",SNPs!B374)+1),\"\")","v":""},{"$f":"IF(SNPs!B374<>\"\",SNPs!B374,\"\")","v":""}]
[{"$f":"IF(SNPs!A375<>\"\",SNPs!A375,\"\")","v":""},{"$f":"IF(SNPs!B375<>\"\",MID(SNPs!B375,FIND(\"[\",SNPs!B375)+1,FIND(\"/\",SNPs!B375)-FIND(\"[\",SNPs!B375)-1),\"\")","v":""},{"$f":"IF(SNPs!B375<>\"\",MID(SNPs!B375,FIND(\"[\",SNPs!B375)+3,FIND(\"/\",SNPs!B375)-FIND(\"/\",SNPs!B375)+1),\"\")","v":""},{"$f":"IF(SNPs!B375<>\"\",SNPs!B375,\"\")","v":""}]
[{"$f":"IF(SNPs!A376<>\"\",SNPs!A376,\"\")","v":""},{"$f":"IF(SNPs!B376<>\"\",MID(SNPs!B376,FIND(\"[\",SNPs!B376)+1,FIND(\"/\",SNPs!B376)-FIND(\"[\",SNPs!B376)-1),\"\")","v":""},{"$f":"IF(SNPs!B376<>\"\",MID(SNPs!B376,FIND(\"[\",SNPs!B376)+3,FIND(\"/\",SNPs!B376)-FIND(\"/\",SNPs!B376)+1),\"\")","v":""},{"$f":"IF(SNPs!B376<>\"\",SNPs!B376,\"\")","v":""}]
[{"$f":"IF(SNPs!A377<>\"\",SNPs!A377,\"\")","v":""},{"$f":"IF(SNPs!B377<>\"\",MID(SNPs!B377,FIND(\"[\",SNPs!B377)+1,FIND(\"/\",SNPs!B377)-FIND(\"[\",SNPs!B377)-1),\"\")","v":""},{"$f":"IF(SNPs!B377<>\"\",MID(SNPs!B377,FIND(\"[\",SNPs!B377)+3,FIND(\"/\",SNPs!B377)-FIND(\"/\",SNPs!B377)+1),\"\")","v":""},{"$f":"IF(SNPs!B377<>\"\",SNPs!B377,\"\")","v":""}]
[{"$f":"IF(SNPs!A378<>\"\",SNPs!A378,\"\")","v":""},{"$f":"IF(SNPs!B378<>\"\",MID(SNPs!B378,FIND(\"[\",SNPs!B378)+1,FIND(\"/\",SNPs!B378)-FIND(\"[\",SNPs!B378)-1),\"\")","v":""},{"$f":"IF(SNPs!B378<>\"\",MID(SNPs!B378,FIND(\"[\",SNPs!B378)+3,FIND(\"/\",SNPs!B378)-FIND(\"/\",SNPs!B378)+1),\"\")","v":""},{"$f":"IF(SNPs!B378<>\"\",SNPs!B378,\"\")","v":""}]
[{"$f":"IF(SNPs!A379<>\"\",SNPs!A379,\"\")","v":""},{"$f":"IF(SNPs!B379<>\"\",MID(SNPs!B379,FIND(\"[\",SNPs!B379)+1,FIND(\"/\",SNPs!B379)-FIND(\"[\",SNPs!B379)-1),\"\")","v":""},{"$f":"IF(SNPs!B379<>\"\",MID(SNPs!B379,FIND(\"[\",SNPs!B379)+3,FIND(\"/\",SNPs!B379)-FIND(\"/\",SNPs!B379)+1),\"\")","v":""},{"$f":"IF(SNPs!B379<>\"\",SNPs!B379,\"\")","v":""}]
[{"$f":"IF(SNPs!A380<>\"\",SNPs!A380,\"\")","v":""},{"$f":"IF(SNPs!B380<>\"\",MID(SNPs!B380,FIND(\"[\",SNPs!B380)+1,FIND(\"/\",SNPs!B380)-FIND(\"[\",SNPs!B380)-1),\"\")","v":""},{"$f":"IF(SNPs!B380<>\"\",MID(SNPs!B380,FIND(\"[\",SNPs!B380)+3,FIND(\"/\",SNPs!B380)-FIND(\"/\",SNPs!B380)+1),\"\")","v":""},{"$f":"IF(SNPs!B380<>\"\",SNPs!B380,\"\")","v":""}]
[{"$f":"IF(SNPs!A381<>\"\",SNPs!A381,\"\")","v":""},{"$f":"IF(SNPs!B381<>\"\",MID(SNPs!B381,FIND(\"[\",SNPs!B381)+1,FIND(\"/\",SNPs!B381)-FIND(\"[\",SNPs!B381)-1),\"\")","v":""},{"$f":"IF(SNPs!B381<>\"\",MID(SNPs!B381,FIND(\"[\",SNPs!B381)+3,FIND(\"/\",SNPs!B381)-FIND(\"/\",SNPs!B381)+1),\"\")","v":""},{"$f":"IF(SNPs!B381<>\"\",SNPs!B381,\"\")","v":""}]
[{"$f":"IF(SNPs!A382<>\"\",SNPs!A382,\"\")","v":""},{"$f":"IF(SNPs!B382<>\"\",MID(SNPs!B382,FIND(\"[\",SNPs!B382)+1,FIND(\"/\",SNPs!B382)-FIND(\"[\",SNPs!B382)-1),\"\")","v":""},{"$f":"IF(SNPs!B382<>\"\",MID(SNPs!B382,FIND(\"[\",SNPs!B382)+3,FIND(\"/\",SNPs!B382)-FIND(\"/\",SNPs!B382)+1),\"\")","v":""},{"$f":"IF(SNPs!B382<>\"\",SNPs!B382,\"\")","v":""}]
[{"$f":"IF(SNPs!A383<>\"\",SNPs!A383,\"\")","v":""},{"$f":"IF(SNPs!B383<>\"\",MID(SNPs!B383,FIND(\"[\",SNPs!B383)+1,FIND(\"/\",SNPs!B383)-FIND(\"[\",SNPs!B383)-1),\"\")","v":""},{"$f":"IF(SNPs!B383<>\"\",MID(SNPs!B383,FIND(\"[\",SNPs!B383)+3,FIND(\"/\",SNPs!B383)-FIND(\"/\",SNPs!B383)+1),\"\")","v":""},{"$f":"IF(SNPs!B383<>\"\",SNPs!B383,\"\")","v":""}]
[{"$f":"IF(SNPs!A384<>\"\",SNPs!A384,\"\")","v":""},{"$f":"IF(SNPs!B384<>\"\",MID(SNPs!B384,FIND(\"[\",SNPs!B384)+1,FIND(\"/\",SNPs!B384)-FIND(\"[\",SNPs!B384)-1),\"\")","v":""},{"$f":"IF(SNPs!B384<>\"\",MID(SNPs!B384,FIND(\"[\",SNPs!B384)+3,FIND(\"/\",SNPs!B384)-FIND(\"/\",SNPs!B384)+1),\"\")","v":""},{"$f":"IF(SNPs!B384<>\"\",SNPs!B384,\"\")","v":""}]
[{"$f":"IF(SNPs!A385<>\"\",SNPs!A385,\"\")","v":""},{"$f":"IF(SNPs!B385<>\"\",MID(SNPs!B385,FIND(\"[\",SNPs!B385)+1,FIND(\"/\",SNPs!B385)-FIND(\"[\",SNPs!B385)-1),\"\")","v":""},{"$f":"IF(SNPs!B385<>\"\",MID(SNPs!B385,FIND(\"[\",SNPs!B385)+3,FIND(\"/\",SNPs!B385)-FIND(\"/\",SNPs!B385)+1),\"\")","v":""},{"$f":"IF(SNPs!B385<>\"\",SNPs!B385,\"\")","v":""}]
[{"$f":"IF(SNPs!A386<>\"\",SNPs!A386,\"\")","v":""},{"$f":"IF(SNPs!B386<>\"\",MID(SNPs!B386,FIND(\"[\",SNPs!B386)+1,FIND(\"/\",SNPs!B386)-FIND(\"[\",SNPs!B386)-1),\"\")","v":""},{"$f":"IF(SNPs!B386<>\"\",MID(SNPs!B386,FIND(\"[\",SNPs!B386)+3,FIND(\"/\",SNPs!B386)-FIND(\"/\",SNPs!B386)+1),\"\")","v":""},{"$f":"IF(SNPs!B386<>\"\",SNPs!B386,\"\")","v":""}]
[{"$f":"IF(SNPs!A387<>\"\",SNPs!A387,\"\")","v":""},{"$f":"IF(SNPs!B387<>\"\",MID(SNPs!B387,FIND(\"[\",SNPs!B387)+1,FIND(\"/\",SNPs!B387)-FIND(\"[\",SNPs!B387)-1),\"\")","v":""},{"$f":"IF(SNPs!B387<>\"\",MID(SNPs!B387,FIND(\"[\",SNPs!B387)+3,FIND(\"/\",SNPs!B387)-FIND(\"/\",SNPs!B387)+1),\"\")","v":""},{"$f":"IF(SNPs!B387<>\"\",SNPs!B387,\"\")","v":""}]
[{"$f":"IF(SNPs!A388<>\"\",SNPs!A388,\"\")","v":""},{"$f":"IF(SNPs!B388<>\"\",MID(SNPs!B388,FIND(\"[\",SNPs!B388)+1,FIND(\"/\",SNPs!B388)-FIND(\"[\",SNPs!B388)-1),\"\")","v":""},{"$f":"IF(SNPs!B388<>\"\",MID(SNPs!B388,FIND(\"[\",SNPs!B388)+3,FIND(\"/\",SNPs!B388)-FIND(\"/\",SNPs!B388)+1),\"\")","v":""},{"$f":"IF(SNPs!B388<>\"\",SNPs!B388,\"\")","v":""}]
[{"$f":"IF(SNPs!A389<>\"\",SNPs!A389,\"\")","v":""},{"$f":"IF(SNPs!B389<>\"\",MID(SNPs!B389,FIND(\"[\",SNPs!B389)+1,FIND(\"/\",SNPs!B389)-FIND(\"[\",SNPs!B389)-1),\"\")","v":""},{"$f":"IF(SNPs!B389<>\"\",MID(SNPs!B389,FIND(\"[\",SNPs!B389)+3,FIND(\"/\",SNPs!B389)-FIND(\"/\",SNPs!B389)+1),\"\")","v":""},{"$f":"IF(SNPs!B389<>\"\",SNPs!B389,\"\")","v":""}]
[{"$f":"IF(SNPs!A390<>\"\",SNPs!A390,\"\")","v":""},{"$f":"IF(SNPs!B390<>\"\",MID(SNPs!B390,FIND(\"[\",SNPs!B390)+1,FIND(\"/\",SNPs!B390)-FIND(\"[\",SNPs!B390)-1),\"\")","v":""},{"$f":"IF(SNPs!B390<>\"\",MID(SNPs!B390,FIND(\"[\",SNPs!B390)+3,FIND(\"/\",SNPs!B390)-FIND(\"/\",SNPs!B390)+1),\"\")","v":""},{"$f":"IF(SNPs!B390<>\"\",SNPs!B390,\"\")","v":""}]
[{"$f":"IF(SNPs!A391<>\"\",SNPs!A391,\"\")","v":""},{"$f":"IF(SNPs!B391<>\"\",MID(SNPs!B391,FIND(\"[\",SNPs!B391)+1,FIND(\"/\",SNPs!B391)-FIND(\"[\",SNPs!B391)-1),\"\")","v":""},{"$f":"IF(SNPs!B391<>\"\",MID(SNPs!B391,FIND(\"[\",SNPs!B391)+3,FIND(\"/\",SNPs!B391)-FIND(\"/\",SNPs!B391)+1),\"\")","v":""},{"$f":"IF(SNPs!B391<>\"\",SNPs!B391,\"\")","v":""}]
[{"$f":"IF(SNPs!A392<>\"\",SNPs!A392,\"\")","v":""},{"$f":"IF(SNPs!B392<>\"\",MID(SNPs!B392,FIND(\"[\",SNPs!B392)+1,FIND(\"/\",SNPs!B392)-FIND(\"[\",SNPs!B392)-1),\"\")","v":""},{"$f":"IF(SNPs!B392<>\"\",MID(SNPs!B392,FIND(\"[\",SNPs!B392)+3,FIND(\"/\",SNPs!B392)-FIND(\"/\",SNPs!B392)+1),\"\")","v":""},{"$f":"IF(SNPs!B392<>\"\",SNPs!B392,\"\")","v":""}]
[{"$f":"IF(SNPs!A393<>\"\",SNPs!A393,\"\")","v":""},{"$f":"IF(SNPs!B393<>\"\",MID(SNPs!B393,FIND(\"[\",SNPs!B393)+1,FIND(\"/\",SNPs!B393)-FIND(\"[\",SNPs!B393)-1),\"\")","v":""},{"$f":"IF(SNPs!B393<>\"\",MID(SNPs!B393,FIND(\"[\",SNPs!B393)+3,FIND(\"/\",SNPs!B393)-FIND(\"/\",SNPs!B393)+1),\"\")","v":""},{"$f":"IF(SNPs!B393<>\"\",SNPs!B393,\"\")","v":""}]
[{"$f":"IF(SNPs!A394<>\"\",SNPs!A394,\"\")","v":""},{"$f":"IF(SNPs!B394<>\"\",MID(SNPs!B394,FIND(\"[\",SNPs!B394)+1,FIND(\"/\",SNPs!B394)-FIND(\"[\",SNPs!B394)-1),\"\")","v":""},{"$f":"IF(SNPs!B394<>\"\",MID(SNPs!B394,FIND(\"[\",SNPs!B394)+3,FIND(\"/\",SNPs!B394)-FIND(\"/\",SNPs!B394)+1),\"\")","v":""},{"$f":"IF(SNPs!B394<>\"\",SNPs!B394,\"\")","v":""}]
[{"$f":"IF(SNPs!A395<>\"\",SNPs!A395,\"\")","v":""},{"$f":"IF(SNPs!B395<>\"\",MID(SNPs!B395,FIND(\"[\",SNPs!B395)+1,FIND(\"/\",SNPs!B395)-FIND(\"[\",SNPs!B395)-1),\"\")","v":""},{"$f":"IF(SNPs!B395<>\"\",MID(SNPs!B395,FIND(\"[\",SNPs!B395)+3,FIND(\"/\",SNPs!B395)-FIND(\"/\",SNPs!B395)+1),\"\")","v":""},{"$f":"IF(SNPs!B395<>\"\",SNPs!B395,\"\")","v":""}]
[{"$f":"IF(SNPs!A396<>\"\",SNPs!A396,\"\")","v":""},{"$f":"IF(SNPs!B396<>\"\",MID(SNPs!B396,FIND(\"[\",SNPs!B396)+1,FIND(\"/\",SNPs!B396)-FIND(\"[\",SNPs!B396)-1),\"\")","v":""},{"$f":"IF(SNPs!B396<>\"\",MID(SNPs!B396,FIND(\"[\",SNPs!B396)+3,FIND(\"/\",SNPs!B396)-FIND(\"/\",SNPs!B396)+1),\"\")","v":""},{"$f":"IF(SNPs!B396<>\"\",SNPs!B396,\"\")","v":""}]
[{"$f":"IF(SNPs!A397<>\"\",SNPs!A397,\"\")","v":""},{"$f":"IF(SNPs!B397<>\"\",MID(SNPs!B397,FIND(\"[\",SNPs!B397)+1,FIND(\"/\",SNPs!B397)-FIND(\"[\",SNPs!B397)-1),\"\")","v":""},{"$f":"IF(SNPs!B397<>\"\",MID(SNPs!B397,FIND(\"[\",SNPs!B397)+3,FIND(\"/\",SNPs!B397)-FIND(\"/\",SNPs!B397)+1),\"\")","v":""},{"$f":"IF(SNPs!B397<>\"\",SNPs!B397,\"\")","v":""}]
[{"$f":"IF(SNPs!A398<>\"\",SNPs!A398,\"\")","v":""},{"$f":"IF(SNPs!B398<>\"\",MID(SNPs!B398,FIND(\"[\",SNPs!B398)+1,FIND(\"/\",SNPs!B398)-FIND(\"[\",SNPs!B398)-1),\"\")","v":""},{"$f":"IF(SNPs!B398<>\"\",MID(SNPs!B398,FIND(\"[\",SNPs!B398)+3,FIND(\"/\",SNPs!B398)-FIND(\"/\",SNPs!B398)+1),\"\")","v":""},{"$f":"IF(SNPs!B398<>\"\",SNPs!B398,\"\")","v":""}]
[{"$f":"IF(SNPs!A399<>\"\",SNPs!A399,\"\")","v":""},{"$f":"IF(SNPs!B399<>\"\",MID(SNPs!B399,FIND(\"[\",SNPs!B399)+1,FIND(\"/\",SNPs!B399)-FIND(\"[\",SNPs!B399)-1),\"\")","v":""},{"$f":"IF(SNPs!B399<>\"\",MID(SNPs!B399,FIND(\"[\",SNPs!B399)+3,FIND(\"/\",SNPs!B399)-FIND(\"/\",SNPs!B399)+1),\"\")","v":""},{"$f":"IF(SNPs!B399<>\"\",SNPs!B399,\"\")","v":""}]
[{"$f":"IF(SNPs!A400<>\"\",SNPs!A400,\"\")","v":""},{"$f":"IF(SNPs!B400<>\"\",MID(SNPs!B400,FIND(\"[\",SNPs!B400)+1,FIND(\"/\",SNPs!B400)-FIND(\"[\",SNPs!B400)-1),\"\")","v":""},{"$f":"IF(SNPs!B400<>\"\",MID(SNPs!B400,FIND(\"[\",SNPs!B400)+3,FIND(\"/\",SNPs!B400)-FIND(\"/\",SNPs!B400)+1),\"\")","v":""},{"$f":"IF(SNPs!B400<>\"\",SNPs!B400,\"\")","v":""}]
[{"$f":"IF(SNPs!A401<>\"\",SNPs!A401,\"\")","v":""},{"$f":"IF(SNPs!B401<>\"\",MID(SNPs!B401,FIND(\"[\",SNPs!B401)+1,FIND(\"/\",SNPs!B401)-FIND(\"[\",SNPs!B401)-1),\"\")","v":""},{"$f":"IF(SNPs!B401<>\"\",MID(SNPs!B401,FIND(\"[\",SNPs!B401)+3,FIND(\"/\",SNPs!B401)-FIND(\"/\",SNPs!B401)+1),\"\")","v":""},{"$f":"IF(SNPs!B401<>\"\",SNPs!B401,\"\")","v":""}]
[{"$f":"IF(SNPs!A402<>\"\",SNPs!A402,\"\")","v":""},{"$f":"IF(SNPs!B402<>\"\",MID(SNPs!B402,FIND(\"[\",SNPs!B402)+1,FIND(\"/\",SNPs!B402)-FIND(\"[\",SNPs!B402)-1),\"\")","v":""},{"$f":"IF(SNPs!B402<>\"\",MID(SNPs!B402,FIND(\"[\",SNPs!B402)+3,FIND(\"/\",SNPs!B402)-FIND(\"/\",SNPs!B402)+1),\"\")","v":""},{"$f":"IF(SNPs!B402<>\"\",SNPs!B402,\"\")","v":""}]
[{"$f":"IF(SNPs!A403<>\"\",SNPs!A403,\"\")","v":""},{"$f":"IF(SNPs!B403<>\"\",MID(SNPs!B403,FIND(\"[\",SNPs!B403)+1,FIND(\"/\",SNPs!B403)-FIND(\"[\",SNPs!B403)-1),\"\")","v":""},{"$f":"IF(SNPs!B403<>\"\",MID(SNPs!B403,FIND(\"[\",SNPs!B403)+3,FIND(\"/\",SNPs!B403)-FIND(\"/\",SNPs!B403)+1),\"\")","v":""},{"$f":"IF(SNPs!B403<>\"\",SNPs!B403,\"\")","v":""}]
[{"$f":"IF(SNPs!A404<>\"\",SNPs!A404,\"\")","v":""},{"$f":"IF(SNPs!B404<>\"\",MID(SNPs!B404,FIND(\"[\",SNPs!B404)+1,FIND(\"/\",SNPs!B404)-FIND(\"[\",SNPs!B404)-1),\"\")","v":""},{"$f":"IF(SNPs!B404<>\"\",MID(SNPs!B404,FIND(\"[\",SNPs!B404)+3,FIND(\"/\",SNPs!B404)-FIND(\"/\",SNPs!B404)+1),\"\")","v":""},{"$f":"IF(SNPs!B404<>\"\",SNPs!B404,\"\")","v":""}]
[{"$f":"IF(SNPs!A405<>\"\",SNPs!A405,\"\")","v":""},{"$f":"IF(SNPs!B405<>\"\",MID(SNPs!B405,FIND(\"[\",SNPs!B405)+1,FIND(\"/\",SNPs!B405)-FIND(\"[\",SNPs!B405)-1),\"\")","v":""},{"$f":"IF(SNPs!B405<>\"\",MID(SNPs!B405,FIND(\"[\",SNPs!B405)+3,FIND(\"/\",SNPs!B405)-FIND(\"/\",SNPs!B405)+1),\"\")","v":""},{"$f":"IF(SNPs!B405<>\"\",SNPs!B405,\"\")","v":""}]
[{"$f":"IF(SNPs!A406<>\"\",SNPs!A406,\"\")","v":""},{"$f":"IF(SNPs!B406<>\"\",MID(SNPs!B406,FIND(\"[\",SNPs!B406)+1,FIND(\"/\",SNPs!B406)-FIND(\"[\",SNPs!B406)-1),\"\")","v":""},{"$f":"IF(SNPs!B406<>\"\",MID(SNPs!B406,FIND(\"[\",SNPs!B406)+3,FIND(\"/\",SNPs!B406)-FIND(\"/\",SNPs!B406)+1),\"\")","v":""},{"$f":"IF(SNPs!B406<>\"\",SNPs!B406,\"\")","v":""}]
[{"$f":"IF(SNPs!A407<>\"\",SNPs!A407,\"\")","v":""},{"$f":"IF(SNPs!B407<>\"\",MID(SNPs!B407,FIND(\"[\",SNPs!B407)+1,FIND(\"/\",SNPs!B407)-FIND(\"[\",SNPs!B407)-1),\"\")","v":""},{"$f":"IF(SNPs!B407<>\"\",MID(SNPs!B407,FIND(\"[\",SNPs!B407)+3,FIND(\"/\",SNPs!B407)-FIND(\"/\",SNPs!B407)+1),\"\")","v":""},{"$f":"IF(SNPs!B407<>\"\",SNPs!B407,\"\")","v":""}]
[{"$f":"IF(SNPs!A408<>\"\",SNPs!A408,\"\")","v":""},{"$f":"IF(SNPs!B408<>\"\",MID(SNPs!B408,FIND(\"[\",SNPs!B408)+1,FIND(\"/\",SNPs!B408)-FIND(\"[\",SNPs!B408)-1),\"\")","v":""},{"$f":"IF(SNPs!B408<>\"\",MID(SNPs!B408,FIND(\"[\",SNPs!B408)+3,FIND(\"/\",SNPs!B408)-FIND(\"/\",SNPs!B408)+1),\"\")","v":""},{"$f":"IF(SNPs!B408<>\"\",SNPs!B408,\"\")","v":""}]
[{"$f":"IF(SNPs!A409<>\"\",SNPs!A409,\"\")","v":""},{"$f":"IF(SNPs!B409<>\"\",MID(SNPs!B409,FIND(\"[\",SNPs!B409)+1,FIND(\"/\",SNPs!B409)-FIND(\"[\",SNPs!B409)-1),\"\")","v":""},{"$f":"IF(SNPs!B409<>\"\",MID(SNPs!B409,FIND(\"[\",SNPs!B409)+3,FIND(\"/\",SNPs!B409)-FIND(\"/\",SNPs!B409)+1),\"\")","v":""},{"$f":"IF(SNPs!B409<>\"\",SNPs!B409,\"\")","v":""}]
[{"$f":"IF(SNPs!A410<>\"\",SNPs!A410,\"\")","v":""},{"$f":"IF(SNPs!B410<>\"\",MID(SNPs!B410,FIND(\"[\",SNPs!B410)+1,FIND(\"/\",SNPs!B410)-FIND(\"[\",SNPs!B410)-1),\"\")","v":""},{"$f":"IF(SNPs!B410<>\"\",MID(SNPs!B410,FIND(\"[\",SNPs!B410)+3,FIND(\"/\",SNPs!B410)-FIND(\"/\",SNPs!B410)+1),\"\")","v":""},{"$f":"IF(SNPs!B410<>\"\",SNPs!B410,\"\")","v":""}]
[{"$f":"IF(SNPs!A411<>\"\",SNPs!A411,\"\")","v":""},{"$f":"IF(SNPs!B411<>\"\",MID(SNPs!B411,FIND(\"[\",SNPs!B411)+1,FIND(\"/\",SNPs!B411)-FIND(\"[\",SNPs!B411)-1),\"\")","v":""},{"$f":"IF(SNPs!B411<>\"\",MID(SNPs!B411,FIND(\"[\",SNPs!B411)+3,FIND(\"/\",SNPs!B411)-FIND(\"/\",SNPs!B411)+1),\"\")","v":""},{"$f":"IF(SNPs!B411<>\"\",SNPs!B411,\"\")","v":""}]
[{"$f":"IF(SNPs!A412<>\"\",SNPs!A412,\"\")","v":""},{"$f":"IF(SNPs!B412<>\"\",MID(SNPs!B412,FIND(\"[\",SNPs!B412)+1,FIND(\"/\",SNPs!B412)-FIND(\"[\",SNPs!B412)-1),\"\")","v":""},{"$f":"IF(SNPs!B412<>\"\",MID(SNPs!B412,FIND(\"[\",SNPs!B412)+3,FIND(\"/\",SNPs!B412)-FIND(\"/\",SNPs!B412)+1),\"\")","v":""},{"$f":"IF(SNPs!B412<>\"\",SNPs!B412,\"\")","v":""}]
[{"$f":"IF(SNPs!A413<>\"\",SNPs!A413,\"\")","v":""},{"$f":"IF(SNPs!B413<>\"\",MID(SNPs!B413,FIND(\"[\",SNPs!B413)+1,FIND(\"/\",SNPs!B413)-FIND(\"[\",SNPs!B413)-1),\"\")","v":""},{"$f":"IF(SNPs!B413<>\"\",MID(SNPs!B413,FIND(\"[\",SNPs!B413)+3,FIND(\"/\",SNPs!B413)-FIND(\"/\",SNPs!B413)+1),\"\")","v":""},{"$f":"IF(SNPs!B413<>\"\",SNPs!B413,\"\")","v":""}]
[{"$f":"IF(SNPs!A414<>\"\",SNPs!A414,\"\")","v":""},{"$f":"IF(SNPs!B414<>\"\",MID(SNPs!B414,FIND(\"[\",SNPs!B414)+1,FIND(\"/\",SNPs!B414)-FIND(\"[\",SNPs!B414)-1),\"\")","v":""},{"$f":"IF(SNPs!B414<>\"\",MID(SNPs!B414,FIND(\"[\",SNPs!B414)+3,FIND(\"/\",SNPs!B414)-FIND(\"/\",SNPs!B414)+1),\"\")","v":""},{"$f":"IF(SNPs!B414<>\"\",SNPs!B414,\"\")","v":""}]
[{"$f":"IF(SNPs!A415<>\"\",SNPs!A415,\"\")","v":""},{"$f":"IF(SNPs!B415<>\"\",MID(SNPs!B415,FIND(\"[\",SNPs!B415)+1,FIND(\"/\",SNPs!B415)-FIND(\"[\",SNPs!B415)-1),\"\")","v":""},{"$f":"IF(SNPs!B415<>\"\",MID(SNPs!B415,FIND(\"[\",SNPs!B415)+3,FIND(\"/\",SNPs!B415)-FIND(\"/\",SNPs!B415)+1),\"\")","v":""},{"$f":"IF(SNPs!B415<>\"\",SNPs!B415,\"\")","v":""}]
[{"$f":"IF(SNPs!A416<>\"\",SNPs!A416,\"\")","v":""},{"$f":"IF(SNPs!B416<>\"\",MID(SNPs!B416,FIND(\"[\",SNPs!B416)+1,FIND(\"/\",SNPs!B416)-FIND(\"[\",SNPs!B416)-1),\"\")","v":""},{"$f":"IF(SNPs!B416<>\"\",MID(SNPs!B416,FIND(\"[\",SNPs!B416)+3,FIND(\"/\",SNPs!B416)-FIND(\"/\",SNPs!B416)+1),\"\")","v":""},{"$f":"IF(SNPs!B416<>\"\",SNPs!B416,\"\")","v":""}]
[{"$f":"IF(SNPs!A417<>\"\",SNPs!A417,\"\")","v":""},{"$f":"IF(SNPs!B417<>\"\",MID(SNPs!B417,FIND(\"[\",SNPs!B417)+1,FIND(\"/\",SNPs!B417)-FIND(\"[\",SNPs!B417)-1),\"\")","v":""},{"$f":"IF(SNPs!B417<>\"\",MID(SNPs!B417,FIND(\"[\",SNPs!B417)+3,FIND(\"/\",SNPs!B417)-FIND(\"/\",SNPs!B417)+1),\"\")","v":""},{"$f":"IF(SNPs!B417<>\"\",SNPs!B417,\"\")","v":""}]
[{"$f":"IF(SNPs!A418<>\"\",SNPs!A418,\"\")","v":""},{"$f":"IF(SNPs!B418<>\"\",MID(SNPs!B418,FIND(\"[\",SNPs!B418)+1,FIND(\"/\",SNPs!B418)-FIND(\"[\",SNPs!B418)-1),\"\")","v":""},{"$f":"IF(SNPs!B418<>\"\",MID(SNPs!B418,FIND(\"[\",SNPs!B418)+3,FIND(\"/\",SNPs!B418)-FIND(\"/\",SNPs!B418)+1),\"\")","v":""},{"$f":"IF(SNPs!B418<>\"\",SNPs!B418,\"\")","v":""}]
[{"$f":"IF(SNPs!A419<>\"\",SNPs!A419,\"\")","v":""},{"$f":"IF(SNPs!B419<>\"\",MID(SNPs!B419,FIND(\"[\",SNPs!B419)+1,FIND(\"/\",SNPs!B419)-FIND(\"[\",SNPs!B419)-1),\"\")","v":""},{"$f":"IF(SNPs!B419<>\"\",MID(SNPs!B419,FIND(\"[\",SNPs!B419)+3,FIND(\"/\",SNPs!B419)-FIND(\"/\",SNPs!B419)+1),\"\")","v":""},{"$f":"IF(SNPs!B419<>\"\",SNPs!B419,\"\")","v":""}]
[{"$f":"IF(SNPs!A420<>\"\",SNPs!A420,\"\")","v":""},{"$f":"IF(SNPs!B420<>\"\",MID(SNPs!B420,FIND(\"[\",SNPs!B420)+1,FIND(\"/\",SNPs!B420)-FIND(\"[\",SNPs!B420)-1),\"\")","v":""},{"$f":"IF(SNPs!B420<>\"\",MID(SNPs!B420,FIND(\"[\",SNPs!B420)+3,FIND(\"/\",SNPs!B420)-FIND(\"/\",SNPs!B420)+1),\"\")","v":""},{"$f":"IF(SNPs!B420<>\"\",SNPs!B420,\"\")","v":""}]
[{"$f":"IF(SNPs!A421<>\"\",SNPs!A421,\"\")","v":""},{"$f":"IF(SNPs!B421<>\"\",MID(SNPs!B421,FIND(\"[\",SNPs!B421)+1,FIND(\"/\",SNPs!B421)-FIND(\"[\",SNPs!B421)-1),\"\")","v":""},{"$f":"IF(SNPs!B421<>\"\",MID(SNPs!B421,FIND(\"[\",SNPs!B421)+3,FIND(\"/\",SNPs!B421)-FIND(\"/\",SNPs!B421)+1),\"\")","v":""},{"$f":"IF(SNPs!B421<>\"\",SNPs!B421,\"\")","v":""}]
[{"$f":"IF(SNPs!A422<>\"\",SNPs!A422,\"\")","v":""},{"$f":"IF(SNPs!B422<>\"\",MID(SNPs!B422,FIND(\"[\",SNPs!B422)+1,FIND(\"/\",SNPs!B422)-FIND(\"[\",SNPs!B422)-1),\"\")","v":""},{"$f":"IF(SNPs!B422<>\"\",MID(SNPs!B422,FIND(\"[\",SNPs!B422)+3,FIND(\"/\",SNPs!B422)-FIND(\"/\",SNPs!B422)+1),\"\")","v":""},{"$f":"IF(SNPs!B422<>\"\",SNPs!B422,\"\")","v":""}]
[{"$f":"IF(SNPs!A423<>\"\",SNPs!A423,\"\")","v":""},{"$f":"IF(SNPs!B423<>\"\",MID(SNPs!B423,FIND(\"[\",SNPs!B423)+1,FIND(\"/\",SNPs!B423)-FIND(\"[\",SNPs!B423)-1),\"\")","v":""},{"$f":"IF(SNPs!B423<>\"\",MID(SNPs!B423,FIND(\"[\",SNPs!B423)+3,FIND(\"/\",SNPs!B423)-FIND(\"/\",SNPs!B423)+1),\"\")","v":""},{"$f":"IF(SNPs!B423<>\"\",SNPs!B423,\"\")","v":""}]
[{"$f":"IF(SNPs!A424<>\"\",SNPs!A424,\"\")","v":""},{"$f":"IF(SNPs!B424<>\"\",MID(SNPs!B424,FIND(\"[\",SNPs!B424)+1,FIND(\"/\",SNPs!B424)-FIND(\"[\",SNPs!B424)-1),\"\")","v":""},{"$f":"IF(SNPs!B424<>\"\",MID(SNPs!B424,FIND(\"[\",SNPs!B424)+3,FIND(\"/\",SNPs!B424)-FIND(\"/\",SNPs!B424)+1),\"\")","v":""},{"$f":"IF(SNPs!B424<>\"\",SNPs!B424,\"\")","v":""}]
[{"$f":"IF(SNPs!A425<>\"\",SNPs!A425,\"\")","v":""},{"$f":"IF(SNPs!B425<>\"\",MID(SNPs!B425,FIND(\"[\",SNPs!B425)+1,FIND(\"/\",SNPs!B425)-FIND(\"[\",SNPs!B425)-1),\"\")","v":""},{"$f":"IF(SNPs!B425<>\"\",MID(SNPs!B425,FIND(\"[\",SNPs!B425)+3,FIND(\"/\",SNPs!B425)-FIND(\"/\",SNPs!B425)+1),\"\")","v":""},{"$f":"IF(SNPs!B425<>\"\",SNPs!B425,\"\")","v":""}]
[{"$f":"IF(SNPs!A426<>\"\",SNPs!A426,\"\")","v":""},{"$f":"IF(SNPs!B426<>\"\",MID(SNPs!B426,FIND(\"[\",SNPs!B426)+1,FIND(\"/\",SNPs!B426)-FIND(\"[\",SNPs!B426)-1),\"\")","v":""},{"$f":"IF(SNPs!B426<>\"\",MID(SNPs!B426,FIND(\"[\",SNPs!B426)+3,FIND(\"/\",SNPs!B426)-FIND(\"/\",SNPs!B426)+1),\"\")","v":""},{"$f":"IF(SNPs!B426<>\"\",SNPs!B426,\"\")","v":""}]
[{"$f":"IF(SNPs!A427<>\"\",SNPs!A427,\"\")","v":""},{"$f":"IF(SNPs!B427<>\"\",MID(SNPs!B427,FIND(\"[\",SNPs!B427)+1,FIND(\"/\",SNPs!B427)-FIND(\"[\",SNPs!B427)-1),\"\")","v":""},{"$f":"IF(SNPs!B427<>\"\",MID(SNPs!B427,FIND(\"[\",SNPs!B427)+3,FIND(\"/\",SNPs!B427)-FIND(\"/\",SNPs!B427)+1),\"\")","v":""},{"$f":"IF(SNPs!B427<>\"\",SNPs!B427,\"\")","v":""}]
[{"$f":"IF(SNPs!A428<>\"\",SNPs!A428,\"\")","v":""},{"$f":"IF(SNPs!B428<>\"\",MID(SNPs!B428,FIND(\"[\",SNPs!B428)+1,FIND(\"/\",SNPs!B428)-FIND(\"[\",SNPs!B428)-1),\"\")","v":""},{"$f":"IF(SNPs!B428<>\"\",MID(SNPs!B428,FIND(\"[\",SNPs!B428)+3,FIND(\"/\",SNPs!B428)-FIND(\"/\",SNPs!B428)+1),\"\")","v":""},{"$f":"IF(SNPs!B428<>\"\",SNPs!B428,\"\")","v":""}]
[{"$f":"IF(SNPs!A429<>\"\",SNPs!A429,\"\")","v":""},{"$f":"IF(SNPs!B429<>\"\",MID(SNPs!B429,FIND(\"[\",SNPs!B429)+1,FIND(\"/\",SNPs!B429)-FIND(\"[\",SNPs!B429)-1),\"\")","v":""},{"$f":"IF(SNPs!B429<>\"\",MID(SNPs!B429,FIND(\"[\",SNPs!B429)+3,FIND(\"/\",SNPs!B429)-FIND(\"/\",SNPs!B429)+1),\"\")","v":""},{"$f":"IF(SNPs!B429<>\"\",SNPs!B429,\"\")","v":""}]
[{"$f":"IF(SNPs!A430<>\"\",SNPs!A430,\"\")","v":""},{"$f":"IF(SNPs!B430<>\"\",MID(SNPs!B430,FIND(\"[\",SNPs!B430)+1,FIND(\"/\",SNPs!B430)-FIND(\"[\",SNPs!B430)-1),\"\")","v":""},{"$f":"IF(SNPs!B430<>\"\",MID(SNPs!B430,FIND(\"[\",SNPs!B430)+3,FIND(\"/\",SNPs!B430)-FIND(\"/\",SNPs!B430)+1),\"\")","v":""},{"$f":"IF(SNPs!B430<>\"\",SNPs!B430,\"\")","v":""}]
[{"$f":"IF(SNPs!A431<>\"\",SNPs!A431,\"\")","v":""},{"$f":"IF(SNPs!B431<>\"\",MID(SNPs!B431,FIND(\"[\",SNPs!B431)+1,FIND(\"/\",SNPs!B431)-FIND(\"[\",SNPs!B431)-1),\"\")","v":""},{"$f":"IF(SNPs!B431<>\"\",MID(SNPs!B431,FIND(\"[\",SNPs!B431)+3,FIND(\"/\",SNPs!B431)-FIND(\"/\",SNPs!B431)+1),\"\")","v":""},{"$f":"IF(SNPs!B431<>\"\",SNPs!B431,\"\")","v":""}]
[{"$f":"IF(SNPs!A432<>\"\",SNPs!A432,\"\")","v":""},{"$f":"IF(SNPs!B432<>\"\",MID(SNPs!B432,FIND(\"[\",SNPs!B432)+1,FIND(\"/\",SNPs!B432)-FIND(\"[\",SNPs!B432)-1),\"\")","v":""},{"$f":"IF(SNPs!B432<>\"\",MID(SNPs!B432,FIND(\"[\",SNPs!B432)+3,FIND(\"/\",SNPs!B432)-FIND(\"/\",SNPs!B432)+1),\"\")","v":""},{"$f":"IF(SNPs!B432<>\"\",SNPs!B432,\"\")","v":""}]
[{"$f":"IF(SNPs!A433<>\"\",SNPs!A433,\"\")","v":""},{"$f":"IF(SNPs!B433<>\"\",MID(SNPs!B433,FIND(\"[\",SNPs!B433)+1,FIND(\"/\",SNPs!B433)-FIND(\"[\",SNPs!B433)-1),\"\")","v":""},{"$f":"IF(SNPs!B433<>\"\",MID(SNPs!B433,FIND(\"[\",SNPs!B433)+3,FIND(\"/\",SNPs!B433)-FIND(\"/\",SNPs!B433)+1),\"\")","v":""},{"$f":"IF(SNPs!B433<>\"\",SNPs!B433,\"\")","v":""}]
[{"$f":"IF(SNPs!A434<>\"\",SNPs!A434,\"\")","v":""},{"$f":"IF(SNPs!B434<>\"\",MID(SNPs!B434,FIND(\"[\",SNPs!B434)+1,FIND(\"/\",SNPs!B434)-FIND(\"[\",SNPs!B434)-1),\"\")","v":""},{"$f":"IF(SNPs!B434<>\"\",MID(SNPs!B434,FIND(\"[\",SNPs!B434)+3,FIND(\"/\",SNPs!B434)-FIND(\"/\",SNPs!B434)+1),\"\")","v":""},{"$f":"IF(SNPs!B434<>\"\",SNPs!B434,\"\")","v":""}]
[{"$f":"IF(SNPs!A435<>\"\",SNPs!A435,\"\")","v":""},{"$f":"IF(SNPs!B435<>\"\",MID(SNPs!B435,FIND(\"[\",SNPs!B435)+1,FIND(\"/\",SNPs!B435)-FIND(\"[\",SNPs!B435)-1),\"\")","v":""},{"$f":"IF(SNPs!B435<>\"\",MID(SNPs!B435,FIND(\"[\",SNPs!B435)+3,FIND(\"/\",SNPs!B435)-FIND(\"/\",SNPs!B435)+1),\"\")","v":""},{"$f":"IF(SNPs!B435<>\"\",SNPs!B435,\"\")","v":""}]
[{"$f":"IF(SNPs!A436<>\"\",SNPs!A436,\"\")","v":""},{"$f":"IF(SNPs!B436<>\"\",MID(SNPs!B436,FIND(\"[\",SNPs!B436)+1,FIND(\"/\",SNPs!B436)-FIND(\"[\",SNPs!B436)-1),\"\")","v":""},{"$f":"IF(SNPs!B436<>\"\",MID(SNPs!B436,FIND(\"[\",SNPs!B436)+3,FIND(\"/\",SNPs!B436)-FIND(\"/\",SNPs!B436)+1),\"\")","v":""},{"$f":"IF(SNPs!B436<>\"\",SNPs!B436,\"\")","v":""}]
[{"$f":"IF(SNPs!A437<>\"\",SNPs!A437,\"\")","v":""},{"$f":"IF(SNPs!B437<>\"\",MID(SNPs!B437,FIND(\"[\",SNPs!B437)+1,FIND(\"/\",SNPs!B437)-FIND(\"[\",SNPs!B437)-1),\"\")","v":""},{"$f":"IF(SNPs!B437<>\"\",MID(SNPs!B437,FIND(\"[\",SNPs!B437)+3,FIND(\"/\",SNPs!B437)-FIND(\"/\",SNPs!B437)+1),\"\")","v":""},{"$f":"IF(SNPs!B437<>\"\",SNPs!B437,\"\")","v":""}]
[{"$f":"IF(SNPs!A438<>\"\",SNPs!A438,\"\")","v":""},{"$f":"IF(SNPs!B438<>\"\",MID(SNPs!B438,FIND(\"[\",SNPs!B438)+1,FIND(\"/\",SNPs!B438)-FIND(\"[\",SNPs!B438)-1),\"\")","v":""},{"$f":"IF(SNPs!B438<>\"\",MID(SNPs!B438,FIND(\"[\",SNPs!B438)+3,FIND(\"/\",SNPs!B438)-FIND(\"/\",SNPs!B438)+1),\"\")","v":""},{"$f":"IF(SNPs!B438<>\"\",SNPs!B438,\"\")","v":""}]
[{"$f":"IF(SNPs!A439<>\"\",SNPs!A439,\"\")","v":""},{"$f":"IF(SNPs!B439<>\"\",MID(SNPs!B439,FIND(\"[\",SNPs!B439)+1,FIND(\"/\",SNPs!B439)-FIND(\"[\",SNPs!B439)-1),\"\")","v":""},{"$f":"IF(SNPs!B439<>\"\",MID(SNPs!B439,FIND(\"[\",SNPs!B439)+3,FIND(\"/\",SNPs!B439)-FIND(\"/\",SNPs!B439)+1),\"\")","v":""},{"$f":"IF(SNPs!B439<>\"\",SNPs!B439,\"\")","v":""}]
[{"$f":"IF(SNPs!A440<>\"\",SNPs!A440,\"\")","v":""},{"$f":"IF(SNPs!B440<>\"\",MID(SNPs!B440,FIND(\"[\",SNPs!B440)+1,FIND(\"/\",SNPs!B440)-FIND(\"[\",SNPs!B440)-1),\"\")","v":""},{"$f":"IF(SNPs!B440<>\"\",MID(SNPs!B440,FIND(\"[\",SNPs!B440)+3,FIND(\"/\",SNPs!B440)-FIND(\"/\",SNPs!B440)+1),\"\")","v":""},{"$f":"IF(SNPs!B440<>\"\",SNPs!B440,\"\")","v":""}]
[{"$f":"IF(SNPs!A441<>\"\",SNPs!A441,\"\")","v":""},{"$f":"IF(SNPs!B441<>\"\",MID(SNPs!B441,FIND(\"[\",SNPs!B441)+1,FIND(\"/\",SNPs!B441)-FIND(\"[\",SNPs!B441)-1),\"\")","v":""},{"$f":"IF(SNPs!B441<>\"\",MID(SNPs!B441,FIND(\"[\",SNPs!B441)+3,FIND(\"/\",SNPs!B441)-FIND(\"/\",SNPs!B441)+1),\"\")","v":""},{"$f":"IF(SNPs!B441<>\"\",SNPs!B441,\"\")","v":""}]
[{"$f":"IF(SNPs!A442<>\"\",SNPs!A442,\"\")","v":""},{"$f":"IF(SNPs!B442<>\"\",MID(SNPs!B442,FIND(\"[\",SNPs!B442)+1,FIND(\"/\",SNPs!B442)-FIND(\"[\",SNPs!B442)-1),\"\")","v":""},{"$f":"IF(SNPs!B442<>\"\",MID(SNPs!B442,FIND(\"[\",SNPs!B442)+3,FIND(\"/\",SNPs!B442)-FIND(\"/\",SNPs!B442)+1),\"\")","v":""},{"$f":"IF(SNPs!B442<>\"\",SNPs!B442,\"\")","v":""}]
[{"$f":"IF(SNPs!A443<>\"\",SNPs!A443,\"\")","v":""},{"$f":"IF(SNPs!B443<>\"\",MID(SNPs!B443,FIND(\"[\",SNPs!B443)+1,FIND(\"/\",SNPs!B443)-FIND(\"[\",SNPs!B443)-1),\"\")","v":""},{"$f":"IF(SNPs!B443<>\"\",MID(SNPs!B443,FIND(\"[\",SNPs!B443)+3,FIND(\"/\",SNPs!B443)-FIND(\"/\",SNPs!B443)+1),\"\")","v":""},{"$f":"IF(SNPs!B443<>\"\",SNPs!B443,\"\")","v":""}]
[{"$f":"IF(SNPs!A444<>\"\",SNPs!A444,\"\")","v":""},{"$f":"IF(SNPs!B444<>\"\",MID(SNPs!B444,FIND(\"[\",SNPs!B444)+1,FIND(\"/\",SNPs!B444)-FIND(\"[\",SNPs!B444)-1),\"\")","v":""},{"$f":"IF(SNPs!B444<>\"\",MID(SNPs!B444,FIND(\"[\",SNPs!B444)+3,FIND(\"/\",SNPs!B444)-FIND(\"/\",SNPs!B444)+1),\"\")","v":""},{"$f":"IF(SNPs!B444<>\"\",SNPs!B444,\"\")","v":""}]
[{"$f":"IF(SNPs!A445<>\"\",SNPs!A445,\"\")","v":""},{"$f":"IF(SNPs!B445<>\"\",MID(SNPs!B445,FIND(\"[\",SNPs!B445)+1,FIND(\"/\",SNPs!B445)-FIND(\"[\",SNPs!B445)-1),\"\")","v":""},{"$f":"IF(SNPs!B445<>\"\",MID(SNPs!B445,FIND(\"[\",SNPs!B445)+3,FIND(\"/\",SNPs!B445)-FIND(\"/\",SNPs!B445)+1),\"\")","v":""},{"$f":"IF(SNPs!B445<>\"\",SNPs!B445,\"\")","v":""}]
[{"$f":"IF(SNPs!A446<>\"\",SNPs!A446,\"\")","v":""},{"$f":"IF(SNPs!B446<>\"\",MID(SNPs!B446,FIND(\"[\",SNPs!B446)+1,FIND(\"/\",SNPs!B446)-FIND(\"[\",SNPs!B446)-1),\"\")","v":""},{"$f":"IF(SNPs!B446<>\"\",MID(SNPs!B446,FIND(\"[\",SNPs!B446)+3,FIND(\"/\",SNPs!B446)-FIND(\"/\",SNPs!B446)+1),\"\")","v":""},{"$f":"IF(SNPs!B446<>\"\",SNPs!B446,\"\")","v":""}]
[{"$f":"IF(SNPs!A447<>\"\",SNPs!A447,\"\")","v":""},{"$f":"IF(SNPs!B447<>\"\",MID(SNPs!B447,FIND(\"[\",SNPs!B447)+1,FIND(\"/\",SNPs!B447)-FIND(\"[\",SNPs!B447)-1),\"\")","v":""},{"$f":"IF(SNPs!B447<>\"\",MID(SNPs!B447,FIND(\"[\",SNPs!B447)+3,FIND(\"/\",SNPs!B447)-FIND(\"/\",SNPs!B447)+1),\"\")","v":""},{"$f":"IF(SNPs!B447<>\"\",SNPs!B447,\"\")","v":""}]
[{"$f":"IF(SNPs!A448<>\"\",SNPs!A448,\"\")","v":""},{"$f":"IF(SNPs!B448<>\"\",MID(SNPs!B448,FIND(\"[\",SNPs!B448)+1,FIND(\"/\",SNPs!B448)-FIND(\"[\",SNPs!B448)-1),\"\")","v":""},{"$f":"IF(SNPs!B448<>\"\",MID(SNPs!B448,FIND(\"[\",SNPs!B448)+3,FIND(\"/\",SNPs!B448)-FIND(\"/\",SNPs!B448)+1),\"\")","v":""},{"$f":"IF(SNPs!B448<>\"\",SNPs!B448,\"\")","v":""}]
[{"$f":"IF(SNPs!A449<>\"\",SNPs!A449,\"\")","v":""},{"$f":"IF(SNPs!B449<>\"\",MID(SNPs!B449,FIND(\"[\",SNPs!B449)+1,FIND(\"/\",SNPs!B449)-FIND(\"[\",SNPs!B449)-1),\"\")","v":""},{"$f":"IF(SNPs!B449<>\"\",MID(SNPs!B449,FIND(\"[\",SNPs!B449)+3,FIND(\"/\",SNPs!B449)-FIND(\"/\",SNPs!B449)+1),\"\")","v":""},{"$f":"IF(SNPs!B449<>\"\",SNPs!B449,\"\")","v":""}]
[{"$f":"IF(SNPs!A450<>\"\",SNPs!A450,\"\")","v":""},{"$f":"IF(SNPs!B450<>\"\",MID(SNPs!B450,FIND(\"[\",SNPs!B450)+1,FIND(\"/\",SNPs!B450)-FIND(\"[\",SNPs!B450)-1),\"\")","v":""},{"$f":"IF(SNPs!B450<>\"\",MID(SNPs!B450,FIND(\"[\",SNPs!B450)+3,FIND(\"/\",SNPs!B450)-FIND(\"/\",SNPs!B450)+1),\"\")","v":""},{"$f":"IF(SNPs!B450<>\"\",SNPs!B450,\"\")","v":""}]
[{"$f":"IF(SNPs!A451<>\"\",SNPs!A451,\"\")","v":""},{"$f":"IF(SNPs!B451<>\"\",MID(SNPs!B451,FIND(\"[\",SNPs!B451)+1,FIND(\"/\",SNPs!B451)-FIND(\"[\",SNPs!B451)-1),\"\")","v":""},{"$f":"IF(SNPs!B451<>\"\",MID(SNPs!B451,FIND(\"[\",SNPs!B451)+3,FIND(\"/\",SNPs!B451)-FIND(\"/\",SNPs!B451)+1),\"\")","v":""},{"$f":"IF(SNPs!B451<>\"\",SNPs!B451,\"\")","v":""}]
[{"$f":"IF(SNPs!A452<>\"\",SNPs!A452,\"\")","v":""},{"$f":"IF(SNPs!B452<>\"\",MID(SNPs!B452,FIND(\"[\",SNPs!B452)+1,FIND(\"/\",SNPs!B452)-FIND(\"[\",SNPs!B452)-1),\"\")","v":""},{"$f":"IF(SNPs!B452<>\"\",MID(SNPs!B452,FIND(\"[\",SNPs!B452)+3,FIND(\"/\",SNPs!B452)-FIND(\"/\",SNPs!B452)+1),\"\")","v":""},{"$f":"IF(SNPs!B452<>\"\",SNPs!B452,\"\")","v":""}]
[{"$f":"IF(SNPs!A453<>\"\",SNPs!A453,\"\")","v":""},{"$f":"IF(SNPs!B453<>\"\",MID(SNPs!B453,FIND(\"[\",SNPs!B453)+1,FIND(\"/\",SNPs!B453)-FIND(\"[\",SNPs!B453)-1),\"\")","v":""},{"$f":"IF(SNPs!B453<>\"\",MID(SNPs!B453,FIND(\"[\",SNPs!B453)+3,FIND(\"/\",SNPs!B453)-FIND(\"/\",SNPs!B453)+1),\"\")","v":""},{"$f":"IF(SNPs!B453<>\"\",SNPs!B453,\"\")","v":""}]
[{"$f":"IF(SNPs!A454<>\"\",SNPs!A454,\"\")","v":""},{"$f":"IF(SNPs!B454<>\"\",MID(SNPs!B454,FIND(\"[\",SNPs!B454)+1,FIND(\"/\",SNPs!B454)-FIND(\"[\",SNPs!B454)-1),\"\")","v":""},{"$f":"IF(SNPs!B454<>\"\",MID(SNPs!B454,FIND(\"[\",SNPs!B454)+3,FIND(\"/\",SNPs!B454)-FIND(\"/\",SNPs!B454)+1),\"\")","v":""},{"$f":"IF(SNPs!B454<>\"\",SNPs!B454,\"\")","v":""}]
[{"$f":"IF(SNPs!A455<>\"\",SNPs!A455,\"\")","v":""},{"$f":"IF(SNPs!B455<>\"\",MID(SNPs!B455,FIND(\"[\",SNPs!B455)+1,FIND(\"/\",SNPs!B455)-FIND(\"[\",SNPs!B455)-1),\"\")","v":""},{"$f":"IF(SNPs!B455<>\"\",MID(SNPs!B455,FIND(\"[\",SNPs!B455)+3,FIND(\"/\",SNPs!B455)-FIND(\"/\",SNPs!B455)+1),\"\")","v":""},{"$f":"IF(SNPs!B455<>\"\",SNPs!B455,\"\")","v":""}]
[{"$f":"IF(SNPs!A456<>\"\",SNPs!A456,\"\")","v":""},{"$f":"IF(SNPs!B456<>\"\",MID(SNPs!B456,FIND(\"[\",SNPs!B456)+1,FIND(\"/\",SNPs!B456)-FIND(\"[\",SNPs!B456)-1),\"\")","v":""},{"$f":"IF(SNPs!B456<>\"\",MID(SNPs!B456,FIND(\"[\",SNPs!B456)+3,FIND(\"/\",SNPs!B456)-FIND(\"/\",SNPs!B456)+1),\"\")","v":""},{"$f":"IF(SNPs!B456<>\"\",SNPs!B456,\"\")","v":""}]
[{"$f":"IF(SNPs!A457<>\"\",SNPs!A457,\"\")","v":""},{"$f":"IF(SNPs!B457<>\"\",MID(SNPs!B457,FIND(\"[\",SNPs!B457)+1,FIND(\"/\",SNPs!B457)-FIND(\"[\",SNPs!B457)-1),\"\")","v":""},{"$f":"IF(SNPs!B457<>\"\",MID(SNPs!B457,FIND(\"[\",SNPs!B457)+3,FIND(\"/\",SNPs!B457)-FIND(\"/\",SNPs!B457)+1),\"\")","v":""},{"$f":"IF(SNPs!B457<>\"\",SNPs!B457,\"\")","v":""}]
[{"$f":"IF(SNPs!A458<>\"\",SNPs!A458,\"\")","v":""},{"$f":"IF(SNPs!B458<>\"\",MID(SNPs!B458,FIND(\"[\",SNPs!B458)+1,FIND(\"/\",SNPs!B458)-FIND(\"[\",SNPs!B458)-1),\"\")","v":""},{"$f":"IF(SNPs!B458<>\"\",MID(SNPs!B458,FIND(\"[\",SNPs!B458)+3,FIND(\"/\",SNPs!B458)-FIND(\"/\",SNPs!B458)+1),\"\")","v":""},{"$f":"IF(SNPs!B458<>\"\",SNPs!B458,\"\")","v":""}]
[{"$f":"IF(SNPs!A459<>\"\",SNPs!A459,\"\")","v":""},{"$f":"IF(SNPs!B459<>\"\",MID(SNPs!B459,FIND(\"[\",SNPs!B459)+1,FIND(\"/\",SNPs!B459)-FIND(\"[\",SNPs!B459)-1),\"\")","v":""},{"$f":"IF(SNPs!B459<>\"\",MID(SNPs!B459,FIND(\"[\",SNPs!B459)+3,FIND(\"/\",SNPs!B459)-FIND(\"/\",SNPs!B459)+1),\"\")","v":""},{"$f":"IF(SNPs!B459<>\"\",SNPs!B459,\"\")","v":""}]
[{"$f":"IF(SNPs!A460<>\"\",SNPs!A460,\"\")","v":""},{"$f":"IF(SNPs!B460<>\"\",MID(SNPs!B460,FIND(\"[\",SNPs!B460)+1,FIND(\"/\",SNPs!B460)-FIND(\"[\",SNPs!B460)-1),\"\")","v":""},{"$f":"IF(SNPs!B460<>\"\",MID(SNPs!B460,FIND(\"[\",SNPs!B460)+3,FIND(\"/\",SNPs!B460)-FIND(\"/\",SNPs!B460)+1),\"\")","v":""},{"$f":"IF(SNPs!B460<>\"\",SNPs!B460,\"\")","v":""}]
[{"$f":"IF(SNPs!A461<>\"\",SNPs!A461,\"\")","v":""},{"$f":"IF(SNPs!B461<>\"\",MID(SNPs!B461,FIND(\"[\",SNPs!B461)+1,FIND(\"/\",SNPs!B461)-FIND(\"[\",SNPs!B461)-1),\"\")","v":""},{"$f":"IF(SNPs!B461<>\"\",MID(SNPs!B461,FIND(\"[\",SNPs!B461)+3,FIND(\"/\",SNPs!B461)-FIND(\"/\",SNPs!B461)+1),\"\")","v":""},{"$f":"IF(SNPs!B461<>\"\",SNPs!B461,\"\")","v":""}]
[{"$f":"IF(SNPs!A462<>\"\",SNPs!A462,\"\")","v":""},{"$f":"IF(SNPs!B462<>\"\",MID(SNPs!B462,FIND(\"[\",SNPs!B462)+1,FIND(\"/\",SNPs!B462)-FIND(\"[\",SNPs!B462)-1),\"\")","v":""},{"$f":"IF(SNPs!B462<>\"\",MID(SNPs!B462,FIND(\"[\",SNPs!B462)+3,FIND(\"/\",SNPs!B462)-FIND(\"/\",SNPs!B462)+1),\"\")","v":""},{"$f":"IF(SNPs!B462<>\"\",SNPs!B462,\"\")","v":""}]
[{"$f":"IF(SNPs!A463<>\"\",SNPs!A463,\"\")","v":""},{"$f":"IF(SNPs!B463<>\"\",MID(SNPs!B463,FIND(\"[\",SNPs!B463)+1,FIND(\"/\",SNPs!B463)-FIND(\"[\",SNPs!B463)-1),\"\")","v":""},{"$f":"IF(SNPs!B463<>\"\",MID(SNPs!B463,FIND(\"[\",SNPs!B463)+3,FIND(\"/\",SNPs!B463)-FIND(\"/\",SNPs!B463)+1),\"\")","v":""},{"$f":"IF(SNPs!B463<>\"\",SNPs!B463,\"\")","v":""}]
[{"$f":"IF(SNPs!A464<>\"\",SNPs!A464,\"\")","v":""},{"$f":"IF(SNPs!B464<>\"\",MID(SNPs!B464,FIND(\"[\",SNPs!B464)+1,FIND(\"/\",SNPs!B464)-FIND(\"[\",SNPs!B464)-1),\"\")","v":""},{"$f":"IF(SNPs!B464<>\"\",MID(SNPs!B464,FIND(\"[\",SNPs!B464)+3,FIND(\"/\",SNPs!B464)-FIND(\"/\",SNPs!B464)+1),\"\")","v":""},{"$f":"IF(SNPs!B464<>\"\",SNPs!B464,\"\")","v":""}]
[{"$f":"IF(SNPs!A465<>\"\",SNPs!A465,\"\")","v":""},{"$f":"IF(SNPs!B465<>\"\",MID(SNPs!B465,FIND(\"[\",SNPs!B465)+1,FIND(\"/\",SNPs!B465)-FIND(\"[\",SNPs!B465)-1),\"\")","v":""},{"$f":"IF(SNPs!B465<>\"\",MID(SNPs!B465,FIND(\"[\",SNPs!B465)+3,FIND(\"/\",SNPs!B465)-FIND(\"/\",SNPs!B465)+1),\"\")","v":""},{"$f":"IF(SNPs!B465<>\"\",SNPs!B465,\"\")","v":""}]
[{"$f":"IF(SNPs!A466<>\"\",SNPs!A466,\"\")","v":""},{"$f":"IF(SNPs!B466<>\"\",MID(SNPs!B466,FIND(\"[\",SNPs!B466)+1,FIND(\"/\",SNPs!B466)-FIND(\"[\",SNPs!B466)-1),\"\")","v":""},{"$f":"IF(SNPs!B466<>\"\",MID(SNPs!B466,FIND(\"[\",SNPs!B466)+3,FIND(\"/\",SNPs!B466)-FIND(\"/\",SNPs!B466)+1),\"\")","v":""},{"$f":"IF(SNPs!B466<>\"\",SNPs!B466,\"\")","v":""}]
[{"$f":"IF(SNPs!A467<>\"\",SNPs!A467,\"\")","v":""},{"$f":"IF(SNPs!B467<>\"\",MID(SNPs!B467,FIND(\"[\",SNPs!B467)+1,FIND(\"/\",SNPs!B467)-FIND(\"[\",SNPs!B467)-1),\"\")","v":""},{"$f":"IF(SNPs!B467<>\"\",MID(SNPs!B467,FIND(\"[\",SNPs!B467)+3,FIND(\"/\",SNPs!B467)-FIND(\"/\",SNPs!B467)+1),\"\")","v":""},{"$f":"IF(SNPs!B467<>\"\",SNPs!B467,\"\")","v":""}]
[{"$f":"IF(SNPs!A468<>\"\",SNPs!A468,\"\")","v":""},{"$f":"IF(SNPs!B468<>\"\",MID(SNPs!B468,FIND(\"[\",SNPs!B468)+1,FIND(\"/\",SNPs!B468)-FIND(\"[\",SNPs!B468)-1),\"\")","v":""},{"$f":"IF(SNPs!B468<>\"\",MID(SNPs!B468,FIND(\"[\",SNPs!B468)+3,FIND(\"/\",SNPs!B468)-FIND(\"/\",SNPs!B468)+1),\"\")","v":""},{"$f":"IF(SNPs!B468<>\"\",SNPs!B468,\"\")","v":""}]
[{"$f":"IF(SNPs!A469<>\"\",SNPs!A469,\"\")","v":""},{"$f":"IF(SNPs!B469<>\"\",MID(SNPs!B469,FIND(\"[\",SNPs!B469)+1,FIND(\"/\",SNPs!B469)-FIND(\"[\",SNPs!B469)-1),\"\")","v":""},{"$f":"IF(SNPs!B469<>\"\",MID(SNPs!B469,FIND(\"[\",SNPs!B469)+3,FIND(\"/\",SNPs!B469)-FIND(\"/\",SNPs!B469)+1),\"\")","v":""},{"$f":"IF(SNPs!B469<>\"\",SNPs!B469,\"\")","v":""}]
[{"$f":"IF(SNPs!A470<>\"\",SNPs!A470,\"\")","v":""},{"$f":"IF(SNPs!B470<>\"\",MID(SNPs!B470,FIND(\"[\",SNPs!B470)+1,FIND(\"/\",SNPs!B470)-FIND(\"[\",SNPs!B470)-1),\"\")","v":""},{"$f":"IF(SNPs!B470<>\"\",MID(SNPs!B470,FIND(\"[\",SNPs!B470)+3,FIND(\"/\",SNPs!B470)-FIND(\"/\",SNPs!B470)+1),\"\")","v":""},{"$f":"IF(SNPs!B470<>\"\",SNPs!B470,\"\")","v":""}]
[{"$f":"IF(SNPs!A471<>\"\",SNPs!A471,\"\")","v":""},{"$f":"IF(SNPs!B471<>\"\",MID(SNPs!B471,FIND(\"[\",SNPs!B471)+1,FIND(\"/\",SNPs!B471)-FIND(\"[\",SNPs!B471)-1),\"\")","v":""},{"$f":"IF(SNPs!B471<>\"\",MID(SNPs!B471,FIND(\"[\",SNPs!B471)+3,FIND(\"/\",SNPs!B471)-FIND(\"/\",SNPs!B471)+1),\"\")","v":""},{"$f":"IF(SNPs!B471<>\"\",SNPs!B471,\"\")","v":""}]
[{"$f":"IF(SNPs!A472<>\"\",SNPs!A472,\"\")","v":""},{"$f":"IF(SNPs!B472<>\"\",MID(SNPs!B472,FIND(\"[\",SNPs!B472)+1,FIND(\"/\",SNPs!B472)-FIND(\"[\",SNPs!B472)-1),\"\")","v":""},{"$f":"IF(SNPs!B472<>\"\",MID(SNPs!B472,FIND(\"[\",SNPs!B472)+3,FIND(\"/\",SNPs!B472)-FIND(\"/\",SNPs!B472)+1),\"\")","v":""},{"$f":"IF(SNPs!B472<>\"\",SNPs!B472,\"\")","v":""}]
[{"$f":"IF(SNPs!A473<>\"\",SNPs!A473,\"\")","v":""},{"$f":"IF(SNPs!B473<>\"\",MID(SNPs!B473,FIND(\"[\",SNPs!B473)+1,FIND(\"/\",SNPs!B473)-FIND(\"[\",SNPs!B473)-1),\"\")","v":""},{"$f":"IF(SNPs!B473<>\"\",MID(SNPs!B473,FIND(\"[\",SNPs!B473)+3,FIND(\"/\",SNPs!B473)-FIND(\"/\",SNPs!B473)+1),\"\")","v":""},{"$f":"IF(SNPs!B473<>\"\",SNPs!B473,\"\")","v":""}]
[{"$f":"IF(SNPs!A474<>\"\",SNPs!A474,\"\")","v":""},{"$f":"IF(SNPs!B474<>\"\",MID(SNPs!B474,FIND(\"[\",SNPs!B474)+1,FIND(\"/\",SNPs!B474)-FIND(\"[\",SNPs!B474)-1),\"\")","v":""},{"$f":"IF(SNPs!B474<>\"\",MID(SNPs!B474,FIND(\"[\",SNPs!B474)+3,FIND(\"/\",SNPs!B474)-FIND(\"/\",SNPs!B474)+1),\"\")","v":""},{"$f":"IF(SNPs!B474<>\"\",SNPs!B474,\"\")","v":""}]
[{"$f":"IF(SNPs!A475<>\"\",SNPs!A475,\"\")","v":""},{"$f":"IF(SNPs!B475<>\"\",MID(SNPs!B475,FIND(\"[\",SNPs!B475)+1,FIND(\"/\",SNPs!B475)-FIND(\"[\",SNPs!B475)-1),\"\")","v":""},{"$f":"IF(SNPs!B475<>\"\",MID(SNPs!B475,FIND(\"[\",SNPs!B475)+3,FIND(\"/\",SNPs!B475)-FIND(\"/\",SNPs!B475)+1),\"\")","v":""},{"$f":"IF(SNPs!B475<>\"\",SNPs!B475,\"\")","v":""}]
[{"$f":"IF(SNPs!A476<>\"\",SNPs!A476,\"\")","v":""},{"$f":"IF(SNPs!B476<>\"\",MID(SNPs!B476,FIND(\"[\",SNPs!B476)+1,FIND(\"/\",SNPs!B476)-FIND(\"[\",SNPs!B476)-1),\"\")","v":""},{"$f":"IF(SNPs!B476<>\"\",MID(SNPs!B476,FIND(\"[\",SNPs!B476)+3,FIND(\"/\",SNPs!B476)-FIND(\"/\",SNPs!B476)+1),\"\")","v":""},{"$f":"IF(SNPs!B476<>\"\",SNPs!B476,\"\")","v":""}]
[{"$f":"IF(SNPs!A477<>\"\",SNPs!A477,\"\")","v":""},{"$f":"IF(SNPs!B477<>\"\",MID(SNPs!B477,FIND(\"[\",SNPs!B477)+1,FIND(\"/\",SNPs!B477)-FIND(\"[\",SNPs!B477)-1),\"\")","v":""},{"$f":"IF(SNPs!B477<>\"\",MID(SNPs!B477,FIND(\"[\",SNPs!B477)+3,FIND(\"/\",SNPs!B477)-FIND(\"/\",SNPs!B477)+1),\"\")","v":""},{"$f":"IF(SNPs!B477<>\"\",SNPs!B477,\"\")","v":""}]
[{"$f":"IF(SNPs!A478<>\"\",SNPs!A478,\"\")","v":""},{"$f":"IF(SNPs!B478<>\"\",MID(SNPs!B478,FIND(\"[\",SNPs!B478)+1,FIND(\"/\",SNPs!B478)-FIND(\"[\",SNPs!B478)-1),\"\")","v":""},{"$f":"IF(SNPs!B478<>\"\",MID(SNPs!B478,FIND(\"[\",SNPs!B478)+3,FIND(\"/\",SNPs!B478)-FIND(\"/\",SNPs!B478)+1),\"\")","v":""},{"$f":"IF(SNPs!B478<>\"\",SNPs!B478,\"\")","v":""}]
[{"$f":"IF(SNPs!A479<>\"\",SNPs!A479,\"\")","v":""},{"$f":"IF(SNPs!B479<>\"\",MID(SNPs!B479,FIND(\"[\",SNPs!B479)+1,FIND(\"/\",SNPs!B479)-FIND(\"[\",SNPs!B479)-1),\"\")","v":""},{"$f":"IF(SNPs!B479<>\"\",MID(SNPs!B479,FIND(\"[\",SNPs!B479)+3,FIND(\"/\",SNPs!B479)-FIND(\"/\",SNPs!B479)+1),\"\")","v":""},{"$f":"IF(SNPs!B479<>\"\",SNPs!B479,\"\")","v":""}]
[{"$f":"IF(SNPs!A480<>\"\",SNPs!A480,\"\")","v":""},{"$f":"IF(SNPs!B480<>\"\",MID(SNPs!B480,FIND(\"[\",SNPs!B480)+1,FIND(\"/\",SNPs!B480)-FIND(\"[\",SNPs!B480)-1),\"\")","v":""},{"$f":"IF(SNPs!B480<>\"\",MID(SNPs!B480,FIND(\"[\",SNPs!B480)+3,FIND(\"/\",SNPs!B480)-FIND(\"/\",SNPs!B480)+1),\"\")","v":""},{"$f":"IF(SNPs!B480<>\"\",SNPs!B480,\"\")","v":""}]
[{"$f":"IF(SNPs!A481<>\"\",SNPs!A481,\"\")","v":""},{"$f":"IF(SNPs!B481<>\"\",MID(SNPs!B481,FIND(\"[\",SNPs!B481)+1,FIND(\"/\",SNPs!B481)-FIND(\"[\",SNPs!B481)-1),\"\")","v":""},{"$f":"IF(SNPs!B481<>\"\",MID(SNPs!B481,FIND(\"[\",SNPs!B481)+3,FIND(\"/\",SNPs!B481)-FIND(\"/\",SNPs!B481)+1),\"\")","v":""},{"$f":"IF(SNPs!B481<>\"\",SNPs!B481,\"\")","v":""}]
[{"$f":"IF(SNPs!A482<>\"\",SNPs!A482,\"\")","v":""},{"$f":"IF(SNPs!B482<>\"\",MID(SNPs!B482,FIND(\"[\",SNPs!B482)+1,FIND(\"/\",SNPs!B482)-FIND(\"[\",SNPs!B482)-1),\"\")","v":""},{"$f":"IF(SNPs!B482<>\"\",MID(SNPs!B482,FIND(\"[\",SNPs!B482)+3,FIND(\"/\",SNPs!B482)-FIND(\"/\",SNPs!B482)+1),\"\")","v":""},{"$f":"IF(SNPs!B482<>\"\",SNPs!B482,\"\")","v":""}]
[{"$f":"IF(SNPs!A483<>\"\",SNPs!A483,\"\")","v":""},{"$f":"IF(SNPs!B483<>\"\",MID(SNPs!B483,FIND(\"[\",SNPs!B483)+1,FIND(\"/\",SNPs!B483)-FIND(\"[\",SNPs!B483)-1),\"\")","v":""},{"$f":"IF(SNPs!B483<>\"\",MID(SNPs!B483,FIND(\"[\",SNPs!B483)+3,FIND(\"/\",SNPs!B483)-FIND(\"/\",SNPs!B483)+1),\"\")","v":""},{"$f":"IF(SNPs!B483<>\"\",SNPs!B483,\"\")","v":""}]
[{"$f":"IF(SNPs!A484<>\"\",SNPs!A484,\"\")","v":""},{"$f":"IF(SNPs!B484<>\"\",MID(SNPs!B484,FIND(\"[\",SNPs!B484)+1,FIND(\"/\",SNPs!B484)-FIND(\"[\",SNPs!B484)-1),\"\")","v":""},{"$f":"IF(SNPs!B484<>\"\",MID(SNPs!B484,FIND(\"[\",SNPs!B484)+3,FIND(\"/\",SNPs!B484)-FIND(\"/\",SNPs!B484)+1),\"\")","v":""},{"$f":"IF(SNPs!B484<>\"\",SNPs!B484,\"\")","v":""}]
[{"$f":"IF(SNPs!A485<>\"\",SNPs!A485,\"\")","v":""},{"$f":"IF(SNPs!B485<>\"\",MID(SNPs!B485,FIND(\"[\",SNPs!B485)+1,FIND(\"/\",SNPs!B485)-FIND(\"[\",SNPs!B485)-1),\"\")","v":""},{"$f":"IF(SNPs!B485<>\"\",MID(SNPs!B485,FIND(\"[\",SNPs!B485)+3,FIND(\"/\",SNPs!B485)-FIND(\"/\",SNPs!B485)+1),\"\")","v":""},{"$f":"IF(SNPs!B485<>\"\",SNPs!B485,\"\")","v":""}]
[{"$f":"IF(SNPs!A486<>\"\",SNPs!A486,\"\")","v":""},{"$f":"IF(SNPs!B486<>\"\",MID(SNPs!B486,FIND(\"[\",SNPs!B486)+1,FIND(\"/\",SNPs!B486)-FIND(\"[\",SNPs!B486)-1),\"\")","v":""},{"$f":"IF(SNPs!B486<>\"\",MID(SNPs!B486,FIND(\"[\",SNPs!B486)+3,FIND(\"/\",SNPs!B486)-FIND(\"/\",SNPs!B486)+1),\"\")","v":""},{"$f":"IF(SNPs!B486<>\"\",SNPs!B486,\"\")","v":""}]
[{"$f":"IF(SNPs!A487<>\"\",SNPs!A487,\"\")","v":""},{"$f":"IF(SNPs!B487<>\"\",MID(SNPs!B487,FIND(\"[\",SNPs!B487)+1,FIND(\"/\",SNPs!B487)-FIND(\"[\",SNPs!B487)-1),\"\")","v":""},{"$f":"IF(SNPs!B487<>\"\",MID(SNPs!B487,FIND(\"[\",SNPs!B487)+3,FIND(\"/\",SNPs!B487)-FIND(\"/\",SNPs!B487)+1),\"\")","v":""},{"$f":"IF(SNPs!B487<>\"\",SNPs!B487,\"\")","v":""}]
[{"$f":"IF(SNPs!A488<>\"\",SNPs!A488,\"\")","v":""},{"$f":"IF(SNPs!B488<>\"\",MID(SNPs!B488,FIND(\"[\",SNPs!B488)+1,FIND(\"/\",SNPs!B488)-FIND(\"[\",SNPs!B488)-1),\"\")","v":""},{"$f":"IF(SNPs!B488<>\"\",MID(SNPs!B488,FIND(\"[\",SNPs!B488)+3,FIND(\"/\",SNPs!B488)-FIND(\"/\",SNPs!B488)+1),\"\")","v":""},{"$f":"IF(SNPs!B488<>\"\",SNPs!B488,\"\")","v":""}]
[{"$f":"IF(SNPs!A489<>\"\",SNPs!A489,\"\")","v":""},{"$f":"IF(SNPs!B489<>\"\",MID(SNPs!B489,FIND(\"[\",SNPs!B489)+1,FIND(\"/\",SNPs!B489)-FIND(\"[\",SNPs!B489)-1),\"\")","v":""},{"$f":"IF(SNPs!B489<>\"\",MID(SNPs!B489,FIND(\"[\",SNPs!B489)+3,FIND(\"/\",SNPs!B489)-FIND(\"/\",SNPs!B489)+1),\"\")","v":""},{"$f":"IF(SNPs!B489<>\"\",SNPs!B489,\"\")","v":""}]
[{"$f":"IF(SNPs!A490<>\"\",SNPs!A490,\"\")","v":""},{"$f":"IF(SNPs!B490<>\"\",MID(SNPs!B490,FIND(\"[\",SNPs!B490)+1,FIND(\"/\",SNPs!B490)-FIND(\"[\",SNPs!B490)-1),\"\")","v":""},{"$f":"IF(SNPs!B490<>\"\",MID(SNPs!B490,FIND(\"[\",SNPs!B490)+3,FIND(\"/\",SNPs!B490)-FIND(\"/\",SNPs!B490)+1),\"\")","v":""},{"$f":"IF(SNPs!B490<>\"\",SNPs!B490,\"\")","v":""}]
[{"$f":"IF(SNPs!A491<>\"\",SNPs!A491,\"\")","v":""},{"$f":"IF(SNPs!B491<>\"\",MID(SNPs!B491,FIND(\"[\",SNPs!B491)+1,FIND(\"/\",SNPs!B491)-FIND(\"[\",SNPs!B491)-1),\"\")","v":""},{"$f":"IF(SNPs!B491<>\"\",MID(SNPs!B491,FIND(\"[\",SNPs!B491)+3,FIND(\"/\",SNPs!B491)-FIND(\"/\",SNPs!B491)+1),\"\")","v":""},{"$f":"IF(SNPs!B491<>\"\",SNPs!B491,\"\")","v":""}]
[{"$f":"IF(SNPs!A492<>\"\",SNPs!A492,\"\")","v":""},{"$f":"IF(SNPs!B492<>\"\",MID(SNPs!B492,FIND(\"[\",SNPs!B492)+1,FIND(\"/\",SNPs!B492)-FIND(\"[\",SNPs!B492)-1),\"\")","v":""},{"$f":"IF(SNPs!B492<>\"\",MID(SNPs!B492,FIND(\"[\",SNPs!B492)+3,FIND(\"/\",SNPs!B492)-FIND(\"/\",SNPs!B492)+1),\"\")","v":""},{"$f":"IF(SNPs!B492<>\"\",SNPs!B492,\"\")","v":""}]
[{"$f":"IF(SNPs!A493<>\"\",SNPs!A493,\"\")","v":""},{"$f":"IF(SNPs!B493<>\"\",MID(SNPs!B493,FIND(\"[\",SNPs!B493)+1,FIND(\"/\",SNPs!B493)-FIND(\"[\",SNPs!B493)-1),\"\")","v":""},{"$f":"IF(SNPs!B493<>\"\",MID(SNPs!B493,FIND(\"[\",SNPs!B493)+3,FIND(\"/\",SNPs!B493)-FIND(\"/\",SNPs!B493)+1),\"\")","v":""},{"$f":"IF(SNPs!B493<>\"\",SNPs!B493,\"\")","v":""}]
[{"$f":"IF(SNPs!A494<>\"\",SNPs!A494,\"\")","v":""},{"$f":"IF(SNPs!B494<>\"\",MID(SNPs!B494,FIND(\"[\",SNPs!B494)+1,FIND(\"/\",SNPs!B494)-FIND(\"[\",SNPs!B494)-1),\"\")","v":""},{"$f":"IF(SNPs!B494<>\"\",MID(SNPs!B494,FIND(\"[\",SNPs!B494)+3,FIND(\"/\",SNPs!B494)-FIND(\"/\",SNPs!B494)+1),\"\")","v":""},{"$f":"IF(SNPs!B494<>\"\",SNPs!B494,\"\")","v":""}]
[{"$f":"IF(SNPs!A495<>\"\",SNPs!A495,\"\")","v":""},{"$f":"IF(SNPs!B495<>\"\",MID(SNPs!B495,FIND(\"[\",SNPs!B495)+1,FIND(\"/\",SNPs!B495)-FIND(\"[\",SNPs!B495)-1),\"\")","v":""},{"$f":"IF(SNPs!B495<>\"\",MID(SNPs!B495,FIND(\"[\",SNPs!B495)+3,FIND(\"/\",SNPs!B495)-FIND(\"/\",SNPs!B495)+1),\"\")","v":""},{"$f":"IF(SNPs!B495<>\"\",SNPs!B495,\"\")","v":""}]
[{"$f":"IF(SNPs!A496<>\"\",SNPs!A496,\"\")","v":""},{"$f":"IF(SNPs!B496<>\"\",MID(SNPs!B496,FIND(\"[\",SNPs!B496)+1,FIND(\"/\",SNPs!B496)-FIND(\"[\",SNPs!B496)-1),\"\")","v":""},{"$f":"IF(SNPs!B496<>\"\",MID(SNPs!B496,FIND(\"[\",SNPs!B496)+3,FIND(\"/\",SNPs!B496)-FIND(\"/\",SNPs!B496)+1),\"\")","v":""},{"$f":"IF(SNPs!B496<>\"\",SNPs!B496,\"\")","v":""}]
[{"$f":"IF(SNPs!A497<>\"\",SNPs!A497,\"\")","v":""},{"$f":"IF(SNPs!B497<>\"\",MID(SNPs!B497,FIND(\"[\",SNPs!B497)+1,FIND(\"/\",SNPs!B497)-FIND(\"[\",SNPs!B497)-1),\"\")","v":""},{"$f":"IF(SNPs!B497<>\"\",MID(SNPs!B497,FIND(\"[\",SNPs!B497)+3,FIND(\"/\",SNPs!B497)-FIND(\"/\",SNPs!B497)+1),\"\")","v":""},{"$f":"IF(SNPs!B497<>\"\",SNPs!B497,\"\")","v":""}]
[{"$f":"IF(SNPs!A498<>\"\",SNPs!A498,\"\")","v":""},{"$f":"IF(SNPs!B498<>\"\",MID(SNPs!B498,FIND(\"[\",SNPs!B498)+1,FIND(\"/\",SNPs!B498)-FIND(\"[\",SNPs!B498)-1),\"\")","v":""},{"$f":"IF(SNPs!B498<>\"\",MID(SNPs!B498,FIND(\"[\",SNPs!B498)+3,FIND(\"/\",SNPs!B498)-FIND(\"/\",SNPs!B498)+1),\"\")","v":""},{"$f":"IF(SNPs!B498<>\"\",SNPs!B498,\"\")","v":""}]
[{"$f":"IF(SNPs!A499<>\"\",SNPs!A499,\"\")","v":""},{"$f":"IF(SNPs!B499<>\"\",MID(SNPs!B499,FIND(\"[\",SNPs!B499)+1,FIND(\"/\",SNPs!B499)-FIND(\"[\",SNPs!B499)-1),\"\")","v":""},{"$f":"IF(SNPs!B499<>\"\",MID(SNPs!B499,FIND(\"[\",SNPs!B499)+3,FIND(\"/\",SNPs!B499)-FIND(\"/\",SNPs!B499)+1),\"\")","v":""},{"$f":"IF(SNPs!B499<>\"\",SNPs!B499,\"\")","v":""}]
[{"$f":"IF(SNPs!A500<>\"\",SNPs!A500,\"\")","v":""},{"$f":"IF(SNPs!B500<>\"\",MID(SNPs!B500,FIND(\"[\",SNPs!B500)+1,FIND(\"/\",SNPs!B500)-FIND(\"[\",SNPs!B500)-1),\"\")","v":""},{"$f":"IF(SNPs!B500<>\"\",MID(SNPs!B500,FIND(\"[\",SNPs!B500)+3,FIND(\"/\",SNPs!B500)-FIND(\"/\",SNPs!B500)+1),\"\")","v":""},{"$f":"IF(SNPs!B500<>\"\",SNPs!B500,\"\")","v":""}]
[{"$f":"IF(SNPs!A501<>\"\",SNPs!A501,\"\")","v":""},{"$f":"IF(SNPs!B501<>\"\",MID(SNPs!B501,FIND(\"[\",SNPs!B501)+1,FIND(\"/\",SNPs!B501)-FIND(\"[\",SNPs!B501)-1),\"\")","v":""},{"$f":"IF(SNPs!B501<>\"\",MID(SNPs!B501,FIND(\"[\",SNPs!B501)+3,FIND(\"/\",SNPs!B501)-FIND(\"/\",SNPs!B501)+1),\"\")","v":""},{"$f":"IF(SNPs!B501<>\"\",SNPs!B501,\"\")","v":""}]
[{"$f":"IF(SNPs!A502<>\"\",SNPs!A502,\"\")","v":""},{"$f":"IF(SNPs!B502<>\"\",MID(SNPs!B502,FIND(\"[\",SNPs!B502)+1,FIND(\"/\",SNPs!B502)-FIND(\"[\",SNPs!B502)-1),\"\")","v":""},{"$f":"IF(SNPs!B502<>\"\",MID(SNPs!B502,FIND(\"[\",SNPs!B502)+3,FIND(\"/\",SNPs!B502)-FIND(\"/\",SNPs!B502)+1),\"\")","v":""},{"$f":"IF(SNPs!B502<>\"\",SNPs!B502,\"\")","v":""}]
[{"$f":"IF(SNPs!A503<>\"\",SNPs!A503,\"\")","v":""},{"$f":"IF(SNPs!B503<>\"\",MID(SNPs!B503,FIND(\"[\",SNPs!B503)+1,FIND(\"/\",SNPs!B503)-FIND(\"[\",SNPs!B503)-1),\"\")","v":""},{"$f":"IF(SNPs!B503<>\"\",MID(SNPs!B503,FIND(\"[\",SNPs!B503)+3,FIND(\"/\",SNPs!B503)-FIND(\"/\",SNPs!B503)+1),\"\")","v":""},{"$f":"IF(SNPs!B503<>\"\",SNPs!B503,\"\")","v":""}]
[{"$f":"IF(SNPs!A504<>\"\",SNPs!A504,\"\")","v":""},{"$f":"IF(SNPs!B504<>\"\",MID(SNPs!B504,FIND(\"[\",SNPs!B504)+1,FIND(\"/\",SNPs!B504)-FIND(\"[\",SNPs!B504)-1),\"\")","v":""},{"$f":"IF(SNPs!B504<>\"\",MID(SNPs!B504,FIND(\"[\",SNPs!B504)+3,FIND(\"/\",SNPs!B504)-FIND(\"/\",SNPs!B504)+1),\"\")","v":""},{"$f":"IF(SNPs!B504<>\"\",SNPs!B504,\"\")","v":""}]
[{"$f":"IF(SNPs!A505<>\"\",SNPs!A505,\"\")","v":""},{"$f":"IF(SNPs!B505<>\"\",MID(SNPs!B505,FIND(\"[\",SNPs!B505)+1,FIND(\"/\",SNPs!B505)-FIND(\"[\",SNPs!B505)-1),\"\")","v":""},{"$f":"IF(SNPs!B505<>\"\",MID(SNPs!B505,FIND(\"[\",SNPs!B505)+3,FIND(\"/\",SNPs!B505)-FIND(\"/\",SNPs!B505)+1),\"\")","v":""},{"$f":"IF(SNPs!B505<>\"\",SNPs!B505,\"\")","v":""}]
[{"$f":"IF(SNPs!A506<>\"\",SNPs!A506,\"\")","v":""},{"$f":"IF(SNPs!B506<>\"\",MID(SNPs!B506,FIND(\"[\",SNPs!B506)+1,FIND(\"/\",SNPs!B506)-FIND(\"[\",SNPs!B506)-1),\"\")","v":""},{"$f":"IF(SNPs!B506<>\"\",MID(SNPs!B506,FIND(\"[\",SNPs!B506)+3,FIND(\"/\",SNPs!B506)-FIND(\"/\",SNPs!B506)+1),\"\")","v":""},{"$f":"IF(SNPs!B506<>\"\",SNPs!B506,\"\")","v":""}]
[{"$f":"IF(SNPs!A507<>\"\",SNPs!A507,\"\")","v":""},{"$f":"IF(SNPs!B507<>\"\",MID(SNPs!B507,FIND(\"[\",SNPs!B507)+1,FIND(\"/\",SNPs!B507)-FIND(\"[\",SNPs!B507)-1),\"\")","v":""},{"$f":"IF(SNPs!B507<>\"\",MID(SNPs!B507,FIND(\"[\",SNPs!B507)+3,FIND(\"/\",SNPs!B507)-FIND(\"/\",SNPs!B507)+1),\"\")","v":""},{"$f":"IF(SNPs!B507<>\"\",SNPs!B507,\"\")","v":""}]
[{"$f":"IF(SNPs!A508<>\"\",SNPs!A508,\"\")","v":""},{"$f":"IF(SNPs!B508<>\"\",MID(SNPs!B508,FIND(\"[\",SNPs!B508)+1,FIND(\"/\",SNPs!B508)-FIND(\"[\",SNPs!B508)-1),\"\")","v":""},{"$f":"IF(SNPs!B508<>\"\",MID(SNPs!B508,FIND(\"[\",SNPs!B508)+3,FIND(\"/\",SNPs!B508)-FIND(\"/\",SNPs!B508)+1),\"\")","v":""},{"$f":"IF(SNPs!B508<>\"\",SNPs!B508,\"\")","v":""}]
[{"$f":"IF(SNPs!A509<>\"\",SNPs!A509,\"\")","v":""},{"$f":"IF(SNPs!B509<>\"\",MID(SNPs!B509,FIND(\"[\",SNPs!B509)+1,FIND(\"/\",SNPs!B509)-FIND(\"[\",SNPs!B509)-1),\"\")","v":""},{"$f":"IF(SNPs!B509<>\"\",MID(SNPs!B509,FIND(\"[\",SNPs!B509)+3,FIND(\"/\",SNPs!B509)-FIND(\"/\",SNPs!B509)+1),\"\")","v":""},{"$f":"IF(SNPs!B509<>\"\",SNPs!B509,\"\")","v":""}]
[{"$f":"IF(SNPs!A510<>\"\",SNPs!A510,\"\")","v":""},{"$f":"IF(SNPs!B510<>\"\",MID(SNPs!B510,FIND(\"[\",SNPs!B510)+1,FIND(\"/\",SNPs!B510)-FIND(\"[\",SNPs!B510)-1),\"\")","v":""},{"$f":"IF(SNPs!B510<>\"\",MID(SNPs!B510,FIND(\"[\",SNPs!B510)+3,FIND(\"/\",SNPs!B510)-FIND(\"/\",SNPs!B510)+1),\"\")","v":""},{"$f":"IF(SNPs!B510<>\"\",SNPs!B510,\"\")","v":""}]
[{"$f":"IF(SNPs!A511<>\"\",SNPs!A511,\"\")","v":""},{"$f":"IF(SNPs!B511<>\"\",MID(SNPs!B511,FIND(\"[\",SNPs!B511)+1,FIND(\"/\",SNPs!B511)-FIND(\"[\",SNPs!B511)-1),\"\")","v":""},{"$f":"IF(SNPs!B511<>\"\",MID(SNPs!B511,FIND(\"[\",SNPs!B511)+3,FIND(\"/\",SNPs!B511)-FIND(\"/\",SNPs!B511)+1),\"\")","v":""},{"$f":"IF(SNPs!B511<>\"\",SNPs!B511,\"\")","v":""}]
[{"$f":"IF(SNPs!A512<>\"\",SNPs!A512,\"\")","v":""},{"$f":"IF(SNPs!B512<>\"\",MID(SNPs!B512,FIND(\"[\",SNPs!B512)+1,FIND(\"/\",SNPs!B512)-FIND(\"[\",SNPs!B512)-1),\"\")","v":""},{"$f":"IF(SNPs!B512<>\"\",MID(SNPs!B512,FIND(\"[\",SNPs!B512)+3,FIND(\"/\",SNPs!B512)-FIND(\"/\",SNPs!B512)+1),\"\")","v":""},{"$f":"IF(SNPs!B512<>\"\",SNPs!B512,\"\")","v":""}]
[{"$f":"IF(SNPs!A513<>\"\",SNPs!A513,\"\")","v":""},{"$f":"IF(SNPs!B513<>\"\",MID(SNPs!B513,FIND(\"[\",SNPs!B513)+1,FIND(\"/\",SNPs!B513)-FIND(\"[\",SNPs!B513)-1),\"\")","v":""},{"$f":"IF(SNPs!B513<>\"\",MID(SNPs!B513,FIND(\"[\",SNPs!B513)+3,FIND(\"/\",SNPs!B513)-FIND(\"/\",SNPs!B513)+1),\"\")","v":""},{"$f":"IF(SNPs!B513<>\"\",SNPs!B513,\"\")","v":""}]
[{"$f":"IF(SNPs!A514<>\"\",SNPs!A514,\"\")","v":""},{"$f":"IF(SNPs!B514<>\"\",MID(SNPs!B514,FIND(\"[\",SNPs!B514)+1,FIND(\"/\",SNPs!B514)-FIND(\"[\",SNPs!B514)-1),\"\")","v":""},{"$f":"IF(SNPs!B514<>\"\",MID(SNPs!B514,FIND(\"[\",SNPs!B514)+3,FIND(\"/\",SNPs!B514)-FIND(\"/\",SNPs!B514)+1),\"\")","v":""},{"$f":"IF(SNPs!B514<>\"\",SNPs!B514,\"\")","v":""}]
[{"$f":"IF(SNPs!A515<>\"\",SNPs!A515,\"\")","v":""},{"$f":"IF(SNPs!B515<>\"\",MID(SNPs!B515,FIND(\"[\",SNPs!B515)+1,FIND(\"/\",SNPs!B515)-FIND(\"[\",SNPs!B515)-1),\"\")","v":""},{"$f":"IF(SNPs!B515<>\"\",MID(SNPs!B515,FIND(\"[\",SNPs!B515)+3,FIND(\"/\",SNPs!B515)-FIND(\"/\",SNPs!B515)+1),\"\")","v":""},{"$f":"IF(SNPs!B515<>\"\",SNPs!B515,\"\")","v":""}]
[{"$f":"IF(SNPs!A516<>\"\",SNPs!A516,\"\")","v":""},{"$f":"IF(SNPs!B516<>\"\",MID(SNPs!B516,FIND(\"[\",SNPs!B516)+1,FIND(\"/\",SNPs!B516)-FIND(\"[\",SNPs!B516)-1),\"\")","v":""},{"$f":"IF(SNPs!B516<>\"\",MID(SNPs!B516,FIND(\"[\",SNPs!B516)+3,FIND(\"/\",SNPs!B516)-FIND(\"/\",SNPs!B516)+1),\"\")","v":""},{"$f":"IF(SNPs!B516<>\"\",SNPs!B516,\"\")","v":""}]
[{"$f":"IF(SNPs!A517<>\"\",SNPs!A517,\"\")","v":""},{"$f":"IF(SNPs!B517<>\"\",MID(SNPs!B517,FIND(\"[\",SNPs!B517)+1,FIND(\"/\",SNPs!B517)-FIND(\"[\",SNPs!B517)-1),\"\")","v":""},{"$f":"IF(SNPs!B517<>\"\",MID(SNPs!B517,FIND(\"[\",SNPs!B517)+3,FIND(\"/\",SNPs!B517)-FIND(\"/\",SNPs!B517)+1),\"\")","v":""},{"$f":"IF(SNPs!B517<>\"\",SNPs!B517,\"\")","v":""}]
[{"$f":"IF(SNPs!A518<>\"\",SNPs!A518,\"\")","v":""},{"$f":"IF(SNPs!B518<>\"\",MID(SNPs!B518,FIND(\"[\",SNPs!B518)+1,FIND(\"/\",SNPs!B518)-FIND(\"[\",SNPs!B518)-1),\"\")","v":""},{"$f":"IF(SNPs!B518<>\"\",MID(SNPs!B518,FIND(\"[\",SNPs!B518)+3,FIND(\"/\",SNPs!B518)-FIND(\"/\",SNPs!B518)+1),\"\")","v":""},{"$f":"IF(SNPs!B518<>\"\",SNPs!B518,\"\")","v":""}]
[{"$f":"IF(SNPs!A519<>\"\",SNPs!A519,\"\")","v":""},{"$f":"IF(SNPs!B519<>\"\",MID(SNPs!B519,FIND(\"[\",SNPs!B519)+1,FIND(\"/\",SNPs!B519)-FIND(\"[\",SNPs!B519)-1),\"\")","v":""},{"$f":"IF(SNPs!B519<>\"\",MID(SNPs!B519,FIND(\"[\",SNPs!B519)+3,FIND(\"/\",SNPs!B519)-FIND(\"/\",SNPs!B519)+1),\"\")","v":""},{"$f":"IF(SNPs!B519<>\"\",SNPs!B519,\"\")","v":""}]
[{"$f":"IF(SNPs!A520<>\"\",SNPs!A520,\"\")","v":""},{"$f":"IF(SNPs!B520<>\"\",MID(SNPs!B520,FIND(\"[\",SNPs!B520)+1,FIND(\"/\",SNPs!B520)-FIND(\"[\",SNPs!B520)-1),\"\")","v":""},{"$f":"IF(SNPs!B520<>\"\",MID(SNPs!B520,FIND(\"[\",SNPs!B520)+3,FIND(\"/\",SNPs!B520)-FIND(\"/\",SNPs!B520)+1),\"\")","v":""},{"$f":"IF(SNPs!B520<>\"\",SNPs!B520,\"\")","v":""}]
[{"$f":"IF(SNPs!A521<>\"\",SNPs!A521,\"\")","v":""},{"$f":"IF(SNPs!B521<>\"\",MID(SNPs!B521,FIND(\"[\",SNPs!B521)+1,FIND(\"/\",SNPs!B521)-FIND(\"[\",SNPs!B521)-1),\"\")","v":""},{"$f":"IF(SNPs!B521<>\"\",MID(SNPs!B521,FIND(\"[\",SNPs!B521)+3,FIND(\"/\",SNPs!B521)-FIND(\"/\",SNPs!B521)+1),\"\")","v":""},{"$f":"IF(SNPs!B521<>\"\",SNPs!B521,\"\")","v":""}]
[{"$f":"IF(SNPs!A522<>\"\",SNPs!A522,\"\")","v":""},{"$f":"IF(SNPs!B522<>\"\",MID(SNPs!B522,FIND(\"[\",SNPs!B522)+1,FIND(\"/\",SNPs!B522)-FIND(\"[\",SNPs!B522)-1),\"\")","v":""},{"$f":"IF(SNPs!B522<>\"\",MID(SNPs!B522,FIND(\"[\",SNPs!B522)+3,FIND(\"/\",SNPs!B522)-FIND(\"/\",SNPs!B522)+1),\"\")","v":""},{"$f":"IF(SNPs!B522<>\"\",SNPs!B522,\"\")","v":""}]
[{"$f":"IF(SNPs!A523<>\"\",SNPs!A523,\"\")","v":""},{"$f":"IF(SNPs!B523<>\"\",MID(SNPs!B523,FIND(\"[\",SNPs!B523)+1,FIND(\"/\",SNPs!B523)-FIND(\"[\",SNPs!B523)-1),\"\")","v":""},{"$f":"IF(SNPs!B523<>\"\",MID(SNPs!B523,FIND(\"[\",SNPs!B523)+3,FIND(\"/\",SNPs!B523)-FIND(\"/\",SNPs!B523)+1),\"\")","v":""},{"$f":"IF(SNPs!B523<>\"\",SNPs!B523,\"\")","v":""}]
[{"$f":"IF(SNPs!A524<>\"\",SNPs!A524,\"\")","v":""},{"$f":"IF(SNPs!B524<>\"\",MID(SNPs!B524,FIND(\"[\",SNPs!B524)+1,FIND(\"/\",SNPs!B524)-FIND(\"[\",SNPs!B524)-1),\"\")","v":""},{"$f":"IF(SNPs!B524<>\"\",MID(SNPs!B524,FIND(\"[\",SNPs!B524)+3,FIND(\"/\",SNPs!B524)-FIND(\"/\",SNPs!B524)+1),\"\")","v":""},{"$f":"IF(SNPs!B524<>\"\",SNPs!B524,\"\")","v":""}]
[{"$f":"IF(SNPs!A525<>\"\",SNPs!A525,\"\")","v":""},{"$f":"IF(SNPs!B525<>\"\",MID(SNPs!B525,FIND(\"[\",SNPs!B525)+1,FIND(\"/\",SNPs!B525)-FIND(\"[\",SNPs!B525)-1),\"\")","v":""},{"$f":"IF(SNPs!B525<>\"\",MID(SNPs!B525,FIND(\"[\",SNPs!B525)+3,FIND(\"/\",SNPs!B525)-FIND(\"/\",SNPs!B525)+1),\"\")","v":""},{"$f":"IF(SNPs!B525<>\"\",SNPs!B525,\"\")","v":""}]
[{"$f":"IF(SNPs!A526<>\"\",SNPs!A526,\"\")","v":""},{"$f":"IF(SNPs!B526<>\"\",MID(SNPs!B526,FIND(\"[\",SNPs!B526)+1,FIND(\"/\",SNPs!B526)-FIND(\"[\",SNPs!B526)-1),\"\")","v":""},{"$f":"IF(SNPs!B526<>\"\",MID(SNPs!B526,FIND(\"[\",SNPs!B526)+3,FIND(\"/\",SNPs!B526)-FIND(\"/\",SNPs!B526)+1),\"\")","v":""},{"$f":"IF(SNPs!B526<>\"\",SNPs!B526,\"\")","v":""}]
[{"$f":"IF(SNPs!A527<>\"\",SNPs!A527,\"\")","v":""},{"$f":"IF(SNPs!B527<>\"\",MID(SNPs!B527,FIND(\"[\",SNPs!B527)+1,FIND(\"/\",SNPs!B527)-FIND(\"[\",SNPs!B527)-1),\"\")","v":""},{"$f":"IF(SNPs!B527<>\"\",MID(SNPs!B527,FIND(\"[\",SNPs!B527)+3,FIND(\"/\",SNPs!B527)-FIND(\"/\",SNPs!B527)+1),\"\")","v":""},{"$f":"IF(SNPs!B527<>\"\",SNPs!B527,\"\")","v":""}]
[{"$f":"IF(SNPs!A528<>\"\",SNPs!A528,\"\")","v":""},{"$f":"IF(SNPs!B528<>\"\",MID(SNPs!B528,FIND(\"[\",SNPs!B528)+1,FIND(\"/\",SNPs!B528)-FIND(\"[\",SNPs!B528)-1),\"\")","v":""},{"$f":"IF(SNPs!B528<>\"\",MID(SNPs!B528,FIND(\"[\",SNPs!B528)+3,FIND(\"/\",SNPs!B528)-FIND(\"/\",SNPs!B528)+1),\"\")","v":""},{"$f":"IF(SNPs!B528<>\"\",SNPs!B528,\"\")","v":""}]
[{"$f":"IF(SNPs!A529<>\"\",SNPs!A529,\"\")","v":""},{"$f":"IF(SNPs!B529<>\"\",MID(SNPs!B529,FIND(\"[\",SNPs!B529)+1,FIND(\"/\",SNPs!B529)-FIND(\"[\",SNPs!B529)-1),\"\")","v":""},{"$f":"IF(SNPs!B529<>\"\",MID(SNPs!B529,FIND(\"[\",SNPs!B529)+3,FIND(\"/\",SNPs!B529)-FIND(\"/\",SNPs!B529)+1),\"\")","v":""},{"$f":"IF(SNPs!B529<>\"\",SNPs!B529,\"\")","v":""}]
[{"$f":"IF(SNPs!A530<>\"\",SNPs!A530,\"\")","v":""},{"$f":"IF(SNPs!B530<>\"\",MID(SNPs!B530,FIND(\"[\",SNPs!B530)+1,FIND(\"/\",SNPs!B530)-FIND(\"[\",SNPs!B530)-1),\"\")","v":""},{"$f":"IF(SNPs!B530<>\"\",MID(SNPs!B530,FIND(\"[\",SNPs!B530)+3,FIND(\"/\",SNPs!B530)-FIND(\"/\",SNPs!B530)+1),\"\")","v":""},{"$f":"IF(SNPs!B530<>\"\",SNPs!B530,\"\")","v":""}]
[{"$f":"IF(SNPs!A531<>\"\",SNPs!A531,\"\")","v":""},{"$f":"IF(SNPs!B531<>\"\",MID(SNPs!B531,FIND(\"[\",SNPs!B531)+1,FIND(\"/\",SNPs!B531)-FIND(\"[\",SNPs!B531)-1),\"\")","v":""},{"$f":"IF(SNPs!B531<>\"\",MID(SNPs!B531,FIND(\"[\",SNPs!B531)+3,FIND(\"/\",SNPs!B531)-FIND(\"/\",SNPs!B531)+1),\"\")","v":""},{"$f":"IF(SNPs!B531<>\"\",SNPs!B531,\"\")","v":""}]
[{"$f":"IF(SNPs!A532<>\"\",SNPs!A532,\"\")","v":""},{"$f":"IF(SNPs!B532<>\"\",MID(SNPs!B532,FIND(\"[\",SNPs!B532)+1,FIND(\"/\",SNPs!B532)-FIND(\"[\",SNPs!B532)-1),\"\")","v":""},{"$f":"IF(SNPs!B532<>\"\",MID(SNPs!B532,FIND(\"[\",SNPs!B532)+3,FIND(\"/\",SNPs!B532)-FIND(\"/\",SNPs!B532)+1),\"\")","v":""},{"$f":"IF(SNPs!B532<>\"\",SNPs!B532,\"\")","v":""}]
[{"$f":"IF(SNPs!A533<>\"\",SNPs!A533,\"\")","v":""},{"$f":"IF(SNPs!B533<>\"\",MID(SNPs!B533,FIND(\"[\",SNPs!B533)+1,FIND(\"/\",SNPs!B533)-FIND(\"[\",SNPs!B533)-1),\"\")","v":""},{"$f":"IF(SNPs!B533<>\"\",MID(SNPs!B533,FIND(\"[\",SNPs!B533)+3,FIND(\"/\",SNPs!B533)-FIND(\"/\",SNPs!B533)+1),\"\")","v":""},{"$f":"IF(SNPs!B533<>\"\",SNPs!B533,\"\")","v":""}]
[{"$f":"IF(SNPs!A534<>\"\",SNPs!A534,\"\")","v":""},{"$f":"IF(SNPs!B534<>\"\",MID(SNPs!B534,FIND(\"[\",SNPs!B534)+1,FIND(\"/\",SNPs!B534)-FIND(\"[\",SNPs!B534)-1),\"\")","v":""},{"$f":"IF(SNPs!B534<>\"\",MID(SNPs!B534,FIND(\"[\",SNPs!B534)+3,FIND(\"/\",SNPs!B534)-FIND(\"/\",SNPs!B534)+1),\"\")","v":""},{"$f":"IF(SNPs!B534<>\"\",SNPs!B534,\"\")","v":""}]
[{"$f":"IF(SNPs!A535<>\"\",SNPs!A535,\"\")","v":""},{"$f":"IF(SNPs!B535<>\"\",MID(SNPs!B535,FIND(\"[\",SNPs!B535)+1,FIND(\"/\",SNPs!B535)-FIND(\"[\",SNPs!B535)-1),\"\")","v":""},{"$f":"IF(SNPs!B535<>\"\",MID(SNPs!B535,FIND(\"[\",SNPs!B535)+3,FIND(\"/\",SNPs!B535)-FIND(\"/\",SNPs!B535)+1),\"\")","v":""},{"$f":"IF(SNPs!B535<>\"\",SNPs!B535,\"\")","v":""}]
[{"$f":"IF(SNPs!A536<>\"\",SNPs!A536,\"\")","v":""},{"$f":"IF(SNPs!B536<>\"\",MID(SNPs!B536,FIND(\"[\",SNPs!B536)+1,FIND(\"/\",SNPs!B536)-FIND(\"[\",SNPs!B536)-1),\"\")","v":""},{"$f":"IF(SNPs!B536<>\"\",MID(SNPs!B536,FIND(\"[\",SNPs!B536)+3,FIND(\"/\",SNPs!B536)-FIND(\"/\",SNPs!B536)+1),\"\")","v":""},{"$f":"IF(SNPs!B536<>\"\",SNPs!B536,\"\")","v":""}]
[{"$f":"IF(SNPs!A537<>\"\",SNPs!A537,\"\")","v":""},{"$f":"IF(SNPs!B537<>\"\",MID(SNPs!B537,FIND(\"[\",SNPs!B537)+1,FIND(\"/\",SNPs!B537)-FIND(\"[\",SNPs!B537)-1),\"\")","v":""},{"$f":"IF(SNPs!B537<>\"\",MID(SNPs!B537,FIND(\"[\",SNPs!B537)+3,FIND(\"/\",SNPs!B537)-FIND(\"/\",SNPs!B537)+1),\"\")","v":""},{"$f":"IF(SNPs!B537<>\"\",SNPs!B537,\"\")","v":""}]
[{"$f":"IF(SNPs!A538<>\"\",SNPs!A538,\"\")","v":""},{"$f":"IF(SNPs!B538<>\"\",MID(SNPs!B538,FIND(\"[\",SNPs!B538)+1,FIND(\"/\",SNPs!B538)-FIND(\"[\",SNPs!B538)-1),\"\")","v":""},{"$f":"IF(SNPs!B538<>\"\",MID(SNPs!B538,FIND(\"[\",SNPs!B538)+3,FIND(\"/\",SNPs!B538)-FIND(\"/\",SNPs!B538)+1),\"\")","v":""},{"$f":"IF(SNPs!B538<>\"\",SNPs!B538,\"\")","v":""}]
[{"$f":"IF(SNPs!A539<>\"\",SNPs!A539,\"\")","v":""},{"$f":"IF(SNPs!B539<>\"\",MID(SNPs!B539,FIND(\"[\",SNPs!B539)+1,FIND(\"/\",SNPs!B539)-FIND(\"[\",SNPs!B539)-1),\"\")","v":""},{"$f":"IF(SNPs!B539<>\"\",MID(SNPs!B539,FIND(\"[\",SNPs!B539)+3,FIND(\"/\",SNPs!B539)-FIND(\"/\",SNPs!B539)+1),\"\")","v":""},{"$f":"IF(SNPs!B539<>\"\",SNPs!B539,\"\")","v":""}]
[{"$f":"IF(SNPs!A540<>\"\",SNPs!A540,\"\")","v":""},{"$f":"IF(SNPs!B540<>\"\",MID(SNPs!B540,FIND(\"[\",SNPs!B540)+1,FIND(\"/\",SNPs!B540)-FIND(\"[\",SNPs!B540)-1),\"\")","v":""},{"$f":"IF(SNPs!B540<>\"\",MID(SNPs!B540,FIND(\"[\",SNPs!B540)+3,FIND(\"/\",SNPs!B540)-FIND(\"/\",SNPs!B540)+1),\"\")","v":""},{"$f":"IF(SNPs!B540<>\"\",SNPs!B540,\"\")","v":""}]
[{"$f":"IF(SNPs!A541<>\"\",SNPs!A541,\"\")","v":""},{"$f":"IF(SNPs!B541<>\"\",MID(SNPs!B541,FIND(\"[\",SNPs!B541)+1,FIND(\"/\",SNPs!B541)-FIND(\"[\",SNPs!B541)-1),\"\")","v":""},{"$f":"IF(SNPs!B541<>\"\",MID(SNPs!B541,FIND(\"[\",SNPs!B541)+3,FIND(\"/\",SNPs!B541)-FIND(\"/\",SNPs!B541)+1),\"\")","v":""},{"$f":"IF(SNPs!B541<>\"\",SNPs!B541,\"\")","v":""}]
[{"$f":"IF(SNPs!A542<>\"\",SNPs!A542,\"\")","v":""},{"$f":"IF(SNPs!B542<>\"\",MID(SNPs!B542,FIND(\"[\",SNPs!B542)+1,FIND(\"/\",SNPs!B542)-FIND(\"[\",SNPs!B542)-1),\"\")","v":""},{"$f":"IF(SNPs!B542<>\"\",MID(SNPs!B542,FIND(\"[\",SNPs!B542)+3,FIND(\"/\",SNPs!B542)-FIND(\"/\",SNPs!B542)+1),\"\")","v":""},{"$f":"IF(SNPs!B542<>\"\",SNPs!B542,\"\")","v":""}]
[{"$f":"IF(SNPs!A543<>\"\",SNPs!A543,\"\")","v":""},{"$f":"IF(SNPs!B543<>\"\",MID(SNPs!B543,FIND(\"[\",SNPs!B543)+1,FIND(\"/\",SNPs!B543)-FIND(\"[\",SNPs!B543)-1),\"\")","v":""},{"$f":"IF(SNPs!B543<>\"\",MID(SNPs!B543,FIND(\"[\",SNPs!B543)+3,FIND(\"/\",SNPs!B543)-FIND(\"/\",SNPs!B543)+1),\"\")","v":""},{"$f":"IF(SNPs!B543<>\"\",SNPs!B543,\"\")","v":""}]
[{"$f":"IF(SNPs!A544<>\"\",SNPs!A544,\"\")","v":""},{"$f":"IF(SNPs!B544<>\"\",MID(SNPs!B544,FIND(\"[\",SNPs!B544)+1,FIND(\"/\",SNPs!B544)-FIND(\"[\",SNPs!B544)-1),\"\")","v":""},{"$f":"IF(SNPs!B544<>\"\",MID(SNPs!B544,FIND(\"[\",SNPs!B544)+3,FIND(\"/\",SNPs!B544)-FIND(\"/\",SNPs!B544)+1),\"\")","v":""},{"$f":"IF(SNPs!B544<>\"\",SNPs!B544,\"\")","v":""}]
[{"$f":"IF(SNPs!A545<>\"\",SNPs!A545,\"\")","v":""},{"$f":"IF(SNPs!B545<>\"\",MID(SNPs!B545,FIND(\"[\",SNPs!B545)+1,FIND(\"/\",SNPs!B545)-FIND(\"[\",SNPs!B545)-1),\"\")","v":""},{"$f":"IF(SNPs!B545<>\"\",MID(SNPs!B545,FIND(\"[\",SNPs!B545)+3,FIND(\"/\",SNPs!B545)-FIND(\"/\",SNPs!B545)+1),\"\")","v":""},{"$f":"IF(SNPs!B545<>\"\",SNPs!B545,\"\")","v":""}]
[{"$f":"IF(SNPs!A546<>\"\",SNPs!A546,\"\")","v":""},{"$f":"IF(SNPs!B546<>\"\",MID(SNPs!B546,FIND(\"[\",SNPs!B546)+1,FIND(\"/\",SNPs!B546)-FIND(\"[\",SNPs!B546)-1),\"\")","v":""},{"$f":"IF(SNPs!B546<>\"\",MID(SNPs!B546,FIND(\"[\",SNPs!B546)+3,FIND(\"/\",SNPs!B546)-FIND(\"/\",SNPs!B546)+1),\"\")","v":""},{"$f":"IF(SNPs!B546<>\"\",SNPs!B546,\"\")","v":""}]
[{"$f":"IF(SNPs!A547<>\"\",SNPs!A547,\"\")","v":""},{"$f":"IF(SNPs!B547<>\"\",MID(SNPs!B547,FIND(\"[\",SNPs!B547)+1,FIND(\"/\",SNPs!B547)-FIND(\"[\",SNPs!B547)-1),\"\")","v":""},{"$f":"IF(SNPs!B547<>\"\",MID(SNPs!B547,FIND(\"[\",SNPs!B547)+3,FIND(\"/\",SNPs!B547)-FIND(\"/\",SNPs!B547)+1),\"\")","v":""},{"$f":"IF(SNPs!B547<>\"\",SNPs!B547,\"\")","v":""}]
[{"$f":"IF(SNPs!A548<>\"\",SNPs!A548,\"\")","v":""},{"$f":"IF(SNPs!B548<>\"\",MID(SNPs!B548,FIND(\"[\",SNPs!B548)+1,FIND(\"/\",SNPs!B548)-FIND(\"[\",SNPs!B548)-1),\"\")","v":""},{"$f":"IF(SNPs!B548<>\"\",MID(SNPs!B548,FIND(\"[\",SNPs!B548)+3,FIND(\"/\",SNPs!B548)-FIND(\"/\",SNPs!B548)+1),\"\")","v":""},{"$f":"IF(SNPs!B548<>\"\",SNPs!B548,\"\")","v":""}]
[{"$f":"IF(SNPs!A549<>\"\",SNPs!A549,\"\")","v":""},{"$f":"IF(SNPs!B549<>\"\",MID(SNPs!B549,FIND(\"[\",SNPs!B549)+1,FIND(\"/\",SNPs!B549)-FIND(\"[\",SNPs!B549)-1),\"\")","v":""},{"$f":"IF(SNPs!B549<>\"\",MID(SNPs!B549,FIND(\"[\",SNPs!B549)+3,FIND(\"/\",SNPs!B549)-FIND(\"/\",SNPs!B549)+1),\"\")","v":""},{"$f":"IF(SNPs!B549<>\"\",SNPs!B549,\"\")","v":""}]
[{"$f":"IF(SNPs!A550<>\"\",SNPs!A550,\"\")","v":""},{"$f":"IF(SNPs!B550<>\"\",MID(SNPs!B550,FIND(\"[\",SNPs!B550)+1,FIND(\"/\",SNPs!B550)-FIND(\"[\",SNPs!B550)-1),\"\")","v":""},{"$f":"IF(SNPs!B550<>\"\",MID(SNPs!B550,FIND(\"[\",SNPs!B550)+3,FIND(\"/\",SNPs!B550)-FIND(\"/\",SNPs!B550)+1),\"\")","v":""},{"$f":"IF(SNPs!B550<>\"\",SNPs!B550,\"\")","v":""}]
[{"$f":"IF(SNPs!A551<>\"\",SNPs!A551,\"\")","v":""},{"$f":"IF(SNPs!B551<>\"\",MID(SNPs!B551,FIND(\"[\",SNPs!B551)+1,FIND(\"/\",SNPs!B551)-FIND(\"[\",SNPs!B551)-1),\"\")","v":""},{"$f":"IF(SNPs!B551<>\"\",MID(SNPs!B551,FIND(\"[\",SNPs!B551)+3,FIND(\"/\",SNPs!B551)-FIND(\"/\",SNPs!B551)+1),\"\")","v":""},{"$f":"IF(SNPs!B551<>\"\",SNPs!B551,\"\")","v":""}]
[{"$f":"IF(SNPs!A552<>\"\",SNPs!A552,\"\")","v":""},{"$f":"IF(SNPs!B552<>\"\",MID(SNPs!B552,FIND(\"[\",SNPs!B552)+1,FIND(\"/\",SNPs!B552)-FIND(\"[\",SNPs!B552)-1),\"\")","v":""},{"$f":"IF(SNPs!B552<>\"\",MID(SNPs!B552,FIND(\"[\",SNPs!B552)+3,FIND(\"/\",SNPs!B552)-FIND(\"/\",SNPs!B552)+1),\"\")","v":""},{"$f":"IF(SNPs!B552<>\"\",SNPs!B552,\"\")","v":""}]
[{"$f":"IF(SNPs!A553<>\"\",SNPs!A553,\"\")","v":""},{"$f":"IF(SNPs!B553<>\"\",MID(SNPs!B553,FIND(\"[\",SNPs!B553)+1,FIND(\"/\",SNPs!B553)-FIND(\"[\",SNPs!B553)-1),\"\")","v":""},{"$f":"IF(SNPs!B553<>\"\",MID(SNPs!B553,FIND(\"[\",SNPs!B553)+3,FIND(\"/\",SNPs!B553)-FIND(\"/\",SNPs!B553)+1),\"\")","v":""},{"$f":"IF(SNPs!B553<>\"\",SNPs!B553,\"\")","v":""}]
[{"$f":"IF(SNPs!A554<>\"\",SNPs!A554,\"\")","v":""},{"$f":"IF(SNPs!B554<>\"\",MID(SNPs!B554,FIND(\"[\",SNPs!B554)+1,FIND(\"/\",SNPs!B554)-FIND(\"[\",SNPs!B554)-1),\"\")","v":""},{"$f":"IF(SNPs!B554<>\"\",MID(SNPs!B554,FIND(\"[\",SNPs!B554)+3,FIND(\"/\",SNPs!B554)-FIND(\"/\",SNPs!B554)+1),\"\")","v":""},{"$f":"IF(SNPs!B554<>\"\",SNPs!B554,\"\")","v":""}]
[{"$f":"IF(SNPs!A555<>\"\",SNPs!A555,\"\")","v":""},{"$f":"IF(SNPs!B555<>\"\",MID(SNPs!B555,FIND(\"[\",SNPs!B555)+1,FIND(\"/\",SNPs!B555)-FIND(\"[\",SNPs!B555)-1),\"\")","v":""},{"$f":"IF(SNPs!B555<>\"\",MID(SNPs!B555,FIND(\"[\",SNPs!B555)+3,FIND(\"/\",SNPs!B555)-FIND(\"/\",SNPs!B555)+1),\"\")","v":""},{"$f":"IF(SNPs!B555<>\"\",SNPs!B555,\"\")","v":""}]
[{"$f":"IF(SNPs!A556<>\"\",SNPs!A556,\"\")","v":""},{"$f":"IF(SNPs!B556<>\"\",MID(SNPs!B556,FIND(\"[\",SNPs!B556)+1,FIND(\"/\",SNPs!B556)-FIND(\"[\",SNPs!B556)-1),\"\")","v":""},{"$f":"IF(SNPs!B556<>\"\",MID(SNPs!B556,FIND(\"[\",SNPs!B556)+3,FIND(\"/\",SNPs!B556)-FIND(\"/\",SNPs!B556)+1),\"\")","v":""},{"$f":"IF(SNPs!B556<>\"\",SNPs!B556,\"\")","v":""}]
[{"$f":"IF(SNPs!A557<>\"\",SNPs!A557,\"\")","v":""},{"$f":"IF(SNPs!B557<>\"\",MID(SNPs!B557,FIND(\"[\",SNPs!B557)+1,FIND(\"/\",SNPs!B557)-FIND(\"[\",SNPs!B557)-1),\"\")","v":""},{"$f":"IF(SNPs!B557<>\"\",MID(SNPs!B557,FIND(\"[\",SNPs!B557)+3,FIND(\"/\",SNPs!B557)-FIND(\"/\",SNPs!B557)+1),\"\")","v":""},{"$f":"IF(SNPs!B557<>\"\",SNPs!B557,\"\")","v":""}]
[{"$f":"IF(SNPs!A558<>\"\",SNPs!A558,\"\")","v":""},{"$f":"IF(SNPs!B558<>\"\",MID(SNPs!B558,FIND(\"[\",SNPs!B558)+1,FIND(\"/\",SNPs!B558)-FIND(\"[\",SNPs!B558)-1),\"\")","v":""},{"$f":"IF(SNPs!B558<>\"\",MID(SNPs!B558,FIND(\"[\",SNPs!B558)+3,FIND(\"/\",SNPs!B558)-FIND(\"/\",SNPs!B558)+1),\"\")","v":""},{"$f":"IF(SNPs!B558<>\"\",SNPs!B558,\"\")","v":""}]
[{"$f":"IF(SNPs!A559<>\"\",SNPs!A559,\"\")","v":""},{"$f":"IF(SNPs!B559<>\"\",MID(SNPs!B559,FIND(\"[\",SNPs!B559)+1,FIND(\"/\",SNPs!B559)-FIND(\"[\",SNPs!B559)-1),\"\")","v":""},{"$f":"IF(SNPs!B559<>\"\",MID(SNPs!B559,FIND(\"[\",SNPs!B559)+3,FIND(\"/\",SNPs!B559)-FIND(\"/\",SNPs!B559)+1),\"\")","v":""},{"$f":"IF(SNPs!B559<>\"\",SNPs!B559,\"\")","v":""}]
[{"$f":"IF(SNPs!A560<>\"\",SNPs!A560,\"\")","v":""},{"$f":"IF(SNPs!B560<>\"\",MID(SNPs!B560,FIND(\"[\",SNPs!B560)+1,FIND(\"/\",SNPs!B560)-FIND(\"[\",SNPs!B560)-1),\"\")","v":""},{"$f":"IF(SNPs!B560<>\"\",MID(SNPs!B560,FIND(\"[\",SNPs!B560)+3,FIND(\"/\",SNPs!B560)-FIND(\"/\",SNPs!B560)+1),\"\")","v":""},{"$f":"IF(SNPs!B560<>\"\",SNPs!B560,\"\")","v":""}]
[{"$f":"IF(SNPs!A561<>\"\",SNPs!A561,\"\")","v":""},{"$f":"IF(SNPs!B561<>\"\",MID(SNPs!B561,FIND(\"[\",SNPs!B561)+1,FIND(\"/\",SNPs!B561)-FIND(\"[\",SNPs!B561)-1),\"\")","v":""},{"$f":"IF(SNPs!B561<>\"\",MID(SNPs!B561,FIND(\"[\",SNPs!B561)+3,FIND(\"/\",SNPs!B561)-FIND(\"/\",SNPs!B561)+1),\"\")","v":""},{"$f":"IF(SNPs!B561<>\"\",SNPs!B561,\"\")","v":""}]
[{"$f":"IF(SNPs!A562<>\"\",SNPs!A562,\"\")","v":""},{"$f":"IF(SNPs!B562<>\"\",MID(SNPs!B562,FIND(\"[\",SNPs!B562)+1,FIND(\"/\",SNPs!B562)-FIND(\"[\",SNPs!B562)-1),\"\")","v":""},{"$f":"IF(SNPs!B562<>\"\",MID(SNPs!B562,FIND(\"[\",SNPs!B562)+3,FIND(\"/\",SNPs!B562)-FIND(\"/\",SNPs!B562)+1),\"\")","v":""},{"$f":"IF(SNPs!B562<>\"\",SNPs!B562,\"\")","v":""}]
[{"$f":"IF(SNPs!A563<>\"\",SNPs!A563,\"\")","v":""},{"$f":"IF(SNPs!B563<>\"\",MID(SNPs!B563,FIND(\"[\",SNPs!B563)+1,FIND(\"/\",SNPs!B563)-FIND(\"[\",SNPs!B563)-1),\"\")","v":""},{"$f":"IF(SNPs!B563<>\"\",MID(SNPs!B563,FIND(\"[\",SNPs!B563)+3,FIND(\"/\",SNPs!B563)-FIND(\"/\",SNPs!B563)+1),\"\")","v":""},{"$f":"IF(SNPs!B563<>\"\",SNPs!B563,\"\")","v":""}]
[{"$f":"IF(SNPs!A564<>\"\",SNPs!A564,\"\")","v":""},{"$f":"IF(SNPs!B564<>\"\",MID(SNPs!B564,FIND(\"[\",SNPs!B564)+1,FIND(\"/\",SNPs!B564)-FIND(\"[\",SNPs!B564)-1),\"\")","v":""},{"$f":"IF(SNPs!B564<>\"\",MID(SNPs!B564,FIND(\"[\",SNPs!B564)+3,FIND(\"/\",SNPs!B564)-FIND(\"/\",SNPs!B564)+1),\"\")","v":""},{"$f":"IF(SNPs!B564<>\"\",SNPs!B564,\"\")","v":""}]
[{"$f":"IF(SNPs!A565<>\"\",SNPs!A565,\"\")","v":""},{"$f":"IF(SNPs!B565<>\"\",MID(SNPs!B565,FIND(\"[\",SNPs!B565)+1,FIND(\"/\",SNPs!B565)-FIND(\"[\",SNPs!B565)-1),\"\")","v":""},{"$f":"IF(SNPs!B565<>\"\",MID(SNPs!B565,FIND(\"[\",SNPs!B565)+3,FIND(\"/\",SNPs!B565)-FIND(\"/\",SNPs!B565)+1),\"\")","v":""},{"$f":"IF(SNPs!B565<>\"\",SNPs!B565,\"\")","v":""}]
[{"$f":"IF(SNPs!A566<>\"\",SNPs!A566,\"\")","v":""},{"$f":"IF(SNPs!B566<>\"\",MID(SNPs!B566,FIND(\"[\",SNPs!B566)+1,FIND(\"/\",SNPs!B566)-FIND(\"[\",SNPs!B566)-1),\"\")","v":""},{"$f":"IF(SNPs!B566<>\"\",MID(SNPs!B566,FIND(\"[\",SNPs!B566)+3,FIND(\"/\",SNPs!B566)-FIND(\"/\",SNPs!B566)+1),\"\")","v":""},{"$f":"IF(SNPs!B566<>\"\",SNPs!B566,\"\")","v":""}]
[{"$f":"IF(SNPs!A567<>\"\",SNPs!A567,\"\")","v":""},{"$f":"IF(SNPs!B567<>\"\",MID(SNPs!B567,FIND(\"[\",SNPs!B567)+1,FIND(\"/\",SNPs!B567)-FIND(\"[\",SNPs!B567)-1),\"\")","v":""},{"$f":"IF(SNPs!B567<>\"\",MID(SNPs!B567,FIND(\"[\",SNPs!B567)+3,FIND(\"/\",SNPs!B567)-FIND(\"/\",SNPs!B567)+1),\"\")","v":""},{"$f":"IF(SNPs!B567<>\"\",SNPs!B567,\"\")","v":""}]
[{"$f":"IF(SNPs!A568<>\"\",SNPs!A568,\"\")","v":""},{"$f":"IF(SNPs!B568<>\"\",MID(SNPs!B568,FIND(\"[\",SNPs!B568)+1,FIND(\"/\",SNPs!B568)-FIND(\"[\",SNPs!B568)-1),\"\")","v":""},{"$f":"IF(SNPs!B568<>\"\",MID(SNPs!B568,FIND(\"[\",SNPs!B568)+3,FIND(\"/\",SNPs!B568)-FIND(\"/\",SNPs!B568)+1),\"\")","v":""},{"$f":"IF(SNPs!B568<>\"\",SNPs!B568,\"\")","v":""}]
[{"$f":"IF(SNPs!A569<>\"\",SNPs!A569,\"\")","v":""},{"$f":"IF(SNPs!B569<>\"\",MID(SNPs!B569,FIND(\"[\",SNPs!B569)+1,FIND(\"/\",SNPs!B569)-FIND(\"[\",SNPs!B569)-1),\"\")","v":""},{"$f":"IF(SNPs!B569<>\"\",MID(SNPs!B569,FIND(\"[\",SNPs!B569)+3,FIND(\"/\",SNPs!B569)-FIND(\"/\",SNPs!B569)+1),\"\")","v":""},{"$f":"IF(SNPs!B569<>\"\",SNPs!B569,\"\")","v":""}]
[{"$f":"IF(SNPs!A570<>\"\",SNPs!A570,\"\")","v":""},{"$f":"IF(SNPs!B570<>\"\",MID(SNPs!B570,FIND(\"[\",SNPs!B570)+1,FIND(\"/\",SNPs!B570)-FIND(\"[\",SNPs!B570)-1),\"\")","v":""},{"$f":"IF(SNPs!B570<>\"\",MID(SNPs!B570,FIND(\"[\",SNPs!B570)+3,FIND(\"/\",SNPs!B570)-FIND(\"/\",SNPs!B570)+1),\"\")","v":""},{"$f":"IF(SNPs!B570<>\"\",SNPs!B570,\"\")","v":""}]
[{"$f":"IF(SNPs!A571<>\"\",SNPs!A571,\"\")","v":""},{"$f":"IF(SNPs!B571<>\"\",MID(SNPs!B571,FIND(\"[\",SNPs!B571)+1,FIND(\"/\",SNPs!B571)-FIND(\"[\",SNPs!B571)-1),\"\")","v":""},{"$f":"IF(SNPs!B571<>\"\",MID(SNPs!B571,FIND(\"[\",SNPs!B571)+3,FIND(\"/\",SNPs!B571)-FIND(\"/\",SNPs!B571)+1),\"\")","v":""},{"$f":"IF(SNPs!B571<>\"\",SNPs!B571,\"\")","v":""}]
[{"$f":"IF(SNPs!A572<>\"\",SNPs!A572,\"\")","v":""},{"$f":"IF(SNPs!B572<>\"\",MID(SNPs!B572,FIND(\"[\",SNPs!B572)+1,FIND(\"/\",SNPs!B572)-FIND(\"[\",SNPs!B572)-1),\"\")","v":""},{"$f":"IF(SNPs!B572<>\"\",MID(SNPs!B572,FIND(\"[\",SNPs!B572)+3,FIND(\"/\",SNPs!B572)-FIND(\"/\",SNPs!B572)+1),\"\")","v":""},{"$f":"IF(SNPs!B572<>\"\",SNPs!B572,\"\")","v":""}]
[{"$f":"IF(SNPs!A573<>\"\",SNPs!A573,\"\")","v":""},{"$f":"IF(SNPs!B573<>\"\",MID(SNPs!B573,FIND(\"[\",SNPs!B573)+1,FIND(\"/\",SNPs!B573)-FIND(\"[\",SNPs!B573)-1),\"\")","v":""},{"$f":"IF(SNPs!B573<>\"\",MID(SNPs!B573,FIND(\"[\",SNPs!B573)+3,FIND(\"/\",SNPs!B573)-FIND(\"/\",SNPs!B573)+1),\"\")","v":""},{"$f":"IF(SNPs!B573<>\"\",SNPs!B573,\"\")","v":""}]
[{"$f":"IF(SNPs!A574<>\"\",SNPs!A574,\"\")","v":""},{"$f":"IF(SNPs!B574<>\"\",MID(SNPs!B574,FIND(\"[\",SNPs!B574)+1,FIND(\"/\",SNPs!B574)-FIND(\"[\",SNPs!B574)-1),\"\")","v":""},{"$f":"IF(SNPs!B574<>\"\",MID(SNPs!B574,FIND(\"[\",SNPs!B574)+3,FIND(\"/\",SNPs!B574)-FIND(\"/\",SNPs!B574)+1),\"\")","v":""},{"$f":"IF(SNPs!B574<>\"\",SNPs!B574,\"\")","v":""}]
[{"$f":"IF(SNPs!A575<>\"\",SNPs!A575,\"\")","v":""},{"$f":"IF(SNPs!B575<>\"\",MID(SNPs!B575,FIND(\"[\",SNPs!B575)+1,FIND(\"/\",SNPs!B575)-FIND(\"[\",SNPs!B575)-1),\"\")","v":""},{"$f":"IF(SNPs!B575<>\"\",MID(SNPs!B575,FIND(\"[\",SNPs!B575)+3,FIND(\"/\",SNPs!B575)-FIND(\"/\",SNPs!B575)+1),\"\")","v":""},{"$f":"IF(SNPs!B575<>\"\",SNPs!B575,\"\")","v":""}]
[{"$f":"IF(SNPs!A576<>\"\",SNPs!A576,\"\")","v":""},{"$f":"IF(SNPs!B576<>\"\",MID(SNPs!B576,FIND(\"[\",SNPs!B576)+1,FIND(\"/\",SNPs!B576)-FIND(\"[\",SNPs!B576)-1),\"\")","v":""},{"$f":"IF(SNPs!B576<>\"\",MID(SNPs!B576,FIND(\"[\",SNPs!B576)+3,FIND(\"/\",SNPs!B576)-FIND(\"/\",SNPs!B576)+1),\"\")","v":""},{"$f":"IF(SNPs!B576<>\"\",SNPs!B576,\"\")","v":""}]
[{"$f":"IF(SNPs!A577<>\"\",SNPs!A577,\"\")","v":""},{"$f":"IF(SNPs!B577<>\"\",MID(SNPs!B577,FIND(\"[\",SNPs!B577)+1,FIND(\"/\",SNPs!B577)-FIND(\"[\",SNPs!B577)-1),\"\")","v":""},{"$f":"IF(SNPs!B577<>\"\",MID(SNPs!B577,FIND(\"[\",SNPs!B577)+3,FIND(\"/\",SNPs!B577)-FIND(\"/\",SNPs!B577)+1),\"\")","v":""},{"$f":"IF(SNPs!B577<>\"\",SNPs!B577,\"\")","v":""}]
[{"$f":"IF(SNPs!A578<>\"\",SNPs!A578,\"\")","v":""},{"$f":"IF(SNPs!B578<>\"\",MID(SNPs!B578,FIND(\"[\",SNPs!B578)+1,FIND(\"/\",SNPs!B578)-FIND(\"[\",SNPs!B578)-1),\"\")","v":""},{"$f":"IF(SNPs!B578<>\"\",MID(SNPs!B578,FIND(\"[\",SNPs!B578)+3,FIND(\"/\",SNPs!B578)-FIND(\"/\",SNPs!B578)+1),\"\")","v":""},{"$f":"IF(SNPs!B578<>\"\",SNPs!B578,\"\")","v":""}]
[{"$f":"IF(SNPs!A579<>\"\",SNPs!A579,\"\")","v":""},{"$f":"IF(SNPs!B579<>\"\",MID(SNPs!B579,FIND(\"[\",SNPs!B579)+1,FIND(\"/\",SNPs!B579)-FIND(\"[\",SNPs!B579)-1),\"\")","v":""},{"$f":"IF(SNPs!B579<>\"\",MID(SNPs!B579,FIND(\"[\",SNPs!B579)+3,FIND(\"/\",SNPs!B579)-FIND(\"/\",SNPs!B579)+1),\"\")","v":""},{"$f":"IF(SNPs!B579<>\"\",SNPs!B579,\"\")","v":""}]
[{"$f":"IF(SNPs!A580<>\"\",SNPs!A580,\"\")","v":""},{"$f":"IF(SNPs!B580<>\"\",MID(SNPs!B580,FIND(\"[\",SNPs!B580)+1,FIND(\"/\",SNPs!B580)-FIND(\"[\",SNPs!B580)-1),\"\")","v":""},{"$f":"IF(SNPs!B580<>\"\",MID(SNPs!B580,FIND(\"[\",SNPs!B580)+3,FIND(\"/\",SNPs!B580)-FIND(\"/\",SNPs!B580)+1),\"\")","v":""},{"$f":"IF(SNPs!B580<>\"\",SNPs!B580,\"\")","v":""}]
[{"$f":"IF(SNPs!A581<>\"\",SNPs!A581,\"\")","v":""},{"$f":"IF(SNPs!B581<>\"\",MID(SNPs!B581,FIND(\"[\",SNPs!B581)+1,FIND(\"/\",SNPs!B581)-FIND(\"[\",SNPs!B581)-1),\"\")","v":""},{"$f":"IF(SNPs!B581<>\"\",MID(SNPs!B581,FIND(\"[\",SNPs!B581)+3,FIND(\"/\",SNPs!B581)-FIND(\"/\",SNPs!B581)+1),\"\")","v":""},{"$f":"IF(SNPs!B581<>\"\",SNPs!B581,\"\")","v":""}]
[{"$f":"IF(SNPs!A582<>\"\",SNPs!A582,\"\")","v":""},{"$f":"IF(SNPs!B582<>\"\",MID(SNPs!B582,FIND(\"[\",SNPs!B582)+1,FIND(\"/\",SNPs!B582)-FIND(\"[\",SNPs!B582)-1),\"\")","v":""},{"$f":"IF(SNPs!B582<>\"\",MID(SNPs!B582,FIND(\"[\",SNPs!B582)+3,FIND(\"/\",SNPs!B582)-FIND(\"/\",SNPs!B582)+1),\"\")","v":""},{"$f":"IF(SNPs!B582<>\"\",SNPs!B582,\"\")","v":""}]
[{"$f":"IF(SNPs!A583<>\"\",SNPs!A583,\"\")","v":""},{"$f":"IF(SNPs!B583<>\"\",MID(SNPs!B583,FIND(\"[\",SNPs!B583)+1,FIND(\"/\",SNPs!B583)-FIND(\"[\",SNPs!B583)-1),\"\")","v":""},{"$f":"IF(SNPs!B583<>\"\",MID(SNPs!B583,FIND(\"[\",SNPs!B583)+3,FIND(\"/\",SNPs!B583)-FIND(\"/\",SNPs!B583)+1),\"\")","v":""},{"$f":"IF(SNPs!B583<>\"\",SNPs!B583,\"\")","v":""}]
[{"$f":"IF(SNPs!A584<>\"\",SNPs!A584,\"\")","v":""},{"$f":"IF(SNPs!B584<>\"\",MID(SNPs!B584,FIND(\"[\",SNPs!B584)+1,FIND(\"/\",SNPs!B584)-FIND(\"[\",SNPs!B584)-1),\"\")","v":""},{"$f":"IF(SNPs!B584<>\"\",MID(SNPs!B584,FIND(\"[\",SNPs!B584)+3,FIND(\"/\",SNPs!B584)-FIND(\"/\",SNPs!B584)+1),\"\")","v":""},{"$f":"IF(SNPs!B584<>\"\",SNPs!B584,\"\")","v":""}]
[{"$f":"IF(SNPs!A585<>\"\",SNPs!A585,\"\")","v":""},{"$f":"IF(SNPs!B585<>\"\",MID(SNPs!B585,FIND(\"[\",SNPs!B585)+1,FIND(\"/\",SNPs!B585)-FIND(\"[\",SNPs!B585)-1),\"\")","v":""},{"$f":"IF(SNPs!B585<>\"\",MID(SNPs!B585,FIND(\"[\",SNPs!B585)+3,FIND(\"/\",SNPs!B585)-FIND(\"/\",SNPs!B585)+1),\"\")","v":""},{"$f":"IF(SNPs!B585<>\"\",SNPs!B585,\"\")","v":""}]
[{"$f":"IF(SNPs!A586<>\"\",SNPs!A586,\"\")","v":""},{"$f":"IF(SNPs!B586<>\"\",MID(SNPs!B586,FIND(\"[\",SNPs!B586)+1,FIND(\"/\",SNPs!B586)-FIND(\"[\",SNPs!B586)-1),\"\")","v":""},{"$f":"IF(SNPs!B586<>\"\",MID(SNPs!B586,FIND(\"[\",SNPs!B586)+3,FIND(\"/\",SNPs!B586)-FIND(\"/\",SNPs!B586)+1),\"\")","v":""},{"$f":"IF(SNPs!B586<>\"\",SNPs!B586,\"\")","v":""}]
[{"$f":"IF(SNPs!A587<>\"\",SNPs!A587,\"\")","v":""},{"$f":"IF(SNPs!B587<>\"\",MID(SNPs!B587,FIND(\"[\",SNPs!B587)+1,FIND(\"/\",SNPs!B587)-FIND(\"[\",SNPs!B587)-1),\"\")","v":""},{"$f":"IF(SNPs!B587<>\"\",MID(SNPs!B587,FIND(\"[\",SNPs!B587)+3,FIND(\"/\",SNPs!B587)-FIND(\"/\",SNPs!B587)+1),\"\")","v":""},{"$f":"IF(SNPs!B587<>\"\",SNPs!B587,\"\")","v":""}]
[{"$f":"IF(SNPs!A588<>\"\",SNPs!A588,\"\")","v":""},{"$f":"IF(SNPs!B588<>\"\",MID(SNPs!B588,FIND(\"[\",SNPs!B588)+1,FIND(\"/\",SNPs!B588)-FIND(\"[\",SNPs!B588)-1),\"\")","v":""},{"$f":"IF(SNPs!B588<>\"\",MID(SNPs!B588,FIND(\"[\",SNPs!B588)+3,FIND(\"/\",SNPs!B588)-FIND(\"/\",SNPs!B588)+1),\"\")","v":""},{"$f":"IF(SNPs!B588<>\"\",SNPs!B588,\"\")","v":""}]
[{"$f":"IF(SNPs!A589<>\"\",SNPs!A589,\"\")","v":""},{"$f":"IF(SNPs!B589<>\"\",MID(SNPs!B589,FIND(\"[\",SNPs!B589)+1,FIND(\"/\",SNPs!B589)-FIND(\"[\",SNPs!B589)-1),\"\")","v":""},{"$f":"IF(SNPs!B589<>\"\",MID(SNPs!B589,FIND(\"[\",SNPs!B589)+3,FIND(\"/\",SNPs!B589)-FIND(\"/\",SNPs!B589)+1),\"\")","v":""},{"$f":"IF(SNPs!B589<>\"\",SNPs!B589,\"\")","v":""}]
[{"$f":"IF(SNPs!A590<>\"\",SNPs!A590,\"\")","v":""},{"$f":"IF(SNPs!B590<>\"\",MID(SNPs!B590,FIND(\"[\",SNPs!B590)+1,FIND(\"/\",SNPs!B590)-FIND(\"[\",SNPs!B590)-1),\"\")","v":""},{"$f":"IF(SNPs!B590<>\"\",MID(SNPs!B590,FIND(\"[\",SNPs!B590)+3,FIND(\"/\",SNPs!B590)-FIND(\"/\",SNPs!B590)+1),\"\")","v":""},{"$f":"IF(SNPs!B590<>\"\",SNPs!B590,\"\")","v":""}]
[{"$f":"IF(SNPs!A591<>\"\",SNPs!A591,\"\")","v":""},{"$f":"IF(SNPs!B591<>\"\",MID(SNPs!B591,FIND(\"[\",SNPs!B591)+1,FIND(\"/\",SNPs!B591)-FIND(\"[\",SNPs!B591)-1),\"\")","v":""},{"$f":"IF(SNPs!B591<>\"\",MID(SNPs!B591,FIND(\"[\",SNPs!B591)+3,FIND(\"/\",SNPs!B591)-FIND(\"/\",SNPs!B591)+1),\"\")","v":""},{"$f":"IF(SNPs!B591<>\"\",SNPs!B591,\"\")","v":""}]
[{"$f":"IF(SNPs!A592<>\"\",SNPs!A592,\"\")","v":""},{"$f":"IF(SNPs!B592<>\"\",MID(SNPs!B592,FIND(\"[\",SNPs!B592)+1,FIND(\"/\",SNPs!B592)-FIND(\"[\",SNPs!B592)-1),\"\")","v":""},{"$f":"IF(SNPs!B592<>\"\",MID(SNPs!B592,FIND(\"[\",SNPs!B592)+3,FIND(\"/\",SNPs!B592)-FIND(\"/\",SNPs!B592)+1),\"\")","v":""},{"$f":"IF(SNPs!B592<>\"\",SNPs!B592,\"\")","v":""}]
[{"$f":"IF(SNPs!A593<>\"\",SNPs!A593,\"\")","v":""},{"$f":"IF(SNPs!B593<>\"\",MID(SNPs!B593,FIND(\"[\",SNPs!B593)+1,FIND(\"/\",SNPs!B593)-FIND(\"[\",SNPs!B593)-1),\"\")","v":""},{"$f":"IF(SNPs!B593<>\"\",MID(SNPs!B593,FIND(\"[\",SNPs!B593)+3,FIND(\"/\",SNPs!B593)-FIND(\"/\",SNPs!B593)+1),\"\")","v":""},{"$f":"IF(SNPs!B593<>\"\",SNPs!B593,\"\")","v":""}]
[{"$f":"IF(SNPs!A594<>\"\",SNPs!A594,\"\")","v":""},{"$f":"IF(SNPs!B594<>\"\",MID(SNPs!B594,FIND(\"[\",SNPs!B594)+1,FIND(\"/\",SNPs!B594)-FIND(\"[\",SNPs!B594)-1),\"\")","v":""},{"$f":"IF(SNPs!B594<>\"\",MID(SNPs!B594,FIND(\"[\",SNPs!B594)+3,FIND(\"/\",SNPs!B594)-FIND(\"/\",SNPs!B594)+1),\"\")","v":""},{"$f":"IF(SNPs!B594<>\"\",SNPs!B594,\"\")","v":""}]
[{"$f":"IF(SNPs!A595<>\"\",SNPs!A595,\"\")","v":""},{"$f":"IF(SNPs!B595<>\"\",MID(SNPs!B595,FIND(\"[\",SNPs!B595)+1,FIND(\"/\",SNPs!B595)-FIND(\"[\",SNPs!B595)-1),\"\")","v":""},{"$f":"IF(SNPs!B595<>\"\",MID(SNPs!B595,FIND(\"[\",SNPs!B595)+3,FIND(\"/\",SNPs!B595)-FIND(\"/\",SNPs!B595)+1),\"\")","v":""},{"$f":"IF(SNPs!B595<>\"\",SNPs!B595,\"\")","v":""}]
[{"$f":"IF(SNPs!A596<>\"\",SNPs!A596,\"\")","v":""},{"$f":"IF(SNPs!B596<>\"\",MID(SNPs!B596,FIND(\"[\",SNPs!B596)+1,FIND(\"/\",SNPs!B596)-FIND(\"[\",SNPs!B596)-1),\"\")","v":""},{"$f":"IF(SNPs!B596<>\"\",MID(SNPs!B596,FIND(\"[\",SNPs!B596)+3,FIND(\"/\",SNPs!B596)-FIND(\"/\",SNPs!B596)+1),\"\")","v":""},{"$f":"IF(SNPs!B596<>\"\",SNPs!B596,\"\")","v":""}]
[{"$f":"IF(SNPs!A597<>\"\",SNPs!A597,\"\")","v":""},{"$f":"IF(SNPs!B597<>\"\",MID(SNPs!B597,FIND(\"[\",SNPs!B597)+1,FIND(\"/\",SNPs!B597)-FIND(\"[\",SNPs!B597)-1),\"\")","v":""},{"$f":"IF(SNPs!B597<>\"\",MID(SNPs!B597,FIND(\"[\",SNPs!B597)+3,FIND(\"/\",SNPs!B597)-FIND(\"/\",SNPs!B597)+1),\"\")","v":""},{"$f":"IF(SNPs!B597<>\"\",SNPs!B597,\"\")","v":""}]
[{"$f":"IF(SNPs!A598<>\"\",SNPs!A598,\"\")","v":""},{"$f":"IF(SNPs!B598<>\"\",MID(SNPs!B598,FIND(\"[\",SNPs!B598)+1,FIND(\"/\",SNPs!B598)-FIND(\"[\",SNPs!B598)-1),\"\")","v":""},{"$f":"IF(SNPs!B598<>\"\",MID(SNPs!B598,FIND(\"[\",SNPs!B598)+3,FIND(\"/\",SNPs!B598)-FIND(\"/\",SNPs!B598)+1),\"\")","v":""},{"$f":"IF(SNPs!B598<>\"\",SNPs!B598,\"\")","v":""}]
[{"$f":"IF(SNPs!A599<>\"\",SNPs!A599,\"\")","v":""},{"$f":"IF(SNPs!B599<>\"\",MID(SNPs!B599,FIND(\"[\",SNPs!B599)+1,FIND(\"/\",SNPs!B599)-FIND(\"[\",SNPs!B599)-1),\"\")","v":""},{"$f":"IF(SNPs!B599<>\"\",MID(SNPs!B599,FIND(\"[\",SNPs!B599)+3,FIND(\"/\",SNPs!B599)-FIND(\"/\",SNPs!B599)+1),\"\")","v":""},{"$f":"IF(SNPs!B599<>\"\",SNPs!B599,\"\")","v":""}]
[{"$f":"IF(SNPs!A600<>\"\",SNPs!A600,\"\")","v":""},{"$f":"IF(SNPs!B600<>\"\",MID(SNPs!B600,FIND(\"[\",SNPs!B600)+1,FIND(\"/\",SNPs!B600)-FIND(\"[\",SNPs!B600)-1),\"\")","v":""},{"$f":"IF(SNPs!B600<>\"\",MID(SNPs!B600,FIND(\"[\",SNPs!B600)+3,FIND(\"/\",SNPs!B600)-FIND(\"/\",SNPs!B600)+1),\"\")","v":""},{"$f":"IF(SNPs!B600<>\"\",SNPs!B600,\"\")","v":""}]
[{"$f":"IF(SNPs!A601<>\"\",SNPs!A601,\"\")","v":""},{"$f":"IF(SNPs!B601<>\"\",MID(SNPs!B601,FIND(\"[\",SNPs!B601)+1,FIND(\"/\",SNPs!B601)-FIND(\"[\",SNPs!B601)-1),\"\")","v":""},{"$f":"IF(SNPs!B601<>\"\",MID(SNPs!B601,FIND(\"[\",SNPs!B601)+3,FIND(\"/\",SNPs!B601)-FIND(\"/\",SNPs!B601)+1),\"\")","v":""},{"$f":"IF(SNPs!B601<>\"\",SNPs!B601,\"\")","v":""}]
[{"$f":"IF(SNPs!A602<>\"\",SNPs!A602,\"\")","v":""},{"$f":"IF(SNPs!B602<>\"\",MID(SNPs!B602,FIND(\"[\",SNPs!B602)+1,FIND(\"/\",SNPs!B602)-FIND(\"[\",SNPs!B602)-1),\"\")","v":""},{"$f":"IF(SNPs!B602<>\"\",MID(SNPs!B602,FIND(\"[\",SNPs!B602)+3,FIND(\"/\",SNPs!B602)-FIND(\"/\",SNPs!B602)+1),\"\")","v":""},{"$f":"IF(SNPs!B602<>\"\",SNPs!B602,\"\")","v":""}]
[{"$f":"IF(SNPs!A603<>\"\",SNPs!A603,\"\")","v":""},{"$f":"IF(SNPs!B603<>\"\",MID(SNPs!B603,FIND(\"[\",SNPs!B603)+1,FIND(\"/\",SNPs!B603)-FIND(\"[\",SNPs!B603)-1),\"\")","v":""},{"$f":"IF(SNPs!B603<>\"\",MID(SNPs!B603,FIND(\"[\",SNPs!B603)+3,FIND(\"/\",SNPs!B603)-FIND(\"/\",SNPs!B603)+1),\"\")","v":""},{"$f":"IF(SNPs!B603<>\"\",SNPs!B603,\"\")","v":""}]
[{"$f":"IF(SNPs!A604<>\"\",SNPs!A604,\"\")","v":""},{"$f":"IF(SNPs!B604<>\"\",MID(SNPs!B604,FIND(\"[\",SNPs!B604)+1,FIND(\"/\",SNPs!B604)-FIND(\"[\",SNPs!B604)-1),\"\")","v":""},{"$f":"IF(SNPs!B604<>\"\",MID(SNPs!B604,FIND(\"[\",SNPs!B604)+3,FIND(\"/\",SNPs!B604)-FIND(\"/\",SNPs!B604)+1),\"\")","v":""},{"$f":"IF(SNPs!B604<>\"\",SNPs!B604,\"\")","v":""}]
[{"$f":"IF(SNPs!A605<>\"\",SNPs!A605,\"\")","v":""},{"$f":"IF(SNPs!B605<>\"\",MID(SNPs!B605,FIND(\"[\",SNPs!B605)+1,FIND(\"/\",SNPs!B605)-FIND(\"[\",SNPs!B605)-1),\"\")","v":""},{"$f":"IF(SNPs!B605<>\"\",MID(SNPs!B605,FIND(\"[\",SNPs!B605)+3,FIND(\"/\",SNPs!B605)-FIND(\"/\",SNPs!B605)+1),\"\")","v":""},{"$f":"IF(SNPs!B605<>\"\",SNPs!B605,\"\")","v":""}]
[{"$f":"IF(SNPs!A606<>\"\",SNPs!A606,\"\")","v":""},{"$f":"IF(SNPs!B606<>\"\",MID(SNPs!B606,FIND(\"[\",SNPs!B606)+1,FIND(\"/\",SNPs!B606)-FIND(\"[\",SNPs!B606)-1),\"\")","v":""},{"$f":"IF(SNPs!B606<>\"\",MID(SNPs!B606,FIND(\"[\",SNPs!B606)+3,FIND(\"/\",SNPs!B606)-FIND(\"/\",SNPs!B606)+1),\"\")","v":""},{"$f":"IF(SNPs!B606<>\"\",SNPs!B606,\"\")","v":""}]
[{"$f":"IF(SNPs!A607<>\"\",SNPs!A607,\"\")","v":""},{"$f":"IF(SNPs!B607<>\"\",MID(SNPs!B607,FIND(\"[\",SNPs!B607)+1,FIND(\"/\",SNPs!B607)-FIND(\"[\",SNPs!B607)-1),\"\")","v":""},{"$f":"IF(SNPs!B607<>\"\",MID(SNPs!B607,FIND(\"[\",SNPs!B607)+3,FIND(\"/\",SNPs!B607)-FIND(\"/\",SNPs!B607)+1),\"\")","v":""},{"$f":"IF(SNPs!B607<>\"\",SNPs!B607,\"\")","v":""}]
[{"$f":"IF(SNPs!A608<>\"\",SNPs!A608,\"\")","v":""},{"$f":"IF(SNPs!B608<>\"\",MID(SNPs!B608,FIND(\"[\",SNPs!B608)+1,FIND(\"/\",SNPs!B608)-FIND(\"[\",SNPs!B608)-1),\"\")","v":""},{"$f":"IF(SNPs!B608<>\"\",MID(SNPs!B608,FIND(\"[\",SNPs!B608)+3,FIND(\"/\",SNPs!B608)-FIND(\"/\",SNPs!B608)+1),\"\")","v":""},{"$f":"IF(SNPs!B608<>\"\",SNPs!B608,\"\")","v":""}]
[{"$f":"IF(SNPs!A609<>\"\",SNPs!A609,\"\")","v":""},{"$f":"IF(SNPs!B609<>\"\",MID(SNPs!B609,FIND(\"[\",SNPs!B609)+1,FIND(\"/\",SNPs!B609)-FIND(\"[\",SNPs!B609)-1),\"\")","v":""},{"$f":"IF(SNPs!B609<>\"\",MID(SNPs!B609,FIND(\"[\",SNPs!B609)+3,FIND(\"/\",SNPs!B609)-FIND(\"/\",SNPs!B609)+1),\"\")","v":""},{"$f":"IF(SNPs!B609<>\"\",SNPs!B609,\"\")","v":""}]
[{"$f":"IF(SNPs!A610<>\"\",SNPs!A610,\"\")","v":""},{"$f":"IF(SNPs!B610<>\"\",MID(SNPs!B610,FIND(\"[\",SNPs!B610)+1,FIND(\"/\",SNPs!B610)-FIND(\"[\",SNPs!B610)-1),\"\")","v":""},{"$f":"IF(SNPs!B610<>\"\",MID(SNPs!B610,FIND(\"[\",SNPs!B610)+3,FIND(\"/\",SNPs!B610)-FIND(\"/\",SNPs!B610)+1),\"\")","v":""},{"$f":"IF(SNPs!B610<>\"\",SNPs!B610,\"\")","v":""}]
[{"$f":"IF(SNPs!A611<>\"\",SNPs!A611,\"\")","v":""},{"$f":"IF(SNPs!B611<>\"\",MID(SNPs!B611,FIND(\"[\",SNPs!B611)+1,FIND(\"/\",SNPs!B611)-FIND(\"[\",SNPs!B611)-1),\"\")","v":""},{"$f":"IF(SNPs!B611<>\"\",MID(SNPs!B611,FIND(\"[\",SNPs!B611)+3,FIND(\"/\",SNPs!B611)-FIND(\"/\",SNPs!B611)+1),\"\")","v":""},{"$f":"IF(SNPs!B611<>\"\",SNPs!B611,\"\")","v":""}]
[{"$f":"IF(SNPs!A612<>\"\",SNPs!A612,\"\")","v":""},{"$f":"IF(SNPs!B612<>\"\",MID(SNPs!B612,FIND(\"[\",SNPs!B612)+1,FIND(\"/\",SNPs!B612)-FIND(\"[\",SNPs!B612)-1),\"\")","v":""},{"$f":"IF(SNPs!B612<>\"\",MID(SNPs!B612,FIND(\"[\",SNPs!B612)+3,FIND(\"/\",SNPs!B612)-FIND(\"/\",SNPs!B612)+1),\"\")","v":""},{"$f":"IF(SNPs!B612<>\"\",SNPs!B612,\"\")","v":""}]
[{"$f":"IF(SNPs!A613<>\"\",SNPs!A613,\"\")","v":""},{"$f":"IF(SNPs!B613<>\"\",MID(SNPs!B613,FIND(\"[\",SNPs!B613)+1,FIND(\"/\",SNPs!B613)-FIND(\"[\",SNPs!B613)-1),\"\")","v":""},{"$f":"IF(SNPs!B613<>\"\",MID(SNPs!B613,FIND(\"[\",SNPs!B613)+3,FIND(\"/\",SNPs!B613)-FIND(\"/\",SNPs!B613)+1),\"\")","v":""},{"$f":"IF(SNPs!B613<>\"\",SNPs!B613,\"\")","v":""}]
[{"$f":"IF(SNPs!A614<>\"\",SNPs!A614,\"\")","v":""},{"$f":"IF(SNPs!B614<>\"\",MID(SNPs!B614,FIND(\"[\",SNPs!B614)+1,FIND(\"/\",SNPs!B614)-FIND(\"[\",SNPs!B614)-1),\"\")","v":""},{"$f":"IF(SNPs!B614<>\"\",MID(SNPs!B614,FIND(\"[\",SNPs!B614)+3,FIND(\"/\",SNPs!B614)-FIND(\"/\",SNPs!B614)+1),\"\")","v":""},{"$f":"IF(SNPs!B614<>\"\",SNPs!B614,\"\")","v":""}]
[{"$f":"IF(SNPs!A615<>\"\",SNPs!A615,\"\")","v":""},{"$f":"IF(SNPs!B615<>\"\",MID(SNPs!B615,FIND(\"[\",SNPs!B615)+1,FIND(\"/\",SNPs!B615)-FIND(\"[\",SNPs!B615)-1),\"\")","v":""},{"$f":"IF(SNPs!B615<>\"\",MID(SNPs!B615,FIND(\"[\",SNPs!B615)+3,FIND(\"/\",SNPs!B615)-FIND(\"/\",SNPs!B615)+1),\"\")","v":""},{"$f":"IF(SNPs!B615<>\"\",SNPs!B615,\"\")","v":""}]
[{"$f":"IF(SNPs!A616<>\"\",SNPs!A616,\"\")","v":""},{"$f":"IF(SNPs!B616<>\"\",MID(SNPs!B616,FIND(\"[\",SNPs!B616)+1,FIND(\"/\",SNPs!B616)-FIND(\"[\",SNPs!B616)-1),\"\")","v":""},{"$f":"IF(SNPs!B616<>\"\",MID(SNPs!B616,FIND(\"[\",SNPs!B616)+3,FIND(\"/\",SNPs!B616)-FIND(\"/\",SNPs!B616)+1),\"\")","v":""},{"$f":"IF(SNPs!B616<>\"\",SNPs!B616,\"\")","v":""}]
[{"$f":"IF(SNPs!A617<>\"\",SNPs!A617,\"\")","v":""},{"$f":"IF(SNPs!B617<>\"\",MID(SNPs!B617,FIND(\"[\",SNPs!B617)+1,FIND(\"/\",SNPs!B617)-FIND(\"[\",SNPs!B617)-1),\"\")","v":""},{"$f":"IF(SNPs!B617<>\"\",MID(SNPs!B617,FIND(\"[\",SNPs!B617)+3,FIND(\"/\",SNPs!B617)-FIND(\"/\",SNPs!B617)+1),\"\")","v":""},{"$f":"IF(SNPs!B617<>\"\",SNPs!B617,\"\")","v":""}]
[{"$f":"IF(SNPs!A618<>\"\",SNPs!A618,\"\")","v":""},{"$f":"IF(SNPs!B618<>\"\",MID(SNPs!B618,FIND(\"[\",SNPs!B618)+1,FIND(\"/\",SNPs!B618)-FIND(\"[\",SNPs!B618)-1),\"\")","v":""},{"$f":"IF(SNPs!B618<>\"\",MID(SNPs!B618,FIND(\"[\",SNPs!B618)+3,FIND(\"/\",SNPs!B618)-FIND(\"/\",SNPs!B618)+1),\"\")","v":""},{"$f":"IF(SNPs!B618<>\"\",SNPs!B618,\"\")","v":""}]
[{"$f":"IF(SNPs!A619<>\"\",SNPs!A619,\"\")","v":""},{"$f":"IF(SNPs!B619<>\"\",MID(SNPs!B619,FIND(\"[\",SNPs!B619)+1,FIND(\"/\",SNPs!B619)-FIND(\"[\",SNPs!B619)-1),\"\")","v":""},{"$f":"IF(SNPs!B619<>\"\",MID(SNPs!B619,FIND(\"[\",SNPs!B619)+3,FIND(\"/\",SNPs!B619)-FIND(\"/\",SNPs!B619)+1),\"\")","v":""},{"$f":"IF(SNPs!B619<>\"\",SNPs!B619,\"\")","v":""}]
[{"$f":"IF(SNPs!A620<>\"\",SNPs!A620,\"\")","v":""},{"$f":"IF(SNPs!B620<>\"\",MID(SNPs!B620,FIND(\"[\",SNPs!B620)+1,FIND(\"/\",SNPs!B620)-FIND(\"[\",SNPs!B620)-1),\"\")","v":""},{"$f":"IF(SNPs!B620<>\"\",MID(SNPs!B620,FIND(\"[\",SNPs!B620)+3,FIND(\"/\",SNPs!B620)-FIND(\"/\",SNPs!B620)+1),\"\")","v":""},{"$f":"IF(SNPs!B620<>\"\",SNPs!B620,\"\")","v":""}]
[{"$f":"IF(SNPs!A621<>\"\",SNPs!A621,\"\")","v":""},{"$f":"IF(SNPs!B621<>\"\",MID(SNPs!B621,FIND(\"[\",SNPs!B621)+1,FIND(\"/\",SNPs!B621)-FIND(\"[\",SNPs!B621)-1),\"\")","v":""},{"$f":"IF(SNPs!B621<>\"\",MID(SNPs!B621,FIND(\"[\",SNPs!B621)+3,FIND(\"/\",SNPs!B621)-FIND(\"/\",SNPs!B621)+1),\"\")","v":""},{"$f":"IF(SNPs!B621<>\"\",SNPs!B621,\"\")","v":""}]
[{"$f":"IF(SNPs!A622<>\"\",SNPs!A622,\"\")","v":""},{"$f":"IF(SNPs!B622<>\"\",MID(SNPs!B622,FIND(\"[\",SNPs!B622)+1,FIND(\"/\",SNPs!B622)-FIND(\"[\",SNPs!B622)-1),\"\")","v":""},{"$f":"IF(SNPs!B622<>\"\",MID(SNPs!B622,FIND(\"[\",SNPs!B622)+3,FIND(\"/\",SNPs!B622)-FIND(\"/\",SNPs!B622)+1),\"\")","v":""},{"$f":"IF(SNPs!B622<>\"\",SNPs!B622,\"\")","v":""}]
[{"$f":"IF(SNPs!A623<>\"\",SNPs!A623,\"\")","v":""},{"$f":"IF(SNPs!B623<>\"\",MID(SNPs!B623,FIND(\"[\",SNPs!B623)+1,FIND(\"/\",SNPs!B623)-FIND(\"[\",SNPs!B623)-1),\"\")","v":""},{"$f":"IF(SNPs!B623<>\"\",MID(SNPs!B623,FIND(\"[\",SNPs!B623)+3,FIND(\"/\",SNPs!B623)-FIND(\"/\",SNPs!B623)+1),\"\")","v":""},{"$f":"IF(SNPs!B623<>\"\",SNPs!B623,\"\")","v":""}]
[{"$f":"IF(SNPs!A624<>\"\",SNPs!A624,\"\")","v":""},{"$f":"IF(SNPs!B624<>\"\",MID(SNPs!B624,FIND(\"[\",SNPs!B624)+1,FIND(\"/\",SNPs!B624)-FIND(\"[\",SNPs!B624)-1),\"\")","v":""},{"$f":"IF(SNPs!B624<>\"\",MID(SNPs!B624,FIND(\"[\",SNPs!B624)+3,FIND(\"/\",SNPs!B624)-FIND(\"/\",SNPs!B624)+1),\"\")","v":""},{"$f":"IF(SNPs!B624<>\"\",SNPs!B624,\"\")","v":""}]
[{"$f":"IF(SNPs!A625<>\"\",SNPs!A625,\"\")","v":""},{"$f":"IF(SNPs!B625<>\"\",MID(SNPs!B625,FIND(\"[\",SNPs!B625)+1,FIND(\"/\",SNPs!B625)-FIND(\"[\",SNPs!B625)-1),\"\")","v":""},{"$f":"IF(SNPs!B625<>\"\",MID(SNPs!B625,FIND(\"[\",SNPs!B625)+3,FIND(\"/\",SNPs!B625)-FIND(\"/\",SNPs!B625)+1),\"\")","v":""},{"$f":"IF(SNPs!B625<>\"\",SNPs!B625,\"\")","v":""}]
[{"$f":"IF(SNPs!A626<>\"\",SNPs!A626,\"\")","v":""},{"$f":"IF(SNPs!B626<>\"\",MID(SNPs!B626,FIND(\"[\",SNPs!B626)+1,FIND(\"/\",SNPs!B626)-FIND(\"[\",SNPs!B626)-1),\"\")","v":""},{"$f":"IF(SNPs!B626<>\"\",MID(SNPs!B626,FIND(\"[\",SNPs!B626)+3,FIND(\"/\",SNPs!B626)-FIND(\"/\",SNPs!B626)+1),\"\")","v":""},{"$f":"IF(SNPs!B626<>\"\",SNPs!B626,\"\")","v":""}]
[{"$f":"IF(SNPs!A627<>\"\",SNPs!A627,\"\")","v":""},{"$f":"IF(SNPs!B627<>\"\",MID(SNPs!B627,FIND(\"[\",SNPs!B627)+1,FIND(\"/\",SNPs!B627)-FIND(\"[\",SNPs!B627)-1),\"\")","v":""},{"$f":"IF(SNPs!B627<>\"\",MID(SNPs!B627,FIND(\"[\",SNPs!B627)+3,FIND(\"/\",SNPs!B627)-FIND(\"/\",SNPs!B627)+1),\"\")","v":""},{"$f":"IF(SNPs!B627<>\"\",SNPs!B627,\"\")","v":""}]
[{"$f":"IF(SNPs!A628<>\"\",SNPs!A628,\"\")","v":""},{"$f":"IF(SNPs!B628<>\"\",MID(SNPs!B628,FIND(\"[\",SNPs!B628)+1,FIND(\"/\",SNPs!B628)-FIND(\"[\",SNPs!B628)-1),\"\")","v":""},{"$f":"IF(SNPs!B628<>\"\",MID(SNPs!B628,FIND(\"[\",SNPs!B628)+3,FIND(\"/\",SNPs!B628)-FIND(\"/\",SNPs!B628)+1),\"\")","v":""},{"$f":"IF(SNPs!B628<>\"\",SNPs!B628,\"\")","v":""}]
[{"$f":"IF(SNPs!A629<>\"\",SNPs!A629,\"\")","v":""},{"$f":"IF(SNPs!B629<>\"\",MID(SNPs!B629,FIND(\"[\",SNPs!B629)+1,FIND(\"/\",SNPs!B629)-FIND(\"[\",SNPs!B629)-1),\"\")","v":""},{"$f":"IF(SNPs!B629<>\"\",MID(SNPs!B629,FIND(\"[\",SNPs!B629)+3,FIND(\"/\",SNPs!B629)-FIND(\"/\",SNPs!B629)+1),\"\")","v":""},{"$f":"IF(SNPs!B629<>\"\",SNPs!B629,\"\")","v":""}]
[{"$f":"IF(SNPs!A630<>\"\",SNPs!A630,\"\")","v":""},{"$f":"IF(SNPs!B630<>\"\",MID(SNPs!B630,FIND(\"[\",SNPs!B630)+1,FIND(\"/\",SNPs!B630)-FIND(\"[\",SNPs!B630)-1),\"\")","v":""},{"$f":"IF(SNPs!B630<>\"\",MID(SNPs!B630,FIND(\"[\",SNPs!B630)+3,FIND(\"/\",SNPs!B630)-FIND(\"/\",SNPs!B630)+1),\"\")","v":""},{"$f":"IF(SNPs!B630<>\"\",SNPs!B630,\"\")","v":""}]
[{"$f":"IF(SNPs!A631<>\"\",SNPs!A631,\"\")","v":""},{"$f":"IF(SNPs!B631<>\"\",MID(SNPs!B631,FIND(\"[\",SNPs!B631)+1,FIND(\"/\",SNPs!B631)-FIND(\"[\",SNPs!B631)-1),\"\")","v":""},{"$f":"IF(SNPs!B631<>\"\",MID(SNPs!B631,FIND(\"[\",SNPs!B631)+3,FIND(\"/\",SNPs!B631)-FIND(\"/\",SNPs!B631)+1),\"\")","v":""},{"$f":"IF(SNPs!B631<>\"\",SNPs!B631,\"\")","v":""}]
[{"$f":"IF(SNPs!A632<>\"\",SNPs!A632,\"\")","v":""},{"$f":"IF(SNPs!B632<>\"\",MID(SNPs!B632,FIND(\"[\",SNPs!B632)+1,FIND(\"/\",SNPs!B632)-FIND(\"[\",SNPs!B632)-1),\"\")","v":""},{"$f":"IF(SNPs!B632<>\"\",MID(SNPs!B632,FIND(\"[\",SNPs!B632)+3,FIND(\"/\",SNPs!B632)-FIND(\"/\",SNPs!B632)+1),\"\")","v":""},{"$f":"IF(SNPs!B632<>\"\",SNPs!B632,\"\")","v":""}]
[{"$f":"IF(SNPs!A633<>\"\",SNPs!A633,\"\")","v":""},{"$f":"IF(SNPs!B633<>\"\",MID(SNPs!B633,FIND(\"[\",SNPs!B633)+1,FIND(\"/\",SNPs!B633)-FIND(\"[\",SNPs!B633)-1),\"\")","v":""},{"$f":"IF(SNPs!B633<>\"\",MID(SNPs!B633,FIND(\"[\",SNPs!B633)+3,FIND(\"/\",SNPs!B633)-FIND(\"/\",SNPs!B633)+1),\"\")","v":""},{"$f":"IF(SNPs!B633<>\"\",SNPs!B633,\"\")","v":""}]
[{"$f":"IF(SNPs!A634<>\"\",SNPs!A634,\"\")","v":""},{"$f":"IF(SNPs!B634<>\"\",MID(SNPs!B634,FIND(\"[\",SNPs!B634)+1,FIND(\"/\",SNPs!B634)-FIND(\"[\",SNPs!B634)-1),\"\")","v":""},{"$f":"IF(SNPs!B634<>\"\",MID(SNPs!B634,FIND(\"[\",SNPs!B634)+3,FIND(\"/\",SNPs!B634)-FIND(\"/\",SNPs!B634)+1),\"\")","v":""},{"$f":"IF(SNPs!B634<>\"\",SNPs!B634,\"\")","v":""}]
[{"$f":"IF(SNPs!A635<>\"\",SNPs!A635,\"\")","v":""},{"$f":"IF(SNPs!B635<>\"\",MID(SNPs!B635,FIND(\"[\",SNPs!B635)+1,FIND(\"/\",SNPs!B635)-FIND(\"[\",SNPs!B635)-1),\"\")","v":""},{"$f":"IF(SNPs!B635<>\"\",MID(SNPs!B635,FIND(\"[\",SNPs!B635)+3,FIND(\"/\",SNPs!B635)-FIND(\"/\",SNPs!B635)+1),\"\")","v":""},{"$f":"IF(SNPs!B635<>\"\",SNPs!B635,\"\")","v":""}]
[{"$f":"IF(SNPs!A636<>\"\",SNPs!A636,\"\")","v":""},{"$f":"IF(SNPs!B636<>\"\",MID(SNPs!B636,FIND(\"[\",SNPs!B636)+1,FIND(\"/\",SNPs!B636)-FIND(\"[\",SNPs!B636)-1),\"\")","v":""},{"$f":"IF(SNPs!B636<>\"\",MID(SNPs!B636,FIND(\"[\",SNPs!B636)+3,FIND(\"/\",SNPs!B636)-FIND(\"/\",SNPs!B636)+1),\"\")","v":""},{"$f":"IF(SNPs!B636<>\"\",SNPs!B636,\"\")","v":""}]
[{"$f":"IF(SNPs!A637<>\"\",SNPs!A637,\"\")","v":""},{"$f":"IF(SNPs!B637<>\"\",MID(SNPs!B637,FIND(\"[\",SNPs!B637)+1,FIND(\"/\",SNPs!B637)-FIND(\"[\",SNPs!B637)-1),\"\")","v":""},{"$f":"IF(SNPs!B637<>\"\",MID(SNPs!B637,FIND(\"[\",SNPs!B637)+3,FIND(\"/\",SNPs!B637)-FIND(\"/\",SNPs!B637)+1),\"\")","v":""},{"$f":"IF(SNPs!B637<>\"\",SNPs!B637,\"\")","v":""}]
[{"$f":"IF(SNPs!A638<>\"\",SNPs!A638,\"\")","v":""},{"$f":"IF(SNPs!B638<>\"\",MID(SNPs!B638,FIND(\"[\",SNPs!B638)+1,FIND(\"/\",SNPs!B638)-FIND(\"[\",SNPs!B638)-1),\"\")","v":""},{"$f":"IF(SNPs!B638<>\"\",MID(SNPs!B638,FIND(\"[\",SNPs!B638)+3,FIND(\"/\",SNPs!B638)-FIND(\"/\",SNPs!B638)+1),\"\")","v":""},{"$f":"IF(SNPs!B638<>\"\",SNPs!B638,\"\")","v":""}]
[{"$f":"IF(SNPs!A639<>\"\",SNPs!A639,\"\")","v":""},{"$f":"IF(SNPs!B639<>\"\",MID(SNPs!B639,FIND(\"[\",SNPs!B639)+1,FIND(\"/\",SNPs!B639)-FIND(\"[\",SNPs!B639)-1),\"\")","v":""},{"$f":"IF(SNPs!B639<>\"\",MID(SNPs!B639,FIND(\"[\",SNPs!B639)+3,FIND(\"/\",SNPs!B639)-FIND(\"/\",SNPs!B639)+1),\"\")","v":""},{"$f":"IF(SNPs!B639<>\"\",SNPs!B639,\"\")","v":""}]
[{"$f":"IF(SNPs!A640<>\"\",SNPs!A640,\"\")","v":""},{"$f":"IF(SNPs!B640<>\"\",MID(SNPs!B640,FIND(\"[\",SNPs!B640)+1,FIND(\"/\",SNPs!B640)-FIND(\"[\",SNPs!B640)-1),\"\")","v":""},{"$f":"IF(SNPs!B640<>\"\",MID(SNPs!B640,FIND(\"[\",SNPs!B640)+3,FIND(\"/\",SNPs!B640)-FIND(\"/\",SNPs!B640)+1),\"\")","v":""},{"$f":"IF(SNPs!B640<>\"\",SNPs!B640,\"\")","v":""}]
[{"$f":"IF(SNPs!A641<>\"\",SNPs!A641,\"\")","v":""},{"$f":"IF(SNPs!B641<>\"\",MID(SNPs!B641,FIND(\"[\",SNPs!B641)+1,FIND(\"/\",SNPs!B641)-FIND(\"[\",SNPs!B641)-1),\"\")","v":""},{"$f":"IF(SNPs!B641<>\"\",MID(SNPs!B641,FIND(\"[\",SNPs!B641)+3,FIND(\"/\",SNPs!B641)-FIND(\"/\",SNPs!B641)+1),\"\")","v":""},{"$f":"IF(SNPs!B641<>\"\",SNPs!B641,\"\")","v":""}]
[{"$f":"IF(SNPs!A642<>\"\",SNPs!A642,\"\")","v":""},{"$f":"IF(SNPs!B642<>\"\",MID(SNPs!B642,FIND(\"[\",SNPs!B642)+1,FIND(\"/\",SNPs!B642)-FIND(\"[\",SNPs!B642)-1),\"\")","v":""},{"$f":"IF(SNPs!B642<>\"\",MID(SNPs!B642,FIND(\"[\",SNPs!B642)+3,FIND(\"/\",SNPs!B642)-FIND(\"/\",SNPs!B642)+1),\"\")","v":""},{"$f":"IF(SNPs!B642<>\"\",SNPs!B642,\"\")","v":""}]
[{"$f":"IF(SNPs!A643<>\"\",SNPs!A643,\"\")","v":""},{"$f":"IF(SNPs!B643<>\"\",MID(SNPs!B643,FIND(\"[\",SNPs!B643)+1,FIND(\"/\",SNPs!B643)-FIND(\"[\",SNPs!B643)-1),\"\")","v":""},{"$f":"IF(SNPs!B643<>\"\",MID(SNPs!B643,FIND(\"[\",SNPs!B643)+3,FIND(\"/\",SNPs!B643)-FIND(\"/\",SNPs!B643)+1),\"\")","v":""},{"$f":"IF(SNPs!B643<>\"\",SNPs!B643,\"\")","v":""}]
[{"$f":"IF(SNPs!A644<>\"\",SNPs!A644,\"\")","v":""},{"$f":"IF(SNPs!B644<>\"\",MID(SNPs!B644,FIND(\"[\",SNPs!B644)+1,FIND(\"/\",SNPs!B644)-FIND(\"[\",SNPs!B644)-1),\"\")","v":""},{"$f":"IF(SNPs!B644<>\"\",MID(SNPs!B644,FIND(\"[\",SNPs!B644)+3,FIND(\"/\",SNPs!B644)-FIND(\"/\",SNPs!B644)+1),\"\")","v":""},{"$f":"IF(SNPs!B644<>\"\",SNPs!B644,\"\")","v":""}]
[{"$f":"IF(SNPs!A645<>\"\",SNPs!A645,\"\")","v":""},{"$f":"IF(SNPs!B645<>\"\",MID(SNPs!B645,FIND(\"[\",SNPs!B645)+1,FIND(\"/\",SNPs!B645)-FIND(\"[\",SNPs!B645)-1),\"\")","v":""},{"$f":"IF(SNPs!B645<>\"\",MID(SNPs!B645,FIND(\"[\",SNPs!B645)+3,FIND(\"/\",SNPs!B645)-FIND(\"/\",SNPs!B645)+1),\"\")","v":""},{"$f":"IF(SNPs!B645<>\"\",SNPs!B645,\"\")","v":""}]
[{"$f":"IF(SNPs!A646<>\"\",SNPs!A646,\"\")","v":""},{"$f":"IF(SNPs!B646<>\"\",MID(SNPs!B646,FIND(\"[\",SNPs!B646)+1,FIND(\"/\",SNPs!B646)-FIND(\"[\",SNPs!B646)-1),\"\")","v":""},{"$f":"IF(SNPs!B646<>\"\",MID(SNPs!B646,FIND(\"[\",SNPs!B646)+3,FIND(\"/\",SNPs!B646)-FIND(\"/\",SNPs!B646)+1),\"\")","v":""},{"$f":"IF(SNPs!B646<>\"\",SNPs!B646,\"\")","v":""}]
[{"$f":"IF(SNPs!A647<>\"\",SNPs!A647,\"\")","v":""},{"$f":"IF(SNPs!B647<>\"\",MID(SNPs!B647,FIND(\"[\",SNPs!B647)+1,FIND(\"/\",SNPs!B647)-FIND(\"[\",SNPs!B647)-1),\"\")","v":""},{"$f":"IF(SNPs!B647<>\"\",MID(SNPs!B647,FIND(\"[\",SNPs!B647)+3,FIND(\"/\",SNPs!B647)-FIND(\"/\",SNPs!B647)+1),\"\")","v":""},{"$f":"IF(SNPs!B647<>\"\",SNPs!B647,\"\")","v":""}]
[{"$f":"IF(SNPs!A648<>\"\",SNPs!A648,\"\")","v":""},{"$f":"IF(SNPs!B648<>\"\",MID(SNPs!B648,FIND(\"[\",SNPs!B648)+1,FIND(\"/\",SNPs!B648)-FIND(\"[\",SNPs!B648)-1),\"\")","v":""},{"$f":"IF(SNPs!B648<>\"\",MID(SNPs!B648,FIND(\"[\",SNPs!B648)+3,FIND(\"/\",SNPs!B648)-FIND(\"/\",SNPs!B648)+1),\"\")","v":""},{"$f":"IF(SNPs!B648<>\"\",SNPs!B648,\"\")","v":""}]
[{"$f":"IF(SNPs!A649<>\"\",SNPs!A649,\"\")","v":""},{"$f":"IF(SNPs!B649<>\"\",MID(SNPs!B649,FIND(\"[\",SNPs!B649)+1,FIND(\"/\",SNPs!B649)-FIND(\"[\",SNPs!B649)-1),\"\")","v":""},{"$f":"IF(SNPs!B649<>\"\",MID(SNPs!B649,FIND(\"[\",SNPs!B649)+3,FIND(\"/\",SNPs!B649)-FIND(\"/\",SNPs!B649)+1),\"\")","v":""},{"$f":"IF(SNPs!B649<>\"\",SNPs!B649,\"\")","v":""}]
[{"$f":"IF(SNPs!A650<>\"\",SNPs!A650,\"\")","v":""},{"$f":"IF(SNPs!B650<>\"\",MID(SNPs!B650,FIND(\"[\",SNPs!B650)+1,FIND(\"/\",SNPs!B650)-FIND(\"[\",SNPs!B650)-1),\"\")","v":""},{"$f":"IF(SNPs!B650<>\"\",MID(SNPs!B650,FIND(\"[\",SNPs!B650)+3,FIND(\"/\",SNPs!B650)-FIND(\"/\",SNPs!B650)+1),\"\")","v":""},{"$f":"IF(SNPs!B650<>\"\",SNPs!B650,\"\")","v":""}]
[{"$f":"IF(SNPs!A651<>\"\",SNPs!A651,\"\")","v":""},{"$f":"IF(SNPs!B651<>\"\",MID(SNPs!B651,FIND(\"[\",SNPs!B651)+1,FIND(\"/\",SNPs!B651)-FIND(\"[\",SNPs!B651)-1),\"\")","v":""},{"$f":"IF(SNPs!B651<>\"\",MID(SNPs!B651,FIND(\"[\",SNPs!B651)+3,FIND(\"/\",SNPs!B651)-FIND(\"/\",SNPs!B651)+1),\"\")","v":""},{"$f":"IF(SNPs!B651<>\"\",SNPs!B651,\"\")","v":""}]
[{"$f":"IF(SNPs!A652<>\"\",SNPs!A652,\"\")","v":""},{"$f":"IF(SNPs!B652<>\"\",MID(SNPs!B652,FIND(\"[\",SNPs!B652)+1,FIND(\"/\",SNPs!B652)-FIND(\"[\",SNPs!B652)-1),\"\")","v":""},{"$f":"IF(SNPs!B652<>\"\",MID(SNPs!B652,FIND(\"[\",SNPs!B652)+3,FIND(\"/\",SNPs!B652)-FIND(\"/\",SNPs!B652)+1),\"\")","v":""},{"$f":"IF(SNPs!B652<>\"\",SNPs!B652,\"\")","v":""}]
[{"$f":"IF(SNPs!A653<>\"\",SNPs!A653,\"\")","v":""},{"$f":"IF(SNPs!B653<>\"\",MID(SNPs!B653,FIND(\"[\",SNPs!B653)+1,FIND(\"/\",SNPs!B653)-FIND(\"[\",SNPs!B653)-1),\"\")","v":""},{"$f":"IF(SNPs!B653<>\"\",MID(SNPs!B653,FIND(\"[\",SNPs!B653)+3,FIND(\"/\",SNPs!B653)-FIND(\"/\",SNPs!B653)+1),\"\")","v":""},{"$f":"IF(SNPs!B653<>\"\",SNPs!B653,\"\")","v":""}]
[{"$f":"IF(SNPs!A654<>\"\",SNPs!A654,\"\")","v":""},{"$f":"IF(SNPs!B654<>\"\",MID(SNPs!B654,FIND(\"[\",SNPs!B654)+1,FIND(\"/\",SNPs!B654)-FIND(\"[\",SNPs!B654)-1),\"\")","v":""},{"$f":"IF(SNPs!B654<>\"\",MID(SNPs!B654,FIND(\"[\",SNPs!B654)+3,FIND(\"/\",SNPs!B654)-FIND(\"/\",SNPs!B654)+1),\"\")","v":""},{"$f":"IF(SNPs!B654<>\"\",SNPs!B654,\"\")","v":""}]
[{"$f":"IF(SNPs!A655<>\"\",SNPs!A655,\"\")","v":""},{"$f":"IF(SNPs!B655<>\"\",MID(SNPs!B655,FIND(\"[\",SNPs!B655)+1,FIND(\"/\",SNPs!B655)-FIND(\"[\",SNPs!B655)-1),\"\")","v":""},{"$f":"IF(SNPs!B655<>\"\",MID(SNPs!B655,FIND(\"[\",SNPs!B655)+3,FIND(\"/\",SNPs!B655)-FIND(\"/\",SNPs!B655)+1),\"\")","v":""},{"$f":"IF(SNPs!B655<>\"\",SNPs!B655,\"\")","v":""}]
[{"$f":"IF(SNPs!A656<>\"\",SNPs!A656,\"\")","v":""},{"$f":"IF(SNPs!B656<>\"\",MID(SNPs!B656,FIND(\"[\",SNPs!B656)+1,FIND(\"/\",SNPs!B656)-FIND(\"[\",SNPs!B656)-1),\"\")","v":""},{"$f":"IF(SNPs!B656<>\"\",MID(SNPs!B656,FIND(\"[\",SNPs!B656)+3,FIND(\"/\",SNPs!B656)-FIND(\"/\",SNPs!B656)+1),\"\")","v":""},{"$f":"IF(SNPs!B656<>\"\",SNPs!B656,\"\")","v":""}]
[{"$f":"IF(SNPs!A657<>\"\",SNPs!A657,\"\")","v":""},{"$f":"IF(SNPs!B657<>\"\",MID(SNPs!B657,FIND(\"[\",SNPs!B657)+1,FIND(\"/\",SNPs!B657)-FIND(\"[\",SNPs!B657)-1),\"\")","v":""},{"$f":"IF(SNPs!B657<>\"\",MID(SNPs!B657,FIND(\"[\",SNPs!B657)+3,FIND(\"/\",SNPs!B657)-FIND(\"/\",SNPs!B657)+1),\"\")","v":""},{"$f":"IF(SNPs!B657<>\"\",SNPs!B657,\"\")","v":""}]
[{"$f":"IF(SNPs!A658<>\"\",SNPs!A658,\"\")","v":""},{"$f":"IF(SNPs!B658<>\"\",MID(SNPs!B658,FIND(\"[\",SNPs!B658)+1,FIND(\"/\",SNPs!B658)-FIND(\"[\",SNPs!B658)-1),\"\")","v":""},{"$f":"IF(SNPs!B658<>\"\",MID(SNPs!B658,FIND(\"[\",SNPs!B658)+3,FIND(\"/\",SNPs!B658)-FIND(\"/\",SNPs!B658)+1),\"\")","v":""},{"$f":"IF(SNPs!B658<>\"\",SNPs!B658,\"\")","v":""}]
[{"$f":"IF(SNPs!A659<>\"\",SNPs!A659,\"\")","v":""},{"$f":"IF(SNPs!B659<>\"\",MID(SNPs!B659,FIND(\"[\",SNPs!B659)+1,FIND(\"/\",SNPs!B659)-FIND(\"[\",SNPs!B659)-1),\"\")","v":""},{"$f":"IF(SNPs!B659<>\"\",MID(SNPs!B659,FIND(\"[\",SNPs!B659)+3,FIND(\"/\",SNPs!B659)-FIND(\"/\",SNPs!B659)+1),\"\")","v":""},{"$f":"IF(SNPs!B659<>\"\",SNPs!B659,\"\")","v":""}]
[{"$f":"IF(SNPs!A660<>\"\",SNPs!A660,\"\")","v":""},{"$f":"IF(SNPs!B660<>\"\",MID(SNPs!B660,FIND(\"[\",SNPs!B660)+1,FIND(\"/\",SNPs!B660)-FIND(\"[\",SNPs!B660)-1),\"\")","v":""},{"$f":"IF(SNPs!B660<>\"\",MID(SNPs!B660,FIND(\"[\",SNPs!B660)+3,FIND(\"/\",SNPs!B660)-FIND(\"/\",SNPs!B660)+1),\"\")","v":""},{"$f":"IF(SNPs!B660<>\"\",SNPs!B660,\"\")","v":""}]
[{"$f":"IF(SNPs!A661<>\"\",SNPs!A661,\"\")","v":""},{"$f":"IF(SNPs!B661<>\"\",MID(SNPs!B661,FIND(\"[\",SNPs!B661)+1,FIND(\"/\",SNPs!B661)-FIND(\"[\",SNPs!B661)-1),\"\")","v":""},{"$f":"IF(SNPs!B661<>\"\",MID(SNPs!B661,FIND(\"[\",SNPs!B661)+3,FIND(\"/\",SNPs!B661)-FIND(\"/\",SNPs!B661)+1),\"\")","v":""},{"$f":"IF(SNPs!B661<>\"\",SNPs!B661,\"\")","v":""}]
[{"$f":"IF(SNPs!A662<>\"\",SNPs!A662,\"\")","v":""},{"$f":"IF(SNPs!B662<>\"\",MID(SNPs!B662,FIND(\"[\",SNPs!B662)+1,FIND(\"/\",SNPs!B662)-FIND(\"[\",SNPs!B662)-1),\"\")","v":""},{"$f":"IF(SNPs!B662<>\"\",MID(SNPs!B662,FIND(\"[\",SNPs!B662)+3,FIND(\"/\",SNPs!B662)-FIND(\"/\",SNPs!B662)+1),\"\")","v":""},{"$f":"IF(SNPs!B662<>\"\",SNPs!B662,\"\")","v":""}]
[{"$f":"IF(SNPs!A663<>\"\",SNPs!A663,\"\")","v":""},{"$f":"IF(SNPs!B663<>\"\",MID(SNPs!B663,FIND(\"[\",SNPs!B663)+1,FIND(\"/\",SNPs!B663)-FIND(\"[\",SNPs!B663)-1),\"\")","v":""},{"$f":"IF(SNPs!B663<>\"\",MID(SNPs!B663,FIND(\"[\",SNPs!B663)+3,FIND(\"/\",SNPs!B663)-FIND(\"/\",SNPs!B663)+1),\"\")","v":""},{"$f":"IF(SNPs!B663<>\"\",SNPs!B663,\"\")","v":""}]
[{"$f":"IF(SNPs!A664<>\"\",SNPs!A664,\"\")","v":""},{"$f":"IF(SNPs!B664<>\"\",MID(SNPs!B664,FIND(\"[\",SNPs!B664)+1,FIND(\"/\",SNPs!B664)-FIND(\"[\",SNPs!B664)-1),\"\")","v":""},{"$f":"IF(SNPs!B664<>\"\",MID(SNPs!B664,FIND(\"[\",SNPs!B664)+3,FIND(\"/\",SNPs!B664)-FIND(\"/\",SNPs!B664)+1),\"\")","v":""},{"$f":"IF(SNPs!B664<>\"\",SNPs!B664,\"\")","v":""}]
[{"$f":"IF(SNPs!A665<>\"\",SNPs!A665,\"\")","v":""},{"$f":"IF(SNPs!B665<>\"\",MID(SNPs!B665,FIND(\"[\",SNPs!B665)+1,FIND(\"/\",SNPs!B665)-FIND(\"[\",SNPs!B665)-1),\"\")","v":""},{"$f":"IF(SNPs!B665<>\"\",MID(SNPs!B665,FIND(\"[\",SNPs!B665)+3,FIND(\"/\",SNPs!B665)-FIND(\"/\",SNPs!B665)+1),\"\")","v":""},{"$f":"IF(SNPs!B665<>\"\",SNPs!B665,\"\")","v":""}]
[{"$f":"IF(SNPs!A666<>\"\",SNPs!A666,\"\")","v":""},{"$f":"IF(SNPs!B666<>\"\",MID(SNPs!B666,FIND(\"[\",SNPs!B666)+1,FIND(\"/\",SNPs!B666)-FIND(\"[\",SNPs!B666)-1),\"\")","v":""},{"$f":"IF(SNPs!B666<>\"\",MID(SNPs!B666,FIND(\"[\",SNPs!B666)+3,FIND(\"/\",SNPs!B666)-FIND(\"/\",SNPs!B666)+1),\"\")","v":""},{"$f":"IF(SNPs!B666<>\"\",SNPs!B666,\"\")","v":""}]
[{"$f":"IF(SNPs!A667<>\"\",SNPs!A667,\"\")","v":""},{"$f":"IF(SNPs!B667<>\"\",MID(SNPs!B667,FIND(\"[\",SNPs!B667)+1,FIND(\"/\",SNPs!B667)-FIND(\"[\",SNPs!B667)-1),\"\")","v":""},{"$f":"IF(SNPs!B667<>\"\",MID(SNPs!B667,FIND(\"[\",SNPs!B667)+3,FIND(\"/\",SNPs!B667)-FIND(\"/\",SNPs!B667)+1),\"\")","v":""},{"$f":"IF(SNPs!B667<>\"\",SNPs!B667,\"\")","v":""}]
[{"$f":"IF(SNPs!A668<>\"\",SNPs!A668,\"\")","v":""},{"$f":"IF(SNPs!B668<>\"\",MID(SNPs!B668,FIND(\"[\",SNPs!B668)+1,FIND(\"/\",SNPs!B668)-FIND(\"[\",SNPs!B668)-1),\"\")","v":""},{"$f":"IF(SNPs!B668<>\"\",MID(SNPs!B668,FIND(\"[\",SNPs!B668)+3,FIND(\"/\",SNPs!B668)-FIND(\"/\",SNPs!B668)+1),\"\")","v":""},{"$f":"IF(SNPs!B668<>\"\",SNPs!B668,\"\")","v":""}]
[{"$f":"IF(SNPs!A669<>\"\",SNPs!A669,\"\")","v":""},{"$f":"IF(SNPs!B669<>\"\",MID(SNPs!B669,FIND(\"[\",SNPs!B669)+1,FIND(\"/\",SNPs!B669)-FIND(\"[\",SNPs!B669)-1),\"\")","v":""},{"$f":"IF(SNPs!B669<>\"\",MID(SNPs!B669,FIND(\"[\",SNPs!B669)+3,FIND(\"/\",SNPs!B669)-FIND(\"/\",SNPs!B669)+1),\"\")","v":""},{"$f":"IF(SNPs!B669<>\"\",SNPs!B669,\"\")","v":""}]
[{"$f":"IF(SNPs!A670<>\"\",SNPs!A670,\"\")","v":""},{"$f":"IF(SNPs!B670<>\"\",MID(SNPs!B670,FIND(\"[\",SNPs!B670)+1,FIND(\"/\",SNPs!B670)-FIND(\"[\",SNPs!B670)-1),\"\")","v":""},{"$f":"IF(SNPs!B670<>\"\",MID(SNPs!B670,FIND(\"[\",SNPs!B670)+3,FIND(\"/\",SNPs!B670)-FIND(\"/\",SNPs!B670)+1),\"\")","v":""},{"$f":"IF(SNPs!B670<>\"\",SNPs!B670,\"\")","v":""}]
[{"$f":"IF(SNPs!A671<>\"\",SNPs!A671,\"\")","v":""},{"$f":"IF(SNPs!B671<>\"\",MID(SNPs!B671,FIND(\"[\",SNPs!B671)+1,FIND(\"/\",SNPs!B671)-FIND(\"[\",SNPs!B671)-1),\"\")","v":""},{"$f":"IF(SNPs!B671<>\"\",MID(SNPs!B671,FIND(\"[\",SNPs!B671)+3,FIND(\"/\",SNPs!B671)-FIND(\"/\",SNPs!B671)+1),\"\")","v":""},{"$f":"IF(SNPs!B671<>\"\",SNPs!B671,\"\")","v":""}]
[{"$f":"IF(SNPs!A672<>\"\",SNPs!A672,\"\")","v":""},{"$f":"IF(SNPs!B672<>\"\",MID(SNPs!B672,FIND(\"[\",SNPs!B672)+1,FIND(\"/\",SNPs!B672)-FIND(\"[\",SNPs!B672)-1),\"\")","v":""},{"$f":"IF(SNPs!B672<>\"\",MID(SNPs!B672,FIND(\"[\",SNPs!B672)+3,FIND(\"/\",SNPs!B672)-FIND(\"/\",SNPs!B672)+1),\"\")","v":""},{"$f":"IF(SNPs!B672<>\"\",SNPs!B672,\"\")","v":""}]
[{"$f":"IF(SNPs!A673<>\"\",SNPs!A673,\"\")","v":""},{"$f":"IF(SNPs!B673<>\"\",MID(SNPs!B673,FIND(\"[\",SNPs!B673)+1,FIND(\"/\",SNPs!B673)-FIND(\"[\",SNPs!B673)-1),\"\")","v":""},{"$f":"IF(SNPs!B673<>\"\",MID(SNPs!B673,FIND(\"[\",SNPs!B673)+3,FIND(\"/\",SNPs!B673)-FIND(\"/\",SNPs!B673)+1),\"\")","v":""},{"$f":"IF(SNPs!B673<>\"\",SNPs!B673,\"\")","v":""}]
[{"$f":"IF(SNPs!A674<>\"\",SNPs!A674,\"\")","v":""},{"$f":"IF(SNPs!B674<>\"\",MID(SNPs!B674,FIND(\"[\",SNPs!B674)+1,FIND(\"/\",SNPs!B674)-FIND(\"[\",SNPs!B674)-1),\"\")","v":""},{"$f":"IF(SNPs!B674<>\"\",MID(SNPs!B674,FIND(\"[\",SNPs!B674)+3,FIND(\"/\",SNPs!B674)-FIND(\"/\",SNPs!B674)+1),\"\")","v":""},{"$f":"IF(SNPs!B674<>\"\",SNPs!B674,\"\")","v":""}]
[{"$f":"IF(SNPs!A675<>\"\",SNPs!A675,\"\")","v":""},{"$f":"IF(SNPs!B675<>\"\",MID(SNPs!B675,FIND(\"[\",SNPs!B675)+1,FIND(\"/\",SNPs!B675)-FIND(\"[\",SNPs!B675)-1),\"\")","v":""},{"$f":"IF(SNPs!B675<>\"\",MID(SNPs!B675,FIND(\"[\",SNPs!B675)+3,FIND(\"/\",SNPs!B675)-FIND(\"/\",SNPs!B675)+1),\"\")","v":""},{"$f":"IF(SNPs!B675<>\"\",SNPs!B675,\"\")","v":""}]
[{"$f":"IF(SNPs!A676<>\"\",SNPs!A676,\"\")","v":""},{"$f":"IF(SNPs!B676<>\"\",MID(SNPs!B676,FIND(\"[\",SNPs!B676)+1,FIND(\"/\",SNPs!B676)-FIND(\"[\",SNPs!B676)-1),\"\")","v":""},{"$f":"IF(SNPs!B676<>\"\",MID(SNPs!B676,FIND(\"[\",SNPs!B676)+3,FIND(\"/\",SNPs!B676)-FIND(\"/\",SNPs!B676)+1),\"\")","v":""},{"$f":"IF(SNPs!B676<>\"\",SNPs!B676,\"\")","v":""}]
[{"$f":"IF(SNPs!A677<>\"\",SNPs!A677,\"\")","v":""},{"$f":"IF(SNPs!B677<>\"\",MID(SNPs!B677,FIND(\"[\",SNPs!B677)+1,FIND(\"/\",SNPs!B677)-FIND(\"[\",SNPs!B677)-1),\"\")","v":""},{"$f":"IF(SNPs!B677<>\"\",MID(SNPs!B677,FIND(\"[\",SNPs!B677)+3,FIND(\"/\",SNPs!B677)-FIND(\"/\",SNPs!B677)+1),\"\")","v":""},{"$f":"IF(SNPs!B677<>\"\",SNPs!B677,\"\")","v":""}]
[{"$f":"IF(SNPs!A678<>\"\",SNPs!A678,\"\")","v":""},{"$f":"IF(SNPs!B678<>\"\",MID(SNPs!B678,FIND(\"[\",SNPs!B678)+1,FIND(\"/\",SNPs!B678)-FIND(\"[\",SNPs!B678)-1),\"\")","v":""},{"$f":"IF(SNPs!B678<>\"\",MID(SNPs!B678,FIND(\"[\",SNPs!B678)+3,FIND(\"/\",SNPs!B678)-FIND(\"/\",SNPs!B678)+1),\"\")","v":""},{"$f":"IF(SNPs!B678<>\"\",SNPs!B678,\"\")","v":""}]
[{"$f":"IF(SNPs!A679<>\"\",SNPs!A679,\"\")","v":""},{"$f":"IF(SNPs!B679<>\"\",MID(SNPs!B679,FIND(\"[\",SNPs!B679)+1,FIND(\"/\",SNPs!B679)-FIND(\"[\",SNPs!B679)-1),\"\")","v":""},{"$f":"IF(SNPs!B679<>\"\",MID(SNPs!B679,FIND(\"[\",SNPs!B679)+3,FIND(\"/\",SNPs!B679)-FIND(\"/\",SNPs!B679)+1),\"\")","v":""},{"$f":"IF(SNPs!B679<>\"\",SNPs!B679,\"\")","v":""}]
[{"$f":"IF(SNPs!A680<>\"\",SNPs!A680,\"\")","v":""},{"$f":"IF(SNPs!B680<>\"\",MID(SNPs!B680,FIND(\"[\",SNPs!B680)+1,FIND(\"/\",SNPs!B680)-FIND(\"[\",SNPs!B680)-1),\"\")","v":""},{"$f":"IF(SNPs!B680<>\"\",MID(SNPs!B680,FIND(\"[\",SNPs!B680)+3,FIND(\"/\",SNPs!B680)-FIND(\"/\",SNPs!B680)+1),\"\")","v":""},{"$f":"IF(SNPs!B680<>\"\",SNPs!B680,\"\")","v":""}]
[{"$f":"IF(SNPs!A681<>\"\",SNPs!A681,\"\")","v":""},{"$f":"IF(SNPs!B681<>\"\",MID(SNPs!B681,FIND(\"[\",SNPs!B681)+1,FIND(\"/\",SNPs!B681)-FIND(\"[\",SNPs!B681)-1),\"\")","v":""},{"$f":"IF(SNPs!B681<>\"\",MID(SNPs!B681,FIND(\"[\",SNPs!B681)+3,FIND(\"/\",SNPs!B681)-FIND(\"/\",SNPs!B681)+1),\"\")","v":""},{"$f":"IF(SNPs!B681<>\"\",SNPs!B681,\"\")","v":""}]
[{"$f":"IF(SNPs!A682<>\"\",SNPs!A682,\"\")","v":""},{"$f":"IF(SNPs!B682<>\"\",MID(SNPs!B682,FIND(\"[\",SNPs!B682)+1,FIND(\"/\",SNPs!B682)-FIND(\"[\",SNPs!B682)-1),\"\")","v":""},{"$f":"IF(SNPs!B682<>\"\",MID(SNPs!B682,FIND(\"[\",SNPs!B682)+3,FIND(\"/\",SNPs!B682)-FIND(\"/\",SNPs!B682)+1),\"\")","v":""},{"$f":"IF(SNPs!B682<>\"\",SNPs!B682,\"\")","v":""}]
[{"$f":"IF(SNPs!A683<>\"\",SNPs!A683,\"\")","v":""},{"$f":"IF(SNPs!B683<>\"\",MID(SNPs!B683,FIND(\"[\",SNPs!B683)+1,FIND(\"/\",SNPs!B683)-FIND(\"[\",SNPs!B683)-1),\"\")","v":""},{"$f":"IF(SNPs!B683<>\"\",MID(SNPs!B683,FIND(\"[\",SNPs!B683)+3,FIND(\"/\",SNPs!B683)-FIND(\"/\",SNPs!B683)+1),\"\")","v":""},{"$f":"IF(SNPs!B683<>\"\",SNPs!B683,\"\")","v":""}]
[{"$f":"IF(SNPs!A684<>\"\",SNPs!A684,\"\")","v":""},{"$f":"IF(SNPs!B684<>\"\",MID(SNPs!B684,FIND(\"[\",SNPs!B684)+1,FIND(\"/\",SNPs!B684)-FIND(\"[\",SNPs!B684)-1),\"\")","v":""},{"$f":"IF(SNPs!B684<>\"\",MID(SNPs!B684,FIND(\"[\",SNPs!B684)+3,FIND(\"/\",SNPs!B684)-FIND(\"/\",SNPs!B684)+1),\"\")","v":""},{"$f":"IF(SNPs!B684<>\"\",SNPs!B684,\"\")","v":""}]
[{"$f":"IF(SNPs!A685<>\"\",SNPs!A685,\"\")","v":""},{"$f":"IF(SNPs!B685<>\"\",MID(SNPs!B685,FIND(\"[\",SNPs!B685)+1,FIND(\"/\",SNPs!B685)-FIND(\"[\",SNPs!B685)-1),\"\")","v":""},{"$f":"IF(SNPs!B685<>\"\",MID(SNPs!B685,FIND(\"[\",SNPs!B685)+3,FIND(\"/\",SNPs!B685)-FIND(\"/\",SNPs!B685)+1),\"\")","v":""},{"$f":"IF(SNPs!B685<>\"\",SNPs!B685,\"\")","v":""}]
[{"$f":"IF(SNPs!A686<>\"\",SNPs!A686,\"\")","v":""},{"$f":"IF(SNPs!B686<>\"\",MID(SNPs!B686,FIND(\"[\",SNPs!B686)+1,FIND(\"/\",SNPs!B686)-FIND(\"[\",SNPs!B686)-1),\"\")","v":""},{"$f":"IF(SNPs!B686<>\"\",MID(SNPs!B686,FIND(\"[\",SNPs!B686)+3,FIND(\"/\",SNPs!B686)-FIND(\"/\",SNPs!B686)+1),\"\")","v":""},{"$f":"IF(SNPs!B686<>\"\",SNPs!B686,\"\")","v":""}]
[{"$f":"IF(SNPs!A687<>\"\",SNPs!A687,\"\")","v":""},{"$f":"IF(SNPs!B687<>\"\",MID(SNPs!B687,FIND(\"[\",SNPs!B687)+1,FIND(\"/\",SNPs!B687)-FIND(\"[\",SNPs!B687)-1),\"\")","v":""},{"$f":"IF(SNPs!B687<>\"\",MID(SNPs!B687,FIND(\"[\",SNPs!B687)+3,FIND(\"/\",SNPs!B687)-FIND(\"/\",SNPs!B687)+1),\"\")","v":""},{"$f":"IF(SNPs!B687<>\"\",SNPs!B687,\"\")","v":""}]
[{"$f":"IF(SNPs!A688<>\"\",SNPs!A688,\"\")","v":""},{"$f":"IF(SNPs!B688<>\"\",MID(SNPs!B688,FIND(\"[\",SNPs!B688)+1,FIND(\"/\",SNPs!B688)-FIND(\"[\",SNPs!B688)-1),\"\")","v":""},{"$f":"IF(SNPs!B688<>\"\",MID(SNPs!B688,FIND(\"[\",SNPs!B688)+3,FIND(\"/\",SNPs!B688)-FIND(\"/\",SNPs!B688)+1),\"\")","v":""},{"$f":"IF(SNPs!B688<>\"\",SNPs!B688,\"\")","v":""}]
[{"$f":"IF(SNPs!A689<>\"\",SNPs!A689,\"\")","v":""},{"$f":"IF(SNPs!B689<>\"\",MID(SNPs!B689,FIND(\"[\",SNPs!B689)+1,FIND(\"/\",SNPs!B689)-FIND(\"[\",SNPs!B689)-1),\"\")","v":""},{"$f":"IF(SNPs!B689<>\"\",MID(SNPs!B689,FIND(\"[\",SNPs!B689)+3,FIND(\"/\",SNPs!B689)-FIND(\"/\",SNPs!B689)+1),\"\")","v":""},{"$f":"IF(SNPs!B689<>\"\",SNPs!B689,\"\")","v":""}]
[{"$f":"IF(SNPs!A690<>\"\",SNPs!A690,\"\")","v":""},{"$f":"IF(SNPs!B690<>\"\",MID(SNPs!B690,FIND(\"[\",SNPs!B690)+1,FIND(\"/\",SNPs!B690)-FIND(\"[\",SNPs!B690)-1),\"\")","v":""},{"$f":"IF(SNPs!B690<>\"\",MID(SNPs!B690,FIND(\"[\",SNPs!B690)+3,FIND(\"/\",SNPs!B690)-FIND(\"/\",SNPs!B690)+1),\"\")","v":""},{"$f":"IF(SNPs!B690<>\"\",SNPs!B690,\"\")","v":""}]
[{"$f":"IF(SNPs!A691<>\"\",SNPs!A691,\"\")","v":""},{"$f":"IF(SNPs!B691<>\"\",MID(SNPs!B691,FIND(\"[\",SNPs!B691)+1,FIND(\"/\",SNPs!B691)-FIND(\"[\",SNPs!B691)-1),\"\")","v":""},{"$f":"IF(SNPs!B691<>\"\",MID(SNPs!B691,FIND(\"[\",SNPs!B691)+3,FIND(\"/\",SNPs!B691)-FIND(\"/\",SNPs!B691)+1),\"\")","v":""},{"$f":"IF(SNPs!B691<>\"\",SNPs!B691,\"\")","v":""}]
[{"$f":"IF(SNPs!A692<>\"\",SNPs!A692,\"\")","v":""},{"$f":"IF(SNPs!B692<>\"\",MID(SNPs!B692,FIND(\"[\",SNPs!B692)+1,FIND(\"/\",SNPs!B692)-FIND(\"[\",SNPs!B692)-1),\"\")","v":""},{"$f":"IF(SNPs!B692<>\"\",MID(SNPs!B692,FIND(\"[\",SNPs!B692)+3,FIND(\"/\",SNPs!B692)-FIND(\"/\",SNPs!B692)+1),\"\")","v":""},{"$f":"IF(SNPs!B692<>\"\",SNPs!B692,\"\")","v":""}]
[{"$f":"IF(SNPs!A693<>\"\",SNPs!A693,\"\")","v":""},{"$f":"IF(SNPs!B693<>\"\",MID(SNPs!B693,FIND(\"[\",SNPs!B693)+1,FIND(\"/\",SNPs!B693)-FIND(\"[\",SNPs!B693)-1),\"\")","v":""},{"$f":"IF(SNPs!B693<>\"\",MID(SNPs!B693,FIND(\"[\",SNPs!B693)+3,FIND(\"/\",SNPs!B693)-FIND(\"/\",SNPs!B693)+1),\"\")","v":""},{"$f":"IF(SNPs!B693<>\"\",SNPs!B693,\"\")","v":""}]
[{"$f":"IF(SNPs!A694<>\"\",SNPs!A694,\"\")","v":""},{"$f":"IF(SNPs!B694<>\"\",MID(SNPs!B694,FIND(\"[\",SNPs!B694)+1,FIND(\"/\",SNPs!B694)-FIND(\"[\",SNPs!B694)-1),\"\")","v":""},{"$f":"IF(SNPs!B694<>\"\",MID(SNPs!B694,FIND(\"[\",SNPs!B694)+3,FIND(\"/\",SNPs!B694)-FIND(\"/\",SNPs!B694)+1),\"\")","v":""},{"$f":"IF(SNPs!B694<>\"\",SNPs!B694,\"\")","v":""}]
[{"$f":"IF(SNPs!A695<>\"\",SNPs!A695,\"\")","v":""},{"$f":"IF(SNPs!B695<>\"\",MID(SNPs!B695,FIND(\"[\",SNPs!B695)+1,FIND(\"/\",SNPs!B695)-FIND(\"[\",SNPs!B695)-1),\"\")","v":""},{"$f":"IF(SNPs!B695<>\"\",MID(SNPs!B695,FIND(\"[\",SNPs!B695)+3,FIND(\"/\",SNPs!B695)-FIND(\"/\",SNPs!B695)+1),\"\")","v":""},{"$f":"IF(SNPs!B695<>\"\",SNPs!B695,\"\")","v":""}]
[{"$f":"IF(SNPs!A696<>\"\",SNPs!A696,\"\")","v":""},{"$f":"IF(SNPs!B696<>\"\",MID(SNPs!B696,FIND(\"[\",SNPs!B696)+1,FIND(\"/\",SNPs!B696)-FIND(\"[\",SNPs!B696)-1),\"\")","v":""},{"$f":"IF(SNPs!B696<>\"\",MID(SNPs!B696,FIND(\"[\",SNPs!B696)+3,FIND(\"/\",SNPs!B696)-FIND(\"/\",SNPs!B696)+1),\"\")","v":""},{"$f":"IF(SNPs!B696<>\"\",SNPs!B696,\"\")","v":""}]
[{"$f":"IF(SNPs!A697<>\"\",SNPs!A697,\"\")","v":""},{"$f":"IF(SNPs!B697<>\"\",MID(SNPs!B697,FIND(\"[\",SNPs!B697)+1,FIND(\"/\",SNPs!B697)-FIND(\"[\",SNPs!B697)-1),\"\")","v":""},{"$f":"IF(SNPs!B697<>\"\",MID(SNPs!B697,FIND(\"[\",SNPs!B697)+3,FIND(\"/\",SNPs!B697)-FIND(\"/\",SNPs!B697)+1),\"\")","v":""},{"$f":"IF(SNPs!B697<>\"\",SNPs!B697,\"\")","v":""}]
[{"$f":"IF(SNPs!A698<>\"\",SNPs!A698,\"\")","v":""},{"$f":"IF(SNPs!B698<>\"\",MID(SNPs!B698,FIND(\"[\",SNPs!B698)+1,FIND(\"/\",SNPs!B698)-FIND(\"[\",SNPs!B698)-1),\"\")","v":""},{"$f":"IF(SNPs!B698<>\"\",MID(SNPs!B698,FIND(\"[\",SNPs!B698)+3,FIND(\"/\",SNPs!B698)-FIND(\"/\",SNPs!B698)+1),\"\")","v":""},{"$f":"IF(SNPs!B698<>\"\",SNPs!B698,\"\")","v":""}]
[{"$f":"IF(SNPs!A699<>\"\",SNPs!A699,\"\")","v":""},{"$f":"IF(SNPs!B699<>\"\",MID(SNPs!B699,FIND(\"[\",SNPs!B699)+1,FIND(\"/\",SNPs!B699)-FIND(\"[\",SNPs!B699)-1),\"\")","v":""},{"$f":"IF(SNPs!B699<>\"\",MID(SNPs!B699,FIND(\"[\",SNPs!B699)+3,FIND(\"/\",SNPs!B699)-FIND(\"/\",SNPs!B699)+1),\"\")","v":""},{"$f":"IF(SNPs!B699<>\"\",SNPs!B699,\"\")","v":""}]
[{"$f":"IF(SNPs!A700<>\"\",SNPs!A700,\"\")","v":""},{"$f":"IF(SNPs!B700<>\"\",MID(SNPs!B700,FIND(\"[\",SNPs!B700)+1,FIND(\"/\",SNPs!B700)-FIND(\"[\",SNPs!B700)-1),\"\")","v":""},{"$f":"IF(SNPs!B700<>\"\",MID(SNPs!B700,FIND(\"[\",SNPs!B700)+3,FIND(\"/\",SNPs!B700)-FIND(\"/\",SNPs!B700)+1),\"\")","v":""},{"$f":"IF(SNPs!B700<>\"\",SNPs!B700,\"\")","v":""}]
[{"$f":"IF(SNPs!A701<>\"\",SNPs!A701,\"\")","v":""},{"$f":"IF(SNPs!B701<>\"\",MID(SNPs!B701,FIND(\"[\",SNPs!B701)+1,FIND(\"/\",SNPs!B701)-FIND(\"[\",SNPs!B701)-1),\"\")","v":""},{"$f":"IF(SNPs!B701<>\"\",MID(SNPs!B701,FIND(\"[\",SNPs!B701)+3,FIND(\"/\",SNPs!B701)-FIND(\"/\",SNPs!B701)+1),\"\")","v":""},{"$f":"IF(SNPs!B701<>\"\",SNPs!B701,\"\")","v":""}]
[{"$f":"IF(SNPs!A702<>\"\",SNPs!A702,\"\")","v":""},{"$f":"IF(SNPs!B702<>\"\",MID(SNPs!B702,FIND(\"[\",SNPs!B702)+1,FIND(\"/\",SNPs!B702)-FIND(\"[\",SNPs!B702)-1),\"\")","v":""},{"$f":"IF(SNPs!B702<>\"\",MID(SNPs!B702,FIND(\"[\",SNPs!B702)+3,FIND(\"/\",SNPs!B702)-FIND(\"/\",SNPs!B702)+1),\"\")","v":""},{"$f":"IF(SNPs!B702<>\"\",SNPs!B702,\"\")","v":""}]
[{"$f":"IF(SNPs!A703<>\"\",SNPs!A703,\"\")","v":""},{"$f":"IF(SNPs!B703<>\"\",MID(SNPs!B703,FIND(\"[\",SNPs!B703)+1,FIND(\"/\",SNPs!B703)-FIND(\"[\",SNPs!B703)-1),\"\")","v":""},{"$f":"IF(SNPs!B703<>\"\",MID(SNPs!B703,FIND(\"[\",SNPs!B703)+3,FIND(\"/\",SNPs!B703)-FIND(\"/\",SNPs!B703)+1),\"\")","v":""},{"$f":"IF(SNPs!B703<>\"\",SNPs!B703,\"\")","v":""}]
[{"$f":"IF(SNPs!A704<>\"\",SNPs!A704,\"\")","v":""},{"$f":"IF(SNPs!B704<>\"\",MID(SNPs!B704,FIND(\"[\",SNPs!B704)+1,FIND(\"/\",SNPs!B704)-FIND(\"[\",SNPs!B704)-1),\"\")","v":""},{"$f":"IF(SNPs!B704<>\"\",MID(SNPs!B704,FIND(\"[\",SNPs!B704)+3,FIND(\"/\",SNPs!B704)-FIND(\"/\",SNPs!B704)+1),\"\")","v":""},{"$f":"IF(SNPs!B704<>\"\",SNPs!B704,\"\")","v":""}]
[{"$f":"IF(SNPs!A705<>\"\",SNPs!A705,\"\")","v":""},{"$f":"IF(SNPs!B705<>\"\",MID(SNPs!B705,FIND(\"[\",SNPs!B705)+1,FIND(\"/\",SNPs!B705)-FIND(\"[\",SNPs!B705)-1),\"\")","v":""},{"$f":"IF(SNPs!B705<>\"\",MID(SNPs!B705,FIND(\"[\",SNPs!B705)+3,FIND(\"/\",SNPs!B705)-FIND(\"/\",SNPs!B705)+1),\"\")","v":""},{"$f":"IF(SNPs!B705<>\"\",SNPs!B705,\"\")","v":""}]
[{"$f":"IF(SNPs!A706<>\"\",SNPs!A706,\"\")","v":""},{"$f":"IF(SNPs!B706<>\"\",MID(SNPs!B706,FIND(\"[\",SNPs!B706)+1,FIND(\"/\",SNPs!B706)-FIND(\"[\",SNPs!B706)-1),\"\")","v":""},{"$f":"IF(SNPs!B706<>\"\",MID(SNPs!B706,FIND(\"[\",SNPs!B706)+3,FIND(\"/\",SNPs!B706)-FIND(\"/\",SNPs!B706)+1),\"\")","v":""},{"$f":"IF(SNPs!B706<>\"\",SNPs!B706,\"\")","v":""}]
[{"$f":"IF(SNPs!A707<>\"\",SNPs!A707,\"\")","v":""},{"$f":"IF(SNPs!B707<>\"\",MID(SNPs!B707,FIND(\"[\",SNPs!B707)+1,FIND(\"/\",SNPs!B707)-FIND(\"[\",SNPs!B707)-1),\"\")","v":""},{"$f":"IF(SNPs!B707<>\"\",MID(SNPs!B707,FIND(\"[\",SNPs!B707)+3,FIND(\"/\",SNPs!B707)-FIND(\"/\",SNPs!B707)+1),\"\")","v":""},{"$f":"IF(SNPs!B707<>\"\",SNPs!B707,\"\")","v":""}]
[{"$f":"IF(SNPs!A708<>\"\",SNPs!A708,\"\")","v":""},{"$f":"IF(SNPs!B708<>\"\",MID(SNPs!B708,FIND(\"[\",SNPs!B708)+1,FIND(\"/\",SNPs!B708)-FIND(\"[\",SNPs!B708)-1),\"\")","v":""},{"$f":"IF(SNPs!B708<>\"\",MID(SNPs!B708,FIND(\"[\",SNPs!B708)+3,FIND(\"/\",SNPs!B708)-FIND(\"/\",SNPs!B708)+1),\"\")","v":""},{"$f":"IF(SNPs!B708<>\"\",SNPs!B708,\"\")","v":""}]
[{"$f":"IF(SNPs!A709<>\"\",SNPs!A709,\"\")","v":""},{"$f":"IF(SNPs!B709<>\"\",MID(SNPs!B709,FIND(\"[\",SNPs!B709)+1,FIND(\"/\",SNPs!B709)-FIND(\"[\",SNPs!B709)-1),\"\")","v":""},{"$f":"IF(SNPs!B709<>\"\",MID(SNPs!B709,FIND(\"[\",SNPs!B709)+3,FIND(\"/\",SNPs!B709)-FIND(\"/\",SNPs!B709)+1),\"\")","v":""},{"$f":"IF(SNPs!B709<>\"\",SNPs!B709,\"\")","v":""}]
[{"$f":"IF(SNPs!A710<>\"\",SNPs!A710,\"\")","v":""},{"$f":"IF(SNPs!B710<>\"\",MID(SNPs!B710,FIND(\"[\",SNPs!B710)+1,FIND(\"/\",SNPs!B710)-FIND(\"[\",SNPs!B710)-1),\"\")","v":""},{"$f":"IF(SNPs!B710<>\"\",MID(SNPs!B710,FIND(\"[\",SNPs!B710)+3,FIND(\"/\",SNPs!B710)-FIND(\"/\",SNPs!B710)+1),\"\")","v":""},{"$f":"IF(SNPs!B710<>\"\",SNPs!B710,\"\")","v":""}]
[{"$f":"IF(SNPs!A711<>\"\",SNPs!A711,\"\")","v":""},{"$f":"IF(SNPs!B711<>\"\",MID(SNPs!B711,FIND(\"[\",SNPs!B711)+1,FIND(\"/\",SNPs!B711)-FIND(\"[\",SNPs!B711)-1),\"\")","v":""},{"$f":"IF(SNPs!B711<>\"\",MID(SNPs!B711,FIND(\"[\",SNPs!B711)+3,FIND(\"/\",SNPs!B711)-FIND(\"/\",SNPs!B711)+1),\"\")","v":""},{"$f":"IF(SNPs!B711<>\"\",SNPs!B711,\"\")","v":""}]
[{"$f":"IF(SNPs!A712<>\"\",SNPs!A712,\"\")","v":""},{"$f":"IF(SNPs!B712<>\"\",MID(SNPs!B712,FIND(\"[\",SNPs!B712)+1,FIND(\"/\",SNPs!B712)-FIND(\"[\",SNPs!B712)-1),\"\")","v":""},{"$f":"IF(SNPs!B712<>\"\",MID(SNPs!B712,FIND(\"[\",SNPs!B712)+3,FIND(\"/\",SNPs!B712)-FIND(\"/\",SNPs!B712)+1),\"\")","v":""},{"$f":"IF(SNPs!B712<>\"\",SNPs!B712,\"\")","v":""}]
[{"$f":"IF(SNPs!A713<>\"\",SNPs!A713,\"\")","v":""},{"$f":"IF(SNPs!B713<>\"\",MID(SNPs!B713,FIND(\"[\",SNPs!B713)+1,FIND(\"/\",SNPs!B713)-FIND(\"[\",SNPs!B713)-1),\"\")","v":""},{"$f":"IF(SNPs!B713<>\"\",MID(SNPs!B713,FIND(\"[\",SNPs!B713)+3,FIND(\"/\",SNPs!B713)-FIND(\"/\",SNPs!B713)+1),\"\")","v":""},{"$f":"IF(SNPs!B713<>\"\",SNPs!B713,\"\")","v":""}]
[{"$f":"IF(SNPs!A714<>\"\",SNPs!A714,\"\")","v":""},{"$f":"IF(SNPs!B714<>\"\",MID(SNPs!B714,FIND(\"[\",SNPs!B714)+1,FIND(\"/\",SNPs!B714)-FIND(\"[\",SNPs!B714)-1),\"\")","v":""},{"$f":"IF(SNPs!B714<>\"\",MID(SNPs!B714,FIND(\"[\",SNPs!B714)+3,FIND(\"/\",SNPs!B714)-FIND(\"/\",SNPs!B714)+1),\"\")","v":""},{"$f":"IF(SNPs!B714<>\"\",SNPs!B714,\"\")","v":""}]
[{"$f":"IF(SNPs!A715<>\"\",SNPs!A715,\"\")","v":""},{"$f":"IF(SNPs!B715<>\"\",MID(SNPs!B715,FIND(\"[\",SNPs!B715)+1,FIND(\"/\",SNPs!B715)-FIND(\"[\",SNPs!B715)-1),\"\")","v":""},{"$f":"IF(SNPs!B715<>\"\",MID(SNPs!B715,FIND(\"[\",SNPs!B715)+3,FIND(\"/\",SNPs!B715)-FIND(\"/\",SNPs!B715)+1),\"\")","v":""},{"$f":"IF(SNPs!B715<>\"\",SNPs!B715,\"\")","v":""}]
[{"$f":"IF(SNPs!A716<>\"\",SNPs!A716,\"\")","v":""},{"$f":"IF(SNPs!B716<>\"\",MID(SNPs!B716,FIND(\"[\",SNPs!B716)+1,FIND(\"/\",SNPs!B716)-FIND(\"[\",SNPs!B716)-1),\"\")","v":""},{"$f":"IF(SNPs!B716<>\"\",MID(SNPs!B716,FIND(\"[\",SNPs!B716)+3,FIND(\"/\",SNPs!B716)-FIND(\"/\",SNPs!B716)+1),\"\")","v":""},{"$f":"IF(SNPs!B716<>\"\",SNPs!B716,\"\")","v":""}]
[{"$f":"IF(SNPs!A717<>\"\",SNPs!A717,\"\")","v":""},{"$f":"IF(SNPs!B717<>\"\",MID(SNPs!B717,FIND(\"[\",SNPs!B717)+1,FIND(\"/\",SNPs!B717)-FIND(\"[\",SNPs!B717)-1),\"\")","v":""},{"$f":"IF(SNPs!B717<>\"\",MID(SNPs!B717,FIND(\"[\",SNPs!B717)+3,FIND(\"/\",SNPs!B717)-FIND(\"/\",SNPs!B717)+1),\"\")","v":""},{"$f":"IF(SNPs!B717<>\"\",SNPs!B717,\"\")","v":""}]
[{"$f":"IF(SNPs!A718<>\"\",SNPs!A718,\"\")","v":""},{"$f":"IF(SNPs!B718<>\"\",MID(SNPs!B718,FIND(\"[\",SNPs!B718)+1,FIND(\"/\",SNPs!B718)-FIND(\"[\",SNPs!B718)-1),\"\")","v":""},{"$f":"IF(SNPs!B718<>\"\",MID(SNPs!B718,FIND(\"[\",SNPs!B718)+3,FIND(\"/\",SNPs!B718)-FIND(\"/\",SNPs!B718)+1),\"\")","v":""},{"$f":"IF(SNPs!B718<>\"\",SNPs!B718,\"\")","v":""}]
[{"$f":"IF(SNPs!A719<>\"\",SNPs!A719,\"\")","v":""},{"$f":"IF(SNPs!B719<>\"\",MID(SNPs!B719,FIND(\"[\",SNPs!B719)+1,FIND(\"/\",SNPs!B719)-FIND(\"[\",SNPs!B719)-1),\"\")","v":""},{"$f":"IF(SNPs!B719<>\"\",MID(SNPs!B719,FIND(\"[\",SNPs!B719)+3,FIND(\"/\",SNPs!B719)-FIND(\"/\",SNPs!B719)+1),\"\")","v":""},{"$f":"IF(SNPs!B719<>\"\",SNPs!B719,\"\")","v":""}]
[{"$f":"IF(SNPs!A720<>\"\",SNPs!A720,\"\")","v":""},{"$f":"IF(SNPs!B720<>\"\",MID(SNPs!B720,FIND(\"[\",SNPs!B720)+1,FIND(\"/\",SNPs!B720)-FIND(\"[\",SNPs!B720)-1),\"\")","v":""},{"$f":"IF(SNPs!B720<>\"\",MID(SNPs!B720,FIND(\"[\",SNPs!B720)+3,FIND(\"/\",SNPs!B720)-FIND(\"/\",SNPs!B720)+1),\"\")","v":""},{"$f":"IF(SNPs!B720<>\"\",SNPs!B720,\"\")","v":""}]
[{"$f":"IF(SNPs!A721<>\"\",SNPs!A721,\"\")","v":""},{"$f":"IF(SNPs!B721<>\"\",MID(SNPs!B721,FIND(\"[\",SNPs!B721)+1,FIND(\"/\",SNPs!B721)-FIND(\"[\",SNPs!B721)-1),\"\")","v":""},{"$f":"IF(SNPs!B721<>\"\",MID(SNPs!B721,FIND(\"[\",SNPs!B721)+3,FIND(\"/\",SNPs!B721)-FIND(\"/\",SNPs!B721)+1),\"\")","v":""},{"$f":"IF(SNPs!B721<>\"\",SNPs!B721,\"\")","v":""}]
[{"$f":"IF(SNPs!A722<>\"\",SNPs!A722,\"\")","v":""},{"$f":"IF(SNPs!B722<>\"\",MID(SNPs!B722,FIND(\"[\",SNPs!B722)+1,FIND(\"/\",SNPs!B722)-FIND(\"[\",SNPs!B722)-1),\"\")","v":""},{"$f":"IF(SNPs!B722<>\"\",MID(SNPs!B722,FIND(\"[\",SNPs!B722)+3,FIND(\"/\",SNPs!B722)-FIND(\"/\",SNPs!B722)+1),\"\")","v":""},{"$f":"IF(SNPs!B722<>\"\",SNPs!B722,\"\")","v":""}]
[{"$f":"IF(SNPs!A723<>\"\",SNPs!A723,\"\")","v":""},{"$f":"IF(SNPs!B723<>\"\",MID(SNPs!B723,FIND(\"[\",SNPs!B723)+1,FIND(\"/\",SNPs!B723)-FIND(\"[\",SNPs!B723)-1),\"\")","v":""},{"$f":"IF(SNPs!B723<>\"\",MID(SNPs!B723,FIND(\"[\",SNPs!B723)+3,FIND(\"/\",SNPs!B723)-FIND(\"/\",SNPs!B723)+1),\"\")","v":""},{"$f":"IF(SNPs!B723<>\"\",SNPs!B723,\"\")","v":""}]
[{"$f":"IF(SNPs!A724<>\"\",SNPs!A724,\"\")","v":""},{"$f":"IF(SNPs!B724<>\"\",MID(SNPs!B724,FIND(\"[\",SNPs!B724)+1,FIND(\"/\",SNPs!B724)-FIND(\"[\",SNPs!B724)-1),\"\")","v":""},{"$f":"IF(SNPs!B724<>\"\",MID(SNPs!B724,FIND(\"[\",SNPs!B724)+3,FIND(\"/\",SNPs!B724)-FIND(\"/\",SNPs!B724)+1),\"\")","v":""},{"$f":"IF(SNPs!B724<>\"\",SNPs!B724,\"\")","v":""}]
[{"$f":"IF(SNPs!A725<>\"\",SNPs!A725,\"\")","v":""},{"$f":"IF(SNPs!B725<>\"\",MID(SNPs!B725,FIND(\"[\",SNPs!B725)+1,FIND(\"/\",SNPs!B725)-FIND(\"[\",SNPs!B725)-1),\"\")","v":""},{"$f":"IF(SNPs!B725<>\"\",MID(SNPs!B725,FIND(\"[\",SNPs!B725)+3,FIND(\"/\",SNPs!B725)-FIND(\"/\",SNPs!B725)+1),\"\")","v":""},{"$f":"IF(SNPs!B725<>\"\",SNPs!B725,\"\")","v":""}]
[{"$f":"IF(SNPs!A726<>\"\",SNPs!A726,\"\")","v":""},{"$f":"IF(SNPs!B726<>\"\",MID(SNPs!B726,FIND(\"[\",SNPs!B726)+1,FIND(\"/\",SNPs!B726)-FIND(\"[\",SNPs!B726)-1),\"\")","v":""},{"$f":"IF(SNPs!B726<>\"\",MID(SNPs!B726,FIND(\"[\",SNPs!B726)+3,FIND(\"/\",SNPs!B726)-FIND(\"/\",SNPs!B726)+1),\"\")","v":""},{"$f":"IF(SNPs!B726<>\"\",SNPs!B726,\"\")","v":""}]
[{"$f":"IF(SNPs!A727<>\"\",SNPs!A727,\"\")","v":""},{"$f":"IF(SNPs!B727<>\"\",MID(SNPs!B727,FIND(\"[\",SNPs!B727)+1,FIND(\"/\",SNPs!B727)-FIND(\"[\",SNPs!B727)-1),\"\")","v":""},{"$f":"IF(SNPs!B727<>\"\",MID(SNPs!B727,FIND(\"[\",SNPs!B727)+3,FIND(\"/\",SNPs!B727)-FIND(\"/\",SNPs!B727)+1),\"\")","v":""},{"$f":"IF(SNPs!B727<>\"\",SNPs!B727,\"\")","v":""}]
[{"$f":"IF(SNPs!A728<>\"\",SNPs!A728,\"\")","v":""},{"$f":"IF(SNPs!B728<>\"\",MID(SNPs!B728,FIND(\"[\",SNPs!B728)+1,FIND(\"/\",SNPs!B728)-FIND(\"[\",SNPs!B728)-1),\"\")","v":""},{"$f":"IF(SNPs!B728<>\"\",MID(SNPs!B728,FIND(\"[\",SNPs!B728)+3,FIND(\"/\",SNPs!B728)-FIND(\"/\",SNPs!B728)+1),\"\")","v":""},{"$f":"IF(SNPs!B728<>\"\",SNPs!B728,\"\")","v":""}]
[{"$f":"IF(SNPs!A729<>\"\",SNPs!A729,\"\")","v":""},{"$f":"IF(SNPs!B729<>\"\",MID(SNPs!B729,FIND(\"[\",SNPs!B729)+1,FIND(\"/\",SNPs!B729)-FIND(\"[\",SNPs!B729)-1),\"\")","v":""},{"$f":"IF(SNPs!B729<>\"\",MID(SNPs!B729,FIND(\"[\",SNPs!B729)+3,FIND(\"/\",SNPs!B729)-FIND(\"/\",SNPs!B729)+1),\"\")","v":""},{"$f":"IF(SNPs!B729<>\"\",SNPs!B729,\"\")","v":""}]
[{"$f":"IF(SNPs!A730<>\"\",SNPs!A730,\"\")","v":""},{"$f":"IF(SNPs!B730<>\"\",MID(SNPs!B730,FIND(\"[\",SNPs!B730)+1,FIND(\"/\",SNPs!B730)-FIND(\"[\",SNPs!B730)-1),\"\")","v":""},{"$f":"IF(SNPs!B730<>\"\",MID(SNPs!B730,FIND(\"[\",SNPs!B730)+3,FIND(\"/\",SNPs!B730)-FIND(\"/\",SNPs!B730)+1),\"\")","v":""},{"$f":"IF(SNPs!B730<>\"\",SNPs!B730,\"\")","v":""}]
[{"$f":"IF(SNPs!A731<>\"\",SNPs!A731,\"\")","v":""},{"$f":"IF(SNPs!B731<>\"\",MID(SNPs!B731,FIND(\"[\",SNPs!B731)+1,FIND(\"/\",SNPs!B731)-FIND(\"[\",SNPs!B731)-1),\"\")","v":""},{"$f":"IF(SNPs!B731<>\"\",MID(SNPs!B731,FIND(\"[\",SNPs!B731)+3,FIND(\"/\",SNPs!B731)-FIND(\"/\",SNPs!B731)+1),\"\")","v":""},{"$f":"IF(SNPs!B731<>\"\",SNPs!B731,\"\")","v":""}]
[{"$f":"IF(SNPs!A732<>\"\",SNPs!A732,\"\")","v":""},{"$f":"IF(SNPs!B732<>\"\",MID(SNPs!B732,FIND(\"[\",SNPs!B732)+1,FIND(\"/\",SNPs!B732)-FIND(\"[\",SNPs!B732)-1),\"\")","v":""},{"$f":"IF(SNPs!B732<>\"\",MID(SNPs!B732,FIND(\"[\",SNPs!B732)+3,FIND(\"/\",SNPs!B732)-FIND(\"/\",SNPs!B732)+1),\"\")","v":""},{"$f":"IF(SNPs!B732<>\"\",SNPs!B732,\"\")","v":""}]
[{"$f":"IF(SNPs!A733<>\"\",SNPs!A733,\"\")","v":""},{"$f":"IF(SNPs!B733<>\"\",MID(SNPs!B733,FIND(\"[\",SNPs!B733)+1,FIND(\"/\",SNPs!B733)-FIND(\"[\",SNPs!B733)-1),\"\")","v":""},{"$f":"IF(SNPs!B733<>\"\",MID(SNPs!B733,FIND(\"[\",SNPs!B733)+3,FIND(\"/\",SNPs!B733)-FIND(\"/\",SNPs!B733)+1),\"\")","v":""},{"$f":"IF(SNPs!B733<>\"\",SNPs!B733,\"\")","v":""}]
[{"$f":"IF(SNPs!A734<>\"\",SNPs!A734,\"\")","v":""},{"$f":"IF(SNPs!B734<>\"\",MID(SNPs!B734,FIND(\"[\",SNPs!B734)+1,FIND(\"/\",SNPs!B734)-FIND(\"[\",SNPs!B734)-1),\"\")","v":""},{"$f":"IF(SNPs!B734<>\"\",MID(SNPs!B734,FIND(\"[\",SNPs!B734)+3,FIND(\"/\",SNPs!B734)-FIND(\"/\",SNPs!B734)+1),\"\")","v":""},{"$f":"IF(SNPs!B734<>\"\",SNPs!B734,\"\")","v":""}]
[{"$f":"IF(SNPs!A735<>\"\",SNPs!A735,\"\")","v":""},{"$f":"IF(SNPs!B735<>\"\",MID(SNPs!B735,FIND(\"[\",SNPs!B735)+1,FIND(\"/\",SNPs!B735)-FIND(\"[\",SNPs!B735)-1),\"\")","v":""},{"$f":"IF(SNPs!B735<>\"\",MID(SNPs!B735,FIND(\"[\",SNPs!B735)+3,FIND(\"/\",SNPs!B735)-FIND(\"/\",SNPs!B735)+1),\"\")","v":""},{"$f":"IF(SNPs!B735<>\"\",SNPs!B735,\"\")","v":""}]
[{"$f":"IF(SNPs!A736<>\"\",SNPs!A736,\"\")","v":""},{"$f":"IF(SNPs!B736<>\"\",MID(SNPs!B736,FIND(\"[\",SNPs!B736)+1,FIND(\"/\",SNPs!B736)-FIND(\"[\",SNPs!B736)-1),\"\")","v":""},{"$f":"IF(SNPs!B736<>\"\",MID(SNPs!B736,FIND(\"[\",SNPs!B736)+3,FIND(\"/\",SNPs!B736)-FIND(\"/\",SNPs!B736)+1),\"\")","v":""},{"$f":"IF(SNPs!B736<>\"\",SNPs!B736,\"\")","v":""}]
[{"$f":"IF(SNPs!A737<>\"\",SNPs!A737,\"\")","v":""},{"$f":"IF(SNPs!B737<>\"\",MID(SNPs!B737,FIND(\"[\",SNPs!B737)+1,FIND(\"/\",SNPs!B737)-FIND(\"[\",SNPs!B737)-1),\"\")","v":""},{"$f":"IF(SNPs!B737<>\"\",MID(SNPs!B737,FIND(\"[\",SNPs!B737)+3,FIND(\"/\",SNPs!B737)-FIND(\"/\",SNPs!B737)+1),\"\")","v":""},{"$f":"IF(SNPs!B737<>\"\",SNPs!B737,\"\")","v":""}]
[{"$f":"IF(SNPs!A738<>\"\",SNPs!A738,\"\")","v":""},{"$f":"IF(SNPs!B738<>\"\",MID(SNPs!B738,FIND(\"[\",SNPs!B738)+1,FIND(\"/\",SNPs!B738)-FIND(\"[\",SNPs!B738)-1),\"\")","v":""},{"$f":"IF(SNPs!B738<>\"\",MID(SNPs!B738,FIND(\"[\",SNPs!B738)+3,FIND(\"/\",SNPs!B738)-FIND(\"/\",SNPs!B738)+1),\"\")","v":""},{"$f":"IF(SNPs!B738<>\"\",SNPs!B738,\"\")","v":""}]
[{"$f":"IF(SNPs!A739<>\"\",SNPs!A739,\"\")","v":""},{"$f":"IF(SNPs!B739<>\"\",MID(SNPs!B739,FIND(\"[\",SNPs!B739)+1,FIND(\"/\",SNPs!B739)-FIND(\"[\",SNPs!B739)-1),\"\")","v":""},{"$f":"IF(SNPs!B739<>\"\",MID(SNPs!B739,FIND(\"[\",SNPs!B739)+3,FIND(\"/\",SNPs!B739)-FIND(\"/\",SNPs!B739)+1),\"\")","v":""},{"$f":"IF(SNPs!B739<>\"\",SNPs!B739,\"\")","v":""}]
[{"$f":"IF(SNPs!A740<>\"\",SNPs!A740,\"\")","v":""},{"$f":"IF(SNPs!B740<>\"\",MID(SNPs!B740,FIND(\"[\",SNPs!B740)+1,FIND(\"/\",SNPs!B740)-FIND(\"[\",SNPs!B740)-1),\"\")","v":""},{"$f":"IF(SNPs!B740<>\"\",MID(SNPs!B740,FIND(\"[\",SNPs!B740)+3,FIND(\"/\",SNPs!B740)-FIND(\"/\",SNPs!B740)+1),\"\")","v":""},{"$f":"IF(SNPs!B740<>\"\",SNPs!B740,\"\")","v":""}]
[{"$f":"IF(SNPs!A741<>\"\",SNPs!A741,\"\")","v":""},{"$f":"IF(SNPs!B741<>\"\",MID(SNPs!B741,FIND(\"[\",SNPs!B741)+1,FIND(\"/\",SNPs!B741)-FIND(\"[\",SNPs!B741)-1),\"\")","v":""},{"$f":"IF(SNPs!B741<>\"\",MID(SNPs!B741,FIND(\"[\",SNPs!B741)+3,FIND(\"/\",SNPs!B741)-FIND(\"/\",SNPs!B741)+1),\"\")","v":""},{"$f":"IF(SNPs!B741<>\"\",SNPs!B741,\"\")","v":""}]
[{"$f":"IF(SNPs!A742<>\"\",SNPs!A742,\"\")","v":""},{"$f":"IF(SNPs!B742<>\"\",MID(SNPs!B742,FIND(\"[\",SNPs!B742)+1,FIND(\"/\",SNPs!B742)-FIND(\"[\",SNPs!B742)-1),\"\")","v":""},{"$f":"IF(SNPs!B742<>\"\",MID(SNPs!B742,FIND(\"[\",SNPs!B742)+3,FIND(\"/\",SNPs!B742)-FIND(\"/\",SNPs!B742)+1),\"\")","v":""},{"$f":"IF(SNPs!B742<>\"\",SNPs!B742,\"\")","v":""}]
[{"$f":"IF(SNPs!A743<>\"\",SNPs!A743,\"\")","v":""},{"$f":"IF(SNPs!B743<>\"\",MID(SNPs!B743,FIND(\"[\",SNPs!B743)+1,FIND(\"/\",SNPs!B743)-FIND(\"[\",SNPs!B743)-1),\"\")","v":""},{"$f":"IF(SNPs!B743<>\"\",MID(SNPs!B743,FIND(\"[\",SNPs!B743)+3,FIND(\"/\",SNPs!B743)-FIND(\"/\",SNPs!B743)+1),\"\")","v":""},{"$f":"IF(SNPs!B743<>\"\",SNPs!B743,\"\")","v":""}]
[{"$f":"IF(SNPs!A744<>\"\",SNPs!A744,\"\")","v":""},{"$f":"IF(SNPs!B744<>\"\",MID(SNPs!B744,FIND(\"[\",SNPs!B744)+1,FIND(\"/\",SNPs!B744)-FIND(\"[\",SNPs!B744)-1),\"\")","v":""},{"$f":"IF(SNPs!B744<>\"\",MID(SNPs!B744,FIND(\"[\",SNPs!B744)+3,FIND(\"/\",SNPs!B744)-FIND(\"/\",SNPs!B744)+1),\"\")","v":""},{"$f":"IF(SNPs!B744<>\"\",SNPs!B744,\"\")","v":""}]
[{"$f":"IF(SNPs!A745<>\"\",SNPs!A745,\"\")","v":""},{"$f":"IF(SNPs!B745<>\"\",MID(SNPs!B745,FIND(\"[\",SNPs!B745)+1,FIND(\"/\",SNPs!B745)-FIND(\"[\",SNPs!B745)-1),\"\")","v":""},{"$f":"IF(SNPs!B745<>\"\",MID(SNPs!B745,FIND(\"[\",SNPs!B745)+3,FIND(\"/\",SNPs!B745)-FIND(\"/\",SNPs!B745)+1),\"\")","v":""},{"$f":"IF(SNPs!B745<>\"\",SNPs!B745,\"\")","v":""}]
[{"$f":"IF(SNPs!A746<>\"\",SNPs!A746,\"\")","v":""},{"$f":"IF(SNPs!B746<>\"\",MID(SNPs!B746,FIND(\"[\",SNPs!B746)+1,FIND(\"/\",SNPs!B746)-FIND(\"[\",SNPs!B746)-1),\"\")","v":""},{"$f":"IF(SNPs!B746<>\"\",MID(SNPs!B746,FIND(\"[\",SNPs!B746)+3,FIND(\"/\",SNPs!B746)-FIND(\"/\",SNPs!B746)+1),\"\")","v":""},{"$f":"IF(SNPs!B746<>\"\",SNPs!B746,\"\")","v":""}]
[{"$f":"IF(SNPs!A747<>\"\",SNPs!A747,\"\")","v":""},{"$f":"IF(SNPs!B747<>\"\",MID(SNPs!B747,FIND(\"[\",SNPs!B747)+1,FIND(\"/\",SNPs!B747)-FIND(\"[\",SNPs!B747)-1),\"\")","v":""},{"$f":"IF(SNPs!B747<>\"\",MID(SNPs!B747,FIND(\"[\",SNPs!B747)+3,FIND(\"/\",SNPs!B747)-FIND(\"/\",SNPs!B747)+1),\"\")","v":""},{"$f":"IF(SNPs!B747<>\"\",SNPs!B747,\"\")","v":""}]
[{"$f":"IF(SNPs!A748<>\"\",SNPs!A748,\"\")","v":""},{"$f":"IF(SNPs!B748<>\"\",MID(SNPs!B748,FIND(\"[\",SNPs!B748)+1,FIND(\"/\",SNPs!B748)-FIND(\"[\",SNPs!B748)-1),\"\")","v":""},{"$f":"IF(SNPs!B748<>\"\",MID(SNPs!B748,FIND(\"[\",SNPs!B748)+3,FIND(\"/\",SNPs!B748)-FIND(\"/\",SNPs!B748)+1),\"\")","v":""},{"$f":"IF(SNPs!B748<>\"\",SNPs!B748,\"\")","v":""}]
[{"$f":"IF(SNPs!A749<>\"\",SNPs!A749,\"\")","v":""},{"$f":"IF(SNPs!B749<>\"\",MID(SNPs!B749,FIND(\"[\",SNPs!B749)+1,FIND(\"/\",SNPs!B749)-FIND(\"[\",SNPs!B749)-1),\"\")","v":""},{"$f":"IF(SNPs!B749<>\"\",MID(SNPs!B749,FIND(\"[\",SNPs!B749)+3,FIND(\"/\",SNPs!B749)-FIND(\"/\",SNPs!B749)+1),\"\")","v":""},{"$f":"IF(SNPs!B749<>\"\",SNPs!B749,\"\")","v":""}]
[{"$f":"IF(SNPs!A750<>\"\",SNPs!A750,\"\")","v":""},{"$f":"IF(SNPs!B750<>\"\",MID(SNPs!B750,FIND(\"[\",SNPs!B750)+1,FIND(\"/\",SNPs!B750)-FIND(\"[\",SNPs!B750)-1),\"\")","v":""},{"$f":"IF(SNPs!B750<>\"\",MID(SNPs!B750,FIND(\"[\",SNPs!B750)+3,FIND(\"/\",SNPs!B750)-FIND(\"/\",SNPs!B750)+1),\"\")","v":""},{"$f":"IF(SNPs!B750<>\"\",SNPs!B750,\"\")","v":""}]
[{"$f":"IF(SNPs!A751<>\"\",SNPs!A751,\"\")","v":""},{"$f":"IF(SNPs!B751<>\"\",MID(SNPs!B751,FIND(\"[\",SNPs!B751)+1,FIND(\"/\",SNPs!B751)-FIND(\"[\",SNPs!B751)-1),\"\")","v":""},{"$f":"IF(SNPs!B751<>\"\",MID(SNPs!B751,FIND(\"[\",SNPs!B751)+3,FIND(\"/\",SNPs!B751)-FIND(\"/\",SNPs!B751)+1),\"\")","v":""},{"$f":"IF(SNPs!B751<>\"\",SNPs!B751,\"\")","v":""}]
[{"$f":"IF(SNPs!A752<>\"\",SNPs!A752,\"\")","v":""},{"$f":"IF(SNPs!B752<>\"\",MID(SNPs!B752,FIND(\"[\",SNPs!B752)+1,FIND(\"/\",SNPs!B752)-FIND(\"[\",SNPs!B752)-1),\"\")","v":""},{"$f":"IF(SNPs!B752<>\"\",MID(SNPs!B752,FIND(\"[\",SNPs!B752)+3,FIND(\"/\",SNPs!B752)-FIND(\"/\",SNPs!B752)+1),\"\")","v":""},{"$f":"IF(SNPs!B752<>\"\",SNPs!B752,\"\")","v":""}]
[{"$f":"IF(SNPs!A753<>\"\",SNPs!A753,\"\")","v":""},{"$f":"IF(SNPs!B753<>\"\",MID(SNPs!B753,FIND(\"[\",SNPs!B753)+1,FIND(\"/\",SNPs!B753)-FIND(\"[\",SNPs!B753)-1),\"\")","v":""},{"$f":"IF(SNPs!B753<>\"\",MID(SNPs!B753,FIND(\"[\",SNPs!B753)+3,FIND(\"/\",SNPs!B753)-FIND(\"/\",SNPs!B753)+1),\"\")","v":""},{"$f":"IF(SNPs!B753<>\"\",SNPs!B753,\"\")","v":""}]
[{"$f":"IF(SNPs!A754<>\"\",SNPs!A754,\"\")","v":""},{"$f":"IF(SNPs!B754<>\"\",MID(SNPs!B754,FIND(\"[\",SNPs!B754)+1,FIND(\"/\",SNPs!B754)-FIND(\"[\",SNPs!B754)-1),\"\")","v":""},{"$f":"IF(SNPs!B754<>\"\",MID(SNPs!B754,FIND(\"[\",SNPs!B754)+3,FIND(\"/\",SNPs!B754)-FIND(\"/\",SNPs!B754)+1),\"\")","v":""},{"$f":"IF(SNPs!B754<>\"\",SNPs!B754,\"\")","v":""}]
[{"$f":"IF(SNPs!A755<>\"\",SNPs!A755,\"\")","v":""},{"$f":"IF(SNPs!B755<>\"\",MID(SNPs!B755,FIND(\"[\",SNPs!B755)+1,FIND(\"/\",SNPs!B755)-FIND(\"[\",SNPs!B755)-1),\"\")","v":""},{"$f":"IF(SNPs!B755<>\"\",MID(SNPs!B755,FIND(\"[\",SNPs!B755)+3,FIND(\"/\",SNPs!B755)-FIND(\"/\",SNPs!B755)+1),\"\")","v":""},{"$f":"IF(SNPs!B755<>\"\",SNPs!B755,\"\")","v":""}]
[{"$f":"IF(SNPs!A756<>\"\",SNPs!A756,\"\")","v":""},{"$f":"IF(SNPs!B756<>\"\",MID(SNPs!B756,FIND(\"[\",SNPs!B756)+1,FIND(\"/\",SNPs!B756)-FIND(\"[\",SNPs!B756)-1),\"\")","v":""},{"$f":"IF(SNPs!B756<>\"\",MID(SNPs!B756,FIND(\"[\",SNPs!B756)+3,FIND(\"/\",SNPs!B756)-FIND(\"/\",SNPs!B756)+1),\"\")","v":""},{"$f":"IF(SNPs!B756<>\"\",SNPs!B756,\"\")","v":""}]
[{"$f":"IF(SNPs!A757<>\"\",SNPs!A757,\"\")","v":""},{"$f":"IF(SNPs!B757<>\"\",MID(SNPs!B757,FIND(\"[\",SNPs!B757)+1,FIND(\"/\",SNPs!B757)-FIND(\"[\",SNPs!B757)-1),\"\")","v":""},{"$f":"IF(SNPs!B757<>\"\",MID(SNPs!B757,FIND(\"[\",SNPs!B757)+3,FIND(\"/\",SNPs!B757)-FIND(\"/\",SNPs!B757)+1),\"\")","v":""},{"$f":"IF(SNPs!B757<>\"\",SNPs!B757,\"\")","v":""}]
[{"$f":"IF(SNPs!A758<>\"\",SNPs!A758,\"\")","v":""},{"$f":"IF(SNPs!B758<>\"\",MID(SNPs!B758,FIND(\"[\",SNPs!B758)+1,FIND(\"/\",SNPs!B758)-FIND(\"[\",SNPs!B758)-1),\"\")","v":""},{"$f":"IF(SNPs!B758<>\"\",MID(SNPs!B758,FIND(\"[\",SNPs!B758)+3,FIND(\"/\",SNPs!B758)-FIND(\"/\",SNPs!B758)+1),\"\")","v":""},{"$f":"IF(SNPs!B758<>\"\",SNPs!B758,\"\")","v":""}]
[{"$f":"IF(SNPs!A759<>\"\",SNPs!A759,\"\")","v":""},{"$f":"IF(SNPs!B759<>\"\",MID(SNPs!B759,FIND(\"[\",SNPs!B759)+1,FIND(\"/\",SNPs!B759)-FIND(\"[\",SNPs!B759)-1),\"\")","v":""},{"$f":"IF(SNPs!B759<>\"\",MID(SNPs!B759,FIND(\"[\",SNPs!B759)+3,FIND(\"/\",SNPs!B759)-FIND(\"/\",SNPs!B759)+1),\"\")","v":""},{"$f":"IF(SNPs!B759<>\"\",SNPs!B759,\"\")","v":""}]
[{"$f":"IF(SNPs!A760<>\"\",SNPs!A760,\"\")","v":""},{"$f":"IF(SNPs!B760<>\"\",MID(SNPs!B760,FIND(\"[\",SNPs!B760)+1,FIND(\"/\",SNPs!B760)-FIND(\"[\",SNPs!B760)-1),\"\")","v":""},{"$f":"IF(SNPs!B760<>\"\",MID(SNPs!B760,FIND(\"[\",SNPs!B760)+3,FIND(\"/\",SNPs!B760)-FIND(\"/\",SNPs!B760)+1),\"\")","v":""},{"$f":"IF(SNPs!B760<>\"\",SNPs!B760,\"\")","v":""}]
[{"$f":"IF(SNPs!A761<>\"\",SNPs!A761,\"\")","v":""},{"$f":"IF(SNPs!B761<>\"\",MID(SNPs!B761,FIND(\"[\",SNPs!B761)+1,FIND(\"/\",SNPs!B761)-FIND(\"[\",SNPs!B761)-1),\"\")","v":""},{"$f":"IF(SNPs!B761<>\"\",MID(SNPs!B761,FIND(\"[\",SNPs!B761)+3,FIND(\"/\",SNPs!B761)-FIND(\"/\",SNPs!B761)+1),\"\")","v":""},{"$f":"IF(SNPs!B761<>\"\",SNPs!B761,\"\")","v":""}]
[{"$f":"IF(SNPs!A762<>\"\",SNPs!A762,\"\")","v":""},{"$f":"IF(SNPs!B762<>\"\",MID(SNPs!B762,FIND(\"[\",SNPs!B762)+1,FIND(\"/\",SNPs!B762)-FIND(\"[\",SNPs!B762)-1),\"\")","v":""},{"$f":"IF(SNPs!B762<>\"\",MID(SNPs!B762,FIND(\"[\",SNPs!B762)+3,FIND(\"/\",SNPs!B762)-FIND(\"/\",SNPs!B762)+1),\"\")","v":""},{"$f":"IF(SNPs!B762<>\"\",SNPs!B762,\"\")","v":""}]
[{"$f":"IF(SNPs!A763<>\"\",SNPs!A763,\"\")","v":""},{"$f":"IF(SNPs!B763<>\"\",MID(SNPs!B763,FIND(\"[\",SNPs!B763)+1,FIND(\"/\",SNPs!B763)-FIND(\"[\",SNPs!B763)-1),\"\")","v":""},{"$f":"IF(SNPs!B763<>\"\",MID(SNPs!B763,FIND(\"[\",SNPs!B763)+3,FIND(\"/\",SNPs!B763)-FIND(\"/\",SNPs!B763)+1),\"\")","v":""},{"$f":"IF(SNPs!B763<>\"\",SNPs!B763,\"\")","v":""}]
[{"$f":"IF(SNPs!A764<>\"\",SNPs!A764,\"\")","v":""},{"$f":"IF(SNPs!B764<>\"\",MID(SNPs!B764,FIND(\"[\",SNPs!B764)+1,FIND(\"/\",SNPs!B764)-FIND(\"[\",SNPs!B764)-1),\"\")","v":""},{"$f":"IF(SNPs!B764<>\"\",MID(SNPs!B764,FIND(\"[\",SNPs!B764)+3,FIND(\"/\",SNPs!B764)-FIND(\"/\",SNPs!B764)+1),\"\")","v":""},{"$f":"IF(SNPs!B764<>\"\",SNPs!B764,\"\")","v":""}]
[{"$f":"IF(SNPs!A765<>\"\",SNPs!A765,\"\")","v":""},{"$f":"IF(SNPs!B765<>\"\",MID(SNPs!B765,FIND(\"[\",SNPs!B765)+1,FIND(\"/\",SNPs!B765)-FIND(\"[\",SNPs!B765)-1),\"\")","v":""},{"$f":"IF(SNPs!B765<>\"\",MID(SNPs!B765,FIND(\"[\",SNPs!B765)+3,FIND(\"/\",SNPs!B765)-FIND(\"/\",SNPs!B765)+1),\"\")","v":""},{"$f":"IF(SNPs!B765<>\"\",SNPs!B765,\"\")","v":""}]
[{"$f":"IF(SNPs!A766<>\"\",SNPs!A766,\"\")","v":""},{"$f":"IF(SNPs!B766<>\"\",MID(SNPs!B766,FIND(\"[\",SNPs!B766)+1,FIND(\"/\",SNPs!B766)-FIND(\"[\",SNPs!B766)-1),\"\")","v":""},{"$f":"IF(SNPs!B766<>\"\",MID(SNPs!B766,FIND(\"[\",SNPs!B766)+3,FIND(\"/\",SNPs!B766)-FIND(\"/\",SNPs!B766)+1),\"\")","v":""},{"$f":"IF(SNPs!B766<>\"\",SNPs!B766,\"\")","v":""}]
[{"$f":"IF(SNPs!A767<>\"\",SNPs!A767,\"\")","v":""},{"$f":"IF(SNPs!B767<>\"\",MID(SNPs!B767,FIND(\"[\",SNPs!B767)+1,FIND(\"/\",SNPs!B767)-FIND(\"[\",SNPs!B767)-1),\"\")","v":""},{"$f":"IF(SNPs!B767<>\"\",MID(SNPs!B767,FIND(\"[\",SNPs!B767)+3,FIND(\"/\",SNPs!B767)-FIND(\"/\",SNPs!B767)+1),\"\")","v":""},{"$f":"IF(SNPs!B767<>\"\",SNPs!B767,\"\")","v":""}]
[{"$f":"IF(SNPs!A768<>\"\",SNPs!A768,\"\")","v":""},{"$f":"IF(SNPs!B768<>\"\",MID(SNPs!B768,FIND(\"[\",SNPs!B768)+1,FIND(\"/\",SNPs!B768)-FIND(\"[\",SNPs!B768)-1),\"\")","v":""},{"$f":"IF(SNPs!B768<>\"\",MID(SNPs!B768,FIND(\"[\",SNPs!B768)+3,FIND(\"/\",SNPs!B768)-FIND(\"/\",SNPs!B768)+1),\"\")","v":""},{"$f":"IF(SNPs!B768<>\"\",SNPs!B768,\"\")","v":""}]
[{"$f":"IF(SNPs!A769<>\"\",SNPs!A769,\"\")","v":""},{"$f":"IF(SNPs!B769<>\"\",MID(SNPs!B769,FIND(\"[\",SNPs!B769)+1,FIND(\"/\",SNPs!B769)-FIND(\"[\",SNPs!B769)-1),\"\")","v":""},{"$f":"IF(SNPs!B769<>\"\",MID(SNPs!B769,FIND(\"[\",SNPs!B769)+3,FIND(\"/\",SNPs!B769)-FIND(\"/\",SNPs!B769)+1),\"\")","v":""},{"$f":"IF(SNPs!B769<>\"\",SNPs!B769,\"\")","v":""}]
[{"$f":"IF(SNPs!A770<>\"\",SNPs!A770,\"\")","v":""},{"$f":"IF(SNPs!B770<>\"\",MID(SNPs!B770,FIND(\"[\",SNPs!B770)+1,FIND(\"/\",SNPs!B770)-FIND(\"[\",SNPs!B770)-1),\"\")","v":""},{"$f":"IF(SNPs!B770<>\"\",MID(SNPs!B770,FIND(\"[\",SNPs!B770)+3,FIND(\"/\",SNPs!B770)-FIND(\"/\",SNPs!B770)+1),\"\")","v":""},{"$f":"IF(SNPs!B770<>\"\",SNPs!B770,\"\")","v":""}]
[{"$f":"IF(SNPs!A771<>\"\",SNPs!A771,\"\")","v":""},{"$f":"IF(SNPs!B771<>\"\",MID(SNPs!B771,FIND(\"[\",SNPs!B771)+1,FIND(\"/\",SNPs!B771)-FIND(\"[\",SNPs!B771)-1),\"\")","v":""},{"$f":"IF(SNPs!B771<>\"\",MID(SNPs!B771,FIND(\"[\",SNPs!B771)+3,FIND(\"/\",SNPs!B771)-FIND(\"/\",SNPs!B771)+1),\"\")","v":""},{"$f":"IF(SNPs!B771<>\"\",SNPs!B771,\"\")","v":""}]
[{"$f":"IF(SNPs!A772<>\"\",SNPs!A772,\"\")","v":""},{"$f":"IF(SNPs!B772<>\"\",MID(SNPs!B772,FIND(\"[\",SNPs!B772)+1,FIND(\"/\",SNPs!B772)-FIND(\"[\",SNPs!B772)-1),\"\")","v":""},{"$f":"IF(SNPs!B772<>\"\",MID(SNPs!B772,FIND(\"[\",SNPs!B772)+3,FIND(\"/\",SNPs!B772)-FIND(\"/\",SNPs!B772)+1),\"\")","v":""},{"$f":"IF(SNPs!B772<>\"\",SNPs!B772,\"\")","v":""}]
[{"$f":"IF(SNPs!A773<>\"\",SNPs!A773,\"\")","v":""},{"$f":"IF(SNPs!B773<>\"\",MID(SNPs!B773,FIND(\"[\",SNPs!B773)+1,FIND(\"/\",SNPs!B773)-FIND(\"[\",SNPs!B773)-1),\"\")","v":""},{"$f":"IF(SNPs!B773<>\"\",MID(SNPs!B773,FIND(\"[\",SNPs!B773)+3,FIND(\"/\",SNPs!B773)-FIND(\"/\",SNPs!B773)+1),\"\")","v":""},{"$f":"IF(SNPs!B773<>\"\",SNPs!B773,\"\")","v":""}]
[{"$f":"IF(SNPs!A774<>\"\",SNPs!A774,\"\")","v":""},{"$f":"IF(SNPs!B774<>\"\",MID(SNPs!B774,FIND(\"[\",SNPs!B774)+1,FIND(\"/\",SNPs!B774)-FIND(\"[\",SNPs!B774)-1),\"\")","v":""},{"$f":"IF(SNPs!B774<>\"\",MID(SNPs!B774,FIND(\"[\",SNPs!B774)+3,FIND(\"/\",SNPs!B774)-FIND(\"/\",SNPs!B774)+1),\"\")","v":""},{"$f":"IF(SNPs!B774<>\"\",SNPs!B774,\"\")","v":""}]
[{"$f":"IF(SNPs!A775<>\"\",SNPs!A775,\"\")","v":""},{"$f":"IF(SNPs!B775<>\"\",MID(SNPs!B775,FIND(\"[\",SNPs!B775)+1,FIND(\"/\",SNPs!B775)-FIND(\"[\",SNPs!B775)-1),\"\")","v":""},{"$f":"IF(SNPs!B775<>\"\",MID(SNPs!B775,FIND(\"[\",SNPs!B775)+3,FIND(\"/\",SNPs!B775)-FIND(\"/\",SNPs!B775)+1),\"\")","v":""},{"$f":"IF(SNPs!B775<>\"\",SNPs!B775,\"\")","v":""}]
[{"$f":"IF(SNPs!A776<>\"\",SNPs!A776,\"\")","v":""},{"$f":"IF(SNPs!B776<>\"\",MID(SNPs!B776,FIND(\"[\",SNPs!B776)+1,FIND(\"/\",SNPs!B776)-FIND(\"[\",SNPs!B776)-1),\"\")","v":""},{"$f":"IF(SNPs!B776<>\"\",MID(SNPs!B776,FIND(\"[\",SNPs!B776)+3,FIND(\"/\",SNPs!B776)-FIND(\"/\",SNPs!B776)+1),\"\")","v":""},{"$f":"IF(SNPs!B776<>\"\",SNPs!B776,\"\")","v":""}]
[{"$f":"IF(SNPs!A777<>\"\",SNPs!A777,\"\")","v":""},{"$f":"IF(SNPs!B777<>\"\",MID(SNPs!B777,FIND(\"[\",SNPs!B777)+1,FIND(\"/\",SNPs!B777)-FIND(\"[\",SNPs!B777)-1),\"\")","v":""},{"$f":"IF(SNPs!B777<>\"\",MID(SNPs!B777,FIND(\"[\",SNPs!B777)+3,FIND(\"/\",SNPs!B777)-FIND(\"/\",SNPs!B777)+1),\"\")","v":""},{"$f":"IF(SNPs!B777<>\"\",SNPs!B777,\"\")","v":""}]
[{"$f":"IF(SNPs!A778<>\"\",SNPs!A778,\"\")","v":""},{"$f":"IF(SNPs!B778<>\"\",MID(SNPs!B778,FIND(\"[\",SNPs!B778)+1,FIND(\"/\",SNPs!B778)-FIND(\"[\",SNPs!B778)-1),\"\")","v":""},{"$f":"IF(SNPs!B778<>\"\",MID(SNPs!B778,FIND(\"[\",SNPs!B778)+3,FIND(\"/\",SNPs!B778)-FIND(\"/\",SNPs!B778)+1),\"\")","v":""},{"$f":"IF(SNPs!B778<>\"\",SNPs!B778,\"\")","v":""}]
[{"$f":"IF(SNPs!A779<>\"\",SNPs!A779,\"\")","v":""},{"$f":"IF(SNPs!B779<>\"\",MID(SNPs!B779,FIND(\"[\",SNPs!B779)+1,FIND(\"/\",SNPs!B779)-FIND(\"[\",SNPs!B779)-1),\"\")","v":""},{"$f":"IF(SNPs!B779<>\"\",MID(SNPs!B779,FIND(\"[\",SNPs!B779)+3,FIND(\"/\",SNPs!B779)-FIND(\"/\",SNPs!B779)+1),\"\")","v":""},{"$f":"IF(SNPs!B779<>\"\",SNPs!B779,\"\")","v":""}]
[{"$f":"IF(SNPs!A780<>\"\",SNPs!A780,\"\")","v":""},{"$f":"IF(SNPs!B780<>\"\",MID(SNPs!B780,FIND(\"[\",SNPs!B780)+1,FIND(\"/\",SNPs!B780)-FIND(\"[\",SNPs!B780)-1),\"\")","v":""},{"$f":"IF(SNPs!B780<>\"\",MID(SNPs!B780,FIND(\"[\",SNPs!B780)+3,FIND(\"/\",SNPs!B780)-FIND(\"/\",SNPs!B780)+1),\"\")","v":""},{"$f":"IF(SNPs!B780<>\"\",SNPs!B780,\"\")","v":""}]
[{"$f":"IF(SNPs!A781<>\"\",SNPs!A781,\"\")","v":""},{"$f":"IF(SNPs!B781<>\"\",MID(SNPs!B781,FIND(\"[\",SNPs!B781)+1,FIND(\"/\",SNPs!B781)-FIND(\"[\",SNPs!B781)-1),\"\")","v":""},{"$f":"IF(SNPs!B781<>\"\",MID(SNPs!B781,FIND(\"[\",SNPs!B781)+3,FIND(\"/\",SNPs!B781)-FIND(\"/\",SNPs!B781)+1),\"\")","v":""},{"$f":"IF(SNPs!B781<>\"\",SNPs!B781,\"\")","v":""}]
[{"$f":"IF(SNPs!A782<>\"\",SNPs!A782,\"\")","v":""},{"$f":"IF(SNPs!B782<>\"\",MID(SNPs!B782,FIND(\"[\",SNPs!B782)+1,FIND(\"/\",SNPs!B782)-FIND(\"[\",SNPs!B782)-1),\"\")","v":""},{"$f":"IF(SNPs!B782<>\"\",MID(SNPs!B782,FIND(\"[\",SNPs!B782)+3,FIND(\"/\",SNPs!B782)-FIND(\"/\",SNPs!B782)+1),\"\")","v":""},{"$f":"IF(SNPs!B782<>\"\",SNPs!B782,\"\")","v":""}]
[{"$f":"IF(SNPs!A783<>\"\",SNPs!A783,\"\")","v":""},{"$f":"IF(SNPs!B783<>\"\",MID(SNPs!B783,FIND(\"[\",SNPs!B783)+1,FIND(\"/\",SNPs!B783)-FIND(\"[\",SNPs!B783)-1),\"\")","v":""},{"$f":"IF(SNPs!B783<>\"\",MID(SNPs!B783,FIND(\"[\",SNPs!B783)+3,FIND(\"/\",SNPs!B783)-FIND(\"/\",SNPs!B783)+1),\"\")","v":""},{"$f":"IF(SNPs!B783<>\"\",SNPs!B783,\"\")","v":""}]
[{"$f":"IF(SNPs!A784<>\"\",SNPs!A784,\"\")","v":""},{"$f":"IF(SNPs!B784<>\"\",MID(SNPs!B784,FIND(\"[\",SNPs!B784)+1,FIND(\"/\",SNPs!B784)-FIND(\"[\",SNPs!B784)-1),\"\")","v":""},{"$f":"IF(SNPs!B784<>\"\",MID(SNPs!B784,FIND(\"[\",SNPs!B784)+3,FIND(\"/\",SNPs!B784)-FIND(\"/\",SNPs!B784)+1),\"\")","v":""},{"$f":"IF(SNPs!B784<>\"\",SNPs!B784,\"\")","v":""}]
[{"$f":"IF(SNPs!A785<>\"\",SNPs!A785,\"\")","v":""},{"$f":"IF(SNPs!B785<>\"\",MID(SNPs!B785,FIND(\"[\",SNPs!B785)+1,FIND(\"/\",SNPs!B785)-FIND(\"[\",SNPs!B785)-1),\"\")","v":""},{"$f":"IF(SNPs!B785<>\"\",MID(SNPs!B785,FIND(\"[\",SNPs!B785)+3,FIND(\"/\",SNPs!B785)-FIND(\"/\",SNPs!B785)+1),\"\")","v":""},{"$f":"IF(SNPs!B785<>\"\",SNPs!B785,\"\")","v":""}]
[{"$f":"IF(SNPs!A786<>\"\",SNPs!A786,\"\")","v":""},{"$f":"IF(SNPs!B786<>\"\",MID(SNPs!B786,FIND(\"[\",SNPs!B786)+1,FIND(\"/\",SNPs!B786)-FIND(\"[\",SNPs!B786)-1),\"\")","v":""},{"$f":"IF(SNPs!B786<>\"\",MID(SNPs!B786,FIND(\"[\",SNPs!B786)+3,FIND(\"/\",SNPs!B786)-FIND(\"/\",SNPs!B786)+1),\"\")","v":""},{"$f":"IF(SNPs!B786<>\"\",SNPs!B786,\"\")","v":""}]
[{"$f":"IF(SNPs!A787<>\"\",SNPs!A787,\"\")","v":""},{"$f":"IF(SNPs!B787<>\"\",MID(SNPs!B787,FIND(\"[\",SNPs!B787)+1,FIND(\"/\",SNPs!B787)-FIND(\"[\",SNPs!B787)-1),\"\")","v":""},{"$f":"IF(SNPs!B787<>\"\",MID(SNPs!B787,FIND(\"[\",SNPs!B787)+3,FIND(\"/\",SNPs!B787)-FIND(\"/\",SNPs!B787)+1),\"\")","v":""},{"$f":"IF(SNPs!B787<>\"\",SNPs!B787,\"\")","v":""}]
[{"$f":"IF(SNPs!A788<>\"\",SNPs!A788,\"\")","v":""},{"$f":"IF(SNPs!B788<>\"\",MID(SNPs!B788,FIND(\"[\",SNPs!B788)+1,FIND(\"/\",SNPs!B788)-FIND(\"[\",SNPs!B788)-1),\"\")","v":""},{"$f":"IF(SNPs!B788<>\"\",MID(SNPs!B788,FIND(\"[\",SNPs!B788)+3,FIND(\"/\",SNPs!B788)-FIND(\"/\",SNPs!B788)+1),\"\")","v":""},{"$f":"IF(SNPs!B788<>\"\",SNPs!B788,\"\")","v":""}]
[{"$f":"IF(SNPs!A789<>\"\",SNPs!A789,\"\")","v":""},{"$f":"IF(SNPs!B789<>\"\",MID(SNPs!B789,FIND(\"[\",SNPs!B789)+1,FIND(\"/\",SNPs!B789)-FIND(\"[\",SNPs!B789)-1),\"\")","v":""},{"$f":"IF(SNPs!B789<>\"\",MID(SNPs!B789,FIND(\"[\",SNPs!B789)+3,FIND(\"/\",SNPs!B789)-FIND(\"/\",SNPs!B789)+1),\"\")","v":""},{"$f":"IF(SNPs!B789<>\"\",SNPs!B789,\"\")","v":""}]
[{"$f":"IF(SNPs!A790<>\"\",SNPs!A790,\"\")","v":""},{"$f":"IF(SNPs!B790<>\"\",MID(SNPs!B790,FIND(\"[\",SNPs!B790)+1,FIND(\"/\",SNPs!B790)-FIND(\"[\",SNPs!B790)-1),\"\")","v":""},{"$f":"IF(SNPs!B790<>\"\",MID(SNPs!B790,FIND(\"[\",SNPs!B790)+3,FIND(\"/\",SNPs!B790)-FIND(\"/\",SNPs!B790)+1),\"\")","v":""},{"$f":"IF(SNPs!B790<>\"\",SNPs!B790,\"\")","v":""}]
[{"$f":"IF(SNPs!A791<>\"\",SNPs!A791,\"\")","v":""},{"$f":"IF(SNPs!B791<>\"\",MID(SNPs!B791,FIND(\"[\",SNPs!B791)+1,FIND(\"/\",SNPs!B791)-FIND(\"[\",SNPs!B791)-1),\"\")","v":""},{"$f":"IF(SNPs!B791<>\"\",MID(SNPs!B791,FIND(\"[\",SNPs!B791)+3,FIND(\"/\",SNPs!B791)-FIND(\"/\",SNPs!B791)+1),\"\")","v":""},{"$f":"IF(SNPs!B791<>\"\",SNPs!B791,\"\")","v":""}]
[{"$f":"IF(SNPs!A792<>\"\",SNPs!A792,\"\")","v":""},{"$f":"IF(SNPs!B792<>\"\",MID(SNPs!B792,FIND(\"[\",SNPs!B792)+1,FIND(\"/\",SNPs!B792)-FIND(\"[\",SNPs!B792)-1),\"\")","v":""},{"$f":"IF(SNPs!B792<>\"\",MID(SNPs!B792,FIND(\"[\",SNPs!B792)+3,FIND(\"/\",SNPs!B792)-FIND(\"/\",SNPs!B792)+1),\"\")","v":""},{"$f":"IF(SNPs!B792<>\"\",SNPs!B792,\"\")","v":""}]
[{"$f":"IF(SNPs!A793<>\"\",SNPs!A793,\"\")","v":""},{"$f":"IF(SNPs!B793<>\"\",MID(SNPs!B793,FIND(\"[\",SNPs!B793)+1,FIND(\"/\",SNPs!B793)-FIND(\"[\",SNPs!B793)-1),\"\")","v":""},{"$f":"IF(SNPs!B793<>\"\",MID(SNPs!B793,FIND(\"[\",SNPs!B793)+3,FIND(\"/\",SNPs!B793)-FIND(\"/\",SNPs!B793)+1),\"\")","v":""},{"$f":"IF(SNPs!B793<>\"\",SNPs!B793,\"\")","v":""}]
[{"$f":"IF(SNPs!A794<>\"\",SNPs!A794,\"\")","v":""},{"$f":"IF(SNPs!B794<>\"\",MID(SNPs!B794,FIND(\"[\",SNPs!B794)+1,FIND(\"/\",SNPs!B794)-FIND(\"[\",SNPs!B794)-1),\"\")","v":""},{"$f":"IF(SNPs!B794<>\"\",MID(SNPs!B794,FIND(\"[\",SNPs!B794)+3,FIND(\"/\",SNPs!B794)-FIND(\"/\",SNPs!B794)+1),\"\")","v":""},{"$f":"IF(SNPs!B794<>\"\",SNPs!B794,\"\")","v":""}]
[{"$f":"IF(SNPs!A795<>\"\",SNPs!A795,\"\")","v":""},{"$f":"IF(SNPs!B795<>\"\",MID(SNPs!B795,FIND(\"[\",SNPs!B795)+1,FIND(\"/\",SNPs!B795)-FIND(\"[\",SNPs!B795)-1),\"\")","v":""},{"$f":"IF(SNPs!B795<>\"\",MID(SNPs!B795,FIND(\"[\",SNPs!B795)+3,FIND(\"/\",SNPs!B795)-FIND(\"/\",SNPs!B795)+1),\"\")","v":""},{"$f":"IF(SNPs!B795<>\"\",SNPs!B795,\"\")","v":""}]
[{"$f":"IF(SNPs!A796<>\"\",SNPs!A796,\"\")","v":""},{"$f":"IF(SNPs!B796<>\"\",MID(SNPs!B796,FIND(\"[\",SNPs!B796)+1,FIND(\"/\",SNPs!B796)-FIND(\"[\",SNPs!B796)-1),\"\")","v":""},{"$f":"IF(SNPs!B796<>\"\",MID(SNPs!B796,FIND(\"[\",SNPs!B796)+3,FIND(\"/\",SNPs!B796)-FIND(\"/\",SNPs!B796)+1),\"\")","v":""},{"$f":"IF(SNPs!B796<>\"\",SNPs!B796,\"\")","v":""}]
[{"$f":"IF(SNPs!A797<>\"\",SNPs!A797,\"\")","v":""},{"$f":"IF(SNPs!B797<>\"\",MID(SNPs!B797,FIND(\"[\",SNPs!B797)+1,FIND(\"/\",SNPs!B797)-FIND(\"[\",SNPs!B797)-1),\"\")","v":""},{"$f":"IF(SNPs!B797<>\"\",MID(SNPs!B797,FIND(\"[\",SNPs!B797)+3,FIND(\"/\",SNPs!B797)-FIND(\"/\",SNPs!B797)+1),\"\")","v":""},{"$f":"IF(SNPs!B797<>\"\",SNPs!B797,\"\")","v":""}]
[{"$f":"IF(SNPs!A798<>\"\",SNPs!A798,\"\")","v":""},{"$f":"IF(SNPs!B798<>\"\",MID(SNPs!B798,FIND(\"[\",SNPs!B798)+1,FIND(\"/\",SNPs!B798)-FIND(\"[\",SNPs!B798)-1),\"\")","v":""},{"$f":"IF(SNPs!B798<>\"\",MID(SNPs!B798,FIND(\"[\",SNPs!B798)+3,FIND(\"/\",SNPs!B798)-FIND(\"/\",SNPs!B798)+1),\"\")","v":""},{"$f":"IF(SNPs!B798<>\"\",SNPs!B798,\"\")","v":""}]
[{"$f":"IF(SNPs!A799<>\"\",SNPs!A799,\"\")","v":""},{"$f":"IF(SNPs!B799<>\"\",MID(SNPs!B799,FIND(\"[\",SNPs!B799)+1,FIND(\"/\",SNPs!B799)-FIND(\"[\",SNPs!B799)-1),\"\")","v":""},{"$f":"IF(SNPs!B799<>\"\",MID(SNPs!B799,FIND(\"[\",SNPs!B799)+3,FIND(\"/\",SNPs!B799)-FIND(\"/\",SNPs!B799)+1),\"\")","v":""},{"$f":"IF(SNPs!B799<>\"\",SNPs!B799,\"\")","v":""}]
[{"$f":"IF(SNPs!A800<>\"\",SNPs!A800,\"\")","v":""},{"$f":"IF(SNPs!B800<>\"\",MID(SNPs!B800,FIND(\"[\",SNPs!B800)+1,FIND(\"/\",SNPs!B800)-FIND(\"[\",SNPs!B800)-1),\"\")","v":""},{"$f":"IF(SNPs!B800<>\"\",MID(SNPs!B800,FIND(\"[\",SNPs!B800)+3,FIND(\"/\",SNPs!B800)-FIND(\"/\",SNPs!B800)+1),\"\")","v":""},{"$f":"IF(SNPs!B800<>\"\",SNPs!B800,\"\")","v":""}]
[{"$f":"IF(SNPs!A801<>\"\",SNPs!A801,\"\")","v":""},{"$f":"IF(SNPs!B801<>\"\",MID(SNPs!B801,FIND(\"[\",SNPs!B801)+1,FIND(\"/\",SNPs!B801)-FIND(\"[\",SNPs!B801)-1),\"\")","v":""},{"$f":"IF(SNPs!B801<>\"\",MID(SNPs!B801,FIND(\"[\",SNPs!B801)+3,FIND(\"/\",SNPs!B801)-FIND(\"/\",SNPs!B801)+1),\"\")","v":""},{"$f":"IF(SNPs!B801<>\"\",SNPs!B801,\"\")","v":""}]
[{"$f":"IF(SNPs!A802<>\"\",SNPs!A802,\"\")","v":""},{"$f":"IF(SNPs!B802<>\"\",MID(SNPs!B802,FIND(\"[\",SNPs!B802)+1,FIND(\"/\",SNPs!B802)-FIND(\"[\",SNPs!B802)-1),\"\")","v":""},{"$f":"IF(SNPs!B802<>\"\",MID(SNPs!B802,FIND(\"[\",SNPs!B802)+3,FIND(\"/\",SNPs!B802)-FIND(\"/\",SNPs!B802)+1),\"\")","v":""},{"$f":"IF(SNPs!B802<>\"\",SNPs!B802,\"\")","v":""}]
[{"$f":"IF(SNPs!A803<>\"\",SNPs!A803,\"\")","v":""},{"$f":"IF(SNPs!B803<>\"\",MID(SNPs!B803,FIND(\"[\",SNPs!B803)+1,FIND(\"/\",SNPs!B803)-FIND(\"[\",SNPs!B803)-1),\"\")","v":""},{"$f":"IF(SNPs!B803<>\"\",MID(SNPs!B803,FIND(\"[\",SNPs!B803)+3,FIND(\"/\",SNPs!B803)-FIND(\"/\",SNPs!B803)+1),\"\")","v":""},{"$f":"IF(SNPs!B803<>\"\",SNPs!B803,\"\")","v":""}]
[{"$f":"IF(SNPs!A804<>\"\",SNPs!A804,\"\")","v":""},{"$f":"IF(SNPs!B804<>\"\",MID(SNPs!B804,FIND(\"[\",SNPs!B804)+1,FIND(\"/\",SNPs!B804)-FIND(\"[\",SNPs!B804)-1),\"\")","v":""},{"$f":"IF(SNPs!B804<>\"\",MID(SNPs!B804,FIND(\"[\",SNPs!B804)+3,FIND(\"/\",SNPs!B804)-FIND(\"/\",SNPs!B804)+1),\"\")","v":""},{"$f":"IF(SNPs!B804<>\"\",SNPs!B804,\"\")","v":""}]
[{"$f":"IF(SNPs!A805<>\"\",SNPs!A805,\"\")","v":""},{"$f":"IF(SNPs!B805<>\"\",MID(SNPs!B805,FIND(\"[\",SNPs!B805)+1,FIND(\"/\",SNPs!B805)-FIND(\"[\",SNPs!B805)-1),\"\")","v":""},{"$f":"IF(SNPs!B805<>\"\",MID(SNPs!B805,FIND(\"[\",SNPs!B805)+3,FIND(\"/\",SNPs!B805)-FIND(\"/\",SNPs!B805)+1),\"\")","v":""},{"$f":"IF(SNPs!B805<>\"\",SNPs!B805,\"\")","v":""}]
[{"$f":"IF(SNPs!A806<>\"\",SNPs!A806,\"\")","v":""},{"$f":"IF(SNPs!B806<>\"\",MID(SNPs!B806,FIND(\"[\",SNPs!B806)+1,FIND(\"/\",SNPs!B806)-FIND(\"[\",SNPs!B806)-1),\"\")","v":""},{"$f":"IF(SNPs!B806<>\"\",MID(SNPs!B806,FIND(\"[\",SNPs!B806)+3,FIND(\"/\",SNPs!B806)-FIND(\"/\",SNPs!B806)+1),\"\")","v":""},{"$f":"IF(SNPs!B806<>\"\",SNPs!B806,\"\")","v":""}]
[{"$f":"IF(SNPs!A807<>\"\",SNPs!A807,\"\")","v":""},{"$f":"IF(SNPs!B807<>\"\",MID(SNPs!B807,FIND(\"[\",SNPs!B807)+1,FIND(\"/\",SNPs!B807)-FIND(\"[\",SNPs!B807)-1),\"\")","v":""},{"$f":"IF(SNPs!B807<>\"\",MID(SNPs!B807,FIND(\"[\",SNPs!B807)+3,FIND(\"/\",SNPs!B807)-FIND(\"/\",SNPs!B807)+1),\"\")","v":""},{"$f":"IF(SNPs!B807<>\"\",SNPs!B807,\"\")","v":""}]
[{"$f":"IF(SNPs!A808<>\"\",SNPs!A808,\"\")","v":""},{"$f":"IF(SNPs!B808<>\"\",MID(SNPs!B808,FIND(\"[\",SNPs!B808)+1,FIND(\"/\",SNPs!B808)-FIND(\"[\",SNPs!B808)-1),\"\")","v":""},{"$f":"IF(SNPs!B808<>\"\",MID(SNPs!B808,FIND(\"[\",SNPs!B808)+3,FIND(\"/\",SNPs!B808)-FIND(\"/\",SNPs!B808)+1),\"\")","v":""},{"$f":"IF(SNPs!B808<>\"\",SNPs!B808,\"\")","v":""}]
[{"$f":"IF(SNPs!A809<>\"\",SNPs!A809,\"\")","v":""},{"$f":"IF(SNPs!B809<>\"\",MID(SNPs!B809,FIND(\"[\",SNPs!B809)+1,FIND(\"/\",SNPs!B809)-FIND(\"[\",SNPs!B809)-1),\"\")","v":""},{"$f":"IF(SNPs!B809<>\"\",MID(SNPs!B809,FIND(\"[\",SNPs!B809)+3,FIND(\"/\",SNPs!B809)-FIND(\"/\",SNPs!B809)+1),\"\")","v":""},{"$f":"IF(SNPs!B809<>\"\",SNPs!B809,\"\")","v":""}]
[{"$f":"IF(SNPs!A810<>\"\",SNPs!A810,\"\")","v":""},{"$f":"IF(SNPs!B810<>\"\",MID(SNPs!B810,FIND(\"[\",SNPs!B810)+1,FIND(\"/\",SNPs!B810)-FIND(\"[\",SNPs!B810)-1),\"\")","v":""},{"$f":"IF(SNPs!B810<>\"\",MID(SNPs!B810,FIND(\"[\",SNPs!B810)+3,FIND(\"/\",SNPs!B810)-FIND(\"/\",SNPs!B810)+1),\"\")","v":""},{"$f":"IF(SNPs!B810<>\"\",SNPs!B810,\"\")","v":""}]
[{"$f":"IF(SNPs!A811<>\"\",SNPs!A811,\"\")","v":""},{"$f":"IF(SNPs!B811<>\"\",MID(SNPs!B811,FIND(\"[\",SNPs!B811)+1,FIND(\"/\",SNPs!B811)-FIND(\"[\",SNPs!B811)-1),\"\")","v":""},{"$f":"IF(SNPs!B811<>\"\",MID(SNPs!B811,FIND(\"[\",SNPs!B811)+3,FIND(\"/\",SNPs!B811)-FIND(\"/\",SNPs!B811)+1),\"\")","v":""},{"$f":"IF(SNPs!B811<>\"\",SNPs!B811,\"\")","v":""}]
[{"$f":"IF(SNPs!A812<>\"\",SNPs!A812,\"\")","v":""},{"$f":"IF(SNPs!B812<>\"\",MID(SNPs!B812,FIND(\"[\",SNPs!B812)+1,FIND(\"/\",SNPs!B812)-FIND(\"[\",SNPs!B812)-1),\"\")","v":""},{"$f":"IF(SNPs!B812<>\"\",MID(SNPs!B812,FIND(\"[\",SNPs!B812)+3,FIND(\"/\",SNPs!B812)-FIND(\"/\",SNPs!B812)+1),\"\")","v":""},{"$f":"IF(SNPs!B812<>\"\",SNPs!B812,\"\")","v":""}]
[{"$f":"IF(SNPs!A813<>\"\",SNPs!A813,\"\")","v":""},{"$f":"IF(SNPs!B813<>\"\",MID(SNPs!B813,FIND(\"[\",SNPs!B813)+1,FIND(\"/\",SNPs!B813)-FIND(\"[\",SNPs!B813)-1),\"\")","v":""},{"$f":"IF(SNPs!B813<>\"\",MID(SNPs!B813,FIND(\"[\",SNPs!B813)+3,FIND(\"/\",SNPs!B813)-FIND(\"/\",SNPs!B813)+1),\"\")","v":""},{"$f":"IF(SNPs!B813<>\"\",SNPs!B813,\"\")","v":""}]
[{"$f":"IF(SNPs!A814<>\"\",SNPs!A814,\"\")","v":""},{"$f":"IF(SNPs!B814<>\"\",MID(SNPs!B814,FIND(\"[\",SNPs!B814)+1,FIND(\"/\",SNPs!B814)-FIND(\"[\",SNPs!B814)-1),\"\")","v":""},{"$f":"IF(SNPs!B814<>\"\",MID(SNPs!B814,FIND(\"[\",SNPs!B814)+3,FIND(\"/\",SNPs!B814)-FIND(\"/\",SNPs!B814)+1),\"\")","v":""},{"$f":"IF(SNPs!B814<>\"\",SNPs!B814,\"\")","v":""}]
[{"$f":"IF(SNPs!A815<>\"\",SNPs!A815,\"\")","v":""},{"$f":"IF(SNPs!B815<>\"\",MID(SNPs!B815,FIND(\"[\",SNPs!B815)+1,FIND(\"/\",SNPs!B815)-FIND(\"[\",SNPs!B815)-1),\"\")","v":""},{"$f":"IF(SNPs!B815<>\"\",MID(SNPs!B815,FIND(\"[\",SNPs!B815)+3,FIND(\"/\",SNPs!B815)-FIND(\"/\",SNPs!B815)+1),\"\")","v":""},{"$f":"IF(SNPs!B815<>\"\",SNPs!B815,\"\")","v":""}]
[{"$f":"IF(SNPs!A816<>\"\",SNPs!A816,\"\")","v":""},{"$f":"IF(SNPs!B816<>\"\",MID(SNPs!B816,FIND(\"[\",SNPs!B816)+1,FIND(\"/\",SNPs!B816)-FIND(\"[\",SNPs!B816)-1),\"\")","v":""},{"$f":"IF(SNPs!B816<>\"\",MID(SNPs!B816,FIND(\"[\",SNPs!B816)+3,FIND(\"/\",SNPs!B816)-FIND(\"/\",SNPs!B816)+1),\"\")","v":""},{"$f":"IF(SNPs!B816<>\"\",SNPs!B816,\"\")","v":""}]
[{"$f":"IF(SNPs!A817<>\"\",SNPs!A817,\"\")","v":""},{"$f":"IF(SNPs!B817<>\"\",MID(SNPs!B817,FIND(\"[\",SNPs!B817)+1,FIND(\"/\",SNPs!B817)-FIND(\"[\",SNPs!B817)-1),\"\")","v":""},{"$f":"IF(SNPs!B817<>\"\",MID(SNPs!B817,FIND(\"[\",SNPs!B817)+3,FIND(\"/\",SNPs!B817)-FIND(\"/\",SNPs!B817)+1),\"\")","v":""},{"$f":"IF(SNPs!B817<>\"\",SNPs!B817,\"\")","v":""}]
[{"$f":"IF(SNPs!A818<>\"\",SNPs!A818,\"\")","v":""},{"$f":"IF(SNPs!B818<>\"\",MID(SNPs!B818,FIND(\"[\",SNPs!B818)+1,FIND(\"/\",SNPs!B818)-FIND(\"[\",SNPs!B818)-1),\"\")","v":""},{"$f":"IF(SNPs!B818<>\"\",MID(SNPs!B818,FIND(\"[\",SNPs!B818)+3,FIND(\"/\",SNPs!B818)-FIND(\"/\",SNPs!B818)+1),\"\")","v":""},{"$f":"IF(SNPs!B818<>\"\",SNPs!B818,\"\")","v":""}]
[{"$f":"IF(SNPs!A819<>\"\",SNPs!A819,\"\")","v":""},{"$f":"IF(SNPs!B819<>\"\",MID(SNPs!B819,FIND(\"[\",SNPs!B819)+1,FIND(\"/\",SNPs!B819)-FIND(\"[\",SNPs!B819)-1),\"\")","v":""},{"$f":"IF(SNPs!B819<>\"\",MID(SNPs!B819,FIND(\"[\",SNPs!B819)+3,FIND(\"/\",SNPs!B819)-FIND(\"/\",SNPs!B819)+1),\"\")","v":""},{"$f":"IF(SNPs!B819<>\"\",SNPs!B819,\"\")","v":""}]
[{"$f":"IF(SNPs!A820<>\"\",SNPs!A820,\"\")","v":""},{"$f":"IF(SNPs!B820<>\"\",MID(SNPs!B820,FIND(\"[\",SNPs!B820)+1,FIND(\"/\",SNPs!B820)-FIND(\"[\",SNPs!B820)-1),\"\")","v":""},{"$f":"IF(SNPs!B820<>\"\",MID(SNPs!B820,FIND(\"[\",SNPs!B820)+3,FIND(\"/\",SNPs!B820)-FIND(\"/\",SNPs!B820)+1),\"\")","v":""},{"$f":"IF(SNPs!B820<>\"\",SNPs!B820,\"\")","v":""}]
[{"$f":"IF(SNPs!A821<>\"\",SNPs!A821,\"\")","v":""},{"$f":"IF(SNPs!B821<>\"\",MID(SNPs!B821,FIND(\"[\",SNPs!B821)+1,FIND(\"/\",SNPs!B821)-FIND(\"[\",SNPs!B821)-1),\"\")","v":""},{"$f":"IF(SNPs!B821<>\"\",MID(SNPs!B821,FIND(\"[\",SNPs!B821)+3,FIND(\"/\",SNPs!B821)-FIND(\"/\",SNPs!B821)+1),\"\")","v":""},{"$f":"IF(SNPs!B821<>\"\",SNPs!B821,\"\")","v":""}]
[{"$f":"IF(SNPs!A822<>\"\",SNPs!A822,\"\")","v":""},{"$f":"IF(SNPs!B822<>\"\",MID(SNPs!B822,FIND(\"[\",SNPs!B822)+1,FIND(\"/\",SNPs!B822)-FIND(\"[\",SNPs!B822)-1),\"\")","v":""},{"$f":"IF(SNPs!B822<>\"\",MID(SNPs!B822,FIND(\"[\",SNPs!B822)+3,FIND(\"/\",SNPs!B822)-FIND(\"/\",SNPs!B822)+1),\"\")","v":""},{"$f":"IF(SNPs!B822<>\"\",SNPs!B822,\"\")","v":""}]
[{"$f":"IF(SNPs!A823<>\"\",SNPs!A823,\"\")","v":""},{"$f":"IF(SNPs!B823<>\"\",MID(SNPs!B823,FIND(\"[\",SNPs!B823)+1,FIND(\"/\",SNPs!B823)-FIND(\"[\",SNPs!B823)-1),\"\")","v":""},{"$f":"IF(SNPs!B823<>\"\",MID(SNPs!B823,FIND(\"[\",SNPs!B823)+3,FIND(\"/\",SNPs!B823)-FIND(\"/\",SNPs!B823)+1),\"\")","v":""},{"$f":"IF(SNPs!B823<>\"\",SNPs!B823,\"\")","v":""}]
[{"$f":"IF(SNPs!A824<>\"\",SNPs!A824,\"\")","v":""},{"$f":"IF(SNPs!B824<>\"\",MID(SNPs!B824,FIND(\"[\",SNPs!B824)+1,FIND(\"/\",SNPs!B824)-FIND(\"[\",SNPs!B824)-1),\"\")","v":""},{"$f":"IF(SNPs!B824<>\"\",MID(SNPs!B824,FIND(\"[\",SNPs!B824)+3,FIND(\"/\",SNPs!B824)-FIND(\"/\",SNPs!B824)+1),\"\")","v":""},{"$f":"IF(SNPs!B824<>\"\",SNPs!B824,\"\")","v":""}]
[{"$f":"IF(SNPs!A825<>\"\",SNPs!A825,\"\")","v":""},{"$f":"IF(SNPs!B825<>\"\",MID(SNPs!B825,FIND(\"[\",SNPs!B825)+1,FIND(\"/\",SNPs!B825)-FIND(\"[\",SNPs!B825)-1),\"\")","v":""},{"$f":"IF(SNPs!B825<>\"\",MID(SNPs!B825,FIND(\"[\",SNPs!B825)+3,FIND(\"/\",SNPs!B825)-FIND(\"/\",SNPs!B825)+1),\"\")","v":""},{"$f":"IF(SNPs!B825<>\"\",SNPs!B825,\"\")","v":""}]
[{"$f":"IF(SNPs!A826<>\"\",SNPs!A826,\"\")","v":""},{"$f":"IF(SNPs!B826<>\"\",MID(SNPs!B826,FIND(\"[\",SNPs!B826)+1,FIND(\"/\",SNPs!B826)-FIND(\"[\",SNPs!B826)-1),\"\")","v":""},{"$f":"IF(SNPs!B826<>\"\",MID(SNPs!B826,FIND(\"[\",SNPs!B826)+3,FIND(\"/\",SNPs!B826)-FIND(\"/\",SNPs!B826)+1),\"\")","v":""},{"$f":"IF(SNPs!B826<>\"\",SNPs!B826,\"\")","v":""}]
[{"$f":"IF(SNPs!A827<>\"\",SNPs!A827,\"\")","v":""},{"$f":"IF(SNPs!B827<>\"\",MID(SNPs!B827,FIND(\"[\",SNPs!B827)+1,FIND(\"/\",SNPs!B827)-FIND(\"[\",SNPs!B827)-1),\"\")","v":""},{"$f":"IF(SNPs!B827<>\"\",MID(SNPs!B827,FIND(\"[\",SNPs!B827)+3,FIND(\"/\",SNPs!B827)-FIND(\"/\",SNPs!B827)+1),\"\")","v":""},{"$f":"IF(SNPs!B827<>\"\",SNPs!B827,\"\")","v":""}]
[{"$f":"IF(SNPs!A828<>\"\",SNPs!A828,\"\")","v":""},{"$f":"IF(SNPs!B828<>\"\",MID(SNPs!B828,FIND(\"[\",SNPs!B828)+1,FIND(\"/\",SNPs!B828)-FIND(\"[\",SNPs!B828)-1),\"\")","v":""},{"$f":"IF(SNPs!B828<>\"\",MID(SNPs!B828,FIND(\"[\",SNPs!B828)+3,FIND(\"/\",SNPs!B828)-FIND(\"/\",SNPs!B828)+1),\"\")","v":""},{"$f":"IF(SNPs!B828<>\"\",SNPs!B828,\"\")","v":""}]
[{"$f":"IF(SNPs!A829<>\"\",SNPs!A829,\"\")","v":""},{"$f":"IF(SNPs!B829<>\"\",MID(SNPs!B829,FIND(\"[\",SNPs!B829)+1,FIND(\"/\",SNPs!B829)-FIND(\"[\",SNPs!B829)-1),\"\")","v":""},{"$f":"IF(SNPs!B829<>\"\",MID(SNPs!B829,FIND(\"[\",SNPs!B829)+3,FIND(\"/\",SNPs!B829)-FIND(\"/\",SNPs!B829)+1),\"\")","v":""},{"$f":"IF(SNPs!B829<>\"\",SNPs!B829,\"\")","v":""}]
[{"$f":"IF(SNPs!A830<>\"\",SNPs!A830,\"\")","v":""},{"$f":"IF(SNPs!B830<>\"\",MID(SNPs!B830,FIND(\"[\",SNPs!B830)+1,FIND(\"/\",SNPs!B830)-FIND(\"[\",SNPs!B830)-1),\"\")","v":""},{"$f":"IF(SNPs!B830<>\"\",MID(SNPs!B830,FIND(\"[\",SNPs!B830)+3,FIND(\"/\",SNPs!B830)-FIND(\"/\",SNPs!B830)+1),\"\")","v":""},{"$f":"IF(SNPs!B830<>\"\",SNPs!B830,\"\")","v":""}]
[{"$f":"IF(SNPs!A831<>\"\",SNPs!A831,\"\")","v":""},{"$f":"IF(SNPs!B831<>\"\",MID(SNPs!B831,FIND(\"[\",SNPs!B831)+1,FIND(\"/\",SNPs!B831)-FIND(\"[\",SNPs!B831)-1),\"\")","v":""},{"$f":"IF(SNPs!B831<>\"\",MID(SNPs!B831,FIND(\"[\",SNPs!B831)+3,FIND(\"/\",SNPs!B831)-FIND(\"/\",SNPs!B831)+1),\"\")","v":""},{"$f":"IF(SNPs!B831<>\"\",SNPs!B831,\"\")","v":""}]
[{"$f":"IF(SNPs!A832<>\"\",SNPs!A832,\"\")","v":""},{"$f":"IF(SNPs!B832<>\"\",MID(SNPs!B832,FIND(\"[\",SNPs!B832)+1,FIND(\"/\",SNPs!B832)-FIND(\"[\",SNPs!B832)-1),\"\")","v":""},{"$f":"IF(SNPs!B832<>\"\",MID(SNPs!B832,FIND(\"[\",SNPs!B832)+3,FIND(\"/\",SNPs!B832)-FIND(\"/\",SNPs!B832)+1),\"\")","v":""},{"$f":"IF(SNPs!B832<>\"\",SNPs!B832,\"\")","v":""}]
[{"$f":"IF(SNPs!A833<>\"\",SNPs!A833,\"\")","v":""},{"$f":"IF(SNPs!B833<>\"\",MID(SNPs!B833,FIND(\"[\",SNPs!B833)+1,FIND(\"/\",SNPs!B833)-FIND(\"[\",SNPs!B833)-1),\"\")","v":""},{"$f":"IF(SNPs!B833<>\"\",MID(SNPs!B833,FIND(\"[\",SNPs!B833)+3,FIND(\"/\",SNPs!B833)-FIND(\"/\",SNPs!B833)+1),\"\")","v":""},{"$f":"IF(SNPs!B833<>\"\",SNPs!B833,\"\")","v":""}]
[{"$f":"IF(SNPs!A834<>\"\",SNPs!A834,\"\")","v":""},{"$f":"IF(SNPs!B834<>\"\",MID(SNPs!B834,FIND(\"[\",SNPs!B834)+1,FIND(\"/\",SNPs!B834)-FIND(\"[\",SNPs!B834)-1),\"\")","v":""},{"$f":"IF(SNPs!B834<>\"\",MID(SNPs!B834,FIND(\"[\",SNPs!B834)+3,FIND(\"/\",SNPs!B834)-FIND(\"/\",SNPs!B834)+1),\"\")","v":""},{"$f":"IF(SNPs!B834<>\"\",SNPs!B834,\"\")","v":""}]
[{"$f":"IF(SNPs!A835<>\"\",SNPs!A835,\"\")","v":""},{"$f":"IF(SNPs!B835<>\"\",MID(SNPs!B835,FIND(\"[\",SNPs!B835)+1,FIND(\"/\",SNPs!B835)-FIND(\"[\",SNPs!B835)-1),\"\")","v":""},{"$f":"IF(SNPs!B835<>\"\",MID(SNPs!B835,FIND(\"[\",SNPs!B835)+3,FIND(\"/\",SNPs!B835)-FIND(\"/\",SNPs!B835)+1),\"\")","v":""},{"$f":"IF(SNPs!B835<>\"\",SNPs!B835,\"\")","v":""}]
[{"$f":"IF(SNPs!A836<>\"\",SNPs!A836,\"\")","v":""},{"$f":"IF(SNPs!B836<>\"\",MID(SNPs!B836,FIND(\"[\",SNPs!B836)+1,FIND(\"/\",SNPs!B836)-FIND(\"[\",SNPs!B836)-1),\"\")","v":""},{"$f":"IF(SNPs!B836<>\"\",MID(SNPs!B836,FIND(\"[\",SNPs!B836)+3,FIND(\"/\",SNPs!B836)-FIND(\"/\",SNPs!B836)+1),\"\")","v":""},{"$f":"IF(SNPs!B836<>\"\",SNPs!B836,\"\")","v":""}]
[{"$f":"IF(SNPs!A837<>\"\",SNPs!A837,\"\")","v":""},{"$f":"IF(SNPs!B837<>\"\",MID(SNPs!B837,FIND(\"[\",SNPs!B837)+1,FIND(\"/\",SNPs!B837)-FIND(\"[\",SNPs!B837)-1),\"\")","v":""},{"$f":"IF(SNPs!B837<>\"\",MID(SNPs!B837,FIND(\"[\",SNPs!B837)+3,FIND(\"/\",SNPs!B837)-FIND(\"/\",SNPs!B837)+1),\"\")","v":""},{"$f":"IF(SNPs!B837<>\"\",SNPs!B837,\"\")","v":""}]
[{"$f":"IF(SNPs!A838<>\"\",SNPs!A838,\"\")","v":""},{"$f":"IF(SNPs!B838<>\"\",MID(SNPs!B838,FIND(\"[\",SNPs!B838)+1,FIND(\"/\",SNPs!B838)-FIND(\"[\",SNPs!B838)-1),\"\")","v":""},{"$f":"IF(SNPs!B838<>\"\",MID(SNPs!B838,FIND(\"[\",SNPs!B838)+3,FIND(\"/\",SNPs!B838)-FIND(\"/\",SNPs!B838)+1),\"\")","v":""},{"$f":"IF(SNPs!B838<>\"\",SNPs!B838,\"\")","v":""}]
[{"$f":"IF(SNPs!A839<>\"\",SNPs!A839,\"\")","v":""},{"$f":"IF(SNPs!B839<>\"\",MID(SNPs!B839,FIND(\"[\",SNPs!B839)+1,FIND(\"/\",SNPs!B839)-FIND(\"[\",SNPs!B839)-1),\"\")","v":""},{"$f":"IF(SNPs!B839<>\"\",MID(SNPs!B839,FIND(\"[\",SNPs!B839)+3,FIND(\"/\",SNPs!B839)-FIND(\"/\",SNPs!B839)+1),\"\")","v":""},{"$f":"IF(SNPs!B839<>\"\",SNPs!B839,\"\")","v":""}]
[{"$f":"IF(SNPs!A840<>\"\",SNPs!A840,\"\")","v":""},{"$f":"IF(SNPs!B840<>\"\",MID(SNPs!B840,FIND(\"[\",SNPs!B840)+1,FIND(\"/\",SNPs!B840)-FIND(\"[\",SNPs!B840)-1),\"\")","v":""},{"$f":"IF(SNPs!B840<>\"\",MID(SNPs!B840,FIND(\"[\",SNPs!B840)+3,FIND(\"/\",SNPs!B840)-FIND(\"/\",SNPs!B840)+1),\"\")","v":""},{"$f":"IF(SNPs!B840<>\"\",SNPs!B840,\"\")","v":""}]
[{"$f":"IF(SNPs!A841<>\"\",SNPs!A841,\"\")","v":""},{"$f":"IF(SNPs!B841<>\"\",MID(SNPs!B841,FIND(\"[\",SNPs!B841)+1,FIND(\"/\",SNPs!B841)-FIND(\"[\",SNPs!B841)-1),\"\")","v":""},{"$f":"IF(SNPs!B841<>\"\",MID(SNPs!B841,FIND(\"[\",SNPs!B841)+3,FIND(\"/\",SNPs!B841)-FIND(\"/\",SNPs!B841)+1),\"\")","v":""},{"$f":"IF(SNPs!B841<>\"\",SNPs!B841,\"\")","v":""}]
[{"$f":"IF(SNPs!A842<>\"\",SNPs!A842,\"\")","v":""},{"$f":"IF(SNPs!B842<>\"\",MID(SNPs!B842,FIND(\"[\",SNPs!B842)+1,FIND(\"/\",SNPs!B842)-FIND(\"[\",SNPs!B842)-1),\"\")","v":""},{"$f":"IF(SNPs!B842<>\"\",MID(SNPs!B842,FIND(\"[\",SNPs!B842)+3,FIND(\"/\",SNPs!B842)-FIND(\"/\",SNPs!B842)+1),\"\")","v":""},{"$f":"IF(SNPs!B842<>\"\",SNPs!B842,\"\")","v":""}]
[{"$f":"IF(SNPs!A843<>\"\",SNPs!A843,\"\")","v":""},{"$f":"IF(SNPs!B843<>\"\",MID(SNPs!B843,FIND(\"[\",SNPs!B843)+1,FIND(\"/\",SNPs!B843)-FIND(\"[\",SNPs!B843)-1),\"\")","v":""},{"$f":"IF(SNPs!B843<>\"\",MID(SNPs!B843,FIND(\"[\",SNPs!B843)+3,FIND(\"/\",SNPs!B843)-FIND(\"/\",SNPs!B843)+1),\"\")","v":""},{"$f":"IF(SNPs!B843<>\"\",SNPs!B843,\"\")","v":""}]
[{"$f":"IF(SNPs!A844<>\"\",SNPs!A844,\"\")","v":""},{"$f":"IF(SNPs!B844<>\"\",MID(SNPs!B844,FIND(\"[\",SNPs!B844)+1,FIND(\"/\",SNPs!B844)-FIND(\"[\",SNPs!B844)-1),\"\")","v":""},{"$f":"IF(SNPs!B844<>\"\",MID(SNPs!B844,FIND(\"[\",SNPs!B844)+3,FIND(\"/\",SNPs!B844)-FIND(\"/\",SNPs!B844)+1),\"\")","v":""},{"$f":"IF(SNPs!B844<>\"\",SNPs!B844,\"\")","v":""}]
[{"$f":"IF(SNPs!A845<>\"\",SNPs!A845,\"\")","v":""},{"$f":"IF(SNPs!B845<>\"\",MID(SNPs!B845,FIND(\"[\",SNPs!B845)+1,FIND(\"/\",SNPs!B845)-FIND(\"[\",SNPs!B845)-1),\"\")","v":""},{"$f":"IF(SNPs!B845<>\"\",MID(SNPs!B845,FIND(\"[\",SNPs!B845)+3,FIND(\"/\",SNPs!B845)-FIND(\"/\",SNPs!B845)+1),\"\")","v":""},{"$f":"IF(SNPs!B845<>\"\",SNPs!B845,\"\")","v":""}]
[{"$f":"IF(SNPs!A846<>\"\",SNPs!A846,\"\")","v":""},{"$f":"IF(SNPs!B846<>\"\",MID(SNPs!B846,FIND(\"[\",SNPs!B846)+1,FIND(\"/\",SNPs!B846)-FIND(\"[\",SNPs!B846)-1),\"\")","v":""},{"$f":"IF(SNPs!B846<>\"\",MID(SNPs!B846,FIND(\"[\",SNPs!B846)+3,FIND(\"/\",SNPs!B846)-FIND(\"/\",SNPs!B846)+1),\"\")","v":""},{"$f":"IF(SNPs!B846<>\"\",SNPs!B846,\"\")","v":""}]
[{"$f":"IF(SNPs!A847<>\"\",SNPs!A847,\"\")","v":""},{"$f":"IF(SNPs!B847<>\"\",MID(SNPs!B847,FIND(\"[\",SNPs!B847)+1,FIND(\"/\",SNPs!B847)-FIND(\"[\",SNPs!B847)-1),\"\")","v":""},{"$f":"IF(SNPs!B847<>\"\",MID(SNPs!B847,FIND(\"[\",SNPs!B847)+3,FIND(\"/\",SNPs!B847)-FIND(\"/\",SNPs!B847)+1),\"\")","v":""},{"$f":"IF(SNPs!B847<>\"\",SNPs!B847,\"\")","v":""}]
[{"$f":"IF(SNPs!A848<>\"\",SNPs!A848,\"\")","v":""},{"$f":"IF(SNPs!B848<>\"\",MID(SNPs!B848,FIND(\"[\",SNPs!B848)+1,FIND(\"/\",SNPs!B848)-FIND(\"[\",SNPs!B848)-1),\"\")","v":""},{"$f":"IF(SNPs!B848<>\"\",MID(SNPs!B848,FIND(\"[\",SNPs!B848)+3,FIND(\"/\",SNPs!B848)-FIND(\"/\",SNPs!B848)+1),\"\")","v":""},{"$f":"IF(SNPs!B848<>\"\",SNPs!B848,\"\")","v":""}]
[{"$f":"IF(SNPs!A849<>\"\",SNPs!A849,\"\")","v":""},{"$f":"IF(SNPs!B849<>\"\",MID(SNPs!B849,FIND(\"[\",SNPs!B849)+1,FIND(\"/\",SNPs!B849)-FIND(\"[\",SNPs!B849)-1),\"\")","v":""},{"$f":"IF(SNPs!B849<>\"\",MID(SNPs!B849,FIND(\"[\",SNPs!B849)+3,FIND(\"/\",SNPs!B849)-FIND(\"/\",SNPs!B849)+1),\"\")","v":""},{"$f":"IF(SNPs!B849<>\"\",SNPs!B849,\"\")","v":""}]
[{"$f":"IF(SNPs!A850<>\"\",SNPs!A850,\"\")","v":""},{"$f":"IF(SNPs!B850<>\"\",MID(SNPs!B850,FIND(\"[\",SNPs!B850)+1,FIND(\"/\",SNPs!B850)-FIND(\"[\",SNPs!B850)-1),\"\")","v":""},{"$f":"IF(SNPs!B850<>\"\",MID(SNPs!B850,FIND(\"[\",SNPs!B850)+3,FIND(\"/\",SNPs!B850)-FIND(\"/\",SNPs!B850)+1),\"\")","v":""},{"$f":"IF(SNPs!B850<>\"\",SNPs!B850,\"\")","v":""}]
[{"$f":"IF(SNPs!A851<>\"\",SNPs!A851,\"\")","v":""},{"$f":"IF(SNPs!B851<>\"\",MID(SNPs!B851,FIND(\"[\",SNPs!B851)+1,FIND(\"/\",SNPs!B851)-FIND(\"[\",SNPs!B851)-1),\"\")","v":""},{"$f":"IF(SNPs!B851<>\"\",MID(SNPs!B851,FIND(\"[\",SNPs!B851)+3,FIND(\"/\",SNPs!B851)-FIND(\"/\",SNPs!B851)+1),\"\")","v":""},{"$f":"IF(SNPs!B851<>\"\",SNPs!B851,\"\")","v":""}]
[{"$f":"IF(SNPs!A852<>\"\",SNPs!A852,\"\")","v":""},{"$f":"IF(SNPs!B852<>\"\",MID(SNPs!B852,FIND(\"[\",SNPs!B852)+1,FIND(\"/\",SNPs!B852)-FIND(\"[\",SNPs!B852)-1),\"\")","v":""},{"$f":"IF(SNPs!B852<>\"\",MID(SNPs!B852,FIND(\"[\",SNPs!B852)+3,FIND(\"/\",SNPs!B852)-FIND(\"/\",SNPs!B852)+1),\"\")","v":""},{"$f":"IF(SNPs!B852<>\"\",SNPs!B852,\"\")","v":""}]
[{"$f":"IF(SNPs!A853<>\"\",SNPs!A853,\"\")","v":""},{"$f":"IF(SNPs!B853<>\"\",MID(SNPs!B853,FIND(\"[\",SNPs!B853)+1,FIND(\"/\",SNPs!B853)-FIND(\"[\",SNPs!B853)-1),\"\")","v":""},{"$f":"IF(SNPs!B853<>\"\",MID(SNPs!B853,FIND(\"[\",SNPs!B853)+3,FIND(\"/\",SNPs!B853)-FIND(\"/\",SNPs!B853)+1),\"\")","v":""},{"$f":"IF(SNPs!B853<>\"\",SNPs!B853,\"\")","v":""}]
[{"$f":"IF(SNPs!A854<>\"\",SNPs!A854,\"\")","v":""},{"$f":"IF(SNPs!B854<>\"\",MID(SNPs!B854,FIND(\"[\",SNPs!B854)+1,FIND(\"/\",SNPs!B854)-FIND(\"[\",SNPs!B854)-1),\"\")","v":""},{"$f":"IF(SNPs!B854<>\"\",MID(SNPs!B854,FIND(\"[\",SNPs!B854)+3,FIND(\"/\",SNPs!B854)-FIND(\"/\",SNPs!B854)+1),\"\")","v":""},{"$f":"IF(SNPs!B854<>\"\",SNPs!B854,\"\")","v":""}]
[{"$f":"IF(SNPs!A855<>\"\",SNPs!A855,\"\")","v":""},{"$f":"IF(SNPs!B855<>\"\",MID(SNPs!B855,FIND(\"[\",SNPs!B855)+1,FIND(\"/\",SNPs!B855)-FIND(\"[\",SNPs!B855)-1),\"\")","v":""},{"$f":"IF(SNPs!B855<>\"\",MID(SNPs!B855,FIND(\"[\",SNPs!B855)+3,FIND(\"/\",SNPs!B855)-FIND(\"/\",SNPs!B855)+1),\"\")","v":""},{"$f":"IF(SNPs!B855<>\"\",SNPs!B855,\"\")","v":""}]
[{"$f":"IF(SNPs!A856<>\"\",SNPs!A856,\"\")","v":""},{"$f":"IF(SNPs!B856<>\"\",MID(SNPs!B856,FIND(\"[\",SNPs!B856)+1,FIND(\"/\",SNPs!B856)-FIND(\"[\",SNPs!B856)-1),\"\")","v":""},{"$f":"IF(SNPs!B856<>\"\",MID(SNPs!B856,FIND(\"[\",SNPs!B856)+3,FIND(\"/\",SNPs!B856)-FIND(\"/\",SNPs!B856)+1),\"\")","v":""},{"$f":"IF(SNPs!B856<>\"\",SNPs!B856,\"\")","v":""}]
[{"$f":"IF(SNPs!A857<>\"\",SNPs!A857,\"\")","v":""},{"$f":"IF(SNPs!B857<>\"\",MID(SNPs!B857,FIND(\"[\",SNPs!B857)+1,FIND(\"/\",SNPs!B857)-FIND(\"[\",SNPs!B857)-1),\"\")","v":""},{"$f":"IF(SNPs!B857<>\"\",MID(SNPs!B857,FIND(\"[\",SNPs!B857)+3,FIND(\"/\",SNPs!B857)-FIND(\"/\",SNPs!B857)+1),\"\")","v":""},{"$f":"IF(SNPs!B857<>\"\",SNPs!B857,\"\")","v":""}]
[{"$f":"IF(SNPs!A858<>\"\",SNPs!A858,\"\")","v":""},{"$f":"IF(SNPs!B858<>\"\",MID(SNPs!B858,FIND(\"[\",SNPs!B858)+1,FIND(\"/\",SNPs!B858)-FIND(\"[\",SNPs!B858)-1),\"\")","v":""},{"$f":"IF(SNPs!B858<>\"\",MID(SNPs!B858,FIND(\"[\",SNPs!B858)+3,FIND(\"/\",SNPs!B858)-FIND(\"/\",SNPs!B858)+1),\"\")","v":""},{"$f":"IF(SNPs!B858<>\"\",SNPs!B858,\"\")","v":""}]
[{"$f":"IF(SNPs!A859<>\"\",SNPs!A859,\"\")","v":""},{"$f":"IF(SNPs!B859<>\"\",MID(SNPs!B859,FIND(\"[\",SNPs!B859)+1,FIND(\"/\",SNPs!B859)-FIND(\"[\",SNPs!B859)-1),\"\")","v":""},{"$f":"IF(SNPs!B859<>\"\",MID(SNPs!B859,FIND(\"[\",SNPs!B859)+3,FIND(\"/\",SNPs!B859)-FIND(\"/\",SNPs!B859)+1),\"\")","v":""},{"$f":"IF(SNPs!B859<>\"\",SNPs!B859,\"\")","v":""}]
[{"$f":"IF(SNPs!A860<>\"\",SNPs!A860,\"\")","v":""},{"$f":"IF(SNPs!B860<>\"\",MID(SNPs!B860,FIND(\"[\",SNPs!B860)+1,FIND(\"/\",SNPs!B860)-FIND(\"[\",SNPs!B860)-1),\"\")","v":""},{"$f":"IF(SNPs!B860<>\"\",MID(SNPs!B860,FIND(\"[\",SNPs!B860)+3,FIND(\"/\",SNPs!B860)-FIND(\"/\",SNPs!B860)+1),\"\")","v":""},{"$f":"IF(SNPs!B860<>\"\",SNPs!B860,\"\")","v":""}]
[{"$f":"IF(SNPs!A861<>\"\",SNPs!A861,\"\")","v":""},{"$f":"IF(SNPs!B861<>\"\",MID(SNPs!B861,FIND(\"[\",SNPs!B861)+1,FIND(\"/\",SNPs!B861)-FIND(\"[\",SNPs!B861)-1),\"\")","v":""},{"$f":"IF(SNPs!B861<>\"\",MID(SNPs!B861,FIND(\"[\",SNPs!B861)+3,FIND(\"/\",SNPs!B861)-FIND(\"/\",SNPs!B861)+1),\"\")","v":""},{"$f":"IF(SNPs!B861<>\"\",SNPs!B861,\"\")","v":""}]
[{"$f":"IF(SNPs!A862<>\"\",SNPs!A862,\"\")","v":""},{"$f":"IF(SNPs!B862<>\"\",MID(SNPs!B862,FIND(\"[\",SNPs!B862)+1,FIND(\"/\",SNPs!B862)-FIND(\"[\",SNPs!B862)-1),\"\")","v":""},{"$f":"IF(SNPs!B862<>\"\",MID(SNPs!B862,FIND(\"[\",SNPs!B862)+3,FIND(\"/\",SNPs!B862)-FIND(\"/\",SNPs!B862)+1),\"\")","v":""},{"$f":"IF(SNPs!B862<>\"\",SNPs!B862,\"\")","v":""}]
[{"$f":"IF(SNPs!A863<>\"\",SNPs!A863,\"\")","v":""},{"$f":"IF(SNPs!B863<>\"\",MID(SNPs!B863,FIND(\"[\",SNPs!B863)+1,FIND(\"/\",SNPs!B863)-FIND(\"[\",SNPs!B863)-1),\"\")","v":""},{"$f":"IF(SNPs!B863<>\"\",MID(SNPs!B863,FIND(\"[\",SNPs!B863)+3,FIND(\"/\",SNPs!B863)-FIND(\"/\",SNPs!B863)+1),\"\")","v":""},{"$f":"IF(SNPs!B863<>\"\",SNPs!B863,\"\")","v":""}]
[{"$f":"IF(SNPs!A864<>\"\",SNPs!A864,\"\")","v":""},{"$f":"IF(SNPs!B864<>\"\",MID(SNPs!B864,FIND(\"[\",SNPs!B864)+1,FIND(\"/\",SNPs!B864)-FIND(\"[\",SNPs!B864)-1),\"\")","v":""},{"$f":"IF(SNPs!B864<>\"\",MID(SNPs!B864,FIND(\"[\",SNPs!B864)+3,FIND(\"/\",SNPs!B864)-FIND(\"/\",SNPs!B864)+1),\"\")","v":""},{"$f":"IF(SNPs!B864<>\"\",SNPs!B864,\"\")","v":""}]
[{"$f":"IF(SNPs!A865<>\"\",SNPs!A865,\"\")","v":""},{"$f":"IF(SNPs!B865<>\"\",MID(SNPs!B865,FIND(\"[\",SNPs!B865)+1,FIND(\"/\",SNPs!B865)-FIND(\"[\",SNPs!B865)-1),\"\")","v":""},{"$f":"IF(SNPs!B865<>\"\",MID(SNPs!B865,FIND(\"[\",SNPs!B865)+3,FIND(\"/\",SNPs!B865)-FIND(\"/\",SNPs!B865)+1),\"\")","v":""},{"$f":"IF(SNPs!B865<>\"\",SNPs!B865,\"\")","v":""}]
[{"$f":"IF(SNPs!A866<>\"\",SNPs!A866,\"\")","v":""},{"$f":"IF(SNPs!B866<>\"\",MID(SNPs!B866,FIND(\"[\",SNPs!B866)+1,FIND(\"/\",SNPs!B866)-FIND(\"[\",SNPs!B866)-1),\"\")","v":""},{"$f":"IF(SNPs!B866<>\"\",MID(SNPs!B866,FIND(\"[\",SNPs!B866)+3,FIND(\"/\",SNPs!B866)-FIND(\"/\",SNPs!B866)+1),\"\")","v":""},{"$f":"IF(SNPs!B866<>\"\",SNPs!B866,\"\")","v":""}]
[{"$f":"IF(SNPs!A867<>\"\",SNPs!A867,\"\")","v":""},{"$f":"IF(SNPs!B867<>\"\",MID(SNPs!B867,FIND(\"[\",SNPs!B867)+1,FIND(\"/\",SNPs!B867)-FIND(\"[\",SNPs!B867)-1),\"\")","v":""},{"$f":"IF(SNPs!B867<>\"\",MID(SNPs!B867,FIND(\"[\",SNPs!B867)+3,FIND(\"/\",SNPs!B867)-FIND(\"/\",SNPs!B867)+1),\"\")","v":""},{"$f":"IF(SNPs!B867<>\"\",SNPs!B867,\"\")","v":""}]
[{"$f":"IF(SNPs!A868<>\"\",SNPs!A868,\"\")","v":""},{"$f":"IF(SNPs!B868<>\"\",MID(SNPs!B868,FIND(\"[\",SNPs!B868)+1,FIND(\"/\",SNPs!B868)-FIND(\"[\",SNPs!B868)-1),\"\")","v":""},{"$f":"IF(SNPs!B868<>\"\",MID(SNPs!B868,FIND(\"[\",SNPs!B868)+3,FIND(\"/\",SNPs!B868)-FIND(\"/\",SNPs!B868)+1),\"\")","v":""},{"$f":"IF(SNPs!B868<>\"\",SNPs!B868,\"\")","v":""}]
[{"$f":"IF(SNPs!A869<>\"\",SNPs!A869,\"\")","v":""},{"$f":"IF(SNPs!B869<>\"\",MID(SNPs!B869,FIND(\"[\",SNPs!B869)+1,FIND(\"/\",SNPs!B869)-FIND(\"[\",SNPs!B869)-1),\"\")","v":""},{"$f":"IF(SNPs!B869<>\"\",MID(SNPs!B869,FIND(\"[\",SNPs!B869)+3,FIND(\"/\",SNPs!B869)-FIND(\"/\",SNPs!B869)+1),\"\")","v":""},{"$f":"IF(SNPs!B869<>\"\",SNPs!B869,\"\")","v":""}]
[{"$f":"IF(SNPs!A870<>\"\",SNPs!A870,\"\")","v":""},{"$f":"IF(SNPs!B870<>\"\",MID(SNPs!B870,FIND(\"[\",SNPs!B870)+1,FIND(\"/\",SNPs!B870)-FIND(\"[\",SNPs!B870)-1),\"\")","v":""},{"$f":"IF(SNPs!B870<>\"\",MID(SNPs!B870,FIND(\"[\",SNPs!B870)+3,FIND(\"/\",SNPs!B870)-FIND(\"/\",SNPs!B870)+1),\"\")","v":""},{"$f":"IF(SNPs!B870<>\"\",SNPs!B870,\"\")","v":""}]
[{"$f":"IF(SNPs!A871<>\"\",SNPs!A871,\"\")","v":""},{"$f":"IF(SNPs!B871<>\"\",MID(SNPs!B871,FIND(\"[\",SNPs!B871)+1,FIND(\"/\",SNPs!B871)-FIND(\"[\",SNPs!B871)-1),\"\")","v":""},{"$f":"IF(SNPs!B871<>\"\",MID(SNPs!B871,FIND(\"[\",SNPs!B871)+3,FIND(\"/\",SNPs!B871)-FIND(\"/\",SNPs!B871)+1),\"\")","v":""},{"$f":"IF(SNPs!B871<>\"\",SNPs!B871,\"\")","v":""}]
[{"$f":"IF(SNPs!A872<>\"\",SNPs!A872,\"\")","v":""},{"$f":"IF(SNPs!B872<>\"\",MID(SNPs!B872,FIND(\"[\",SNPs!B872)+1,FIND(\"/\",SNPs!B872)-FIND(\"[\",SNPs!B872)-1),\"\")","v":""},{"$f":"IF(SNPs!B872<>\"\",MID(SNPs!B872,FIND(\"[\",SNPs!B872)+3,FIND(\"/\",SNPs!B872)-FIND(\"/\",SNPs!B872)+1),\"\")","v":""},{"$f":"IF(SNPs!B872<>\"\",SNPs!B872,\"\")","v":""}]
[{"$f":"IF(SNPs!A873<>\"\",SNPs!A873,\"\")","v":""},{"$f":"IF(SNPs!B873<>\"\",MID(SNPs!B873,FIND(\"[\",SNPs!B873)+1,FIND(\"/\",SNPs!B873)-FIND(\"[\",SNPs!B873)-1),\"\")","v":""},{"$f":"IF(SNPs!B873<>\"\",MID(SNPs!B873,FIND(\"[\",SNPs!B873)+3,FIND(\"/\",SNPs!B873)-FIND(\"/\",SNPs!B873)+1),\"\")","v":""},{"$f":"IF(SNPs!B873<>\"\",SNPs!B873,\"\")","v":""}]
[{"$f":"IF(SNPs!A874<>\"\",SNPs!A874,\"\")","v":""},{"$f":"IF(SNPs!B874<>\"\",MID(SNPs!B874,FIND(\"[\",SNPs!B874)+1,FIND(\"/\",SNPs!B874)-FIND(\"[\",SNPs!B874)-1),\"\")","v":""},{"$f":"IF(SNPs!B874<>\"\",MID(SNPs!B874,FIND(\"[\",SNPs!B874)+3,FIND(\"/\",SNPs!B874)-FIND(\"/\",SNPs!B874)+1),\"\")","v":""},{"$f":"IF(SNPs!B874<>\"\",SNPs!B874,\"\")","v":""}]
[{"$f":"IF(SNPs!A875<>\"\",SNPs!A875,\"\")","v":""},{"$f":"IF(SNPs!B875<>\"\",MID(SNPs!B875,FIND(\"[\",SNPs!B875)+1,FIND(\"/\",SNPs!B875)-FIND(\"[\",SNPs!B875)-1),\"\")","v":""},{"$f":"IF(SNPs!B875<>\"\",MID(SNPs!B875,FIND(\"[\",SNPs!B875)+3,FIND(\"/\",SNPs!B875)-FIND(\"/\",SNPs!B875)+1),\"\")","v":""},{"$f":"IF(SNPs!B875<>\"\",SNPs!B875,\"\")","v":""}]
[{"$f":"IF(SNPs!A876<>\"\",SNPs!A876,\"\")","v":""},{"$f":"IF(SNPs!B876<>\"\",MID(SNPs!B876,FIND(\"[\",SNPs!B876)+1,FIND(\"/\",SNPs!B876)-FIND(\"[\",SNPs!B876)-1),\"\")","v":""},{"$f":"IF(SNPs!B876<>\"\",MID(SNPs!B876,FIND(\"[\",SNPs!B876)+3,FIND(\"/\",SNPs!B876)-FIND(\"/\",SNPs!B876)+1),\"\")","v":""},{"$f":"IF(SNPs!B876<>\"\",SNPs!B876,\"\")","v":""}]
[{"$f":"IF(SNPs!A877<>\"\",SNPs!A877,\"\")","v":""},{"$f":"IF(SNPs!B877<>\"\",MID(SNPs!B877,FIND(\"[\",SNPs!B877)+1,FIND(\"/\",SNPs!B877)-FIND(\"[\",SNPs!B877)-1),\"\")","v":""},{"$f":"IF(SNPs!B877<>\"\",MID(SNPs!B877,FIND(\"[\",SNPs!B877)+3,FIND(\"/\",SNPs!B877)-FIND(\"/\",SNPs!B877)+1),\"\")","v":""},{"$f":"IF(SNPs!B877<>\"\",SNPs!B877,\"\")","v":""}]
[{"$f":"IF(SNPs!A878<>\"\",SNPs!A878,\"\")","v":""},{"$f":"IF(SNPs!B878<>\"\",MID(SNPs!B878,FIND(\"[\",SNPs!B878)+1,FIND(\"/\",SNPs!B878)-FIND(\"[\",SNPs!B878)-1),\"\")","v":""},{"$f":"IF(SNPs!B878<>\"\",MID(SNPs!B878,FIND(\"[\",SNPs!B878)+3,FIND(\"/\",SNPs!B878)-FIND(\"/\",SNPs!B878)+1),\"\")","v":""},{"$f":"IF(SNPs!B878<>\"\",SNPs!B878,\"\")","v":""}]
[{"$f":"IF(SNPs!A879<>\"\",SNPs!A879,\"\")","v":""},{"$f":"IF(SNPs!B879<>\"\",MID(SNPs!B879,FIND(\"[\",SNPs!B879)+1,FIND(\"/\",SNPs!B879)-FIND(\"[\",SNPs!B879)-1),\"\")","v":""},{"$f":"IF(SNPs!B879<>\"\",MID(SNPs!B879,FIND(\"[\",SNPs!B879)+3,FIND(\"/\",SNPs!B879)-FIND(\"/\",SNPs!B879)+1),\"\")","v":""},{"$f":"IF(SNPs!B879<>\"\",SNPs!B879,\"\")","v":""}]
[{"$f":"IF(SNPs!A880<>\"\",SNPs!A880,\"\")","v":""},{"$f":"IF(SNPs!B880<>\"\",MID(SNPs!B880,FIND(\"[\",SNPs!B880)+1,FIND(\"/\",SNPs!B880)-FIND(\"[\",SNPs!B880)-1),\"\")","v":""},{"$f":"IF(SNPs!B880<>\"\",MID(SNPs!B880,FIND(\"[\",SNPs!B880)+3,FIND(\"/\",SNPs!B880)-FIND(\"/\",SNPs!B880)+1),\"\")","v":""},{"$f":"IF(SNPs!B880<>\"\",SNPs!B880,\"\")","v":""}]
[{"$f":"IF(SNPs!A881<>\"\",SNPs!A881,\"\")","v":""},{"$f":"IF(SNPs!B881<>\"\",MID(SNPs!B881,FIND(\"[\",SNPs!B881)+1,FIND(\"/\",SNPs!B881)-FIND(\"[\",SNPs!B881)-1),\"\")","v":""},{"$f":"IF(SNPs!B881<>\"\",MID(SNPs!B881,FIND(\"[\",SNPs!B881)+3,FIND(\"/\",SNPs!B881)-FIND(\"/\",SNPs!B881)+1),\"\")","v":""},{"$f":"IF(SNPs!B881<>\"\",SNPs!B881,\"\")","v":""}]
[{"$f":"IF(SNPs!A882<>\"\",SNPs!A882,\"\")","v":""},{"$f":"IF(SNPs!B882<>\"\",MID(SNPs!B882,FIND(\"[\",SNPs!B882)+1,FIND(\"/\",SNPs!B882)-FIND(\"[\",SNPs!B882)-1),\"\")","v":""},{"$f":"IF(SNPs!B882<>\"\",MID(SNPs!B882,FIND(\"[\",SNPs!B882)+3,FIND(\"/\",SNPs!B882)-FIND(\"/\",SNPs!B882)+1),\"\")","v":""},{"$f":"IF(SNPs!B882<>\"\",SNPs!B882,\"\")","v":""}]
[{"$f":"IF(SNPs!A883<>\"\",SNPs!A883,\"\")","v":""},{"$f":"IF(SNPs!B883<>\"\",MID(SNPs!B883,FIND(\"[\",SNPs!B883)+1,FIND(\"/\",SNPs!B883)-FIND(\"[\",SNPs!B883)-1),\"\")","v":""},{"$f":"IF(SNPs!B883<>\"\",MID(SNPs!B883,FIND(\"[\",SNPs!B883)+3,FIND(\"/\",SNPs!B883)-FIND(\"/\",SNPs!B883)+1),\"\")","v":""},{"$f":"IF(SNPs!B883<>\"\",SNPs!B883,\"\")","v":""}]
[{"$f":"IF(SNPs!A884<>\"\",SNPs!A884,\"\")","v":""},{"$f":"IF(SNPs!B884<>\"\",MID(SNPs!B884,FIND(\"[\",SNPs!B884)+1,FIND(\"/\",SNPs!B884)-FIND(\"[\",SNPs!B884)-1),\"\")","v":""},{"$f":"IF(SNPs!B884<>\"\",MID(SNPs!B884,FIND(\"[\",SNPs!B884)+3,FIND(\"/\",SNPs!B884)-FIND(\"/\",SNPs!B884)+1),\"\")","v":""},{"$f":"IF(SNPs!B884<>\"\",SNPs!B884,\"\")","v":""}]
[{"$f":"IF(SNPs!A885<>\"\",SNPs!A885,\"\")","v":""},{"$f":"IF(SNPs!B885<>\"\",MID(SNPs!B885,FIND(\"[\",SNPs!B885)+1,FIND(\"/\",SNPs!B885)-FIND(\"[\",SNPs!B885)-1),\"\")","v":""},{"$f":"IF(SNPs!B885<>\"\",MID(SNPs!B885,FIND(\"[\",SNPs!B885)+3,FIND(\"/\",SNPs!B885)-FIND(\"/\",SNPs!B885)+1),\"\")","v":""},{"$f":"IF(SNPs!B885<>\"\",SNPs!B885,\"\")","v":""}]
[{"$f":"IF(SNPs!A886<>\"\",SNPs!A886,\"\")","v":""},{"$f":"IF(SNPs!B886<>\"\",MID(SNPs!B886,FIND(\"[\",SNPs!B886)+1,FIND(\"/\",SNPs!B886)-FIND(\"[\",SNPs!B886)-1),\"\")","v":""},{"$f":"IF(SNPs!B886<>\"\",MID(SNPs!B886,FIND(\"[\",SNPs!B886)+3,FIND(\"/\",SNPs!B886)-FIND(\"/\",SNPs!B886)+1),\"\")","v":""},{"$f":"IF(SNPs!B886<>\"\",SNPs!B886,\"\")","v":""}]
[{"$f":"IF(SNPs!A887<>\"\",SNPs!A887,\"\")","v":""},{"$f":"IF(SNPs!B887<>\"\",MID(SNPs!B887,FIND(\"[\",SNPs!B887)+1,FIND(\"/\",SNPs!B887)-FIND(\"[\",SNPs!B887)-1),\"\")","v":""},{"$f":"IF(SNPs!B887<>\"\",MID(SNPs!B887,FIND(\"[\",SNPs!B887)+3,FIND(\"/\",SNPs!B887)-FIND(\"/\",SNPs!B887)+1),\"\")","v":""},{"$f":"IF(SNPs!B887<>\"\",SNPs!B887,\"\")","v":""}]
[{"$f":"IF(SNPs!A888<>\"\",SNPs!A888,\"\")","v":""},{"$f":"IF(SNPs!B888<>\"\",MID(SNPs!B888,FIND(\"[\",SNPs!B888)+1,FIND(\"/\",SNPs!B888)-FIND(\"[\",SNPs!B888)-1),\"\")","v":""},{"$f":"IF(SNPs!B888<>\"\",MID(SNPs!B888,FIND(\"[\",SNPs!B888)+3,FIND(\"/\",SNPs!B888)-FIND(\"/\",SNPs!B888)+1),\"\")","v":""},{"$f":"IF(SNPs!B888<>\"\",SNPs!B888,\"\")","v":""}]
[{"$f":"IF(SNPs!A889<>\"\",SNPs!A889,\"\")","v":""},{"$f":"IF(SNPs!B889<>\"\",MID(SNPs!B889,FIND(\"[\",SNPs!B889)+1,FIND(\"/\",SNPs!B889)-FIND(\"[\",SNPs!B889)-1),\"\")","v":""},{"$f":"IF(SNPs!B889<>\"\",MID(SNPs!B889,FIND(\"[\",SNPs!B889)+3,FIND(\"/\",SNPs!B889)-FIND(\"/\",SNPs!B889)+1),\"\")","v":""},{"$f":"IF(SNPs!B889<>\"\",SNPs!B889,\"\")","v":""}]
[{"$f":"IF(SNPs!A890<>\"\",SNPs!A890,\"\")","v":""},{"$f":"IF(SNPs!B890<>\"\",MID(SNPs!B890,FIND(\"[\",SNPs!B890)+1,FIND(\"/\",SNPs!B890)-FIND(\"[\",SNPs!B890)-1),\"\")","v":""},{"$f":"IF(SNPs!B890<>\"\",MID(SNPs!B890,FIND(\"[\",SNPs!B890)+3,FIND(\"/\",SNPs!B890)-FIND(\"/\",SNPs!B890)+1),\"\")","v":""},{"$f":"IF(SNPs!B890<>\"\",SNPs!B890,\"\")","v":""}]
[{"$f":"IF(SNPs!A891<>\"\",SNPs!A891,\"\")","v":""},{"$f":"IF(SNPs!B891<>\"\",MID(SNPs!B891,FIND(\"[\",SNPs!B891)+1,FIND(\"/\",SNPs!B891)-FIND(\"[\",SNPs!B891)-1),\"\")","v":""},{"$f":"IF(SNPs!B891<>\"\",MID(SNPs!B891,FIND(\"[\",SNPs!B891)+3,FIND(\"/\",SNPs!B891)-FIND(\"/\",SNPs!B891)+1),\"\")","v":""},{"$f":"IF(SNPs!B891<>\"\",SNPs!B891,\"\")","v":""}]
[{"$f":"IF(SNPs!A892<>\"\",SNPs!A892,\"\")","v":""},{"$f":"IF(SNPs!B892<>\"\",MID(SNPs!B892,FIND(\"[\",SNPs!B892)+1,FIND(\"/\",SNPs!B892)-FIND(\"[\",SNPs!B892)-1),\"\")","v":""},{"$f":"IF(SNPs!B892<>\"\",MID(SNPs!B892,FIND(\"[\",SNPs!B892)+3,FIND(\"/\",SNPs!B892)-FIND(\"/\",SNPs!B892)+1),\"\")","v":""},{"$f":"IF(SNPs!B892<>\"\",SNPs!B892,\"\")","v":""}]
[{"$f":"IF(SNPs!A893<>\"\",SNPs!A893,\"\")","v":""},{"$f":"IF(SNPs!B893<>\"\",MID(SNPs!B893,FIND(\"[\",SNPs!B893)+1,FIND(\"/\",SNPs!B893)-FIND(\"[\",SNPs!B893)-1),\"\")","v":""},{"$f":"IF(SNPs!B893<>\"\",MID(SNPs!B893,FIND(\"[\",SNPs!B893)+3,FIND(\"/\",SNPs!B893)-FIND(\"/\",SNPs!B893)+1),\"\")","v":""},{"$f":"IF(SNPs!B893<>\"\",SNPs!B893,\"\")","v":""}]
[{"$f":"IF(SNPs!A894<>\"\",SNPs!A894,\"\")","v":""},{"$f":"IF(SNPs!B894<>\"\",MID(SNPs!B894,FIND(\"[\",SNPs!B894)+1,FIND(\"/\",SNPs!B894)-FIND(\"[\",SNPs!B894)-1),\"\")","v":""},{"$f":"IF(SNPs!B894<>\"\",MID(SNPs!B894,FIND(\"[\",SNPs!B894)+3,FIND(\"/\",SNPs!B894)-FIND(\"/\",SNPs!B894)+1),\"\")","v":""},{"$f":"IF(SNPs!B894<>\"\",SNPs!B894,\"\")","v":""}]
[{"$f":"IF(SNPs!A895<>\"\",SNPs!A895,\"\")","v":""},{"$f":"IF(SNPs!B895<>\"\",MID(SNPs!B895,FIND(\"[\",SNPs!B895)+1,FIND(\"/\",SNPs!B895)-FIND(\"[\",SNPs!B895)-1),\"\")","v":""},{"$f":"IF(SNPs!B895<>\"\",MID(SNPs!B895,FIND(\"[\",SNPs!B895)+3,FIND(\"/\",SNPs!B895)-FIND(\"/\",SNPs!B895)+1),\"\")","v":""},{"$f":"IF(SNPs!B895<>\"\",SNPs!B895,\"\")","v":""}]
[{"$f":"IF(SNPs!A896<>\"\",SNPs!A896,\"\")","v":""},{"$f":"IF(SNPs!B896<>\"\",MID(SNPs!B896,FIND(\"[\",SNPs!B896)+1,FIND(\"/\",SNPs!B896)-FIND(\"[\",SNPs!B896)-1),\"\")","v":""},{"$f":"IF(SNPs!B896<>\"\",MID(SNPs!B896,FIND(\"[\",SNPs!B896)+3,FIND(\"/\",SNPs!B896)-FIND(\"/\",SNPs!B896)+1),\"\")","v":""},{"$f":"IF(SNPs!B896<>\"\",SNPs!B896,\"\")","v":""}]
[{"$f":"IF(SNPs!A897<>\"\",SNPs!A897,\"\")","v":""},{"$f":"IF(SNPs!B897<>\"\",MID(SNPs!B897,FIND(\"[\",SNPs!B897)+1,FIND(\"/\",SNPs!B897)-FIND(\"[\",SNPs!B897)-1),\"\")","v":""},{"$f":"IF(SNPs!B897<>\"\",MID(SNPs!B897,FIND(\"[\",SNPs!B897)+3,FIND(\"/\",SNPs!B897)-FIND(\"/\",SNPs!B897)+1),\"\")","v":""},{"$f":"IF(SNPs!B897<>\"\",SNPs!B897,\"\")","v":""}]
[{"$f":"IF(SNPs!A898<>\"\",SNPs!A898,\"\")","v":""},{"$f":"IF(SNPs!B898<>\"\",MID(SNPs!B898,FIND(\"[\",SNPs!B898)+1,FIND(\"/\",SNPs!B898)-FIND(\"[\",SNPs!B898)-1),\"\")","v":""},{"$f":"IF(SNPs!B898<>\"\",MID(SNPs!B898,FIND(\"[\",SNPs!B898)+3,FIND(\"/\",SNPs!B898)-FIND(\"/\",SNPs!B898)+1),\"\")","v":""},{"$f":"IF(SNPs!B898<>\"\",SNPs!B898,\"\")","v":""}]
[{"$f":"IF(SNPs!A899<>\"\",SNPs!A899,\"\")","v":""},{"$f":"IF(SNPs!B899<>\"\",MID(SNPs!B899,FIND(\"[\",SNPs!B899)+1,FIND(\"/\",SNPs!B899)-FIND(\"[\",SNPs!B899)-1),\"\")","v":""},{"$f":"IF(SNPs!B899<>\"\",MID(SNPs!B899,FIND(\"[\",SNPs!B899)+3,FIND(\"/\",SNPs!B899)-FIND(\"/\",SNPs!B899)+1),\"\")","v":""},{"$f":"IF(SNPs!B899<>\"\",SNPs!B899,\"\")","v":""}]
[{"$f":"IF(SNPs!A900<>\"\",SNPs!A900,\"\")","v":""},{"$f":"IF(SNPs!B900<>\"\",MID(SNPs!B900,FIND(\"[\",SNPs!B900)+1,FIND(\"/\",SNPs!B900)-FIND(\"[\",SNPs!B900)-1),\"\")","v":""},{"$f":"IF(SNPs!B900<>\"\",MID(SNPs!B900,FIND(\"[\",SNPs!B900)+3,FIND(\"/\",SNPs!B900)-FIND(\"/\",SNPs!B900)+1),\"\")","v":""},{"$f":"IF(SNPs!B900<>\"\",SNPs!B900,\"\")","v":""}]
[{"$f":"IF(SNPs!A901<>\"\",SNPs!A901,\"\")","v":""},{"$f":"IF(SNPs!B901<>\"\",MID(SNPs!B901,FIND(\"[\",SNPs!B901)+1,FIND(\"/\",SNPs!B901)-FIND(\"[\",SNPs!B901)-1),\"\")","v":""},{"$f":"IF(SNPs!B901<>\"\",MID(SNPs!B901,FIND(\"[\",SNPs!B901)+3,FIND(\"/\",SNPs!B901)-FIND(\"/\",SNPs!B901)+1),\"\")","v":""},{"$f":"IF(SNPs!B901<>\"\",SNPs!B901,\"\")","v":""}]
[{"$f":"IF(SNPs!A902<>\"\",SNPs!A902,\"\")","v":""},{"$f":"IF(SNPs!B902<>\"\",MID(SNPs!B902,FIND(\"[\",SNPs!B902)+1,FIND(\"/\",SNPs!B902)-FIND(\"[\",SNPs!B902)-1),\"\")","v":""},{"$f":"IF(SNPs!B902<>\"\",MID(SNPs!B902,FIND(\"[\",SNPs!B902)+3,FIND(\"/\",SNPs!B902)-FIND(\"/\",SNPs!B902)+1),\"\")","v":""},{"$f":"IF(SNPs!B902<>\"\",SNPs!B902,\"\")","v":""}]
[{"$f":"IF(SNPs!A903<>\"\",SNPs!A903,\"\")","v":""},{"$f":"IF(SNPs!B903<>\"\",MID(SNPs!B903,FIND(\"[\",SNPs!B903)+1,FIND(\"/\",SNPs!B903)-FIND(\"[\",SNPs!B903)-1),\"\")","v":""},{"$f":"IF(SNPs!B903<>\"\",MID(SNPs!B903,FIND(\"[\",SNPs!B903)+3,FIND(\"/\",SNPs!B903)-FIND(\"/\",SNPs!B903)+1),\"\")","v":""},{"$f":"IF(SNPs!B903<>\"\",SNPs!B903,\"\")","v":""}]
[{"$f":"IF(SNPs!A904<>\"\",SNPs!A904,\"\")","v":""},{"$f":"IF(SNPs!B904<>\"\",MID(SNPs!B904,FIND(\"[\",SNPs!B904)+1,FIND(\"/\",SNPs!B904)-FIND(\"[\",SNPs!B904)-1),\"\")","v":""},{"$f":"IF(SNPs!B904<>\"\",MID(SNPs!B904,FIND(\"[\",SNPs!B904)+3,FIND(\"/\",SNPs!B904)-FIND(\"/\",SNPs!B904)+1),\"\")","v":""},{"$f":"IF(SNPs!B904<>\"\",SNPs!B904,\"\")","v":""}]
[{"$f":"IF(SNPs!A905<>\"\",SNPs!A905,\"\")","v":""},{"$f":"IF(SNPs!B905<>\"\",MID(SNPs!B905,FIND(\"[\",SNPs!B905)+1,FIND(\"/\",SNPs!B905)-FIND(\"[\",SNPs!B905)-1),\"\")","v":""},{"$f":"IF(SNPs!B905<>\"\",MID(SNPs!B905,FIND(\"[\",SNPs!B905)+3,FIND(\"/\",SNPs!B905)-FIND(\"/\",SNPs!B905)+1),\"\")","v":""},{"$f":"IF(SNPs!B905<>\"\",SNPs!B905,\"\")","v":""}]
[{"$f":"IF(SNPs!A906<>\"\",SNPs!A906,\"\")","v":""},{"$f":"IF(SNPs!B906<>\"\",MID(SNPs!B906,FIND(\"[\",SNPs!B906)+1,FIND(\"/\",SNPs!B906)-FIND(\"[\",SNPs!B906)-1),\"\")","v":""},{"$f":"IF(SNPs!B906<>\"\",MID(SNPs!B906,FIND(\"[\",SNPs!B906)+3,FIND(\"/\",SNPs!B906)-FIND(\"/\",SNPs!B906)+1),\"\")","v":""},{"$f":"IF(SNPs!B906<>\"\",SNPs!B906,\"\")","v":""}]
[{"$f":"IF(SNPs!A907<>\"\",SNPs!A907,\"\")","v":""},{"$f":"IF(SNPs!B907<>\"\",MID(SNPs!B907,FIND(\"[\",SNPs!B907)+1,FIND(\"/\",SNPs!B907)-FIND(\"[\",SNPs!B907)-1),\"\")","v":""},{"$f":"IF(SNPs!B907<>\"\",MID(SNPs!B907,FIND(\"[\",SNPs!B907)+3,FIND(\"/\",SNPs!B907)-FIND(\"/\",SNPs!B907)+1),\"\")","v":""},{"$f":"IF(SNPs!B907<>\"\",SNPs!B907,\"\")","v":""}]
[{"$f":"IF(SNPs!A908<>\"\",SNPs!A908,\"\")","v":""},{"$f":"IF(SNPs!B908<>\"\",MID(SNPs!B908,FIND(\"[\",SNPs!B908)+1,FIND(\"/\",SNPs!B908)-FIND(\"[\",SNPs!B908)-1),\"\")","v":""},{"$f":"IF(SNPs!B908<>\"\",MID(SNPs!B908,FIND(\"[\",SNPs!B908)+3,FIND(\"/\",SNPs!B908)-FIND(\"/\",SNPs!B908)+1),\"\")","v":""},{"$f":"IF(SNPs!B908<>\"\",SNPs!B908,\"\")","v":""}]
[{"$f":"IF(SNPs!A909<>\"\",SNPs!A909,\"\")","v":""},{"$f":"IF(SNPs!B909<>\"\",MID(SNPs!B909,FIND(\"[\",SNPs!B909)+1,FIND(\"/\",SNPs!B909)-FIND(\"[\",SNPs!B909)-1),\"\")","v":""},{"$f":"IF(SNPs!B909<>\"\",MID(SNPs!B909,FIND(\"[\",SNPs!B909)+3,FIND(\"/\",SNPs!B909)-FIND(\"/\",SNPs!B909)+1),\"\")","v":""},{"$f":"IF(SNPs!B909<>\"\",SNPs!B909,\"\")","v":""}]
[{"$f":"IF(SNPs!A910<>\"\",SNPs!A910,\"\")","v":""},{"$f":"IF(SNPs!B910<>\"\",MID(SNPs!B910,FIND(\"[\",SNPs!B910)+1,FIND(\"/\",SNPs!B910)-FIND(\"[\",SNPs!B910)-1),\"\")","v":""},{"$f":"IF(SNPs!B910<>\"\",MID(SNPs!B910,FIND(\"[\",SNPs!B910)+3,FIND(\"/\",SNPs!B910)-FIND(\"/\",SNPs!B910)+1),\"\")","v":""},{"$f":"IF(SNPs!B910<>\"\",SNPs!B910,\"\")","v":""}]
[{"$f":"IF(SNPs!A911<>\"\",SNPs!A911,\"\")","v":""},{"$f":"IF(SNPs!B911<>\"\",MID(SNPs!B911,FIND(\"[\",SNPs!B911)+1,FIND(\"/\",SNPs!B911)-FIND(\"[\",SNPs!B911)-1),\"\")","v":""},{"$f":"IF(SNPs!B911<>\"\",MID(SNPs!B911,FIND(\"[\",SNPs!B911)+3,FIND(\"/\",SNPs!B911)-FIND(\"/\",SNPs!B911)+1),\"\")","v":""},{"$f":"IF(SNPs!B911<>\"\",SNPs!B911,\"\")","v":""}]
[{"$f":"IF(SNPs!A912<>\"\",SNPs!A912,\"\")","v":""},{"$f":"IF(SNPs!B912<>\"\",MID(SNPs!B912,FIND(\"[\",SNPs!B912)+1,FIND(\"/\",SNPs!B912)-FIND(\"[\",SNPs!B912)-1),\"\")","v":""},{"$f":"IF(SNPs!B912<>\"\",MID(SNPs!B912,FIND(\"[\",SNPs!B912)+3,FIND(\"/\",SNPs!B912)-FIND(\"/\",SNPs!B912)+1),\"\")","v":""},{"$f":"IF(SNPs!B912<>\"\",SNPs!B912,\"\")","v":""}]
[{"$f":"IF(SNPs!A913<>\"\",SNPs!A913,\"\")","v":""},{"$f":"IF(SNPs!B913<>\"\",MID(SNPs!B913,FIND(\"[\",SNPs!B913)+1,FIND(\"/\",SNPs!B913)-FIND(\"[\",SNPs!B913)-1),\"\")","v":""},{"$f":"IF(SNPs!B913<>\"\",MID(SNPs!B913,FIND(\"[\",SNPs!B913)+3,FIND(\"/\",SNPs!B913)-FIND(\"/\",SNPs!B913)+1),\"\")","v":""},{"$f":"IF(SNPs!B913<>\"\",SNPs!B913,\"\")","v":""}]
[{"$f":"IF(SNPs!A914<>\"\",SNPs!A914,\"\")","v":""},{"$f":"IF(SNPs!B914<>\"\",MID(SNPs!B914,FIND(\"[\",SNPs!B914)+1,FIND(\"/\",SNPs!B914)-FIND(\"[\",SNPs!B914)-1),\"\")","v":""},{"$f":"IF(SNPs!B914<>\"\",MID(SNPs!B914,FIND(\"[\",SNPs!B914)+3,FIND(\"/\",SNPs!B914)-FIND(\"/\",SNPs!B914)+1),\"\")","v":""},{"$f":"IF(SNPs!B914<>\"\",SNPs!B914,\"\")","v":""}]
[{"$f":"IF(SNPs!A915<>\"\",SNPs!A915,\"\")","v":""},{"$f":"IF(SNPs!B915<>\"\",MID(SNPs!B915,FIND(\"[\",SNPs!B915)+1,FIND(\"/\",SNPs!B915)-FIND(\"[\",SNPs!B915)-1),\"\")","v":""},{"$f":"IF(SNPs!B915<>\"\",MID(SNPs!B915,FIND(\"[\",SNPs!B915)+3,FIND(\"/\",SNPs!B915)-FIND(\"/\",SNPs!B915)+1),\"\")","v":""},{"$f":"IF(SNPs!B915<>\"\",SNPs!B915,\"\")","v":""}]
[{"$f":"IF(SNPs!A916<>\"\",SNPs!A916,\"\")","v":""},{"$f":"IF(SNPs!B916<>\"\",MID(SNPs!B916,FIND(\"[\",SNPs!B916)+1,FIND(\"/\",SNPs!B916)-FIND(\"[\",SNPs!B916)-1),\"\")","v":""},{"$f":"IF(SNPs!B916<>\"\",MID(SNPs!B916,FIND(\"[\",SNPs!B916)+3,FIND(\"/\",SNPs!B916)-FIND(\"/\",SNPs!B916)+1),\"\")","v":""},{"$f":"IF(SNPs!B916<>\"\",SNPs!B916,\"\")","v":""}]
[{"$f":"IF(SNPs!A917<>\"\",SNPs!A917,\"\")","v":""},{"$f":"IF(SNPs!B917<>\"\",MID(SNPs!B917,FIND(\"[\",SNPs!B917)+1,FIND(\"/\",SNPs!B917)-FIND(\"[\",SNPs!B917)-1),\"\")","v":""},{"$f":"IF(SNPs!B917<>\"\",MID(SNPs!B917,FIND(\"[\",SNPs!B917)+3,FIND(\"/\",SNPs!B917)-FIND(\"/\",SNPs!B917)+1),\"\")","v":""},{"$f":"IF(SNPs!B917<>\"\",SNPs!B917,\"\")","v":""}]
[{"$f":"IF(SNPs!A918<>\"\",SNPs!A918,\"\")","v":""},{"$f":"IF(SNPs!B918<>\"\",MID(SNPs!B918,FIND(\"[\",SNPs!B918)+1,FIND(\"/\",SNPs!B918)-FIND(\"[\",SNPs!B918)-1),\"\")","v":""},{"$f":"IF(SNPs!B918<>\"\",MID(SNPs!B918,FIND(\"[\",SNPs!B918)+3,FIND(\"/\",SNPs!B918)-FIND(\"/\",SNPs!B918)+1),\"\")","v":""},{"$f":"IF(SNPs!B918<>\"\",SNPs!B918,\"\")","v":""}]
[{"$f":"IF(SNPs!A919<>\"\",SNPs!A919,\"\")","v":""},{"$f":"IF(SNPs!B919<>\"\",MID(SNPs!B919,FIND(\"[\",SNPs!B919)+1,FIND(\"/\",SNPs!B919)-FIND(\"[\",SNPs!B919)-1),\"\")","v":""},{"$f":"IF(SNPs!B919<>\"\",MID(SNPs!B919,FIND(\"[\",SNPs!B919)+3,FIND(\"/\",SNPs!B919)-FIND(\"/\",SNPs!B919)+1),\"\")","v":""},{"$f":"IF(SNPs!B919<>\"\",SNPs!B919,\"\")","v":""}]
[{"$f":"IF(SNPs!A920<>\"\",SNPs!A920,\"\")","v":""},{"$f":"IF(SNPs!B920<>\"\",MID(SNPs!B920,FIND(\"[\",SNPs!B920)+1,FIND(\"/\",SNPs!B920)-FIND(\"[\",SNPs!B920)-1),\"\")","v":""},{"$f":"IF(SNPs!B920<>\"\",MID(SNPs!B920,FIND(\"[\",SNPs!B920)+3,FIND(\"/\",SNPs!B920)-FIND(\"/\",SNPs!B920)+1),\"\")","v":""},{"$f":"IF(SNPs!B920<>\"\",SNPs!B920,\"\")","v":""}]
[{"$f":"IF(SNPs!A921<>\"\",SNPs!A921,\"\")","v":""},{"$f":"IF(SNPs!B921<>\"\",MID(SNPs!B921,FIND(\"[\",SNPs!B921)+1,FIND(\"/\",SNPs!B921)-FIND(\"[\",SNPs!B921)-1),\"\")","v":""},{"$f":"IF(SNPs!B921<>\"\",MID(SNPs!B921,FIND(\"[\",SNPs!B921)+3,FIND(\"/\",SNPs!B921)-FIND(\"/\",SNPs!B921)+1),\"\")","v":""},{"$f":"IF(SNPs!B921<>\"\",SNPs!B921,\"\")","v":""}]
[{"$f":"IF(SNPs!A922<>\"\",SNPs!A922,\"\")","v":""},{"$f":"IF(SNPs!B922<>\"\",MID(SNPs!B922,FIND(\"[\",SNPs!B922)+1,FIND(\"/\",SNPs!B922)-FIND(\"[\",SNPs!B922)-1),\"\")","v":""},{"$f":"IF(SNPs!B922<>\"\",MID(SNPs!B922,FIND(\"[\",SNPs!B922)+3,FIND(\"/\",SNPs!B922)-FIND(\"/\",SNPs!B922)+1),\"\")","v":""},{"$f":"IF(SNPs!B922<>\"\",SNPs!B922,\"\")","v":""}]
[{"$f":"IF(SNPs!A923<>\"\",SNPs!A923,\"\")","v":""},{"$f":"IF(SNPs!B923<>\"\",MID(SNPs!B923,FIND(\"[\",SNPs!B923)+1,FIND(\"/\",SNPs!B923)-FIND(\"[\",SNPs!B923)-1),\"\")","v":""},{"$f":"IF(SNPs!B923<>\"\",MID(SNPs!B923,FIND(\"[\",SNPs!B923)+3,FIND(\"/\",SNPs!B923)-FIND(\"/\",SNPs!B923)+1),\"\")","v":""},{"$f":"IF(SNPs!B923<>\"\",SNPs!B923,\"\")","v":""}]
[{"$f":"IF(SNPs!A924<>\"\",SNPs!A924,\"\")","v":""},{"$f":"IF(SNPs!B924<>\"\",MID(SNPs!B924,FIND(\"[\",SNPs!B924)+1,FIND(\"/\",SNPs!B924)-FIND(\"[\",SNPs!B924)-1),\"\")","v":""},{"$f":"IF(SNPs!B924<>\"\",MID(SNPs!B924,FIND(\"[\",SNPs!B924)+3,FIND(\"/\",SNPs!B924)-FIND(\"/\",SNPs!B924)+1),\"\")","v":""},{"$f":"IF(SNPs!B924<>\"\",SNPs!B924,\"\")","v":""}]
[{"$f":"IF(SNPs!A925<>\"\",SNPs!A925,\"\")","v":""},{"$f":"IF(SNPs!B925<>\"\",MID(SNPs!B925,FIND(\"[\",SNPs!B925)+1,FIND(\"/\",SNPs!B925)-FIND(\"[\",SNPs!B925)-1),\"\")","v":""},{"$f":"IF(SNPs!B925<>\"\",MID(SNPs!B925,FIND(\"[\",SNPs!B925)+3,FIND(\"/\",SNPs!B925)-FIND(\"/\",SNPs!B925)+1),\"\")","v":""},{"$f":"IF(SNPs!B925<>\"\",SNPs!B925,\"\")","v":""}]
[{"$f":"IF(SNPs!A926<>\"\",SNPs!A926,\"\")","v":""},{"$f":"IF(SNPs!B926<>\"\",MID(SNPs!B926,FIND(\"[\",SNPs!B926)+1,FIND(\"/\",SNPs!B926)-FIND(\"[\",SNPs!B926)-1),\"\")","v":""},{"$f":"IF(SNPs!B926<>\"\",MID(SNPs!B926,FIND(\"[\",SNPs!B926)+3,FIND(\"/\",SNPs!B926)-FIND(\"/\",SNPs!B926)+1),\"\")","v":""},{"$f":"IF(SNPs!B926<>\"\",SNPs!B926,\"\")","v":""}]
[{"$f":"IF(SNPs!A927<>\"\",SNPs!A927,\"\")","v":""},{"$f":"IF(SNPs!B927<>\"\",MID(SNPs!B927,FIND(\"[\",SNPs!B927)+1,FIND(\"/\",SNPs!B927)-FIND(\"[\",SNPs!B927)-1),\"\")","v":""},{"$f":"IF(SNPs!B927<>\"\",MID(SNPs!B927,FIND(\"[\",SNPs!B927)+3,FIND(\"/\",SNPs!B927)-FIND(\"/\",SNPs!B927)+1),\"\")","v":""},{"$f":"IF(SNPs!B927<>\"\",SNPs!B927,\"\")","v":""}]
[{"$f":"IF(SNPs!A928<>\"\",SNPs!A928,\"\")","v":""},{"$f":"IF(SNPs!B928<>\"\",MID(SNPs!B928,FIND(\"[\",SNPs!B928)+1,FIND(\"/\",SNPs!B928)-FIND(\"[\",SNPs!B928)-1),\"\")","v":""},{"$f":"IF(SNPs!B928<>\"\",MID(SNPs!B928,FIND(\"[\",SNPs!B928)+3,FIND(\"/\",SNPs!B928)-FIND(\"/\",SNPs!B928)+1),\"\")","v":""},{"$f":"IF(SNPs!B928<>\"\",SNPs!B928,\"\")","v":""}]
[{"$f":"IF(SNPs!A929<>\"\",SNPs!A929,\"\")","v":""},{"$f":"IF(SNPs!B929<>\"\",MID(SNPs!B929,FIND(\"[\",SNPs!B929)+1,FIND(\"/\",SNPs!B929)-FIND(\"[\",SNPs!B929)-1),\"\")","v":""},{"$f":"IF(SNPs!B929<>\"\",MID(SNPs!B929,FIND(\"[\",SNPs!B929)+3,FIND(\"/\",SNPs!B929)-FIND(\"/\",SNPs!B929)+1),\"\")","v":""},{"$f":"IF(SNPs!B929<>\"\",SNPs!B929,\"\")","v":""}]
[{"$f":"IF(SNPs!A930<>\"\",SNPs!A930,\"\")","v":""},{"$f":"IF(SNPs!B930<>\"\",MID(SNPs!B930,FIND(\"[\",SNPs!B930)+1,FIND(\"/\",SNPs!B930)-FIND(\"[\",SNPs!B930)-1),\"\")","v":""},{"$f":"IF(SNPs!B930<>\"\",MID(SNPs!B930,FIND(\"[\",SNPs!B930)+3,FIND(\"/\",SNPs!B930)-FIND(\"/\",SNPs!B930)+1),\"\")","v":""},{"$f":"IF(SNPs!B930<>\"\",SNPs!B930,\"\")","v":""}]
[{"$f":"IF(SNPs!A931<>\"\",SNPs!A931,\"\")","v":""},{"$f":"IF(SNPs!B931<>\"\",MID(SNPs!B931,FIND(\"[\",SNPs!B931)+1,FIND(\"/\",SNPs!B931)-FIND(\"[\",SNPs!B931)-1),\"\")","v":""},{"$f":"IF(SNPs!B931<>\"\",MID(SNPs!B931,FIND(\"[\",SNPs!B931)+3,FIND(\"/\",SNPs!B931)-FIND(\"/\",SNPs!B931)+1),\"\")","v":""},{"$f":"IF(SNPs!B931<>\"\",SNPs!B931,\"\")","v":""}]
[{"$f":"IF(SNPs!A932<>\"\",SNPs!A932,\"\")","v":""},{"$f":"IF(SNPs!B932<>\"\",MID(SNPs!B932,FIND(\"[\",SNPs!B932)+1,FIND(\"/\",SNPs!B932)-FIND(\"[\",SNPs!B932)-1),\"\")","v":""},{"$f":"IF(SNPs!B932<>\"\",MID(SNPs!B932,FIND(\"[\",SNPs!B932)+3,FIND(\"/\",SNPs!B932)-FIND(\"/\",SNPs!B932)+1),\"\")","v":""},{"$f":"IF(SNPs!B932<>\"\",SNPs!B932,\"\")","v":""}]
[{"$f":"IF(SNPs!A933<>\"\",SNPs!A933,\"\")","v":""},{"$f":"IF(SNPs!B933<>\"\",MID(SNPs!B933,FIND(\"[\",SNPs!B933)+1,FIND(\"/\",SNPs!B933)-FIND(\"[\",SNPs!B933)-1),\"\")","v":""},{"$f":"IF(SNPs!B933<>\"\",MID(SNPs!B933,FIND(\"[\",SNPs!B933)+3,FIND(\"/\",SNPs!B933)-FIND(\"/\",SNPs!B933)+1),\"\")","v":""},{"$f":"IF(SNPs!B933<>\"\",SNPs!B933,\"\")","v":""}]
[{"$f":"IF(SNPs!A934<>\"\",SNPs!A934,\"\")","v":""},{"$f":"IF(SNPs!B934<>\"\",MID(SNPs!B934,FIND(\"[\",SNPs!B934)+1,FIND(\"/\",SNPs!B934)-FIND(\"[\",SNPs!B934)-1),\"\")","v":""},{"$f":"IF(SNPs!B934<>\"\",MID(SNPs!B934,FIND(\"[\",SNPs!B934)+3,FIND(\"/\",SNPs!B934)-FIND(\"/\",SNPs!B934)+1),\"\")","v":""},{"$f":"IF(SNPs!B934<>\"\",SNPs!B934,\"\")","v":""}]
[{"$f":"IF(SNPs!A935<>\"\",SNPs!A935,\"\")","v":""},{"$f":"IF(SNPs!B935<>\"\",MID(SNPs!B935,FIND(\"[\",SNPs!B935)+1,FIND(\"/\",SNPs!B935)-FIND(\"[\",SNPs!B935)-1),\"\")","v":""},{"$f":"IF(SNPs!B935<>\"\",MID(SNPs!B935,FIND(\"[\",SNPs!B935)+3,FIND(\"/\",SNPs!B935)-FIND(\"/\",SNPs!B935)+1),\"\")","v":""},{"$f":"IF(SNPs!B935<>\"\",SNPs!B935,\"\")","v":""}]
[{"$f":"IF(SNPs!A936<>\"\",SNPs!A936,\"\")","v":""},{"$f":"IF(SNPs!B936<>\"\",MID(SNPs!B936,FIND(\"[\",SNPs!B936)+1,FIND(\"/\",SNPs!B936)-FIND(\"[\",SNPs!B936)-1),\"\")","v":""},{"$f":"IF(SNPs!B936<>\"\",MID(SNPs!B936,FIND(\"[\",SNPs!B936)+3,FIND(\"/\",SNPs!B936)-FIND(\"/\",SNPs!B936)+1),\"\")","v":""},{"$f":"IF(SNPs!B936<>\"\",SNPs!B936,\"\")","v":""}]
[{"$f":"IF(SNPs!A937<>\"\",SNPs!A937,\"\")","v":""},{"$f":"IF(SNPs!B937<>\"\",MID(SNPs!B937,FIND(\"[\",SNPs!B937)+1,FIND(\"/\",SNPs!B937)-FIND(\"[\",SNPs!B937)-1),\"\")","v":""},{"$f":"IF(SNPs!B937<>\"\",MID(SNPs!B937,FIND(\"[\",SNPs!B937)+3,FIND(\"/\",SNPs!B937)-FIND(\"/\",SNPs!B937)+1),\"\")","v":""},{"$f":"IF(SNPs!B937<>\"\",SNPs!B937,\"\")","v":""}]
[{"$f":"IF(SNPs!A938<>\"\",SNPs!A938,\"\")","v":""},{"$f":"IF(SNPs!B938<>\"\",MID(SNPs!B938,FIND(\"[\",SNPs!B938)+1,FIND(\"/\",SNPs!B938)-FIND(\"[\",SNPs!B938)-1),\"\")","v":""},{"$f":"IF(SNPs!B938<>\"\",MID(SNPs!B938,FIND(\"[\",SNPs!B938)+3,FIND(\"/\",SNPs!B938)-FIND(\"/\",SNPs!B938)+1),\"\")","v":""},{"$f":"IF(SNPs!B938<>\"\",SNPs!B938,\"\")","v":""}]
[{"$f":"IF(SNPs!A939<>\"\",SNPs!A939,\"\")","v":""},{"$f":"IF(SNPs!B939<>\"\",MID(SNPs!B939,FIND(\"[\",SNPs!B939)+1,FIND(\"/\",SNPs!B939)-FIND(\"[\",SNPs!B939)-1),\"\")","v":""},{"$f":"IF(SNPs!B939<>\"\",MID(SNPs!B939,FIND(\"[\",SNPs!B939)+3,FIND(\"/\",SNPs!B939)-FIND(\"/\",SNPs!B939)+1),\"\")","v":""},{"$f":"IF(SNPs!B939<>\"\",SNPs!B939,\"\")","v":""}]
[{"$f":"IF(SNPs!A940<>\"\",SNPs!A940,\"\")","v":""},{"$f":"IF(SNPs!B940<>\"\",MID(SNPs!B940,FIND(\"[\",SNPs!B940)+1,FIND(\"/\",SNPs!B940)-FIND(\"[\",SNPs!B940)-1),\"\")","v":""},{"$f":"IF(SNPs!B940<>\"\",MID(SNPs!B940,FIND(\"[\",SNPs!B940)+3,FIND(\"/\",SNPs!B940)-FIND(\"/\",SNPs!B940)+1),\"\")","v":""},{"$f":"IF(SNPs!B940<>\"\",SNPs!B940,\"\")","v":""}]
[{"$f":"IF(SNPs!A941<>\"\",SNPs!A941,\"\")","v":""},{"$f":"IF(SNPs!B941<>\"\",MID(SNPs!B941,FIND(\"[\",SNPs!B941)+1,FIND(\"/\",SNPs!B941)-FIND(\"[\",SNPs!B941)-1),\"\")","v":""},{"$f":"IF(SNPs!B941<>\"\",MID(SNPs!B941,FIND(\"[\",SNPs!B941)+3,FIND(\"/\",SNPs!B941)-FIND(\"/\",SNPs!B941)+1),\"\")","v":""},{"$f":"IF(SNPs!B941<>\"\",SNPs!B941,\"\")","v":""}]
[{"$f":"IF(SNPs!A942<>\"\",SNPs!A942,\"\")","v":""},{"$f":"IF(SNPs!B942<>\"\",MID(SNPs!B942,FIND(\"[\",SNPs!B942)+1,FIND(\"/\",SNPs!B942)-FIND(\"[\",SNPs!B942)-1),\"\")","v":""},{"$f":"IF(SNPs!B942<>\"\",MID(SNPs!B942,FIND(\"[\",SNPs!B942)+3,FIND(\"/\",SNPs!B942)-FIND(\"/\",SNPs!B942)+1),\"\")","v":""},{"$f":"IF(SNPs!B942<>\"\",SNPs!B942,\"\")","v":""}]
[{"$f":"IF(SNPs!A943<>\"\",SNPs!A943,\"\")","v":""},{"$f":"IF(SNPs!B943<>\"\",MID(SNPs!B943,FIND(\"[\",SNPs!B943)+1,FIND(\"/\",SNPs!B943)-FIND(\"[\",SNPs!B943)-1),\"\")","v":""},{"$f":"IF(SNPs!B943<>\"\",MID(SNPs!B943,FIND(\"[\",SNPs!B943)+3,FIND(\"/\",SNPs!B943)-FIND(\"/\",SNPs!B943)+1),\"\")","v":""},{"$f":"IF(SNPs!B943<>\"\",SNPs!B943,\"\")","v":""}]
[{"$f":"IF(SNPs!A944<>\"\",SNPs!A944,\"\")","v":""},{"$f":"IF(SNPs!B944<>\"\",MID(SNPs!B944,FIND(\"[\",SNPs!B944)+1,FIND(\"/\",SNPs!B944)-FIND(\"[\",SNPs!B944)-1),\"\")","v":""},{"$f":"IF(SNPs!B944<>\"\",MID(SNPs!B944,FIND(\"[\",SNPs!B944)+3,FIND(\"/\",SNPs!B944)-FIND(\"/\",SNPs!B944)+1),\"\")","v":""},{"$f":"IF(SNPs!B944<>\"\",SNPs!B944,\"\")","v":""}]
[{"$f":"IF(SNPs!A945<>\"\",SNPs!A945,\"\")","v":""},{"$f":"IF(SNPs!B945<>\"\",MID(SNPs!B945,FIND(\"[\",SNPs!B945)+1,FIND(\"/\",SNPs!B945)-FIND(\"[\",SNPs!B945)-1),\"\")","v":""},{"$f":"IF(SNPs!B945<>\"\",MID(SNPs!B945,FIND(\"[\",SNPs!B945)+3,FIND(\"/\",SNPs!B945)-FIND(\"/\",SNPs!B945)+1),\"\")","v":""},{"$f":"IF(SNPs!B945<>\"\",SNPs!B945,\"\")","v":""}]
[{"$f":"IF(SNPs!A946<>\"\",SNPs!A946,\"\")","v":""},{"$f":"IF(SNPs!B946<>\"\",MID(SNPs!B946,FIND(\"[\",SNPs!B946)+1,FIND(\"/\",SNPs!B946)-FIND(\"[\",SNPs!B946)-1),\"\")","v":""},{"$f":"IF(SNPs!B946<>\"\",MID(SNPs!B946,FIND(\"[\",SNPs!B946)+3,FIND(\"/\",SNPs!B946)-FIND(\"/\",SNPs!B946)+1),\"\")","v":""},{"$f":"IF(SNPs!B946<>\"\",SNPs!B946,\"\")","v":""}]
[{"$f":"IF(SNPs!A947<>\"\",SNPs!A947,\"\")","v":""},{"$f":"IF(SNPs!B947<>\"\",MID(SNPs!B947,FIND(\"[\",SNPs!B947)+1,FIND(\"/\",SNPs!B947)-FIND(\"[\",SNPs!B947)-1),\"\")","v":""},{"$f":"IF(SNPs!B947<>\"\",MID(SNPs!B947,FIND(\"[\",SNPs!B947)+3,FIND(\"/\",SNPs!B947)-FIND(\"/\",SNPs!B947)+1),\"\")","v":""},{"$f":"IF(SNPs!B947<>\"\",SNPs!B947,\"\")","v":""}]
[{"$f":"IF(SNPs!A948<>\"\",SNPs!A948,\"\")","v":""},{"$f":"IF(SNPs!B948<>\"\",MID(SNPs!B948,FIND(\"[\",SNPs!B948)+1,FIND(\"/\",SNPs!B948)-FIND(\"[\",SNPs!B948)-1),\"\")","v":""},{"$f":"IF(SNPs!B948<>\"\",MID(SNPs!B948,FIND(\"[\",SNPs!B948)+3,FIND(\"/\",SNPs!B948)-FIND(\"/\",SNPs!B948)+1),\"\")","v":""},{"$f":"IF(SNPs!B948<>\"\",SNPs!B948,\"\")","v":""}]
[{"$f":"IF(SNPs!A949<>\"\",SNPs!A949,\"\")","v":""},{"$f":"IF(SNPs!B949<>\"\",MID(SNPs!B949,FIND(\"[\",SNPs!B949)+1,FIND(\"/\",SNPs!B949)-FIND(\"[\",SNPs!B949)-1),\"\")","v":""},{"$f":"IF(SNPs!B949<>\"\",MID(SNPs!B949,FIND(\"[\",SNPs!B949)+3,FIND(\"/\",SNPs!B949)-FIND(\"/\",SNPs!B949)+1),\"\")","v":""},{"$f":"IF(SNPs!B949<>\"\",SNPs!B949,\"\")","v":""}]
[{"$f":"IF(SNPs!A950<>\"\",SNPs!A950,\"\")","v":""},{"$f":"IF(SNPs!B950<>\"\",MID(SNPs!B950,FIND(\"[\",SNPs!B950)+1,FIND(\"/\",SNPs!B950)-FIND(\"[\",SNPs!B950)-1),\"\")","v":""},{"$f":"IF(SNPs!B950<>\"\",MID(SNPs!B950,FIND(\"[\",SNPs!B950)+3,FIND(\"/\",SNPs!B950)-FIND(\"/\",SNPs!B950)+1),\"\")","v":""},{"$f":"IF(SNPs!B950<>\"\",SNPs!B950,\"\")","v":""}]
[{"$f":"IF(SNPs!A951<>\"\",SNPs!A951,\"\")","v":""},{"$f":"IF(SNPs!B951<>\"\",MID(SNPs!B951,FIND(\"[\",SNPs!B951)+1,FIND(\"/\",SNPs!B951)-FIND(\"[\",SNPs!B951)-1),\"\")","v":""},{"$f":"IF(SNPs!B951<>\"\",MID(SNPs!B951,FIND(\"[\",SNPs!B951)+3,FIND(\"/\",SNPs!B951)-FIND(\"/\",SNPs!B951)+1),\"\")","v":""},{"$f":"IF(SNPs!B951<>\"\",SNPs!B951,\"\")","v":""}]
[{"$f":"IF(SNPs!A952<>\"\",SNPs!A952,\"\")","v":""},{"$f":"IF(SNPs!B952<>\"\",MID(SNPs!B952,FIND(\"[\",SNPs!B952)+1,FIND(\"/\",SNPs!B952)-FIND(\"[\",SNPs!B952)-1),\"\")","v":""},{"$f":"IF(SNPs!B952<>\"\",MID(SNPs!B952,FIND(\"[\",SNPs!B952)+3,FIND(\"/\",SNPs!B952)-FIND(\"/\",SNPs!B952)+1),\"\")","v":""},{"$f":"IF(SNPs!B952<>\"\",SNPs!B952,\"\")","v":""}]
[{"$f":"IF(SNPs!A953<>\"\",SNPs!A953,\"\")","v":""},{"$f":"IF(SNPs!B953<>\"\",MID(SNPs!B953,FIND(\"[\",SNPs!B953)+1,FIND(\"/\",SNPs!B953)-FIND(\"[\",SNPs!B953)-1),\"\")","v":""},{"$f":"IF(SNPs!B953<>\"\",MID(SNPs!B953,FIND(\"[\",SNPs!B953)+3,FIND(\"/\",SNPs!B953)-FIND(\"/\",SNPs!B953)+1),\"\")","v":""},{"$f":"IF(SNPs!B953<>\"\",SNPs!B953,\"\")","v":""}]
[{"$f":"IF(SNPs!A954<>\"\",SNPs!A954,\"\")","v":""},{"$f":"IF(SNPs!B954<>\"\",MID(SNPs!B954,FIND(\"[\",SNPs!B954)+1,FIND(\"/\",SNPs!B954)-FIND(\"[\",SNPs!B954)-1),\"\")","v":""},{"$f":"IF(SNPs!B954<>\"\",MID(SNPs!B954,FIND(\"[\",SNPs!B954)+3,FIND(\"/\",SNPs!B954)-FIND(\"/\",SNPs!B954)+1),\"\")","v":""},{"$f":"IF(SNPs!B954<>\"\",SNPs!B954,\"\")","v":""}]
[{"$f":"IF(SNPs!A955<>\"\",SNPs!A955,\"\")","v":""},{"$f":"IF(SNPs!B955<>\"\",MID(SNPs!B955,FIND(\"[\",SNPs!B955)+1,FIND(\"/\",SNPs!B955)-FIND(\"[\",SNPs!B955)-1),\"\")","v":""},{"$f":"IF(SNPs!B955<>\"\",MID(SNPs!B955,FIND(\"[\",SNPs!B955)+3,FIND(\"/\",SNPs!B955)-FIND(\"/\",SNPs!B955)+1),\"\")","v":""},{"$f":"IF(SNPs!B955<>\"\",SNPs!B955,\"\")","v":""}]
[{"$f":"IF(SNPs!A956<>\"\",SNPs!A956,\"\")","v":""},{"$f":"IF(SNPs!B956<>\"\",MID(SNPs!B956,FIND(\"[\",SNPs!B956)+1,FIND(\"/\",SNPs!B956)-FIND(\"[\",SNPs!B956)-1),\"\")","v":""},{"$f":"IF(SNPs!B956<>\"\",MID(SNPs!B956,FIND(\"[\",SNPs!B956)+3,FIND(\"/\",SNPs!B956)-FIND(\"/\",SNPs!B956)+1),\"\")","v":""},{"$f":"IF(SNPs!B956<>\"\",SNPs!B956,\"\")","v":""}]
[{"$f":"IF(SNPs!A957<>\"\",SNPs!A957,\"\")","v":""},{"$f":"IF(SNPs!B957<>\"\",MID(SNPs!B957,FIND(\"[\",SNPs!B957)+1,FIND(\"/\",SNPs!B957)-FIND(\"[\",SNPs!B957)-1),\"\")","v":""},{"$f":"IF(SNPs!B957<>\"\",MID(SNPs!B957,FIND(\"[\",SNPs!B957)+3,FIND(\"/\",SNPs!B957)-FIND(\"/\",SNPs!B957)+1),\"\")","v":""},{"$f":"IF(SNPs!B957<>\"\",SNPs!B957,\"\")","v":""}]
[{"$f":"IF(SNPs!A958<>\"\",SNPs!A958,\"\")","v":""},{"$f":"IF(SNPs!B958<>\"\",MID(SNPs!B958,FIND(\"[\",SNPs!B958)+1,FIND(\"/\",SNPs!B958)-FIND(\"[\",SNPs!B958)-1),\"\")","v":""},{"$f":"IF(SNPs!B958<>\"\",MID(SNPs!B958,FIND(\"[\",SNPs!B958)+3,FIND(\"/\",SNPs!B958)-FIND(\"/\",SNPs!B958)+1),\"\")","v":""},{"$f":"IF(SNPs!B958<>\"\",SNPs!B958,\"\")","v":""}]
[{"$f":"IF(SNPs!A959<>\"\",SNPs!A959,\"\")","v":""},{"$f":"IF(SNPs!B959<>\"\",MID(SNPs!B959,FIND(\"[\",SNPs!B959)+1,FIND(\"/\",SNPs!B959)-FIND(\"[\",SNPs!B959)-1),\"\")","v":""},{"$f":"IF(SNPs!B959<>\"\",MID(SNPs!B959,FIND(\"[\",SNPs!B959)+3,FIND(\"/\",SNPs!B959)-FIND(\"/\",SNPs!B959)+1),\"\")","v":""},{"$f":"IF(SNPs!B959<>\"\",SNPs!B959,\"\")","v":""}]
[{"$f":"IF(SNPs!A960<>\"\",SNPs!A960,\"\")","v":""},{"$f":"IF(SNPs!B960<>\"\",MID(SNPs!B960,FIND(\"[\",SNPs!B960)+1,FIND(\"/\",SNPs!B960)-FIND(\"[\",SNPs!B960)-1),\"\")","v":""},{"$f":"IF(SNPs!B960<>\"\",MID(SNPs!B960,FIND(\"[\",SNPs!B960)+3,FIND(\"/\",SNPs!B960)-FIND(\"/\",SNPs!B960)+1),\"\")","v":""},{"$f":"IF(SNPs!B960<>\"\",SNPs!B960,\"\")","v":""}]
[{"$f":"IF(SNPs!A961<>\"\",SNPs!A961,\"\")","v":""},{"$f":"IF(SNPs!B961<>\"\",MID(SNPs!B961,FIND(\"[\",SNPs!B961)+1,FIND(\"/\",SNPs!B961)-FIND(\"[\",SNPs!B961)-1),\"\")","v":""},{"$f":"IF(SNPs!B961<>\"\",MID(SNPs!B961,FIND(\"[\",SNPs!B961)+3,FIND(\"/\",SNPs!B961)-FIND(\"/\",SNPs!B961)+1),\"\")","v":""},{"$f":"IF(SNPs!B961<>\"\",SNPs!B961,\"\")","v":""}]
[{"$f":"IF(SNPs!A962<>\"\",SNPs!A962,\"\")","v":""},{"$f":"IF(SNPs!B962<>\"\",MID(SNPs!B962,FIND(\"[\",SNPs!B962)+1,FIND(\"/\",SNPs!B962)-FIND(\"[\",SNPs!B962)-1),\"\")","v":""},{"$f":"IF(SNPs!B962<>\"\",MID(SNPs!B962,FIND(\"[\",SNPs!B962)+3,FIND(\"/\",SNPs!B962)-FIND(\"/\",SNPs!B962)+1),\"\")","v":""},{"$f":"IF(SNPs!B962<>\"\",SNPs!B962,\"\")","v":""}]
[{"$f":"IF(SNPs!A963<>\"\",SNPs!A963,\"\")","v":""},{"$f":"IF(SNPs!B963<>\"\",MID(SNPs!B963,FIND(\"[\",SNPs!B963)+1,FIND(\"/\",SNPs!B963)-FIND(\"[\",SNPs!B963)-1),\"\")","v":""},{"$f":"IF(SNPs!B963<>\"\",MID(SNPs!B963,FIND(\"[\",SNPs!B963)+3,FIND(\"/\",SNPs!B963)-FIND(\"/\",SNPs!B963)+1),\"\")","v":""},{"$f":"IF(SNPs!B963<>\"\",SNPs!B963,\"\")","v":""}]
[{"$f":"IF(SNPs!A964<>\"\",SNPs!A964,\"\")","v":""},{"$f":"IF(SNPs!B964<>\"\",MID(SNPs!B964,FIND(\"[\",SNPs!B964)+1,FIND(\"/\",SNPs!B964)-FIND(\"[\",SNPs!B964)-1),\"\")","v":""},{"$f":"IF(SNPs!B964<>\"\",MID(SNPs!B964,FIND(\"[\",SNPs!B964)+3,FIND(\"/\",SNPs!B964)-FIND(\"/\",SNPs!B964)+1),\"\")","v":""},{"$f":"IF(SNPs!B964<>\"\",SNPs!B964,\"\")","v":""}]
[{"$f":"IF(SNPs!A965<>\"\",SNPs!A965,\"\")","v":""},{"$f":"IF(SNPs!B965<>\"\",MID(SNPs!B965,FIND(\"[\",SNPs!B965)+1,FIND(\"/\",SNPs!B965)-FIND(\"[\",SNPs!B965)-1),\"\")","v":""},{"$f":"IF(SNPs!B965<>\"\",MID(SNPs!B965,FIND(\"[\",SNPs!B965)+3,FIND(\"/\",SNPs!B965)-FIND(\"/\",SNPs!B965)+1),\"\")","v":""},{"$f":"IF(SNPs!B965<>\"\",SNPs!B965,\"\")","v":""}]
[{"$f":"IF(SNPs!A966<>\"\",SNPs!A966,\"\")","v":""},{"$f":"IF(SNPs!B966<>\"\",MID(SNPs!B966,FIND(\"[\",SNPs!B966)+1,FIND(\"/\",SNPs!B966)-FIND(\"[\",SNPs!B966)-1),\"\")","v":""},{"$f":"IF(SNPs!B966<>\"\",MID(SNPs!B966,FIND(\"[\",SNPs!B966)+3,FIND(\"/\",SNPs!B966)-FIND(\"/\",SNPs!B966)+1),\"\")","v":""},{"$f":"IF(SNPs!B966<>\"\",SNPs!B966,\"\")","v":""}]
[{"$f":"IF(SNPs!A967<>\"\",SNPs!A967,\"\")","v":""},{"$f":"IF(SNPs!B967<>\"\",MID(SNPs!B967,FIND(\"[\",SNPs!B967)+1,FIND(\"/\",SNPs!B967)-FIND(\"[\",SNPs!B967)-1),\"\")","v":""},{"$f":"IF(SNPs!B967<>\"\",MID(SNPs!B967,FIND(\"[\",SNPs!B967)+3,FIND(\"/\",SNPs!B967)-FIND(\"/\",SNPs!B967)+1),\"\")","v":""},{"$f":"IF(SNPs!B967<>\"\",SNPs!B967,\"\")","v":""}]
[{"$f":"IF(SNPs!A968<>\"\",SNPs!A968,\"\")","v":""},{"$f":"IF(SNPs!B968<>\"\",MID(SNPs!B968,FIND(\"[\",SNPs!B968)+1,FIND(\"/\",SNPs!B968)-FIND(\"[\",SNPs!B968)-1),\"\")","v":""},{"$f":"IF(SNPs!B968<>\"\",MID(SNPs!B968,FIND(\"[\",SNPs!B968)+3,FIND(\"/\",SNPs!B968)-FIND(\"/\",SNPs!B968)+1),\"\")","v":""},{"$f":"IF(SNPs!B968<>\"\",SNPs!B968,\"\")","v":""}]
[{"$f":"IF(SNPs!A969<>\"\",SNPs!A969,\"\")","v":""},{"$f":"IF(SNPs!B969<>\"\",MID(SNPs!B969,FIND(\"[\",SNPs!B969)+1,FIND(\"/\",SNPs!B969)-FIND(\"[\",SNPs!B969)-1),\"\")","v":""},{"$f":"IF(SNPs!B969<>\"\",MID(SNPs!B969,FIND(\"[\",SNPs!B969)+3,FIND(\"/\",SNPs!B969)-FIND(\"/\",SNPs!B969)+1),\"\")","v":""},{"$f":"IF(SNPs!B969<>\"\",SNPs!B969,\"\")","v":""}]
[{"$f":"IF(SNPs!A970<>\"\",SNPs!A970,\"\")","v":""},{"$f":"IF(SNPs!B970<>\"\",MID(SNPs!B970,FIND(\"[\",SNPs!B970)+1,FIND(\"/\",SNPs!B970)-FIND(\"[\",SNPs!B970)-1),\"\")","v":""},{"$f":"IF(SNPs!B970<>\"\",MID(SNPs!B970,FIND(\"[\",SNPs!B970)+3,FIND(\"/\",SNPs!B970)-FIND(\"/\",SNPs!B970)+1),\"\")","v":""},{"$f":"IF(SNPs!B970<>\"\",SNPs!B970,\"\")","v":""}]
[{"$f":"IF(SNPs!A971<>\"\",SNPs!A971,\"\")","v":""},{"$f":"IF(SNPs!B971<>\"\",MID(SNPs!B971,FIND(\"[\",SNPs!B971)+1,FIND(\"/\",SNPs!B971)-FIND(\"[\",SNPs!B971)-1),\"\")","v":""},{"$f":"IF(SNPs!B971<>\"\",MID(SNPs!B971,FIND(\"[\",SNPs!B971)+3,FIND(\"/\",SNPs!B971)-FIND(\"/\",SNPs!B971)+1),\"\")","v":""},{"$f":"IF(SNPs!B971<>\"\",SNPs!B971,\"\")","v":""}]
[{"$f":"IF(SNPs!A972<>\"\",SNPs!A972,\"\")","v":""},{"$f":"IF(SNPs!B972<>\"\",MID(SNPs!B972,FIND(\"[\",SNPs!B972)+1,FIND(\"/\",SNPs!B972)-FIND(\"[\",SNPs!B972)-1),\"\")","v":""},{"$f":"IF(SNPs!B972<>\"\",MID(SNPs!B972,FIND(\"[\",SNPs!B972)+3,FIND(\"/\",SNPs!B972)-FIND(\"/\",SNPs!B972)+1),\"\")","v":""},{"$f":"IF(SNPs!B972<>\"\",SNPs!B972,\"\")","v":""}]
[{"$f":"IF(SNPs!A973<>\"\",SNPs!A973,\"\")","v":""},{"$f":"IF(SNPs!B973<>\"\",MID(SNPs!B973,FIND(\"[\",SNPs!B973)+1,FIND(\"/\",SNPs!B973)-FIND(\"[\",SNPs!B973)-1),\"\")","v":""},{"$f":"IF(SNPs!B973<>\"\",MID(SNPs!B973,FIND(\"[\",SNPs!B973)+3,FIND(\"/\",SNPs!B973)-FIND(\"/\",SNPs!B973)+1),\"\")","v":""},{"$f":"IF(SNPs!B973<>\"\",SNPs!B973,\"\")","v":""}]
[{"$f":"IF(SNPs!A974<>\"\",SNPs!A974,\"\")","v":""},{"$f":"IF(SNPs!B974<>\"\",MID(SNPs!B974,FIND(\"[\",SNPs!B974)+1,FIND(\"/\",SNPs!B974)-FIND(\"[\",SNPs!B974)-1),\"\")","v":""},{"$f":"IF(SNPs!B974<>\"\",MID(SNPs!B974,FIND(\"[\",SNPs!B974)+3,FIND(\"/\",SNPs!B974)-FIND(\"/\",SNPs!B974)+1),\"\")","v":""},{"$f":"IF(SNPs!B974<>\"\",SNPs!B974,\"\")","v":""}]
[{"$f":"IF(SNPs!A975<>\"\",SNPs!A975,\"\")","v":""},{"$f":"IF(SNPs!B975<>\"\",MID(SNPs!B975,FIND(\"[\",SNPs!B975)+1,FIND(\"/\",SNPs!B975)-FIND(\"[\",SNPs!B975)-1),\"\")","v":""},{"$f":"IF(SNPs!B975<>\"\",MID(SNPs!B975,FIND(\"[\",SNPs!B975)+3,FIND(\"/\",SNPs!B975)-FIND(\"/\",SNPs!B975)+1),\"\")","v":""},{"$f":"IF(SNPs!B975<>\"\",SNPs!B975,\"\")","v":""}]
[{"$f":"IF(SNPs!A976<>\"\",SNPs!A976,\"\")","v":""},{"$f":"IF(SNPs!B976<>\"\",MID(SNPs!B976,FIND(\"[\",SNPs!B976)+1,FIND(\"/\",SNPs!B976)-FIND(\"[\",SNPs!B976)-1),\"\")","v":""},{"$f":"IF(SNPs!B976<>\"\",MID(SNPs!B976,FIND(\"[\",SNPs!B976)+3,FIND(\"/\",SNPs!B976)-FIND(\"/\",SNPs!B976)+1),\"\")","v":""},{"$f":"IF(SNPs!B976<>\"\",SNPs!B976,\"\")","v":""}]
[{"$f":"IF(SNPs!A977<>\"\",SNPs!A977,\"\")","v":""},{"$f":"IF(SNPs!B977<>\"\",MID(SNPs!B977,FIND(\"[\",SNPs!B977)+1,FIND(\"/\",SNPs!B977)-FIND(\"[\",SNPs!B977)-1),\"\")","v":""},{"$f":"IF(SNPs!B977<>\"\",MID(SNPs!B977,FIND(\"[\",SNPs!B977)+3,FIND(\"/\",SNPs!B977)-FIND(\"/\",SNPs!B977)+1),\"\")","v":""},{"$f":"IF(SNPs!B977<>\"\",SNPs!B977,\"\")","v":""}]
[{"$f":"IF(SNPs!A978<>\"\",SNPs!A978,\"\")","v":""},{"$f":"IF(SNPs!B978<>\"\",MID(SNPs!B978,FIND(\"[\",SNPs!B978)+1,FIND(\"/\",SNPs!B978)-FIND(\"[\",SNPs!B978)-1),\"\")","v":""},{"$f":"IF(SNPs!B978<>\"\",MID(SNPs!B978,FIND(\"[\",SNPs!B978)+3,FIND(\"/\",SNPs!B978)-FIND(\"/\",SNPs!B978)+1),\"\")","v":""},{"$f":"IF(SNPs!B978<>\"\",SNPs!B978,\"\")","v":""}]
[{"$f":"IF(SNPs!A979<>\"\",SNPs!A979,\"\")","v":""},{"$f":"IF(SNPs!B979<>\"\",MID(SNPs!B979,FIND(\"[\",SNPs!B979)+1,FIND(\"/\",SNPs!B979)-FIND(\"[\",SNPs!B979)-1),\"\")","v":""},{"$f":"IF(SNPs!B979<>\"\",MID(SNPs!B979,FIND(\"[\",SNPs!B979)+3,FIND(\"/\",SNPs!B979)-FIND(\"/\",SNPs!B979)+1),\"\")","v":""},{"$f":"IF(SNPs!B979<>\"\",SNPs!B979,\"\")","v":""}]
[{"$f":"IF(SNPs!A980<>\"\",SNPs!A980,\"\")","v":""},{"$f":"IF(SNPs!B980<>\"\",MID(SNPs!B980,FIND(\"[\",SNPs!B980)+1,FIND(\"/\",SNPs!B980)-FIND(\"[\",SNPs!B980)-1),\"\")","v":""},{"$f":"IF(SNPs!B980<>\"\",MID(SNPs!B980,FIND(\"[\",SNPs!B980)+3,FIND(\"/\",SNPs!B980)-FIND(\"/\",SNPs!B980)+1),\"\")","v":""},{"$f":"IF(SNPs!B980<>\"\",SNPs!B980,\"\")","v":""}]
[{"$f":"IF(SNPs!A981<>\"\",SNPs!A981,\"\")","v":""},{"$f":"IF(SNPs!B981<>\"\",MID(SNPs!B981,FIND(\"[\",SNPs!B981)+1,FIND(\"/\",SNPs!B981)-FIND(\"[\",SNPs!B981)-1),\"\")","v":""},{"$f":"IF(SNPs!B981<>\"\",MID(SNPs!B981,FIND(\"[\",SNPs!B981)+3,FIND(\"/\",SNPs!B981)-FIND(\"/\",SNPs!B981)+1),\"\")","v":""},{"$f":"IF(SNPs!B981<>\"\",SNPs!B981,\"\")","v":""}]
[{"$f":"IF(SNPs!A982<>\"\",SNPs!A982,\"\")","v":""},{"$f":"IF(SNPs!B982<>\"\",MID(SNPs!B982,FIND(\"[\",SNPs!B982)+1,FIND(\"/\",SNPs!B982)-FIND(\"[\",SNPs!B982)-1),\"\")","v":""},{"$f":"IF(SNPs!B982<>\"\",MID(SNPs!B982,FIND(\"[\",SNPs!B982)+3,FIND(\"/\",SNPs!B982)-FIND(\"/\",SNPs!B982)+1),\"\")","v":""},{"$f":"IF(SNPs!B982<>\"\",SNPs!B982,\"\")","v":""}]
[{"$f":"IF(SNPs!A983<>\"\",SNPs!A983,\"\")","v":""},{"$f":"IF(SNPs!B983<>\"\",MID(SNPs!B983,FIND(\"[\",SNPs!B983)+1,FIND(\"/\",SNPs!B983)-FIND(\"[\",SNPs!B983)-1),\"\")","v":""},{"$f":"IF(SNPs!B983<>\"\",MID(SNPs!B983,FIND(\"[\",SNPs!B983)+3,FIND(\"/\",SNPs!B983)-FIND(\"/\",SNPs!B983)+1),\"\")","v":""},{"$f":"IF(SNPs!B983<>\"\",SNPs!B983,\"\")","v":""}]
[{"$f":"IF(SNPs!A984<>\"\",SNPs!A984,\"\")","v":""},{"$f":"IF(SNPs!B984<>\"\",MID(SNPs!B984,FIND(\"[\",SNPs!B984)+1,FIND(\"/\",SNPs!B984)-FIND(\"[\",SNPs!B984)-1),\"\")","v":""},{"$f":"IF(SNPs!B984<>\"\",MID(SNPs!B984,FIND(\"[\",SNPs!B984)+3,FIND(\"/\",SNPs!B984)-FIND(\"/\",SNPs!B984)+1),\"\")","v":""},{"$f":"IF(SNPs!B984<>\"\",SNPs!B984,\"\")","v":""}]
[{"$f":"IF(SNPs!A985<>\"\",SNPs!A985,\"\")","v":""},{"$f":"IF(SNPs!B985<>\"\",MID(SNPs!B985,FIND(\"[\",SNPs!B985)+1,FIND(\"/\",SNPs!B985)-FIND(\"[\",SNPs!B985)-1),\"\")","v":""},{"$f":"IF(SNPs!B985<>\"\",MID(SNPs!B985,FIND(\"[\",SNPs!B985)+3,FIND(\"/\",SNPs!B985)-FIND(\"/\",SNPs!B985)+1),\"\")","v":""},{"$f":"IF(SNPs!B985<>\"\",SNPs!B985,\"\")","v":""}]
[{"$f":"IF(SNPs!A986<>\"\",SNPs!A986,\"\")","v":""},{"$f":"IF(SNPs!B986<>\"\",MID(SNPs!B986,FIND(\"[\",SNPs!B986)+1,FIND(\"/\",SNPs!B986)-FIND(\"[\",SNPs!B986)-1),\"\")","v":""},{"$f":"IF(SNPs!B986<>\"\",MID(SNPs!B986,FIND(\"[\",SNPs!B986)+3,FIND(\"/\",SNPs!B986)-FIND(\"/\",SNPs!B986)+1),\"\")","v":""},{"$f":"IF(SNPs!B986<>\"\",SNPs!B986,\"\")","v":""}]
[{"$f":"IF(SNPs!A987<>\"\",SNPs!A987,\"\")","v":""},{"$f":"IF(SNPs!B987<>\"\",MID(SNPs!B987,FIND(\"[\",SNPs!B987)+1,FIND(\"/\",SNPs!B987)-FIND(\"[\",SNPs!B987)-1),\"\")","v":""},{"$f":"IF(SNPs!B987<>\"\",MID(SNPs!B987,FIND(\"[\",SNPs!B987)+3,FIND(\"/\",SNPs!B987)-FIND(\"/\",SNPs!B987)+1),\"\")","v":""},{"$f":"IF(SNPs!B987<>\"\",SNPs!B987,\"\")","v":""}]
[{"$f":"IF(SNPs!A988<>\"\",SNPs!A988,\"\")","v":""},{"$f":"IF(SNPs!B988<>\"\",MID(SNPs!B988,FIND(\"[\",SNPs!B988)+1,FIND(\"/\",SNPs!B988)-FIND(\"[\",SNPs!B988)-1),\"\")","v":""},{"$f":"IF(SNPs!B988<>\"\",MID(SNPs!B988,FIND(\"[\",SNPs!B988)+3,FIND(\"/\",SNPs!B988)-FIND(\"/\",SNPs!B988)+1),\"\")","v":""},{"$f":"IF(SNPs!B988<>\"\",SNPs!B988,\"\")","v":""}]
[{"$f":"IF(SNPs!A989<>\"\",SNPs!A989,\"\")","v":""},{"$f":"IF(SNPs!B989<>\"\",MID(SNPs!B989,FIND(\"[\",SNPs!B989)+1,FIND(\"/\",SNPs!B989)-FIND(\"[\",SNPs!B989)-1),\"\")","v":""},{"$f":"IF(SNPs!B989<>\"\",MID(SNPs!B989,FIND(\"[\",SNPs!B989)+3,FIND(\"/\",SNPs!B989)-FIND(\"/\",SNPs!B989)+1),\"\")","v":""},{"$f":"IF(SNPs!B989<>\"\",SNPs!B989,\"\")","v":""}]
[{"$f":"IF(SNPs!A990<>\"\",SNPs!A990,\"\")","v":""},{"$f":"IF(SNPs!B990<>\"\",MID(SNPs!B990,FIND(\"[\",SNPs!B990)+1,FIND(\"/\",SNPs!B990)-FIND(\"[\",SNPs!B990)-1),\"\")","v":""},{"$f":"IF(SNPs!B990<>\"\",MID(SNPs!B990,FIND(\"[\",SNPs!B990)+3,FIND(\"/\",SNPs!B990)-FIND(\"/\",SNPs!B990)+1),\"\")","v":""},{"$f":"IF(SNPs!B990<>\"\",SNPs!B990,\"\")","v":""}]
[{"$f":"IF(SNPs!A991<>\"\",SNPs!A991,\"\")","v":""},{"$f":"IF(SNPs!B991<>\"\",MID(SNPs!B991,FIND(\"[\",SNPs!B991)+1,FIND(\"/\",SNPs!B991)-FIND(\"[\",SNPs!B991)-1),\"\")","v":""},{"$f":"IF(SNPs!B991<>\"\",MID(SNPs!B991,FIND(\"[\",SNPs!B991)+3,FIND(\"/\",SNPs!B991)-FIND(\"/\",SNPs!B991)+1),\"\")","v":""},{"$f":"IF(SNPs!B991<>\"\",SNPs!B991,\"\")","v":""}]
[{"$f":"IF(SNPs!A992<>\"\",SNPs!A992,\"\")","v":""},{"$f":"IF(SNPs!B992<>\"\",MID(SNPs!B992,FIND(\"[\",SNPs!B992)+1,FIND(\"/\",SNPs!B992)-FIND(\"[\",SNPs!B992)-1),\"\")","v":""},{"$f":"IF(SNPs!B992<>\"\",MID(SNPs!B992,FIND(\"[\",SNPs!B992)+3,FIND(\"/\",SNPs!B992)-FIND(\"/\",SNPs!B992)+1),\"\")","v":""},{"$f":"IF(SNPs!B992<>\"\",SNPs!B992,\"\")","v":""}]
[{"$f":"IF(SNPs!A993<>\"\",SNPs!A993,\"\")","v":""},{"$f":"IF(SNPs!B993<>\"\",MID(SNPs!B993,FIND(\"[\",SNPs!B993)+1,FIND(\"/\",SNPs!B993)-FIND(\"[\",SNPs!B993)-1),\"\")","v":""},{"$f":"IF(SNPs!B993<>\"\",MID(SNPs!B993,FIND(\"[\",SNPs!B993)+3,FIND(\"/\",SNPs!B993)-FIND(\"/\",SNPs!B993)+1),\"\")","v":""},{"$f":"IF(SNPs!B993<>\"\",SNPs!B993,\"\")","v":""}]
[{"$f":"IF(SNPs!A994<>\"\",SNPs!A994,\"\")","v":""},{"$f":"IF(SNPs!B994<>\"\",MID(SNPs!B994,FIND(\"[\",SNPs!B994)+1,FIND(\"/\",SNPs!B994)-FIND(\"[\",SNPs!B994)-1),\"\")","v":""},{"$f":"IF(SNPs!B994<>\"\",MID(SNPs!B994,FIND(\"[\",SNPs!B994)+3,FIND(\"/\",SNPs!B994)-FIND(\"/\",SNPs!B994)+1),\"\")","v":""},{"$f":"IF(SNPs!B994<>\"\",SNPs!B994,\"\")","v":""}]
[{"$f":"IF(SNPs!A995<>\"\",SNPs!A995,\"\")","v":""},{"$f":"IF(SNPs!B995<>\"\",MID(SNPs!B995,FIND(\"[\",SNPs!B995)+1,FIND(\"/\",SNPs!B995)-FIND(\"[\",SNPs!B995)-1),\"\")","v":""},{"$f":"IF(SNPs!B995<>\"\",MID(SNPs!B995,FIND(\"[\",SNPs!B995)+3,FIND(\"/\",SNPs!B995)-FIND(\"/\",SNPs!B995)+1),\"\")","v":""},{"$f":"IF(SNPs!B995<>\"\",SNPs!B995,\"\")","v":""}]
[{"$f":"IF(SNPs!A996<>\"\",SNPs!A996,\"\")","v":""},{"$f":"IF(SNPs!B996<>\"\",MID(SNPs!B996,FIND(\"[\",SNPs!B996)+1,FIND(\"/\",SNPs!B996)-FIND(\"[\",SNPs!B996)-1),\"\")","v":""},{"$f":"IF(SNPs!B996<>\"\",MID(SNPs!B996,FIND(\"[\",SNPs!B996)+3,FIND(\"/\",SNPs!B996)-FIND(\"/\",SNPs!B996)+1),\"\")","v":""},{"$f":"IF(SNPs!B996<>\"\",SNPs!B996,\"\")","v":""}]
[{"$f":"IF(SNPs!A997<>\"\",SNPs!A997,\"\")","v":""},{"$f":"IF(SNPs!B997<>\"\",MID(SNPs!B997,FIND(\"[\",SNPs!B997)+1,FIND(\"/\",SNPs!B997)-FIND(\"[\",SNPs!B997)-1),\"\")","v":""},{"$f":"IF(SNPs!B997<>\"\",MID(SNPs!B997,FIND(\"[\",SNPs!B997)+3,FIND(\"/\",SNPs!B997)-FIND(\"/\",SNPs!B997)+1),\"\")","v":""},{"$f":"IF(SNPs!B997<>\"\",SNPs!B997,\"\")","v":""}]
[{"$f":"IF(SNPs!A998<>\"\",SNPs!A998,\"\")","v":""},{"$f":"IF(SNPs!B998<>\"\",MID(SNPs!B998,FIND(\"[\",SNPs!B998)+1,FIND(\"/\",SNPs!B998)-FIND(\"[\",SNPs!B998)-1),\"\")","v":""},{"$f":"IF(SNPs!B998<>\"\",MID(SNPs!B998,FIND(\"[\",SNPs!B998)+3,FIND(\"/\",SNPs!B998)-FIND(\"/\",SNPs!B998)+1),\"\")","v":""},{"$f":"IF(SNPs!B998<>\"\",SNPs!B998,\"\")","v":""}]
[{"$f":"IF(SNPs!A999<>\"\",SNPs!A999,\"\")","v":""},{"$f":"IF(SNPs!B999<>\"\",MID(SNPs!B999,FIND(\"[\",SNPs!B999)+1,FIND(\"/\",SNPs!B999)-FIND(\"[\",SNPs!B999)-1),\"\")","v":""},{"$f":"IF(SNPs!B999<>\"\",MID(SNPs!B999,FIND(\"[\",SNPs!B999)+3,FIND(\"/\",SNPs!B999)-FIND(\"/\",SNPs!B999)+1),\"\")","v":""},{"$f":"IF(SNPs!B999<>\"\",SNPs!B999,\"\")","v":""}]
[{"$f":"IF(SNPs!A1000<>\"\",SNPs!A1000,\"\")","v":""},{"$f":"IF(SNPs!B1000<>\"\",MID(SNPs!B1000,FIND(\"[\",SNPs!B1000)+1,FIND(\"/\",SNPs!B1000)-FIND(\"[\",SNPs!B1000)-1),\"\")","v":""},{"$f":"IF(SNPs!B1000<>\"\",MID(SNPs!B1000,FIND(\"[\",SNPs!B1000)+3,FIND(\"/\",SNPs!B1000)-FIND(\"/\",SNPs!B1000)+1),\"\")","v":""},{"$f":"IF(SNPs!B1000<>\"\",SNPs!B1000,\"\")","v":""}]
[{"$f":"IF(SNPs!A1001<>\"\",SNPs!A1001,\"\")","v":""},{"$f":"IF(SNPs!B1001<>\"\",MID(SNPs!B1001,FIND(\"[\",SNPs!B1001)+1,FIND(\"/\",SNPs!B1001)-FIND(\"[\",SNPs!B1001)-1),\"\")","v":""},{"$f":"IF(SNPs!B1001<>\"\",MID(SNPs!B1001,FIND(\"[\",SNPs!B1001)+3,FIND(\"/\",SNPs!B1001)-FIND(\"/\",SNPs!B1001)+1),\"\")","v":""},{"$f":"IF(SNPs!B1001<>\"\",SNPs!B1001,\"\")","v":""}]
[{"$f":"IF(SNPs!A1002<>\"\",SNPs!A1002,\"\")","v":""},{"$f":"IF(SNPs!B1002<>\"\",MID(SNPs!B1002,FIND(\"[\",SNPs!B1002)+1,FIND(\"/\",SNPs!B1002)-FIND(\"[\",SNPs!B1002)-1),\"\")","v":""},{"$f":"IF(SNPs!B1002<>\"\",MID(SNPs!B1002,FIND(\"[\",SNPs!B1002)+3,FIND(\"/\",SNPs!B1002)-FIND(\"/\",SNPs!B1002)+1),\"\")","v":""},{"$f":"IF(SNPs!B1002<>\"\",SNPs!B1002,\"\")","v":""}]
[{"$f":"IF(SNPs!A1003<>\"\",SNPs!A1003,\"\")","v":""},{"$f":"IF(SNPs!B1003<>\"\",MID(SNPs!B1003,FIND(\"[\",SNPs!B1003)+1,FIND(\"/\",SNPs!B1003)-FIND(\"[\",SNPs!B1003)-1),\"\")","v":""},{"$f":"IF(SNPs!B1003<>\"\",MID(SNPs!B1003,FIND(\"[\",SNPs!B1003)+3,FIND(\"/\",SNPs!B1003)-FIND(\"/\",SNPs!B1003)+1),\"\")","v":""},{"$f":"IF(SNPs!B1003<>\"\",SNPs!B1003,\"\")","v":""}]
[{"$f":"IF(SNPs!A1004<>\"\",SNPs!A1004,\"\")","v":""},{"$f":"IF(SNPs!B1004<>\"\",MID(SNPs!B1004,FIND(\"[\",SNPs!B1004)+1,FIND(\"/\",SNPs!B1004)-FIND(\"[\",SNPs!B1004)-1),\"\")","v":""},{"$f":"IF(SNPs!B1004<>\"\",MID(SNPs!B1004,FIND(\"[\",SNPs!B1004)+3,FIND(\"/\",SNPs!B1004)-FIND(\"/\",SNPs!B1004)+1),\"\")","v":""},{"$f":"IF(SNPs!B1004<>\"\",SNPs!B1004,\"\")","v":""}]
[{"$f":"IF(SNPs!A1005<>\"\",SNPs!A1005,\"\")","v":""},{"$f":"IF(SNPs!B1005<>\"\",MID(SNPs!B1005,FIND(\"[\",SNPs!B1005)+1,FIND(\"/\",SNPs!B1005)-FIND(\"[\",SNPs!B1005)-1),\"\")","v":""},{"$f":"IF(SNPs!B1005<>\"\",MID(SNPs!B1005,FIND(\"[\",SNPs!B1005)+3,FIND(\"/\",SNPs!B1005)-FIND(\"/\",SNPs!B1005)+1),\"\")","v":""},{"$f":"IF(SNPs!B1005<>\"\",SNPs!B1005,\"\")","v":""}]
[{"$f":"IF(SNPs!A1006<>\"\",SNPs!A1006,\"\")","v":""},{"$f":"IF(SNPs!B1006<>\"\",MID(SNPs!B1006,FIND(\"[\",SNPs!B1006)+1,FIND(\"/\",SNPs!B1006)-FIND(\"[\",SNPs!B1006)-1),\"\")","v":""},{"$f":"IF(SNPs!B1006<>\"\",MID(SNPs!B1006,FIND(\"[\",SNPs!B1006)+3,FIND(\"/\",SNPs!B1006)-FIND(\"/\",SNPs!B1006)+1),\"\")","v":""},{"$f":"IF(SNPs!B1006<>\"\",SNPs!B1006,\"\")","v":""}]
[{"$f":"IF(SNPs!A1007<>\"\",SNPs!A1007,\"\")","v":""},{"$f":"IF(SNPs!B1007<>\"\",MID(SNPs!B1007,FIND(\"[\",SNPs!B1007)+1,FIND(\"/\",SNPs!B1007)-FIND(\"[\",SNPs!B1007)-1),\"\")","v":""},{"$f":"IF(SNPs!B1007<>\"\",MID(SNPs!B1007,FIND(\"[\",SNPs!B1007)+3,FIND(\"/\",SNPs!B1007)-FIND(\"/\",SNPs!B1007)+1),\"\")","v":""},{"$f":"IF(SNPs!B1007<>\"\",SNPs!B1007,\"\")","v":""}]
[{"$f":"IF(SNPs!A1008<>\"\",SNPs!A1008,\"\")","v":""},{"$f":"IF(SNPs!B1008<>\"\",MID(SNPs!B1008,FIND(\"[\",SNPs!B1008)+1,FIND(\"/\",SNPs!B1008)-FIND(\"[\",SNPs!B1008)-1),\"\")","v":""},{"$f":"IF(SNPs!B1008<>\"\",MID(SNPs!B1008,FIND(\"[\",SNPs!B1008)+3,FIND(\"/\",SNPs!B1008)-FIND(\"/\",SNPs!B1008)+1),\"\")","v":""},{"$f":"IF(SNPs!B1008<>\"\",SNPs!B1008,\"\")","v":""}]
[{"$f":"IF(SNPs!A1009<>\"\",SNPs!A1009,\"\")","v":""},{"$f":"IF(SNPs!B1009<>\"\",MID(SNPs!B1009,FIND(\"[\",SNPs!B1009)+1,FIND(\"/\",SNPs!B1009)-FIND(\"[\",SNPs!B1009)-1),\"\")","v":""},{"$f":"IF(SNPs!B1009<>\"\",MID(SNPs!B1009,FIND(\"[\",SNPs!B1009)+3,FIND(\"/\",SNPs!B1009)-FIND(\"/\",SNPs!B1009)+1),\"\")","v":""},{"$f":"IF(SNPs!B1009<>\"\",SNPs!B1009,\"\")","v":""}]
[{"$f":"IF(SNPs!A1010<>\"\",SNPs!A1010,\"\")","v":""},{"$f":"IF(SNPs!B1010<>\"\",MID(SNPs!B1010,FIND(\"[\",SNPs!B1010)+1,FIND(\"/\",SNPs!B1010)-FIND(\"[\",SNPs!B1010)-1),\"\")","v":""},{"$f":"IF(SNPs!B1010<>\"\",MID(SNPs!B1010,FIND(\"[\",SNPs!B1010)+3,FIND(\"/\",SNPs!B1010)-FIND(\"/\",SNPs!B1010)+1),\"\")","v":""},{"$f":"IF(SNPs!B1010<>\"\",SNPs!B1010,\"\")","v":""}]
[{"$f":"IF(SNPs!A1011<>\"\",SNPs!A1011,\"\")","v":""},{"$f":"IF(SNPs!B1011<>\"\",MID(SNPs!B1011,FIND(\"[\",SNPs!B1011)+1,FIND(\"/\",SNPs!B1011)-FIND(\"[\",SNPs!B1011)-1),\"\")","v":""},{"$f":"IF(SNPs!B1011<>\"\",MID(SNPs!B1011,FIND(\"[\",SNPs!B1011)+3,FIND(\"/\",SNPs!B1011)-FIND(\"/\",SNPs!B1011)+1),\"\")","v":""},{"$f":"IF(SNPs!B1011<>\"\",SNPs!B1011,\"\")","v":""}]
[{"$f":"IF(SNPs!A1012<>\"\",SNPs!A1012,\"\")","v":""},{"$f":"IF(SNPs!B1012<>\"\",MID(SNPs!B1012,FIND(\"[\",SNPs!B1012)+1,FIND(\"/\",SNPs!B1012)-FIND(\"[\",SNPs!B1012)-1),\"\")","v":""},{"$f":"IF(SNPs!B1012<>\"\",MID(SNPs!B1012,FIND(\"[\",SNPs!B1012)+3,FIND(\"/\",SNPs!B1012)-FIND(\"/\",SNPs!B1012)+1),\"\")","v":""},{"$f":"IF(SNPs!B1012<>\"\",SNPs!B1012,\"\")","v":""}]
[{"$f":"IF(SNPs!A1013<>\"\",SNPs!A1013,\"\")","v":""},{"$f":"IF(SNPs!B1013<>\"\",MID(SNPs!B1013,FIND(\"[\",SNPs!B1013)+1,FIND(\"/\",SNPs!B1013)-FIND(\"[\",SNPs!B1013)-1),\"\")","v":""},{"$f":"IF(SNPs!B1013<>\"\",MID(SNPs!B1013,FIND(\"[\",SNPs!B1013)+3,FIND(\"/\",SNPs!B1013)-FIND(\"/\",SNPs!B1013)+1),\"\")","v":""},{"$f":"IF(SNPs!B1013<>\"\",SNPs!B1013,\"\")","v":""}]
[{"$f":"IF(SNPs!A1014<>\"\",SNPs!A1014,\"\")","v":""},{"$f":"IF(SNPs!B1014<>\"\",MID(SNPs!B1014,FIND(\"[\",SNPs!B1014)+1,FIND(\"/\",SNPs!B1014)-FIND(\"[\",SNPs!B1014)-1),\"\")","v":""},{"$f":"IF(SNPs!B1014<>\"\",MID(SNPs!B1014,FIND(\"[\",SNPs!B1014)+3,FIND(\"/\",SNPs!B1014)-FIND(\"/\",SNPs!B1014)+1),\"\")","v":""},{"$f":"IF(SNPs!B1014<>\"\",SNPs!B1014,\"\")","v":""}]
[{"$f":"IF(SNPs!A1015<>\"\",SNPs!A1015,\"\")","v":""},{"$f":"IF(SNPs!B1015<>\"\",MID(SNPs!B1015,FIND(\"[\",SNPs!B1015)+1,FIND(\"/\",SNPs!B1015)-FIND(\"[\",SNPs!B1015)-1),\"\")","v":""},{"$f":"IF(SNPs!B1015<>\"\",MID(SNPs!B1015,FIND(\"[\",SNPs!B1015)+3,FIND(\"/\",SNPs!B1015)-FIND(\"/\",SNPs!B1015)+1),\"\")","v":""},{"$f":"IF(SNPs!B1015<>\"\",SNPs!B1015,\"\")","v":""}]
[{"$f":"IF(SNPs!A1016<>\"\",SNPs!A1016,\"\")","v":""},{"$f":"IF(SNPs!B1016<>\"\",MID(SNPs!B1016,FIND(\"[\",SNPs!B1016)+1,FIND(\"/\",SNPs!B1016)-FIND(\"[\",SNPs!B1016)-1),\"\")","v":""},{"$f":"IF(SNPs!B1016<>\"\",MID(SNPs!B1016,FIND(\"[\",SNPs!B1016)+3,FIND(\"/\",SNPs!B1016)-FIND(\"/\",SNPs!B1016)+1),\"\")","v":""},{"$f":"IF(SNPs!B1016<>\"\",SNPs!B1016,\"\")","v":""}]
[{"$f":"IF(SNPs!A1017<>\"\",SNPs!A1017,\"\")","v":""},{"$f":"IF(SNPs!B1017<>\"\",MID(SNPs!B1017,FIND(\"[\",SNPs!B1017)+1,FIND(\"/\",SNPs!B1017)-FIND(\"[\",SNPs!B1017)-1),\"\")","v":""},{"$f":"IF(SNPs!B1017<>\"\",MID(SNPs!B1017,FIND(\"[\",SNPs!B1017)+3,FIND(\"/\",SNPs!B1017)-FIND(\"/\",SNPs!B1017)+1),\"\")","v":""},{"$f":"IF(SNPs!B1017<>\"\",SNPs!B1017,\"\")","v":""}]
[{"$f":"IF(SNPs!A1018<>\"\",SNPs!A1018,\"\")","v":""},{"$f":"IF(SNPs!B1018<>\"\",MID(SNPs!B1018,FIND(\"[\",SNPs!B1018)+1,FIND(\"/\",SNPs!B1018)-FIND(\"[\",SNPs!B1018)-1),\"\")","v":""},{"$f":"IF(SNPs!B1018<>\"\",MID(SNPs!B1018,FIND(\"[\",SNPs!B1018)+3,FIND(\"/\",SNPs!B1018)-FIND(\"/\",SNPs!B1018)+1),\"\")","v":""},{"$f":"IF(SNPs!B1018<>\"\",SNPs!B1018,\"\")","v":""}]
[{"$f":"IF(SNPs!A1019<>\"\",SNPs!A1019,\"\")","v":""},{"$f":"IF(SNPs!B1019<>\"\",MID(SNPs!B1019,FIND(\"[\",SNPs!B1019)+1,FIND(\"/\",SNPs!B1019)-FIND(\"[\",SNPs!B1019)-1),\"\")","v":""},{"$f":"IF(SNPs!B1019<>\"\",MID(SNPs!B1019,FIND(\"[\",SNPs!B1019)+3,FIND(\"/\",SNPs!B1019)-FIND(\"/\",SNPs!B1019)+1),\"\")","v":""},{"$f":"IF(SNPs!B1019<>\"\",SNPs!B1019,\"\")","v":""}]
[{"$f":"IF(SNPs!A1020<>\"\",SNPs!A1020,\"\")","v":""},{"$f":"IF(SNPs!B1020<>\"\",MID(SNPs!B1020,FIND(\"[\",SNPs!B1020)+1,FIND(\"/\",SNPs!B1020)-FIND(\"[\",SNPs!B1020)-1),\"\")","v":""},{"$f":"IF(SNPs!B1020<>\"\",MID(SNPs!B1020,FIND(\"[\",SNPs!B1020)+3,FIND(\"/\",SNPs!B1020)-FIND(\"/\",SNPs!B1020)+1),\"\")","v":""},{"$f":"IF(SNPs!B1020<>\"\",SNPs!B1020,\"\")","v":""}]
[{"$f":"IF(SNPs!A1021<>\"\",SNPs!A1021,\"\")","v":""},{"$f":"IF(SNPs!B1021<>\"\",MID(SNPs!B1021,FIND(\"[\",SNPs!B1021)+1,FIND(\"/\",SNPs!B1021)-FIND(\"[\",SNPs!B1021)-1),\"\")","v":""},{"$f":"IF(SNPs!B1021<>\"\",MID(SNPs!B1021,FIND(\"[\",SNPs!B1021)+3,FIND(\"/\",SNPs!B1021)-FIND(\"/\",SNPs!B1021)+1),\"\")","v":""},{"$f":"IF(SNPs!B1021<>\"\",SNPs!B1021,\"\")","v":""}]
[{"$f":"IF(SNPs!A1022<>\"\",SNPs!A1022,\"\")","v":""},{"$f":"IF(SNPs!B1022<>\"\",MID(SNPs!B1022,FIND(\"[\",SNPs!B1022)+1,FIND(\"/\",SNPs!B1022)-FIND(\"[\",SNPs!B1022)-1),\"\")","v":""},{"$f":"IF(SNPs!B1022<>\"\",MID(SNPs!B1022,FIND(\"[\",SNPs!B1022)+3,FIND(\"/\",SNPs!B1022)-FIND(\"/\",SNPs!B1022)+1),\"\")","v":""},{"$f":"IF(SNPs!B1022<>\"\",SNPs!B1022,\"\")","v":""}]
[{"$f":"IF(SNPs!A1023<>\"\",SNPs!A1023,\"\")","v":""},{"$f":"IF(SNPs!B1023<>\"\",MID(SNPs!B1023,FIND(\"[\",SNPs!B1023)+1,FIND(\"/\",SNPs!B1023)-FIND(\"[\",SNPs!B1023)-1),\"\")","v":""},{"$f":"IF(SNPs!B1023<>\"\",MID(SNPs!B1023,FIND(\"[\",SNPs!B1023)+3,FIND(\"/\",SNPs!B1023)-FIND(\"/\",SNPs!B1023)+1),\"\")","v":""},{"$f":"IF(SNPs!B1023<>\"\",SNPs!B1023,\"\")","v":""}]
[{"$f":"IF(SNPs!A1024<>\"\",SNPs!A1024,\"\")","v":""},{"$f":"IF(SNPs!B1024<>\"\",MID(SNPs!B1024,FIND(\"[\",SNPs!B1024)+1,FIND(\"/\",SNPs!B1024)-FIND(\"[\",SNPs!B1024)-1),\"\")","v":""},{"$f":"IF(SNPs!B1024<>\"\",MID(SNPs!B1024,FIND(\"[\",SNPs!B1024)+3,FIND(\"/\",SNPs!B1024)-FIND(\"/\",SNPs!B1024)+1),\"\")","v":""},{"$f":"IF(SNPs!B1024<>\"\",SNPs!B1024,\"\")","v":""}]
[{"$f":"IF(SNPs!A1025<>\"\",SNPs!A1025,\"\")","v":""},{"$f":"IF(SNPs!B1025<>\"\",MID(SNPs!B1025,FIND(\"[\",SNPs!B1025)+1,FIND(\"/\",SNPs!B1025)-FIND(\"[\",SNPs!B1025)-1),\"\")","v":""},{"$f":"IF(SNPs!B1025<>\"\",MID(SNPs!B1025,FIND(\"[\",SNPs!B1025)+3,FIND(\"/\",SNPs!B1025)-FIND(\"/\",SNPs!B1025)+1),\"\")","v":""},{"$f":"IF(SNPs!B1025<>\"\",SNPs!B1025,\"\")","v":""}]
[{"$f":"IF(SNPs!A1026<>\"\",SNPs!A1026,\"\")","v":""},{"$f":"IF(SNPs!B1026<>\"\",MID(SNPs!B1026,FIND(\"[\",SNPs!B1026)+1,FIND(\"/\",SNPs!B1026)-FIND(\"[\",SNPs!B1026)-1),\"\")","v":""},{"$f":"IF(SNPs!B1026<>\"\",MID(SNPs!B1026,FIND(\"[\",SNPs!B1026)+3,FIND(\"/\",SNPs!B1026)-FIND(\"/\",SNPs!B1026)+1),\"\")","v":""},{"$f":"IF(SNPs!B1026<>\"\",SNPs!B1026,\"\")","v":""}]
[{"$f":"IF(SNPs!A1027<>\"\",SNPs!A1027,\"\")","v":""},{"$f":"IF(SNPs!B1027<>\"\",MID(SNPs!B1027,FIND(\"[\",SNPs!B1027)+1,FIND(\"/\",SNPs!B1027)-FIND(\"[\",SNPs!B1027)-1),\"\")","v":""},{"$f":"IF(SNPs!B1027<>\"\",MID(SNPs!B1027,FIND(\"[\",SNPs!B1027)+3,FIND(\"/\",SNPs!B1027)-FIND(\"/\",SNPs!B1027)+1),\"\")","v":""},{"$f":"IF(SNPs!B1027<>\"\",SNPs!B1027,\"\")","v":""}]
[{"$f":"IF(SNPs!A1028<>\"\",SNPs!A1028,\"\")","v":""},{"$f":"IF(SNPs!B1028<>\"\",MID(SNPs!B1028,FIND(\"[\",SNPs!B1028)+1,FIND(\"/\",SNPs!B1028)-FIND(\"[\",SNPs!B1028)-1),\"\")","v":""},{"$f":"IF(SNPs!B1028<>\"\",MID(SNPs!B1028,FIND(\"[\",SNPs!B1028)+3,FIND(\"/\",SNPs!B1028)-FIND(\"/\",SNPs!B1028)+1),\"\")","v":""},{"$f":"IF(SNPs!B1028<>\"\",SNPs!B1028,\"\")","v":""}]
[{"$f":"IF(SNPs!A1029<>\"\",SNPs!A1029,\"\")","v":""},{"$f":"IF(SNPs!B1029<>\"\",MID(SNPs!B1029,FIND(\"[\",SNPs!B1029)+1,FIND(\"/\",SNPs!B1029)-FIND(\"[\",SNPs!B1029)-1),\"\")","v":""},{"$f":"IF(SNPs!B1029<>\"\",MID(SNPs!B1029,FIND(\"[\",SNPs!B1029)+3,FIND(\"/\",SNPs!B1029)-FIND(\"/\",SNPs!B1029)+1),\"\")","v":""},{"$f":"IF(SNPs!B1029<>\"\",SNPs!B1029,\"\")","v":""}]
[{"$f":"IF(SNPs!A1030<>\"\",SNPs!A1030,\"\")","v":""},{"$f":"IF(SNPs!B1030<>\"\",MID(SNPs!B1030,FIND(\"[\",SNPs!B1030)+1,FIND(\"/\",SNPs!B1030)-FIND(\"[\",SNPs!B1030)-1),\"\")","v":""},{"$f":"IF(SNPs!B1030<>\"\",MID(SNPs!B1030,FIND(\"[\",SNPs!B1030)+3,FIND(\"/\",SNPs!B1030)-FIND(\"/\",SNPs!B1030)+1),\"\")","v":""},{"$f":"IF(SNPs!B1030<>\"\",SNPs!B1030,\"\")","v":""}]
[{"$f":"IF(SNPs!A1031<>\"\",SNPs!A1031,\"\")","v":""},{"$f":"IF(SNPs!B1031<>\"\",MID(SNPs!B1031,FIND(\"[\",SNPs!B1031)+1,FIND(\"/\",SNPs!B1031)-FIND(\"[\",SNPs!B1031)-1),\"\")","v":""},{"$f":"IF(SNPs!B1031<>\"\",MID(SNPs!B1031,FIND(\"[\",SNPs!B1031)+3,FIND(\"/\",SNPs!B1031)-FIND(\"/\",SNPs!B1031)+1),\"\")","v":""},{"$f":"IF(SNPs!B1031<>\"\",SNPs!B1031,\"\")","v":""}]
[{"$f":"IF(SNPs!A1032<>\"\",SNPs!A1032,\"\")","v":""},{"$f":"IF(SNPs!B1032<>\"\",MID(SNPs!B1032,FIND(\"[\",SNPs!B1032)+1,FIND(\"/\",SNPs!B1032)-FIND(\"[\",SNPs!B1032)-1),\"\")","v":""},{"$f":"IF(SNPs!B1032<>\"\",MID(SNPs!B1032,FIND(\"[\",SNPs!B1032)+3,FIND(\"/\",SNPs!B1032)-FIND(\"/\",SNPs!B1032)+1),\"\")","v":""},{"$f":"IF(SNPs!B1032<>\"\",SNPs!B1032,\"\")","v":""}]
[{"$f":"IF(SNPs!A1033<>\"\",SNPs!A1033,\"\")","v":""},{"$f":"IF(SNPs!B1033<>\"\",MID(SNPs!B1033,FIND(\"[\",SNPs!B1033)+1,FIND(\"/\",SNPs!B1033)-FIND(\"[\",SNPs!B1033)-1),\"\")","v":""},{"$f":"IF(SNPs!B1033<>\"\",MID(SNPs!B1033,FIND(\"[\",SNPs!B1033)+3,FIND(\"/\",SNPs!B1033)-FIND(\"/\",SNPs!B1033)+1),\"\")","v":""},{"$f":"IF(SNPs!B1033<>\"\",SNPs!B1033,\"\")","v":""}]
[{"$f":"IF(SNPs!A1034<>\"\",SNPs!A1034,\"\")","v":""},{"$f":"IF(SNPs!B1034<>\"\",MID(SNPs!B1034,FIND(\"[\",SNPs!B1034)+1,FIND(\"/\",SNPs!B1034)-FIND(\"[\",SNPs!B1034)-1),\"\")","v":""},{"$f":"IF(SNPs!B1034<>\"\",MID(SNPs!B1034,FIND(\"[\",SNPs!B1034)+3,FIND(\"/\",SNPs!B1034)-FIND(\"/\",SNPs!B1034)+1),\"\")","v":""},{"$f":"IF(SNPs!B1034<>\"\",SNPs!B1034,\"\")","v":""}]
[{"$f":"IF(SNPs!A1035<>\"\",SNPs!A1035,\"\")","v":""},{"$f":"IF(SNPs!B1035<>\"\",MID(SNPs!B1035,FIND(\"[\",SNPs!B1035)+1,FIND(\"/\",SNPs!B1035)-FIND(\"[\",SNPs!B1035)-1),\"\")","v":""},{"$f":"IF(SNPs!B1035<>\"\",MID(SNPs!B1035,FIND(\"[\",SNPs!B1035)+3,FIND(\"/\",SNPs!B1035)-FIND(\"/\",SNPs!B1035)+1),\"\")","v":""},{"$f":"IF(SNPs!B1035<>\"\",SNPs!B1035,\"\")","v":""}]
[{"$f":"IF(SNPs!A1036<>\"\",SNPs!A1036,\"\")","v":""},{"$f":"IF(SNPs!B1036<>\"\",MID(SNPs!B1036,FIND(\"[\",SNPs!B1036)+1,FIND(\"/\",SNPs!B1036)-FIND(\"[\",SNPs!B1036)-1),\"\")","v":""},{"$f":"IF(SNPs!B1036<>\"\",MID(SNPs!B1036,FIND(\"[\",SNPs!B1036)+3,FIND(\"/\",SNPs!B1036)-FIND(\"/\",SNPs!B1036)+1),\"\")","v":""},{"$f":"IF(SNPs!B1036<>\"\",SNPs!B1036,\"\")","v":""}]
[{"$f":"IF(SNPs!A1037<>\"\",SNPs!A1037,\"\")","v":""},{"$f":"IF(SNPs!B1037<>\"\",MID(SNPs!B1037,FIND(\"[\",SNPs!B1037)+1,FIND(\"/\",SNPs!B1037)-FIND(\"[\",SNPs!B1037)-1),\"\")","v":""},{"$f":"IF(SNPs!B1037<>\"\",MID(SNPs!B1037,FIND(\"[\",SNPs!B1037)+3,FIND(\"/\",SNPs!B1037)-FIND(\"/\",SNPs!B1037)+1),\"\")","v":""},{"$f":"IF(SNPs!B1037<>\"\",SNPs!B1037,\"\")","v":""}]
[{"$f":"IF(SNPs!A1038<>\"\",SNPs!A1038,\"\")","v":""},{"$f":"IF(SNPs!B1038<>\"\",MID(SNPs!B1038,FIND(\"[\",SNPs!B1038)+1,FIND(\"/\",SNPs!B1038)-FIND(\"[\",SNPs!B1038)-1),\"\")","v":""},{"$f":"IF(SNPs!B1038<>\"\",MID(SNPs!B1038,FIND(\"[\",SNPs!B1038)+3,FIND(\"/\",SNPs!B1038)-FIND(\"/\",SNPs!B1038)+1),\"\")","v":""},{"$f":"IF(SNPs!B1038<>\"\",SNPs!B1038,\"\")","v":""}]
[{"$f":"IF(SNPs!A1039<>\"\",SNPs!A1039,\"\")","v":""},{"$f":"IF(SNPs!B1039<>\"\",MID(SNPs!B1039,FIND(\"[\",SNPs!B1039)+1,FIND(\"/\",SNPs!B1039)-FIND(\"[\",SNPs!B1039)-1),\"\")","v":""},{"$f":"IF(SNPs!B1039<>\"\",MID(SNPs!B1039,FIND(\"[\",SNPs!B1039)+3,FIND(\"/\",SNPs!B1039)-FIND(\"/\",SNPs!B1039)+1),\"\")","v":""},{"$f":"IF(SNPs!B1039<>\"\",SNPs!B1039,\"\")","v":""}]
[{"$f":"IF(SNPs!A1040<>\"\",SNPs!A1040,\"\")","v":""},{"$f":"IF(SNPs!B1040<>\"\",MID(SNPs!B1040,FIND(\"[\",SNPs!B1040)+1,FIND(\"/\",SNPs!B1040)-FIND(\"[\",SNPs!B1040)-1),\"\")","v":""},{"$f":"IF(SNPs!B1040<>\"\",MID(SNPs!B1040,FIND(\"[\",SNPs!B1040)+3,FIND(\"/\",SNPs!B1040)-FIND(\"/\",SNPs!B1040)+1),\"\")","v":""},{"$f":"IF(SNPs!B1040<>\"\",SNPs!B1040,\"\")","v":""}]
[{"$f":"IF(SNPs!A1041<>\"\",SNPs!A1041,\"\")","v":""},{"$f":"IF(SNPs!B1041<>\"\",MID(SNPs!B1041,FIND(\"[\",SNPs!B1041)+1,FIND(\"/\",SNPs!B1041)-FIND(\"[\",SNPs!B1041)-1),\"\")","v":""},{"$f":"IF(SNPs!B1041<>\"\",MID(SNPs!B1041,FIND(\"[\",SNPs!B1041)+3,FIND(\"/\",SNPs!B1041)-FIND(\"/\",SNPs!B1041)+1),\"\")","v":""},{"$f":"IF(SNPs!B1041<>\"\",SNPs!B1041,\"\")","v":""}]
[{"$f":"IF(SNPs!A1042<>\"\",SNPs!A1042,\"\")","v":""},{"$f":"IF(SNPs!B1042<>\"\",MID(SNPs!B1042,FIND(\"[\",SNPs!B1042)+1,FIND(\"/\",SNPs!B1042)-FIND(\"[\",SNPs!B1042)-1),\"\")","v":""},{"$f":"IF(SNPs!B1042<>\"\",MID(SNPs!B1042,FIND(\"[\",SNPs!B1042)+3,FIND(\"/\",SNPs!B1042)-FIND(\"/\",SNPs!B1042)+1),\"\")","v":""},{"$f":"IF(SNPs!B1042<>\"\",SNPs!B1042,\"\")","v":""}]
[{"$f":"IF(SNPs!A1043<>\"\",SNPs!A1043,\"\")","v":""},{"$f":"IF(SNPs!B1043<>\"\",MID(SNPs!B1043,FIND(\"[\",SNPs!B1043)+1,FIND(\"/\",SNPs!B1043)-FIND(\"[\",SNPs!B1043)-1),\"\")","v":""},{"$f":"IF(SNPs!B1043<>\"\",MID(SNPs!B1043,FIND(\"[\",SNPs!B1043)+3,FIND(\"/\",SNPs!B1043)-FIND(\"/\",SNPs!B1043)+1),\"\")","v":""},{"$f":"IF(SNPs!B1043<>\"\",SNPs!B1043,\"\")","v":""}]
[{"$f":"IF(SNPs!A1044<>\"\",SNPs!A1044,\"\")","v":""},{"$f":"IF(SNPs!B1044<>\"\",MID(SNPs!B1044,FIND(\"[\",SNPs!B1044)+1,FIND(\"/\",SNPs!B1044)-FIND(\"[\",SNPs!B1044)-1),\"\")","v":""},{"$f":"IF(SNPs!B1044<>\"\",MID(SNPs!B1044,FIND(\"[\",SNPs!B1044)+3,FIND(\"/\",SNPs!B1044)-FIND(\"/\",SNPs!B1044)+1),\"\")","v":""},{"$f":"IF(SNPs!B1044<>\"\",SNPs!B1044,\"\")","v":""}]
[{"$f":"IF(SNPs!A1045<>\"\",SNPs!A1045,\"\")","v":""},{"$f":"IF(SNPs!B1045<>\"\",MID(SNPs!B1045,FIND(\"[\",SNPs!B1045)+1,FIND(\"/\",SNPs!B1045)-FIND(\"[\",SNPs!B1045)-1),\"\")","v":""},{"$f":"IF(SNPs!B1045<>\"\",MID(SNPs!B1045,FIND(\"[\",SNPs!B1045)+3,FIND(\"/\",SNPs!B1045)-FIND(\"/\",SNPs!B1045)+1),\"\")","v":""},{"$f":"IF(SNPs!B1045<>\"\",SNPs!B1045,\"\")","v":""}]
[{"$f":"IF(SNPs!A1046<>\"\",SNPs!A1046,\"\")","v":""},{"$f":"IF(SNPs!B1046<>\"\",MID(SNPs!B1046,FIND(\"[\",SNPs!B1046)+1,FIND(\"/\",SNPs!B1046)-FIND(\"[\",SNPs!B1046)-1),\"\")","v":""},{"$f":"IF(SNPs!B1046<>\"\",MID(SNPs!B1046,FIND(\"[\",SNPs!B1046)+3,FIND(\"/\",SNPs!B1046)-FIND(\"/\",SNPs!B1046)+1),\"\")","v":""},{"$f":"IF(SNPs!B1046<>\"\",SNPs!B1046,\"\")","v":""}]
[{"$f":"IF(SNPs!A1047<>\"\",SNPs!A1047,\"\")","v":""},{"$f":"IF(SNPs!B1047<>\"\",MID(SNPs!B1047,FIND(\"[\",SNPs!B1047)+1,FIND(\"/\",SNPs!B1047)-FIND(\"[\",SNPs!B1047)-1),\"\")","v":""},{"$f":"IF(SNPs!B1047<>\"\",MID(SNPs!B1047,FIND(\"[\",SNPs!B1047)+3,FIND(\"/\",SNPs!B1047)-FIND(\"/\",SNPs!B1047)+1),\"\")","v":""},{"$f":"IF(SNPs!B1047<>\"\",SNPs!B1047,\"\")","v":""}]
[{"$f":"IF(SNPs!A1048<>\"\",SNPs!A1048,\"\")","v":""},{"$f":"IF(SNPs!B1048<>\"\",MID(SNPs!B1048,FIND(\"[\",SNPs!B1048)+1,FIND(\"/\",SNPs!B1048)-FIND(\"[\",SNPs!B1048)-1),\"\")","v":""},{"$f":"IF(SNPs!B1048<>\"\",MID(SNPs!B1048,FIND(\"[\",SNPs!B1048)+3,FIND(\"/\",SNPs!B1048)-FIND(\"/\",SNPs!B1048)+1),\"\")","v":""},{"$f":"IF(SNPs!B1048<>\"\",SNPs!B1048,\"\")","v":""}]
[{"$f":"IF(SNPs!A1049<>\"\",SNPs!A1049,\"\")","v":""},{"$f":"IF(SNPs!B1049<>\"\",MID(SNPs!B1049,FIND(\"[\",SNPs!B1049)+1,FIND(\"/\",SNPs!B1049)-FIND(\"[\",SNPs!B1049)-1),\"\")","v":""},{"$f":"IF(SNPs!B1049<>\"\",MID(SNPs!B1049,FIND(\"[\",SNPs!B1049)+3,FIND(\"/\",SNPs!B1049)-FIND(\"/\",SNPs!B1049)+1),\"\")","v":""},{"$f":"IF(SNPs!B1049<>\"\",SNPs!B1049,\"\")","v":""}]
[{"$f":"IF(SNPs!A1050<>\"\",SNPs!A1050,\"\")","v":""},{"$f":"IF(SNPs!B1050<>\"\",MID(SNPs!B1050,FIND(\"[\",SNPs!B1050)+1,FIND(\"/\",SNPs!B1050)-FIND(\"[\",SNPs!B1050)-1),\"\")","v":""},{"$f":"IF(SNPs!B1050<>\"\",MID(SNPs!B1050,FIND(\"[\",SNPs!B1050)+3,FIND(\"/\",SNPs!B1050)-FIND(\"/\",SNPs!B1050)+1),\"\")","v":""},{"$f":"IF(SNPs!B1050<>\"\",SNPs!B1050,\"\")","v":""}]
[{"$f":"IF(SNPs!A1051<>\"\",SNPs!A1051,\"\")","v":""},{"$f":"IF(SNPs!B1051<>\"\",MID(SNPs!B1051,FIND(\"[\",SNPs!B1051)+1,FIND(\"/\",SNPs!B1051)-FIND(\"[\",SNPs!B1051)-1),\"\")","v":""},{"$f":"IF(SNPs!B1051<>\"\",MID(SNPs!B1051,FIND(\"[\",SNPs!B1051)+3,FIND(\"/\",SNPs!B1051)-FIND(\"/\",SNPs!B1051)+1),\"\")","v":""},{"$f":"IF(SNPs!B1051<>\"\",SNPs!B1051,\"\")","v":""}]
[{"$f":"IF(SNPs!A1052<>\"\",SNPs!A1052,\"\")","v":""},{"$f":"IF(SNPs!B1052<>\"\",MID(SNPs!B1052,FIND(\"[\",SNPs!B1052)+1,FIND(\"/\",SNPs!B1052)-FIND(\"[\",SNPs!B1052)-1),\"\")","v":""},{"$f":"IF(SNPs!B1052<>\"\",MID(SNPs!B1052,FIND(\"[\",SNPs!B1052)+3,FIND(\"/\",SNPs!B1052)-FIND(\"/\",SNPs!B1052)+1),\"\")","v":""},{"$f":"IF(SNPs!B1052<>\"\",SNPs!B1052,\"\")","v":""}]
[{"$f":"IF(SNPs!A1053<>\"\",SNPs!A1053,\"\")","v":""},{"$f":"IF(SNPs!B1053<>\"\",MID(SNPs!B1053,FIND(\"[\",SNPs!B1053)+1,FIND(\"/\",SNPs!B1053)-FIND(\"[\",SNPs!B1053)-1),\"\")","v":""},{"$f":"IF(SNPs!B1053<>\"\",MID(SNPs!B1053,FIND(\"[\",SNPs!B1053)+3,FIND(\"/\",SNPs!B1053)-FIND(\"/\",SNPs!B1053)+1),\"\")","v":""},{"$f":"IF(SNPs!B1053<>\"\",SNPs!B1053,\"\")","v":""}]
[{"$f":"IF(SNPs!A1054<>\"\",SNPs!A1054,\"\")","v":""},{"$f":"IF(SNPs!B1054<>\"\",MID(SNPs!B1054,FIND(\"[\",SNPs!B1054)+1,FIND(\"/\",SNPs!B1054)-FIND(\"[\",SNPs!B1054)-1),\"\")","v":""},{"$f":"IF(SNPs!B1054<>\"\",MID(SNPs!B1054,FIND(\"[\",SNPs!B1054)+3,FIND(\"/\",SNPs!B1054)-FIND(\"/\",SNPs!B1054)+1),\"\")","v":""},{"$f":"IF(SNPs!B1054<>\"\",SNPs!B1054,\"\")","v":""}]
[{"$f":"IF(SNPs!A1055<>\"\",SNPs!A1055,\"\")","v":""},{"$f":"IF(SNPs!B1055<>\"\",MID(SNPs!B1055,FIND(\"[\",SNPs!B1055)+1,FIND(\"/\",SNPs!B1055)-FIND(\"[\",SNPs!B1055)-1),\"\")","v":""},{"$f":"IF(SNPs!B1055<>\"\",MID(SNPs!B1055,FIND(\"[\",SNPs!B1055)+3,FIND(\"/\",SNPs!B1055)-FIND(\"/\",SNPs!B1055)+1),\"\")","v":""},{"$f":"IF(SNPs!B1055<>\"\",SNPs!B1055,\"\")","v":""}]
[{"$f":"IF(SNPs!A1056<>\"\",SNPs!A1056,\"\")","v":""},{"$f":"IF(SNPs!B1056<>\"\",MID(SNPs!B1056,FIND(\"[\",SNPs!B1056)+1,FIND(\"/\",SNPs!B1056)-FIND(\"[\",SNPs!B1056)-1),\"\")","v":""},{"$f":"IF(SNPs!B1056<>\"\",MID(SNPs!B1056,FIND(\"[\",SNPs!B1056)+3,FIND(\"/\",SNPs!B1056)-FIND(\"/\",SNPs!B1056)+1),\"\")","v":""},{"$f":"IF(SNPs!B1056<>\"\",SNPs!B1056,\"\")","v":""}]
[{"$f":"IF(SNPs!A1057<>\"\",SNPs!A1057,\"\")","v":""},{"$f":"IF(SNPs!B1057<>\"\",MID(SNPs!B1057,FIND(\"[\",SNPs!B1057)+1,FIND(\"/\",SNPs!B1057)-FIND(\"[\",SNPs!B1057)-1),\"\")","v":""},{"$f":"IF(SNPs!B1057<>\"\",MID(SNPs!B1057,FIND(\"[\",SNPs!B1057)+3,FIND(\"/\",SNPs!B1057)-FIND(\"/\",SNPs!B1057)+1),\"\")","v":""},{"$f":"IF(SNPs!B1057<>\"\",SNPs!B1057,\"\")","v":""}]
[{"$f":"IF(SNPs!A1058<>\"\",SNPs!A1058,\"\")","v":""},{"$f":"IF(SNPs!B1058<>\"\",MID(SNPs!B1058,FIND(\"[\",SNPs!B1058)+1,FIND(\"/\",SNPs!B1058)-FIND(\"[\",SNPs!B1058)-1),\"\")","v":""},{"$f":"IF(SNPs!B1058<>\"\",MID(SNPs!B1058,FIND(\"[\",SNPs!B1058)+3,FIND(\"/\",SNPs!B1058)-FIND(\"/\",SNPs!B1058)+1),\"\")","v":""},{"$f":"IF(SNPs!B1058<>\"\",SNPs!B1058,\"\")","v":""}]
[{"$f":"IF(SNPs!A1059<>\"\",SNPs!A1059,\"\")","v":""},{"$f":"IF(SNPs!B1059<>\"\",MID(SNPs!B1059,FIND(\"[\",SNPs!B1059)+1,FIND(\"/\",SNPs!B1059)-FIND(\"[\",SNPs!B1059)-1),\"\")","v":""},{"$f":"IF(SNPs!B1059<>\"\",MID(SNPs!B1059,FIND(\"[\",SNPs!B1059)+3,FIND(\"/\",SNPs!B1059)-FIND(\"/\",SNPs!B1059)+1),\"\")","v":""},{"$f":"IF(SNPs!B1059<>\"\",SNPs!B1059,\"\")","v":""}]
[{"$f":"IF(SNPs!A1060<>\"\",SNPs!A1060,\"\")","v":""},{"$f":"IF(SNPs!B1060<>\"\",MID(SNPs!B1060,FIND(\"[\",SNPs!B1060)+1,FIND(\"/\",SNPs!B1060)-FIND(\"[\",SNPs!B1060)-1),\"\")","v":""},{"$f":"IF(SNPs!B1060<>\"\",MID(SNPs!B1060,FIND(\"[\",SNPs!B1060)+3,FIND(\"/\",SNPs!B1060)-FIND(\"/\",SNPs!B1060)+1),\"\")","v":""},{"$f":"IF(SNPs!B1060<>\"\",SNPs!B1060,\"\")","v":""}]
[{"$f":"IF(SNPs!A1061<>\"\",SNPs!A1061,\"\")","v":""},{"$f":"IF(SNPs!B1061<>\"\",MID(SNPs!B1061,FIND(\"[\",SNPs!B1061)+1,FIND(\"/\",SNPs!B1061)-FIND(\"[\",SNPs!B1061)-1),\"\")","v":""},{"$f":"IF(SNPs!B1061<>\"\",MID(SNPs!B1061,FIND(\"[\",SNPs!B1061)+3,FIND(\"/\",SNPs!B1061)-FIND(\"/\",SNPs!B1061)+1),\"\")","v":""},{"$f":"IF(SNPs!B1061<>\"\",SNPs!B1061,\"\")","v":""}]
[{"$f":"IF(SNPs!A1062<>\"\",SNPs!A1062,\"\")","v":""},{"$f":"IF(SNPs!B1062<>\"\",MID(SNPs!B1062,FIND(\"[\",SNPs!B1062)+1,FIND(\"/\",SNPs!B1062)-FIND(\"[\",SNPs!B1062)-1),\"\")","v":""},{"$f":"IF(SNPs!B1062<>\"\",MID(SNPs!B1062,FIND(\"[\",SNPs!B1062)+3,FIND(\"/\",SNPs!B1062)-FIND(\"/\",SNPs!B1062)+1),\"\")","v":""},{"$f":"IF(SNPs!B1062<>\"\",SNPs!B1062,\"\")","v":""}]
[{"$f":"IF(SNPs!A1063<>\"\",SNPs!A1063,\"\")","v":""},{"$f":"IF(SNPs!B1063<>\"\",MID(SNPs!B1063,FIND(\"[\",SNPs!B1063)+1,FIND(\"/\",SNPs!B1063)-FIND(\"[\",SNPs!B1063)-1),\"\")","v":""},{"$f":"IF(SNPs!B1063<>\"\",MID(SNPs!B1063,FIND(\"[\",SNPs!B1063)+3,FIND(\"/\",SNPs!B1063)-FIND(\"/\",SNPs!B1063)+1),\"\")","v":""},{"$f":"IF(SNPs!B1063<>\"\",SNPs!B1063,\"\")","v":""}]
[{"$f":"IF(SNPs!A1064<>\"\",SNPs!A1064,\"\")","v":""},{"$f":"IF(SNPs!B1064<>\"\",MID(SNPs!B1064,FIND(\"[\",SNPs!B1064)+1,FIND(\"/\",SNPs!B1064)-FIND(\"[\",SNPs!B1064)-1),\"\")","v":""},{"$f":"IF(SNPs!B1064<>\"\",MID(SNPs!B1064,FIND(\"[\",SNPs!B1064)+3,FIND(\"/\",SNPs!B1064)-FIND(\"/\",SNPs!B1064)+1),\"\")","v":""},{"$f":"IF(SNPs!B1064<>\"\",SNPs!B1064,\"\")","v":""}]
[{"$f":"IF(SNPs!A1065<>\"\",SNPs!A1065,\"\")","v":""},{"$f":"IF(SNPs!B1065<>\"\",MID(SNPs!B1065,FIND(\"[\",SNPs!B1065)+1,FIND(\"/\",SNPs!B1065)-FIND(\"[\",SNPs!B1065)-1),\"\")","v":""},{"$f":"IF(SNPs!B1065<>\"\",MID(SNPs!B1065,FIND(\"[\",SNPs!B1065)+3,FIND(\"/\",SNPs!B1065)-FIND(\"/\",SNPs!B1065)+1),\"\")","v":""},{"$f":"IF(SNPs!B1065<>\"\",SNPs!B1065,\"\")","v":""}]
[{"$f":"IF(SNPs!A1066<>\"\",SNPs!A1066,\"\")","v":""},{"$f":"IF(SNPs!B1066<>\"\",MID(SNPs!B1066,FIND(\"[\",SNPs!B1066)+1,FIND(\"/\",SNPs!B1066)-FIND(\"[\",SNPs!B1066)-1),\"\")","v":""},{"$f":"IF(SNPs!B1066<>\"\",MID(SNPs!B1066,FIND(\"[\",SNPs!B1066)+3,FIND(\"/\",SNPs!B1066)-FIND(\"/\",SNPs!B1066)+1),\"\")","v":""},{"$f":"IF(SNPs!B1066<>\"\",SNPs!B1066,\"\")","v":""}]
[{"$f":"IF(SNPs!A1067<>\"\",SNPs!A1067,\"\")","v":""},{"$f":"IF(SNPs!B1067<>\"\",MID(SNPs!B1067,FIND(\"[\",SNPs!B1067)+1,FIND(\"/\",SNPs!B1067)-FIND(\"[\",SNPs!B1067)-1),\"\")","v":""},{"$f":"IF(SNPs!B1067<>\"\",MID(SNPs!B1067,FIND(\"[\",SNPs!B1067)+3,FIND(\"/\",SNPs!B1067)-FIND(\"/\",SNPs!B1067)+1),\"\")","v":""},{"$f":"IF(SNPs!B1067<>\"\",SNPs!B1067,\"\")","v":""}]
[{"$f":"IF(SNPs!A1068<>\"\",SNPs!A1068,\"\")","v":""},{"$f":"IF(SNPs!B1068<>\"\",MID(SNPs!B1068,FIND(\"[\",SNPs!B1068)+1,FIND(\"/\",SNPs!B1068)-FIND(\"[\",SNPs!B1068)-1),\"\")","v":""},{"$f":"IF(SNPs!B1068<>\"\",MID(SNPs!B1068,FIND(\"[\",SNPs!B1068)+3,FIND(\"/\",SNPs!B1068)-FIND(\"/\",SNPs!B1068)+1),\"\")","v":""},{"$f":"IF(SNPs!B1068<>\"\",SNPs!B1068,\"\")","v":""}]
[{"$f":"IF(SNPs!A1069<>\"\",SNPs!A1069,\"\")","v":""},{"$f":"IF(SNPs!B1069<>\"\",MID(SNPs!B1069,FIND(\"[\",SNPs!B1069)+1,FIND(\"/\",SNPs!B1069)-FIND(\"[\",SNPs!B1069)-1),\"\")","v":""},{"$f":"IF(SNPs!B1069<>\"\",MID(SNPs!B1069,FIND(\"[\",SNPs!B1069)+3,FIND(\"/\",SNPs!B1069)-FIND(\"/\",SNPs!B1069)+1),\"\")","v":""},{"$f":"IF(SNPs!B1069<>\"\",SNPs!B1069,\"\")","v":""}]
[{"$f":"IF(SNPs!A1070<>\"\",SNPs!A1070,\"\")","v":""},{"$f":"IF(SNPs!B1070<>\"\",MID(SNPs!B1070,FIND(\"[\",SNPs!B1070)+1,FIND(\"/\",SNPs!B1070)-FIND(\"[\",SNPs!B1070)-1),\"\")","v":""},{"$f":"IF(SNPs!B1070<>\"\",MID(SNPs!B1070,FIND(\"[\",SNPs!B1070)+3,FIND(\"/\",SNPs!B1070)-FIND(\"/\",SNPs!B1070)+1),\"\")","v":""},{"$f":"IF(SNPs!B1070<>\"\",SNPs!B1070,\"\")","v":""}]
[{"$f":"IF(SNPs!A1071<>\"\",SNPs!A1071,\"\")","v":""},{"$f":"IF(SNPs!B1071<>\"\",MID(SNPs!B1071,FIND(\"[\",SNPs!B1071)+1,FIND(\"/\",SNPs!B1071)-FIND(\"[\",SNPs!B1071)-1),\"\")","v":""},{"$f":"IF(SNPs!B1071<>\"\",MID(SNPs!B1071,FIND(\"[\",SNPs!B1071)+3,FIND(\"/\",SNPs!B1071)-FIND(\"/\",SNPs!B1071)+1),\"\")","v":""},{"$f":"IF(SNPs!B1071<>\"\",SNPs!B1071,\"\")","v":""}]
[{"$f":"IF(SNPs!A1072<>\"\",SNPs!A1072,\"\")","v":""},{"$f":"IF(SNPs!B1072<>\"\",MID(SNPs!B1072,FIND(\"[\",SNPs!B1072)+1,FIND(\"/\",SNPs!B1072)-FIND(\"[\",SNPs!B1072)-1),\"\")","v":""},{"$f":"IF(SNPs!B1072<>\"\",MID(SNPs!B1072,FIND(\"[\",SNPs!B1072)+3,FIND(\"/\",SNPs!B1072)-FIND(\"/\",SNPs!B1072)+1),\"\")","v":""},{"$f":"IF(SNPs!B1072<>\"\",SNPs!B1072,\"\")","v":""}]
[{"$f":"IF(SNPs!A1073<>\"\",SNPs!A1073,\"\")","v":""},{"$f":"IF(SNPs!B1073<>\"\",MID(SNPs!B1073,FIND(\"[\",SNPs!B1073)+1,FIND(\"/\",SNPs!B1073)-FIND(\"[\",SNPs!B1073)-1),\"\")","v":""},{"$f":"IF(SNPs!B1073<>\"\",MID(SNPs!B1073,FIND(\"[\",SNPs!B1073)+3,FIND(\"/\",SNPs!B1073)-FIND(\"/\",SNPs!B1073)+1),\"\")","v":""},{"$f":"IF(SNPs!B1073<>\"\",SNPs!B1073,\"\")","v":""}]
[{"$f":"IF(SNPs!A1074<>\"\",SNPs!A1074,\"\")","v":""},{"$f":"IF(SNPs!B1074<>\"\",MID(SNPs!B1074,FIND(\"[\",SNPs!B1074)+1,FIND(\"/\",SNPs!B1074)-FIND(\"[\",SNPs!B1074)-1),\"\")","v":""},{"$f":"IF(SNPs!B1074<>\"\",MID(SNPs!B1074,FIND(\"[\",SNPs!B1074)+3,FIND(\"/\",SNPs!B1074)-FIND(\"/\",SNPs!B1074)+1),\"\")","v":""},{"$f":"IF(SNPs!B1074<>\"\",SNPs!B1074,\"\")","v":""}]
[{"$f":"IF(SNPs!A1075<>\"\",SNPs!A1075,\"\")","v":""},{"$f":"IF(SNPs!B1075<>\"\",MID(SNPs!B1075,FIND(\"[\",SNPs!B1075)+1,FIND(\"/\",SNPs!B1075)-FIND(\"[\",SNPs!B1075)-1),\"\")","v":""},{"$f":"IF(SNPs!B1075<>\"\",MID(SNPs!B1075,FIND(\"[\",SNPs!B1075)+3,FIND(\"/\",SNPs!B1075)-FIND(\"/\",SNPs!B1075)+1),\"\")","v":""},{"$f":"IF(SNPs!B1075<>\"\",SNPs!B1075,\"\")","v":""}]
[{"$f":"IF(SNPs!A1076<>\"\",SNPs!A1076,\"\")","v":""},{"$f":"IF(SNPs!B1076<>\"\",MID(SNPs!B1076,FIND(\"[\",SNPs!B1076)+1,FIND(\"/\",SNPs!B1076)-FIND(\"[\",SNPs!B1076)-1),\"\")","v":""},{"$f":"IF(SNPs!B1076<>\"\",MID(SNPs!B1076,FIND(\"[\",SNPs!B1076)+3,FIND(\"/\",SNPs!B1076)-FIND(\"/\",SNPs!B1076)+1),\"\")","v":""},{"$f":"IF(SNPs!B1076<>\"\",SNPs!B1076,\"\")","v":""}]
[{"$f":"IF(SNPs!A1077<>\"\",SNPs!A1077,\"\")","v":""},{"$f":"IF(SNPs!B1077<>\"\",MID(SNPs!B1077,FIND(\"[\",SNPs!B1077)+1,FIND(\"/\",SNPs!B1077)-FIND(\"[\",SNPs!B1077)-1),\"\")","v":""},{"$f":"IF(SNPs!B1077<>\"\",MID(SNPs!B1077,FIND(\"[\",SNPs!B1077)+3,FIND(\"/\",SNPs!B1077)-FIND(\"/\",SNPs!B1077)+1),\"\")","v":""},{"$f":"IF(SNPs!B1077<>\"\",SNPs!B1077,\"\")","v":""}]
[{"$f":"IF(SNPs!A1078<>\"\",SNPs!A1078,\"\")","v":""},{"$f":"IF(SNPs!B1078<>\"\",MID(SNPs!B1078,FIND(\"[\",SNPs!B1078)+1,FIND(\"/\",SNPs!B1078)-FIND(\"[\",SNPs!B1078)-1),\"\")","v":""},{"$f":"IF(SNPs!B1078<>\"\",MID(SNPs!B1078,FIND(\"[\",SNPs!B1078)+3,FIND(\"/\",SNPs!B1078)-FIND(\"/\",SNPs!B1078)+1),\"\")","v":""},{"$f":"IF(SNPs!B1078<>\"\",SNPs!B1078,\"\")","v":""}]
[{"$f":"IF(SNPs!A1079<>\"\",SNPs!A1079,\"\")","v":""},{"$f":"IF(SNPs!B1079<>\"\",MID(SNPs!B1079,FIND(\"[\",SNPs!B1079)+1,FIND(\"/\",SNPs!B1079)-FIND(\"[\",SNPs!B1079)-1),\"\")","v":""},{"$f":"IF(SNPs!B1079<>\"\",MID(SNPs!B1079,FIND(\"[\",SNPs!B1079)+3,FIND(\"/\",SNPs!B1079)-FIND(\"/\",SNPs!B1079)+1),\"\")","v":""},{"$f":"IF(SNPs!B1079<>\"\",SNPs!B1079,\"\")","v":""}]
[{"$f":"IF(SNPs!A1080<>\"\",SNPs!A1080,\"\")","v":""},{"$f":"IF(SNPs!B1080<>\"\",MID(SNPs!B1080,FIND(\"[\",SNPs!B1080)+1,FIND(\"/\",SNPs!B1080)-FIND(\"[\",SNPs!B1080)-1),\"\")","v":""},{"$f":"IF(SNPs!B1080<>\"\",MID(SNPs!B1080,FIND(\"[\",SNPs!B1080)+3,FIND(\"/\",SNPs!B1080)-FIND(\"/\",SNPs!B1080)+1),\"\")","v":""},{"$f":"IF(SNPs!B1080<>\"\",SNPs!B1080,\"\")","v":""}]
[{"$f":"IF(SNPs!A1081<>\"\",SNPs!A1081,\"\")","v":""},{"$f":"IF(SNPs!B1081<>\"\",MID(SNPs!B1081,FIND(\"[\",SNPs!B1081)+1,FIND(\"/\",SNPs!B1081)-FIND(\"[\",SNPs!B1081)-1),\"\")","v":""},{"$f":"IF(SNPs!B1081<>\"\",MID(SNPs!B1081,FIND(\"[\",SNPs!B1081)+3,FIND(\"/\",SNPs!B1081)-FIND(\"/\",SNPs!B1081)+1),\"\")","v":""},{"$f":"IF(SNPs!B1081<>\"\",SNPs!B1081,\"\")","v":""}]
[{"$f":"IF(SNPs!A1082<>\"\",SNPs!A1082,\"\")","v":""},{"$f":"IF(SNPs!B1082<>\"\",MID(SNPs!B1082,FIND(\"[\",SNPs!B1082)+1,FIND(\"/\",SNPs!B1082)-FIND(\"[\",SNPs!B1082)-1),\"\")","v":""},{"$f":"IF(SNPs!B1082<>\"\",MID(SNPs!B1082,FIND(\"[\",SNPs!B1082)+3,FIND(\"/\",SNPs!B1082)-FIND(\"/\",SNPs!B1082)+1),\"\")","v":""},{"$f":"IF(SNPs!B1082<>\"\",SNPs!B1082,\"\")","v":""}]
[{"$f":"IF(SNPs!A1083<>\"\",SNPs!A1083,\"\")","v":""},{"$f":"IF(SNPs!B1083<>\"\",MID(SNPs!B1083,FIND(\"[\",SNPs!B1083)+1,FIND(\"/\",SNPs!B1083)-FIND(\"[\",SNPs!B1083)-1),\"\")","v":""},{"$f":"IF(SNPs!B1083<>\"\",MID(SNPs!B1083,FIND(\"[\",SNPs!B1083)+3,FIND(\"/\",SNPs!B1083)-FIND(\"/\",SNPs!B1083)+1),\"\")","v":""},{"$f":"IF(SNPs!B1083<>\"\",SNPs!B1083,\"\")","v":""}]
[{"$f":"IF(SNPs!A1084<>\"\",SNPs!A1084,\"\")","v":""},{"$f":"IF(SNPs!B1084<>\"\",MID(SNPs!B1084,FIND(\"[\",SNPs!B1084)+1,FIND(\"/\",SNPs!B1084)-FIND(\"[\",SNPs!B1084)-1),\"\")","v":""},{"$f":"IF(SNPs!B1084<>\"\",MID(SNPs!B1084,FIND(\"[\",SNPs!B1084)+3,FIND(\"/\",SNPs!B1084)-FIND(\"/\",SNPs!B1084)+1),\"\")","v":""},{"$f":"IF(SNPs!B1084<>\"\",SNPs!B1084,\"\")","v":""}]
[{"$f":"IF(SNPs!A1085<>\"\",SNPs!A1085,\"\")","v":""},{"$f":"IF(SNPs!B1085<>\"\",MID(SNPs!B1085,FIND(\"[\",SNPs!B1085)+1,FIND(\"/\",SNPs!B1085)-FIND(\"[\",SNPs!B1085)-1),\"\")","v":""},{"$f":"IF(SNPs!B1085<>\"\",MID(SNPs!B1085,FIND(\"[\",SNPs!B1085)+3,FIND(\"/\",SNPs!B1085)-FIND(\"/\",SNPs!B1085)+1),\"\")","v":""},{"$f":"IF(SNPs!B1085<>\"\",SNPs!B1085,\"\")","v":""}]
[{"$f":"IF(SNPs!A1086<>\"\",SNPs!A1086,\"\")","v":""},{"$f":"IF(SNPs!B1086<>\"\",MID(SNPs!B1086,FIND(\"[\",SNPs!B1086)+1,FIND(\"/\",SNPs!B1086)-FIND(\"[\",SNPs!B1086)-1),\"\")","v":""},{"$f":"IF(SNPs!B1086<>\"\",MID(SNPs!B1086,FIND(\"[\",SNPs!B1086)+3,FIND(\"/\",SNPs!B1086)-FIND(\"/\",SNPs!B1086)+1),\"\")","v":""},{"$f":"IF(SNPs!B1086<>\"\",SNPs!B1086,\"\")","v":""}]
[{"$f":"IF(SNPs!A1087<>\"\",SNPs!A1087,\"\")","v":""},{"$f":"IF(SNPs!B1087<>\"\",MID(SNPs!B1087,FIND(\"[\",SNPs!B1087)+1,FIND(\"/\",SNPs!B1087)-FIND(\"[\",SNPs!B1087)-1),\"\")","v":""},{"$f":"IF(SNPs!B1087<>\"\",MID(SNPs!B1087,FIND(\"[\",SNPs!B1087)+3,FIND(\"/\",SNPs!B1087)-FIND(\"/\",SNPs!B1087)+1),\"\")","v":""},{"$f":"IF(SNPs!B1087<>\"\",SNPs!B1087,\"\")","v":""}]
[{"$f":"IF(SNPs!A1088<>\"\",SNPs!A1088,\"\")","v":""},{"$f":"IF(SNPs!B1088<>\"\",MID(SNPs!B1088,FIND(\"[\",SNPs!B1088)+1,FIND(\"/\",SNPs!B1088)-FIND(\"[\",SNPs!B1088)-1),\"\")","v":""},{"$f":"IF(SNPs!B1088<>\"\",MID(SNPs!B1088,FIND(\"[\",SNPs!B1088)+3,FIND(\"/\",SNPs!B1088)-FIND(\"/\",SNPs!B1088)+1),\"\")","v":""},{"$f":"IF(SNPs!B1088<>\"\",SNPs!B1088,\"\")","v":""}]
[{"$f":"IF(SNPs!A1089<>\"\",SNPs!A1089,\"\")","v":""},{"$f":"IF(SNPs!B1089<>\"\",MID(SNPs!B1089,FIND(\"[\",SNPs!B1089)+1,FIND(\"/\",SNPs!B1089)-FIND(\"[\",SNPs!B1089)-1),\"\")","v":""},{"$f":"IF(SNPs!B1089<>\"\",MID(SNPs!B1089,FIND(\"[\",SNPs!B1089)+3,FIND(\"/\",SNPs!B1089)-FIND(\"/\",SNPs!B1089)+1),\"\")","v":""},{"$f":"IF(SNPs!B1089<>\"\",SNPs!B1089,\"\")","v":""}]
[{"$f":"IF(SNPs!A1090<>\"\",SNPs!A1090,\"\")","v":""},{"$f":"IF(SNPs!B1090<>\"\",MID(SNPs!B1090,FIND(\"[\",SNPs!B1090)+1,FIND(\"/\",SNPs!B1090)-FIND(\"[\",SNPs!B1090)-1),\"\")","v":""},{"$f":"IF(SNPs!B1090<>\"\",MID(SNPs!B1090,FIND(\"[\",SNPs!B1090)+3,FIND(\"/\",SNPs!B1090)-FIND(\"/\",SNPs!B1090)+1),\"\")","v":""},{"$f":"IF(SNPs!B1090<>\"\",SNPs!B1090,\"\")","v":""}]
[{"$f":"IF(SNPs!A1091<>\"\",SNPs!A1091,\"\")","v":""},{"$f":"IF(SNPs!B1091<>\"\",MID(SNPs!B1091,FIND(\"[\",SNPs!B1091)+1,FIND(\"/\",SNPs!B1091)-FIND(\"[\",SNPs!B1091)-1),\"\")","v":""},{"$f":"IF(SNPs!B1091<>\"\",MID(SNPs!B1091,FIND(\"[\",SNPs!B1091)+3,FIND(\"/\",SNPs!B1091)-FIND(\"/\",SNPs!B1091)+1),\"\")","v":""},{"$f":"IF(SNPs!B1091<>\"\",SNPs!B1091,\"\")","v":""}]
[{"$f":"IF(SNPs!A1092<>\"\",SNPs!A1092,\"\")","v":""},{"$f":"IF(SNPs!B1092<>\"\",MID(SNPs!B1092,FIND(\"[\",SNPs!B1092)+1,FIND(\"/\",SNPs!B1092)-FIND(\"[\",SNPs!B1092)-1),\"\")","v":""},{"$f":"IF(SNPs!B1092<>\"\",MID(SNPs!B1092,FIND(\"[\",SNPs!B1092)+3,FIND(\"/\",SNPs!B1092)-FIND(\"/\",SNPs!B1092)+1),\"\")","v":""},{"$f":"IF(SNPs!B1092<>\"\",SNPs!B1092,\"\")","v":""}]
[{"$f":"IF(SNPs!A1093<>\"\",SNPs!A1093,\"\")","v":""},{"$f":"IF(SNPs!B1093<>\"\",MID(SNPs!B1093,FIND(\"[\",SNPs!B1093)+1,FIND(\"/\",SNPs!B1093)-FIND(\"[\",SNPs!B1093)-1),\"\")","v":""},{"$f":"IF(SNPs!B1093<>\"\",MID(SNPs!B1093,FIND(\"[\",SNPs!B1093)+3,FIND(\"/\",SNPs!B1093)-FIND(\"/\",SNPs!B1093)+1),\"\")","v":""},{"$f":"IF(SNPs!B1093<>\"\",SNPs!B1093,\"\")","v":""}]
[{"$f":"IF(SNPs!A1094<>\"\",SNPs!A1094,\"\")","v":""},{"$f":"IF(SNPs!B1094<>\"\",MID(SNPs!B1094,FIND(\"[\",SNPs!B1094)+1,FIND(\"/\",SNPs!B1094)-FIND(\"[\",SNPs!B1094)-1),\"\")","v":""},{"$f":"IF(SNPs!B1094<>\"\",MID(SNPs!B1094,FIND(\"[\",SNPs!B1094)+3,FIND(\"/\",SNPs!B1094)-FIND(\"/\",SNPs!B1094)+1),\"\")","v":""},{"$f":"IF(SNPs!B1094<>\"\",SNPs!B1094,\"\")","v":""}]
[{"$f":"IF(SNPs!A1095<>\"\",SNPs!A1095,\"\")","v":""},{"$f":"IF(SNPs!B1095<>\"\",MID(SNPs!B1095,FIND(\"[\",SNPs!B1095)+1,FIND(\"/\",SNPs!B1095)-FIND(\"[\",SNPs!B1095)-1),\"\")","v":""},{"$f":"IF(SNPs!B1095<>\"\",MID(SNPs!B1095,FIND(\"[\",SNPs!B1095)+3,FIND(\"/\",SNPs!B1095)-FIND(\"/\",SNPs!B1095)+1),\"\")","v":""},{"$f":"IF(SNPs!B1095<>\"\",SNPs!B1095,\"\")","v":""}]
[{"$f":"IF(SNPs!A1096<>\"\",SNPs!A1096,\"\")","v":""},{"$f":"IF(SNPs!B1096<>\"\",MID(SNPs!B1096,FIND(\"[\",SNPs!B1096)+1,FIND(\"/\",SNPs!B1096)-FIND(\"[\",SNPs!B1096)-1),\"\")","v":""},{"$f":"IF(SNPs!B1096<>\"\",MID(SNPs!B1096,FIND(\"[\",SNPs!B1096)+3,FIND(\"/\",SNPs!B1096)-FIND(\"/\",SNPs!B1096)+1),\"\")","v":""},{"$f":"IF(SNPs!B1096<>\"\",SNPs!B1096,\"\")","v":""}]
[{"$f":"IF(SNPs!A1097<>\"\",SNPs!A1097,\"\")","v":""},{"$f":"IF(SNPs!B1097<>\"\",MID(SNPs!B1097,FIND(\"[\",SNPs!B1097)+1,FIND(\"/\",SNPs!B1097)-FIND(\"[\",SNPs!B1097)-1),\"\")","v":""},{"$f":"IF(SNPs!B1097<>\"\",MID(SNPs!B1097,FIND(\"[\",SNPs!B1097)+3,FIND(\"/\",SNPs!B1097)-FIND(\"/\",SNPs!B1097)+1),\"\")","v":""},{"$f":"IF(SNPs!B1097<>\"\",SNPs!B1097,\"\")","v":""}]
[{"$f":"IF(SNPs!A1098<>\"\",SNPs!A1098,\"\")","v":""},{"$f":"IF(SNPs!B1098<>\"\",MID(SNPs!B1098,FIND(\"[\",SNPs!B1098)+1,FIND(\"/\",SNPs!B1098)-FIND(\"[\",SNPs!B1098)-1),\"\")","v":""},{"$f":"IF(SNPs!B1098<>\"\",MID(SNPs!B1098,FIND(\"[\",SNPs!B1098)+3,FIND(\"/\",SNPs!B1098)-FIND(\"/\",SNPs!B1098)+1),\"\")","v":""},{"$f":"IF(SNPs!B1098<>\"\",SNPs!B1098,\"\")","v":""}]
[{"$f":"IF(SNPs!A1099<>\"\",SNPs!A1099,\"\")","v":""},{"$f":"IF(SNPs!B1099<>\"\",MID(SNPs!B1099,FIND(\"[\",SNPs!B1099)+1,FIND(\"/\",SNPs!B1099)-FIND(\"[\",SNPs!B1099)-1),\"\")","v":""},{"$f":"IF(SNPs!B1099<>\"\",MID(SNPs!B1099,FIND(\"[\",SNPs!B1099)+3,FIND(\"/\",SNPs!B1099)-FIND(\"/\",SNPs!B1099)+1),\"\")","v":""},{"$f":"IF(SNPs!B1099<>\"\",SNPs!B1099,\"\")","v":""}]
[{"$f":"IF(SNPs!A1100<>\"\",SNPs!A1100,\"\")","v":""},{"$f":"IF(SNPs!B1100<>\"\",MID(SNPs!B1100,FIND(\"[\",SNPs!B1100)+1,FIND(\"/\",SNPs!B1100)-FIND(\"[\",SNPs!B1100)-1),\"\")","v":""},{"$f":"IF(SNPs!B1100<>\"\",MID(SNPs!B1100,FIND(\"[\",SNPs!B1100)+3,FIND(\"/\",SNPs!B1100)-FIND(\"/\",SNPs!B1100)+1),\"\")","v":""},{"$f":"IF(SNPs!B1100<>\"\",SNPs!B1100,\"\")","v":""}]
[{"$f":"IF(SNPs!A1101<>\"\",SNPs!A1101,\"\")","v":""},{"$f":"IF(SNPs!B1101<>\"\",MID(SNPs!B1101,FIND(\"[\",SNPs!B1101)+1,FIND(\"/\",SNPs!B1101)-FIND(\"[\",SNPs!B1101)-1),\"\")","v":""},{"$f":"IF(SNPs!B1101<>\"\",MID(SNPs!B1101,FIND(\"[\",SNPs!B1101)+3,FIND(\"/\",SNPs!B1101)-FIND(\"/\",SNPs!B1101)+1),\"\")","v":""},{"$f":"IF(SNPs!B1101<>\"\",SNPs!B1101,\"\")","v":""}]
[{"$f":"IF(SNPs!A1102<>\"\",SNPs!A1102,\"\")","v":""},{"$f":"IF(SNPs!B1102<>\"\",MID(SNPs!B1102,FIND(\"[\",SNPs!B1102)+1,FIND(\"/\",SNPs!B1102)-FIND(\"[\",SNPs!B1102)-1),\"\")","v":""},{"$f":"IF(SNPs!B1102<>\"\",MID(SNPs!B1102,FIND(\"[\",SNPs!B1102)+3,FIND(\"/\",SNPs!B1102)-FIND(\"/\",SNPs!B1102)+1),\"\")","v":""},{"$f":"IF(SNPs!B1102<>\"\",SNPs!B1102,\"\")","v":""}]
[{"$f":"IF(SNPs!A1103<>\"\",SNPs!A1103,\"\")","v":""},{"$f":"IF(SNPs!B1103<>\"\",MID(SNPs!B1103,FIND(\"[\",SNPs!B1103)+1,FIND(\"/\",SNPs!B1103)-FIND(\"[\",SNPs!B1103)-1),\"\")","v":""},{"$f":"IF(SNPs!B1103<>\"\",MID(SNPs!B1103,FIND(\"[\",SNPs!B1103)+3,FIND(\"/\",SNPs!B1103)-FIND(\"/\",SNPs!B1103)+1),\"\")","v":""},{"$f":"IF(SNPs!B1103<>\"\",SNPs!B1103,\"\")","v":""}]
[{"$f":"IF(SNPs!A1104<>\"\",SNPs!A1104,\"\")","v":""},{"$f":"IF(SNPs!B1104<>\"\",MID(SNPs!B1104,FIND(\"[\",SNPs!B1104)+1,FIND(\"/\",SNPs!B1104)-FIND(\"[\",SNPs!B1104)-1),\"\")","v":""},{"$f":"IF(SNPs!B1104<>\"\",MID(SNPs!B1104,FIND(\"[\",SNPs!B1104)+3,FIND(\"/\",SNPs!B1104)-FIND(\"/\",SNPs!B1104)+1),\"\")","v":""},{"$f":"IF(SNPs!B1104<>\"\",SNPs!B1104,\"\")","v":""}]
[{"$f":"IF(SNPs!A1105<>\"\",SNPs!A1105,\"\")","v":""},{"$f":"IF(SNPs!B1105<>\"\",MID(SNPs!B1105,FIND(\"[\",SNPs!B1105)+1,FIND(\"/\",SNPs!B1105)-FIND(\"[\",SNPs!B1105)-1),\"\")","v":""},{"$f":"IF(SNPs!B1105<>\"\",MID(SNPs!B1105,FIND(\"[\",SNPs!B1105)+3,FIND(\"/\",SNPs!B1105)-FIND(\"/\",SNPs!B1105)+1),\"\")","v":""},{"$f":"IF(SNPs!B1105<>\"\",SNPs!B1105,\"\")","v":""}]
[{"$f":"IF(SNPs!A1106<>\"\",SNPs!A1106,\"\")","v":""},{"$f":"IF(SNPs!B1106<>\"\",MID(SNPs!B1106,FIND(\"[\",SNPs!B1106)+1,FIND(\"/\",SNPs!B1106)-FIND(\"[\",SNPs!B1106)-1),\"\")","v":""},{"$f":"IF(SNPs!B1106<>\"\",MID(SNPs!B1106,FIND(\"[\",SNPs!B1106)+3,FIND(\"/\",SNPs!B1106)-FIND(\"/\",SNPs!B1106)+1),\"\")","v":""},{"$f":"IF(SNPs!B1106<>\"\",SNPs!B1106,\"\")","v":""}]
[{"$f":"IF(SNPs!A1107<>\"\",SNPs!A1107,\"\")","v":""},{"$f":"IF(SNPs!B1107<>\"\",MID(SNPs!B1107,FIND(\"[\",SNPs!B1107)+1,FIND(\"/\",SNPs!B1107)-FIND(\"[\",SNPs!B1107)-1),\"\")","v":""},{"$f":"IF(SNPs!B1107<>\"\",MID(SNPs!B1107,FIND(\"[\",SNPs!B1107)+3,FIND(\"/\",SNPs!B1107)-FIND(\"/\",SNPs!B1107)+1),\"\")","v":""},{"$f":"IF(SNPs!B1107<>\"\",SNPs!B1107,\"\")","v":""}]
[{"$f":"IF(SNPs!A1108<>\"\",SNPs!A1108,\"\")","v":""},{"$f":"IF(SNPs!B1108<>\"\",MID(SNPs!B1108,FIND(\"[\",SNPs!B1108)+1,FIND(\"/\",SNPs!B1108)-FIND(\"[\",SNPs!B1108)-1),\"\")","v":""},{"$f":"IF(SNPs!B1108<>\"\",MID(SNPs!B1108,FIND(\"[\",SNPs!B1108)+3,FIND(\"/\",SNPs!B1108)-FIND(\"/\",SNPs!B1108)+1),\"\")","v":""},{"$f":"IF(SNPs!B1108<>\"\",SNPs!B1108,\"\")","v":""}]
[{"$f":"IF(SNPs!A1109<>\"\",SNPs!A1109,\"\")","v":""},{"$f":"IF(SNPs!B1109<>\"\",MID(SNPs!B1109,FIND(\"[\",SNPs!B1109)+1,FIND(\"/\",SNPs!B1109)-FIND(\"[\",SNPs!B1109)-1),\"\")","v":""},{"$f":"IF(SNPs!B1109<>\"\",MID(SNPs!B1109,FIND(\"[\",SNPs!B1109)+3,FIND(\"/\",SNPs!B1109)-FIND(\"/\",SNPs!B1109)+1),\"\")","v":""},{"$f":"IF(SNPs!B1109<>\"\",SNPs!B1109,\"\")","v":""}]
[{"$f":"IF(SNPs!A1110<>\"\",SNPs!A1110,\"\")","v":""},{"$f":"IF(SNPs!B1110<>\"\",MID(SNPs!B1110,FIND(\"[\",SNPs!B1110)+1,FIND(\"/\",SNPs!B1110)-FIND(\"[\",SNPs!B1110)-1),\"\")","v":""},{"$f":"IF(SNPs!B1110<>\"\",MID(SNPs!B1110,FIND(\"[\",SNPs!B1110)+3,FIND(\"/\",SNPs!B1110)-FIND(\"/\",SNPs!B1110)+1),\"\")","v":""},{"$f":"IF(SNPs!B1110<>\"\",SNPs!B1110,\"\")","v":""}]
[{"$f":"IF(SNPs!A1111<>\"\",SNPs!A1111,\"\")","v":""},{"$f":"IF(SNPs!B1111<>\"\",MID(SNPs!B1111,FIND(\"[\",SNPs!B1111)+1,FIND(\"/\",SNPs!B1111)-FIND(\"[\",SNPs!B1111)-1),\"\")","v":""},{"$f":"IF(SNPs!B1111<>\"\",MID(SNPs!B1111,FIND(\"[\",SNPs!B1111)+3,FIND(\"/\",SNPs!B1111)-FIND(\"/\",SNPs!B1111)+1),\"\")","v":""},{"$f":"IF(SNPs!B1111<>\"\",SNPs!B1111,\"\")","v":""}]
[{"$f":"IF(SNPs!A1112<>\"\",SNPs!A1112,\"\")","v":""},{"$f":"IF(SNPs!B1112<>\"\",MID(SNPs!B1112,FIND(\"[\",SNPs!B1112)+1,FIND(\"/\",SNPs!B1112)-FIND(\"[\",SNPs!B1112)-1),\"\")","v":""},{"$f":"IF(SNPs!B1112<>\"\",MID(SNPs!B1112,FIND(\"[\",SNPs!B1112)+3,FIND(\"/\",SNPs!B1112)-FIND(\"/\",SNPs!B1112)+1),\"\")","v":""},{"$f":"IF(SNPs!B1112<>\"\",SNPs!B1112,\"\")","v":""}]
[{"$f":"IF(SNPs!A1113<>\"\",SNPs!A1113,\"\")","v":""},{"$f":"IF(SNPs!B1113<>\"\",MID(SNPs!B1113,FIND(\"[\",SNPs!B1113)+1,FIND(\"/\",SNPs!B1113)-FIND(\"[\",SNPs!B1113)-1),\"\")","v":""},{"$f":"IF(SNPs!B1113<>\"\",MID(SNPs!B1113,FIND(\"[\",SNPs!B1113)+3,FIND(\"/\",SNPs!B1113)-FIND(\"/\",SNPs!B1113)+1),\"\")","v":""},{"$f":"IF(SNPs!B1113<>\"\",SNPs!B1113,\"\")","v":""}]
[{"$f":"IF(SNPs!A1114<>\"\",SNPs!A1114,\"\")","v":""},{"$f":"IF(SNPs!B1114<>\"\",MID(SNPs!B1114,FIND(\"[\",SNPs!B1114)+1,FIND(\"/\",SNPs!B1114)-FIND(\"[\",SNPs!B1114)-1),\"\")","v":""},{"$f":"IF(SNPs!B1114<>\"\",MID(SNPs!B1114,FIND(\"[\",SNPs!B1114)+3,FIND(\"/\",SNPs!B1114)-FIND(\"/\",SNPs!B1114)+1),\"\")","v":""},{"$f":"IF(SNPs!B1114<>\"\",SNPs!B1114,\"\")","v":""}]
[{"$f":"IF(SNPs!A1115<>\"\",SNPs!A1115,\"\")","v":""},{"$f":"IF(SNPs!B1115<>\"\",MID(SNPs!B1115,FIND(\"[\",SNPs!B1115)+1,FIND(\"/\",SNPs!B1115)-FIND(\"[\",SNPs!B1115)-1),\"\")","v":""},{"$f":"IF(SNPs!B1115<>\"\",MID(SNPs!B1115,FIND(\"[\",SNPs!B1115)+3,FIND(\"/\",SNPs!B1115)-FIND(\"/\",SNPs!B1115)+1),\"\")","v":""},{"$f":"IF(SNPs!B1115<>\"\",SNPs!B1115,\"\")","v":""}]
[{"$f":"IF(SNPs!A1116<>\"\",SNPs!A1116,\"\")","v":""},{"$f":"IF(SNPs!B1116<>\"\",MID(SNPs!B1116,FIND(\"[\",SNPs!B1116)+1,FIND(\"/\",SNPs!B1116)-FIND(\"[\",SNPs!B1116)-1),\"\")","v":""},{"$f":"IF(SNPs!B1116<>\"\",MID(SNPs!B1116,FIND(\"[\",SNPs!B1116)+3,FIND(\"/\",SNPs!B1116)-FIND(\"/\",SNPs!B1116)+1),\"\")","v":""},{"$f":"IF(SNPs!B1116<>\"\",SNPs!B1116,\"\")","v":""}]
[{"$f":"IF(SNPs!A1117<>\"\",SNPs!A1117,\"\")","v":""},{"$f":"IF(SNPs!B1117<>\"\",MID(SNPs!B1117,FIND(\"[\",SNPs!B1117)+1,FIND(\"/\",SNPs!B1117)-FIND(\"[\",SNPs!B1117)-1),\"\")","v":""},{"$f":"IF(SNPs!B1117<>\"\",MID(SNPs!B1117,FIND(\"[\",SNPs!B1117)+3,FIND(\"/\",SNPs!B1117)-FIND(\"/\",SNPs!B1117)+1),\"\")","v":""},{"$f":"IF(SNPs!B1117<>\"\",SNPs!B1117,\"\")","v":""}]
[{"$f":"IF(SNPs!A1118<>\"\",SNPs!A1118,\"\")","v":""},{"$f":"IF(SNPs!B1118<>\"\",MID(SNPs!B1118,FIND(\"[\",SNPs!B1118)+1,FIND(\"/\",SNPs!B1118)-FIND(\"[\",SNPs!B1118)-1),\"\")","v":""},{"$f":"IF(SNPs!B1118<>\"\",MID(SNPs!B1118,FIND(\"[\",SNPs!B1118)+3,FIND(\"/\",SNPs!B1118)-FIND(\"/\",SNPs!B1118)+1),\"\")","v":""},{"$f":"IF(SNPs!B1118<>\"\",SNPs!B1118,\"\")","v":""}]
[{"$f":"IF(SNPs!A1119<>\"\",SNPs!A1119,\"\")","v":""},{"$f":"IF(SNPs!B1119<>\"\",MID(SNPs!B1119,FIND(\"[\",SNPs!B1119)+1,FIND(\"/\",SNPs!B1119)-FIND(\"[\",SNPs!B1119)-1),\"\")","v":""},{"$f":"IF(SNPs!B1119<>\"\",MID(SNPs!B1119,FIND(\"[\",SNPs!B1119)+3,FIND(\"/\",SNPs!B1119)-FIND(\"/\",SNPs!B1119)+1),\"\")","v":""},{"$f":"IF(SNPs!B1119<>\"\",SNPs!B1119,\"\")","v":""}]
[{"$f":"IF(SNPs!A1120<>\"\",SNPs!A1120,\"\")","v":""},{"$f":"IF(SNPs!B1120<>\"\",MID(SNPs!B1120,FIND(\"[\",SNPs!B1120)+1,FIND(\"/\",SNPs!B1120)-FIND(\"[\",SNPs!B1120)-1),\"\")","v":""},{"$f":"IF(SNPs!B1120<>\"\",MID(SNPs!B1120,FIND(\"[\",SNPs!B1120)+3,FIND(\"/\",SNPs!B1120)-FIND(\"/\",SNPs!B1120)+1),\"\")","v":""},{"$f":"IF(SNPs!B1120<>\"\",SNPs!B1120,\"\")","v":""}]
[{"$f":"IF(SNPs!A1121<>\"\",SNPs!A1121,\"\")","v":""},{"$f":"IF(SNPs!B1121<>\"\",MID(SNPs!B1121,FIND(\"[\",SNPs!B1121)+1,FIND(\"/\",SNPs!B1121)-FIND(\"[\",SNPs!B1121)-1),\"\")","v":""},{"$f":"IF(SNPs!B1121<>\"\",MID(SNPs!B1121,FIND(\"[\",SNPs!B1121)+3,FIND(\"/\",SNPs!B1121)-FIND(\"/\",SNPs!B1121)+1),\"\")","v":""},{"$f":"IF(SNPs!B1121<>\"\",SNPs!B1121,\"\")","v":""}]
[{"$f":"IF(SNPs!A1122<>\"\",SNPs!A1122,\"\")","v":""},{"$f":"IF(SNPs!B1122<>\"\",MID(SNPs!B1122,FIND(\"[\",SNPs!B1122)+1,FIND(\"/\",SNPs!B1122)-FIND(\"[\",SNPs!B1122)-1),\"\")","v":""},{"$f":"IF(SNPs!B1122<>\"\",MID(SNPs!B1122,FIND(\"[\",SNPs!B1122)+3,FIND(\"/\",SNPs!B1122)-FIND(\"/\",SNPs!B1122)+1),\"\")","v":""},{"$f":"IF(SNPs!B1122<>\"\",SNPs!B1122,\"\")","v":""}]
[{"$f":"IF(SNPs!A1123<>\"\",SNPs!A1123,\"\")","v":""},{"$f":"IF(SNPs!B1123<>\"\",MID(SNPs!B1123,FIND(\"[\",SNPs!B1123)+1,FIND(\"/\",SNPs!B1123)-FIND(\"[\",SNPs!B1123)-1),\"\")","v":""},{"$f":"IF(SNPs!B1123<>\"\",MID(SNPs!B1123,FIND(\"[\",SNPs!B1123)+3,FIND(\"/\",SNPs!B1123)-FIND(\"/\",SNPs!B1123)+1),\"\")","v":""},{"$f":"IF(SNPs!B1123<>\"\",SNPs!B1123,\"\")","v":""}]
[{"$f":"IF(SNPs!A1124<>\"\",SNPs!A1124,\"\")","v":""},{"$f":"IF(SNPs!B1124<>\"\",MID(SNPs!B1124,FIND(\"[\",SNPs!B1124)+1,FIND(\"/\",SNPs!B1124)-FIND(\"[\",SNPs!B1124)-1),\"\")","v":""},{"$f":"IF(SNPs!B1124<>\"\",MID(SNPs!B1124,FIND(\"[\",SNPs!B1124)+3,FIND(\"/\",SNPs!B1124)-FIND(\"/\",SNPs!B1124)+1),\"\")","v":""},{"$f":"IF(SNPs!B1124<>\"\",SNPs!B1124,\"\")","v":""}]
[{"$f":"IF(SNPs!A1125<>\"\",SNPs!A1125,\"\")","v":""},{"$f":"IF(SNPs!B1125<>\"\",MID(SNPs!B1125,FIND(\"[\",SNPs!B1125)+1,FIND(\"/\",SNPs!B1125)-FIND(\"[\",SNPs!B1125)-1),\"\")","v":""},{"$f":"IF(SNPs!B1125<>\"\",MID(SNPs!B1125,FIND(\"[\",SNPs!B1125)+3,FIND(\"/\",SNPs!B1125)-FIND(\"/\",SNPs!B1125)+1),\"\")","v":""},{"$f":"IF(SNPs!B1125<>\"\",SNPs!B1125,\"\")","v":""}]
[{"$f":"IF(SNPs!A1126<>\"\",SNPs!A1126,\"\")","v":""},{"$f":"IF(SNPs!B1126<>\"\",MID(SNPs!B1126,FIND(\"[\",SNPs!B1126)+1,FIND(\"/\",SNPs!B1126)-FIND(\"[\",SNPs!B1126)-1),\"\")","v":""},{"$f":"IF(SNPs!B1126<>\"\",MID(SNPs!B1126,FIND(\"[\",SNPs!B1126)+3,FIND(\"/\",SNPs!B1126)-FIND(\"/\",SNPs!B1126)+1),\"\")","v":""},{"$f":"IF(SNPs!B1126<>\"\",SNPs!B1126,\"\")","v":""}]
[{"$f":"IF(SNPs!A1127<>\"\",SNPs!A1127,\"\")","v":""},{"$f":"IF(SNPs!B1127<>\"\",MID(SNPs!B1127,FIND(\"[\",SNPs!B1127)+1,FIND(\"/\",SNPs!B1127)-FIND(\"[\",SNPs!B1127)-1),\"\")","v":""},{"$f":"IF(SNPs!B1127<>\"\",MID(SNPs!B1127,FIND(\"[\",SNPs!B1127)+3,FIND(\"/\",SNPs!B1127)-FIND(\"/\",SNPs!B1127)+1),\"\")","v":""},{"$f":"IF(SNPs!B1127<>\"\",SNPs!B1127,\"\")","v":""}]
[{"$f":"IF(SNPs!A1128<>\"\",SNPs!A1128,\"\")","v":""},{"$f":"IF(SNPs!B1128<>\"\",MID(SNPs!B1128,FIND(\"[\",SNPs!B1128)+1,FIND(\"/\",SNPs!B1128)-FIND(\"[\",SNPs!B1128)-1),\"\")","v":""},{"$f":"IF(SNPs!B1128<>\"\",MID(SNPs!B1128,FIND(\"[\",SNPs!B1128)+3,FIND(\"/\",SNPs!B1128)-FIND(\"/\",SNPs!B1128)+1),\"\")","v":""},{"$f":"IF(SNPs!B1128<>\"\",SNPs!B1128,\"\")","v":""}]
[{"$f":"IF(SNPs!A1129<>\"\",SNPs!A1129,\"\")","v":""},{"$f":"IF(SNPs!B1129<>\"\",MID(SNPs!B1129,FIND(\"[\",SNPs!B1129)+1,FIND(\"/\",SNPs!B1129)-FIND(\"[\",SNPs!B1129)-1),\"\")","v":""},{"$f":"IF(SNPs!B1129<>\"\",MID(SNPs!B1129,FIND(\"[\",SNPs!B1129)+3,FIND(\"/\",SNPs!B1129)-FIND(\"/\",SNPs!B1129)+1),\"\")","v":""},{"$f":"IF(SNPs!B1129<>\"\",SNPs!B1129,\"\")","v":""}]
[{"$f":"IF(SNPs!A1130<>\"\",SNPs!A1130,\"\")","v":""},{"$f":"IF(SNPs!B1130<>\"\",MID(SNPs!B1130,FIND(\"[\",SNPs!B1130)+1,FIND(\"/\",SNPs!B1130)-FIND(\"[\",SNPs!B1130)-1),\"\")","v":""},{"$f":"IF(SNPs!B1130<>\"\",MID(SNPs!B1130,FIND(\"[\",SNPs!B1130)+3,FIND(\"/\",SNPs!B1130)-FIND(\"/\",SNPs!B1130)+1),\"\")","v":""},{"$f":"IF(SNPs!B1130<>\"\",SNPs!B1130,\"\")","v":""}]
[{"$f":"IF(SNPs!A1131<>\"\",SNPs!A1131,\"\")","v":""},{"$f":"IF(SNPs!B1131<>\"\",MID(SNPs!B1131,FIND(\"[\",SNPs!B1131)+1,FIND(\"/\",SNPs!B1131)-FIND(\"[\",SNPs!B1131)-1),\"\")","v":""},{"$f":"IF(SNPs!B1131<>\"\",MID(SNPs!B1131,FIND(\"[\",SNPs!B1131)+3,FIND(\"/\",SNPs!B1131)-FIND(\"/\",SNPs!B1131)+1),\"\")","v":""},{"$f":"IF(SNPs!B1131<>\"\",SNPs!B1131,\"\")","v":""}]
[{"$f":"IF(SNPs!A1132<>\"\",SNPs!A1132,\"\")","v":""},{"$f":"IF(SNPs!B1132<>\"\",MID(SNPs!B1132,FIND(\"[\",SNPs!B1132)+1,FIND(\"/\",SNPs!B1132)-FIND(\"[\",SNPs!B1132)-1),\"\")","v":""},{"$f":"IF(SNPs!B1132<>\"\",MID(SNPs!B1132,FIND(\"[\",SNPs!B1132)+3,FIND(\"/\",SNPs!B1132)-FIND(\"/\",SNPs!B1132)+1),\"\")","v":""},{"$f":"IF(SNPs!B1132<>\"\",SNPs!B1132,\"\")","v":""}]
[{"$f":"IF(SNPs!A1133<>\"\",SNPs!A1133,\"\")","v":""},{"$f":"IF(SNPs!B1133<>\"\",MID(SNPs!B1133,FIND(\"[\",SNPs!B1133)+1,FIND(\"/\",SNPs!B1133)-FIND(\"[\",SNPs!B1133)-1),\"\")","v":""},{"$f":"IF(SNPs!B1133<>\"\",MID(SNPs!B1133,FIND(\"[\",SNPs!B1133)+3,FIND(\"/\",SNPs!B1133)-FIND(\"/\",SNPs!B1133)+1),\"\")","v":""},{"$f":"IF(SNPs!B1133<>\"\",SNPs!B1133,\"\")","v":""}]
[{"$f":"IF(SNPs!A1134<>\"\",SNPs!A1134,\"\")","v":""},{"$f":"IF(SNPs!B1134<>\"\",MID(SNPs!B1134,FIND(\"[\",SNPs!B1134)+1,FIND(\"/\",SNPs!B1134)-FIND(\"[\",SNPs!B1134)-1),\"\")","v":""},{"$f":"IF(SNPs!B1134<>\"\",MID(SNPs!B1134,FIND(\"[\",SNPs!B1134)+3,FIND(\"/\",SNPs!B1134)-FIND(\"/\",SNPs!B1134)+1),\"\")","v":""},{"$f":"IF(SNPs!B1134<>\"\",SNPs!B1134,\"\")","v":""}]
[{"$f":"IF(SNPs!A1135<>\"\",SNPs!A1135,\"\")","v":""},{"$f":"IF(SNPs!B1135<>\"\",MID(SNPs!B1135,FIND(\"[\",SNPs!B1135)+1,FIND(\"/\",SNPs!B1135)-FIND(\"[\",SNPs!B1135)-1),\"\")","v":""},{"$f":"IF(SNPs!B1135<>\"\",MID(SNPs!B1135,FIND(\"[\",SNPs!B1135)+3,FIND(\"/\",SNPs!B1135)-FIND(\"/\",SNPs!B1135)+1),\"\")","v":""},{"$f":"IF(SNPs!B1135<>\"\",SNPs!B1135,\"\")","v":""}]
[{"$f":"IF(SNPs!A1136<>\"\",SNPs!A1136,\"\")","v":""},{"$f":"IF(SNPs!B1136<>\"\",MID(SNPs!B1136,FIND(\"[\",SNPs!B1136)+1,FIND(\"/\",SNPs!B1136)-FIND(\"[\",SNPs!B1136)-1),\"\")","v":""},{"$f":"IF(SNPs!B1136<>\"\",MID(SNPs!B1136,FIND(\"[\",SNPs!B1136)+3,FIND(\"/\",SNPs!B1136)-FIND(\"/\",SNPs!B1136)+1),\"\")","v":""},{"$f":"IF(SNPs!B1136<>\"\",SNPs!B1136,\"\")","v":""}]
[{"$f":"IF(SNPs!A1137<>\"\",SNPs!A1137,\"\")","v":""},{"$f":"IF(SNPs!B1137<>\"\",MID(SNPs!B1137,FIND(\"[\",SNPs!B1137)+1,FIND(\"/\",SNPs!B1137)-FIND(\"[\",SNPs!B1137)-1),\"\")","v":""},{"$f":"IF(SNPs!B1137<>\"\",MID(SNPs!B1137,FIND(\"[\",SNPs!B1137)+3,FIND(\"/\",SNPs!B1137)-FIND(\"/\",SNPs!B1137)+1),\"\")","v":""},{"$f":"IF(SNPs!B1137<>\"\",SNPs!B1137,\"\")","v":""}]
[{"$f":"IF(SNPs!A1138<>\"\",SNPs!A1138,\"\")","v":""},{"$f":"IF(SNPs!B1138<>\"\",MID(SNPs!B1138,FIND(\"[\",SNPs!B1138)+1,FIND(\"/\",SNPs!B1138)-FIND(\"[\",SNPs!B1138)-1),\"\")","v":""},{"$f":"IF(SNPs!B1138<>\"\",MID(SNPs!B1138,FIND(\"[\",SNPs!B1138)+3,FIND(\"/\",SNPs!B1138)-FIND(\"/\",SNPs!B1138)+1),\"\")","v":""},{"$f":"IF(SNPs!B1138<>\"\",SNPs!B1138,\"\")","v":""}]
[{"$f":"IF(SNPs!A1139<>\"\",SNPs!A1139,\"\")","v":""},{"$f":"IF(SNPs!B1139<>\"\",MID(SNPs!B1139,FIND(\"[\",SNPs!B1139)+1,FIND(\"/\",SNPs!B1139)-FIND(\"[\",SNPs!B1139)-1),\"\")","v":""},{"$f":"IF(SNPs!B1139<>\"\",MID(SNPs!B1139,FIND(\"[\",SNPs!B1139)+3,FIND(\"/\",SNPs!B1139)-FIND(\"/\",SNPs!B1139)+1),\"\")","v":""},{"$f":"IF(SNPs!B1139<>\"\",SNPs!B1139,\"\")","v":""}]
[{"$f":"IF(SNPs!A1140<>\"\",SNPs!A1140,\"\")","v":""},{"$f":"IF(SNPs!B1140<>\"\",MID(SNPs!B1140,FIND(\"[\",SNPs!B1140)+1,FIND(\"/\",SNPs!B1140)-FIND(\"[\",SNPs!B1140)-1),\"\")","v":""},{"$f":"IF(SNPs!B1140<>\"\",MID(SNPs!B1140,FIND(\"[\",SNPs!B1140)+3,FIND(\"/\",SNPs!B1140)-FIND(\"/\",SNPs!B1140)+1),\"\")","v":""},{"$f":"IF(SNPs!B1140<>\"\",SNPs!B1140,\"\")","v":""}]
[{"$f":"IF(SNPs!A1141<>\"\",SNPs!A1141,\"\")","v":""},{"$f":"IF(SNPs!B1141<>\"\",MID(SNPs!B1141,FIND(\"[\",SNPs!B1141)+1,FIND(\"/\",SNPs!B1141)-FIND(\"[\",SNPs!B1141)-1),\"\")","v":""},{"$f":"IF(SNPs!B1141<>\"\",MID(SNPs!B1141,FIND(\"[\",SNPs!B1141)+3,FIND(\"/\",SNPs!B1141)-FIND(\"/\",SNPs!B1141)+1),\"\")","v":""},{"$f":"IF(SNPs!B1141<>\"\",SNPs!B1141,\"\")","v":""}]
[{"$f":"IF(SNPs!A1142<>\"\",SNPs!A1142,\"\")","v":""},{"$f":"IF(SNPs!B1142<>\"\",MID(SNPs!B1142,FIND(\"[\",SNPs!B1142)+1,FIND(\"/\",SNPs!B1142)-FIND(\"[\",SNPs!B1142)-1),\"\")","v":""},{"$f":"IF(SNPs!B1142<>\"\",MID(SNPs!B1142,FIND(\"[\",SNPs!B1142)+3,FIND(\"/\",SNPs!B1142)-FIND(\"/\",SNPs!B1142)+1),\"\")","v":""},{"$f":"IF(SNPs!B1142<>\"\",SNPs!B1142,\"\")","v":""}]
[{"$f":"IF(SNPs!A1143<>\"\",SNPs!A1143,\"\")","v":""},{"$f":"IF(SNPs!B1143<>\"\",MID(SNPs!B1143,FIND(\"[\",SNPs!B1143)+1,FIND(\"/\",SNPs!B1143)-FIND(\"[\",SNPs!B1143)-1),\"\")","v":""},{"$f":"IF(SNPs!B1143<>\"\",MID(SNPs!B1143,FIND(\"[\",SNPs!B1143)+3,FIND(\"/\",SNPs!B1143)-FIND(\"/\",SNPs!B1143)+1),\"\")","v":""},{"$f":"IF(SNPs!B1143<>\"\",SNPs!B1143,\"\")","v":""}]
[{"$f":"IF(SNPs!A1144<>\"\",SNPs!A1144,\"\")","v":""},{"$f":"IF(SNPs!B1144<>\"\",MID(SNPs!B1144,FIND(\"[\",SNPs!B1144)+1,FIND(\"/\",SNPs!B1144)-FIND(\"[\",SNPs!B1144)-1),\"\")","v":""},{"$f":"IF(SNPs!B1144<>\"\",MID(SNPs!B1144,FIND(\"[\",SNPs!B1144)+3,FIND(\"/\",SNPs!B1144)-FIND(\"/\",SNPs!B1144)+1),\"\")","v":""},{"$f":"IF(SNPs!B1144<>\"\",SNPs!B1144,\"\")","v":""}]
[{"$f":"IF(SNPs!A1145<>\"\",SNPs!A1145,\"\")","v":""},{"$f":"IF(SNPs!B1145<>\"\",MID(SNPs!B1145,FIND(\"[\",SNPs!B1145)+1,FIND(\"/\",SNPs!B1145)-FIND(\"[\",SNPs!B1145)-1),\"\")","v":""},{"$f":"IF(SNPs!B1145<>\"\",MID(SNPs!B1145,FIND(\"[\",SNPs!B1145)+3,FIND(\"/\",SNPs!B1145)-FIND(\"/\",SNPs!B1145)+1),\"\")","v":""},{"$f":"IF(SNPs!B1145<>\"\",SNPs!B1145,\"\")","v":""}]
[{"$f":"IF(SNPs!A1146<>\"\",SNPs!A1146,\"\")","v":""},{"$f":"IF(SNPs!B1146<>\"\",MID(SNPs!B1146,FIND(\"[\",SNPs!B1146)+1,FIND(\"/\",SNPs!B1146)-FIND(\"[\",SNPs!B1146)-1),\"\")","v":""},{"$f":"IF(SNPs!B1146<>\"\",MID(SNPs!B1146,FIND(\"[\",SNPs!B1146)+3,FIND(\"/\",SNPs!B1146)-FIND(\"/\",SNPs!B1146)+1),\"\")","v":""},{"$f":"IF(SNPs!B1146<>\"\",SNPs!B1146,\"\")","v":""}]
[{"$f":"IF(SNPs!A1147<>\"\",SNPs!A1147,\"\")","v":""},{"$f":"IF(SNPs!B1147<>\"\",MID(SNPs!B1147,FIND(\"[\",SNPs!B1147)+1,FIND(\"/\",SNPs!B1147)-FIND(\"[\",SNPs!B1147)-1),\"\")","v":""},{"$f":"IF(SNPs!B1147<>\"\",MID(SNPs!B1147,FIND(\"[\",SNPs!B1147)+3,FIND(\"/\",SNPs!B1147)-FIND(\"/\",SNPs!B1147)+1),\"\")","v":""},{"$f":"IF(SNPs!B1147<>\"\",SNPs!B1147,\"\")","v":""}]
[{"$f":"IF(SNPs!A1148<>\"\",SNPs!A1148,\"\")","v":""},{"$f":"IF(SNPs!B1148<>\"\",MID(SNPs!B1148,FIND(\"[\",SNPs!B1148)+1,FIND(\"/\",SNPs!B1148)-FIND(\"[\",SNPs!B1148)-1),\"\")","v":""},{"$f":"IF(SNPs!B1148<>\"\",MID(SNPs!B1148,FIND(\"[\",SNPs!B1148)+3,FIND(\"/\",SNPs!B1148)-FIND(\"/\",SNPs!B1148)+1),\"\")","v":""},{"$f":"IF(SNPs!B1148<>\"\",SNPs!B1148,\"\")","v":""}]
[{"$f":"IF(SNPs!A1149<>\"\",SNPs!A1149,\"\")","v":""},{"$f":"IF(SNPs!B1149<>\"\",MID(SNPs!B1149,FIND(\"[\",SNPs!B1149)+1,FIND(\"/\",SNPs!B1149)-FIND(\"[\",SNPs!B1149)-1),\"\")","v":""},{"$f":"IF(SNPs!B1149<>\"\",MID(SNPs!B1149,FIND(\"[\",SNPs!B1149)+3,FIND(\"/\",SNPs!B1149)-FIND(\"/\",SNPs!B1149)+1),\"\")","v":""},{"$f":"IF(SNPs!B1149<>\"\",SNPs!B1149,\"\")","v":""}]
[{"$f":"IF(SNPs!A1150<>\"\",SNPs!A1150,\"\")","v":""},{"$f":"IF(SNPs!B1150<>\"\",MID(SNPs!B1150,FIND(\"[\",SNPs!B1150)+1,FIND(\"/\",SNPs!B1150)-FIND(\"[\",SNPs!B1150)-1),\"\")","v":""},{"$f":"IF(SNPs!B1150<>\"\",MID(SNPs!B1150,FIND(\"[\",SNPs!B1150)+3,FIND(\"/\",SNPs!B1150)-FIND(\"/\",SNPs!B1150)+1),\"\")","v":""},{"$f":"IF(SNPs!B1150<>\"\",SNPs!B1150,\"\")","v":""}]
[{"$f":"IF(SNPs!A1151<>\"\",SNPs!A1151,\"\")","v":""},{"$f":"IF(SNPs!B1151<>\"\",MID(SNPs!B1151,FIND(\"[\",SNPs!B1151)+1,FIND(\"/\",SNPs!B1151)-FIND(\"[\",SNPs!B1151)-1),\"\")","v":""},{"$f":"IF(SNPs!B1151<>\"\",MID(SNPs!B1151,FIND(\"[\",SNPs!B1151)+3,FIND(\"/\",SNPs!B1151)-FIND(\"/\",SNPs!B1151)+1),\"\")","v":""},{"$f":"IF(SNPs!B1151<>\"\",SNPs!B1151,\"\")","v":""}]
[{"$f":"IF(SNPs!A1152<>\"\",SNPs!A1152,\"\")","v":""},{"$f":"IF(SNPs!B1152<>\"\",MID(SNPs!B1152,FIND(\"[\",SNPs!B1152)+1,FIND(\"/\",SNPs!B1152)-FIND(\"[\",SNPs!B1152)-1),\"\")","v":""},{"$f":"IF(SNPs!B1152<>\"\",MID(SNPs!B1152,FIND(\"[\",SNPs!B1152)+3,FIND(\"/\",SNPs!B1152)-FIND(\"/\",SNPs!B1152)+1),\"\")","v":""},{"$f":"IF(SNPs!B1152<>\"\",SNPs!B1152,\"\")","v":""}]
[{"$f":"IF(SNPs!A1153<>\"\",SNPs!A1153,\"\")","v":""},{"$f":"IF(SNPs!B1153<>\"\",MID(SNPs!B1153,FIND(\"[\",SNPs!B1153)+1,FIND(\"/\",SNPs!B1153)-FIND(\"[\",SNPs!B1153)-1),\"\")","v":""},{"$f":"IF(SNPs!B1153<>\"\",MID(SNPs!B1153,FIND(\"[\",SNPs!B1153)+3,FIND(\"/\",SNPs!B1153)-FIND(\"/\",SNPs!B1153)+1),\"\")","v":""},{"$f":"IF(SNPs!B1153<>\"\",SNPs!B1153,\"\")","v":""}]
[{"$f":"IF(SNPs!A1154<>\"\",SNPs!A1154,\"\")","v":""},{"$f":"IF(SNPs!B1154<>\"\",MID(SNPs!B1154,FIND(\"[\",SNPs!B1154)+1,FIND(\"/\",SNPs!B1154)-FIND(\"[\",SNPs!B1154)-1),\"\")","v":""},{"$f":"IF(SNPs!B1154<>\"\",MID(SNPs!B1154,FIND(\"[\",SNPs!B1154)+3,FIND(\"/\",SNPs!B1154)-FIND(\"/\",SNPs!B1154)+1),\"\")","v":""},{"$f":"IF(SNPs!B1154<>\"\",SNPs!B1154,\"\")","v":""}]
[{"$f":"IF(SNPs!A1155<>\"\",SNPs!A1155,\"\")","v":""},{"$f":"IF(SNPs!B1155<>\"\",MID(SNPs!B1155,FIND(\"[\",SNPs!B1155)+1,FIND(\"/\",SNPs!B1155)-FIND(\"[\",SNPs!B1155)-1),\"\")","v":""},{"$f":"IF(SNPs!B1155<>\"\",MID(SNPs!B1155,FIND(\"[\",SNPs!B1155)+3,FIND(\"/\",SNPs!B1155)-FIND(\"/\",SNPs!B1155)+1),\"\")","v":""},{"$f":"IF(SNPs!B1155<>\"\",SNPs!B1155,\"\")","v":""}]
[{"$f":"IF(SNPs!A1156<>\"\",SNPs!A1156,\"\")","v":""},{"$f":"IF(SNPs!B1156<>\"\",MID(SNPs!B1156,FIND(\"[\",SNPs!B1156)+1,FIND(\"/\",SNPs!B1156)-FIND(\"[\",SNPs!B1156)-1),\"\")","v":""},{"$f":"IF(SNPs!B1156<>\"\",MID(SNPs!B1156,FIND(\"[\",SNPs!B1156)+3,FIND(\"/\",SNPs!B1156)-FIND(\"/\",SNPs!B1156)+1),\"\")","v":""},{"$f":"IF(SNPs!B1156<>\"\",SNPs!B1156,\"\")","v":""}]
[{"$f":"IF(SNPs!A1157<>\"\",SNPs!A1157,\"\")","v":""},{"$f":"IF(SNPs!B1157<>\"\",MID(SNPs!B1157,FIND(\"[\",SNPs!B1157)+1,FIND(\"/\",SNPs!B1157)-FIND(\"[\",SNPs!B1157)-1),\"\")","v":""},{"$f":"IF(SNPs!B1157<>\"\",MID(SNPs!B1157,FIND(\"[\",SNPs!B1157)+3,FIND(\"/\",SNPs!B1157)-FIND(\"/\",SNPs!B1157)+1),\"\")","v":""},{"$f":"IF(SNPs!B1157<>\"\",SNPs!B1157,\"\")","v":""}]
[{"$f":"IF(SNPs!A1158<>\"\",SNPs!A1158,\"\")","v":""},{"$f":"IF(SNPs!B1158<>\"\",MID(SNPs!B1158,FIND(\"[\",SNPs!B1158)+1,FIND(\"/\",SNPs!B1158)-FIND(\"[\",SNPs!B1158)-1),\"\")","v":""},{"$f":"IF(SNPs!B1158<>\"\",MID(SNPs!B1158,FIND(\"[\",SNPs!B1158)+3,FIND(\"/\",SNPs!B1158)-FIND(\"/\",SNPs!B1158)+1),\"\")","v":""},{"$f":"IF(SNPs!B1158<>\"\",SNPs!B1158,\"\")","v":""}]
[{"$f":"IF(SNPs!A1159<>\"\",SNPs!A1159,\"\")","v":""},{"$f":"IF(SNPs!B1159<>\"\",MID(SNPs!B1159,FIND(\"[\",SNPs!B1159)+1,FIND(\"/\",SNPs!B1159)-FIND(\"[\",SNPs!B1159)-1),\"\")","v":""},{"$f":"IF(SNPs!B1159<>\"\",MID(SNPs!B1159,FIND(\"[\",SNPs!B1159)+3,FIND(\"/\",SNPs!B1159)-FIND(\"/\",SNPs!B1159)+1),\"\")","v":""},{"$f":"IF(SNPs!B1159<>\"\",SNPs!B1159,\"\")","v":""}]
[{"$f":"IF(SNPs!A1160<>\"\",SNPs!A1160,\"\")","v":""},{"$f":"IF(SNPs!B1160<>\"\",MID(SNPs!B1160,FIND(\"[\",SNPs!B1160)+1,FIND(\"/\",SNPs!B1160)-FIND(\"[\",SNPs!B1160)-1),\"\")","v":""},{"$f":"IF(SNPs!B1160<>\"\",MID(SNPs!B1160,FIND(\"[\",SNPs!B1160)+3,FIND(\"/\",SNPs!B1160)-FIND(\"/\",SNPs!B1160)+1),\"\")","v":""},{"$f":"IF(SNPs!B1160<>\"\",SNPs!B1160,\"\")","v":""}]
[{"$f":"IF(SNPs!A1161<>\"\",SNPs!A1161,\"\")","v":""},{"$f":"IF(SNPs!B1161<>\"\",MID(SNPs!B1161,FIND(\"[\",SNPs!B1161)+1,FIND(\"/\",SNPs!B1161)-FIND(\"[\",SNPs!B1161)-1),\"\")","v":""},{"$f":"IF(SNPs!B1161<>\"\",MID(SNPs!B1161,FIND(\"[\",SNPs!B1161)+3,FIND(\"/\",SNPs!B1161)-FIND(\"/\",SNPs!B1161)+1),\"\")","v":""},{"$f":"IF(SNPs!B1161<>\"\",SNPs!B1161,\"\")","v":""}]
[{"$f":"IF(SNPs!A1162<>\"\",SNPs!A1162,\"\")","v":""},{"$f":"IF(SNPs!B1162<>\"\",MID(SNPs!B1162,FIND(\"[\",SNPs!B1162)+1,FIND(\"/\",SNPs!B1162)-FIND(\"[\",SNPs!B1162)-1),\"\")","v":""},{"$f":"IF(SNPs!B1162<>\"\",MID(SNPs!B1162,FIND(\"[\",SNPs!B1162)+3,FIND(\"/\",SNPs!B1162)-FIND(\"/\",SNPs!B1162)+1),\"\")","v":""},{"$f":"IF(SNPs!B1162<>\"\",SNPs!B1162,\"\")","v":""}]
[{"$f":"IF(SNPs!A1163<>\"\",SNPs!A1163,\"\")","v":""},{"$f":"IF(SNPs!B1163<>\"\",MID(SNPs!B1163,FIND(\"[\",SNPs!B1163)+1,FIND(\"/\",SNPs!B1163)-FIND(\"[\",SNPs!B1163)-1),\"\")","v":""},{"$f":"IF(SNPs!B1163<>\"\",MID(SNPs!B1163,FIND(\"[\",SNPs!B1163)+3,FIND(\"/\",SNPs!B1163)-FIND(\"/\",SNPs!B1163)+1),\"\")","v":""},{"$f":"IF(SNPs!B1163<>\"\",SNPs!B1163,\"\")","v":""}]
[{"$f":"IF(SNPs!A1164<>\"\",SNPs!A1164,\"\")","v":""},{"$f":"IF(SNPs!B1164<>\"\",MID(SNPs!B1164,FIND(\"[\",SNPs!B1164)+1,FIND(\"/\",SNPs!B1164)-FIND(\"[\",SNPs!B1164)-1),\"\")","v":""},{"$f":"IF(SNPs!B1164<>\"\",MID(SNPs!B1164,FIND(\"[\",SNPs!B1164)+3,FIND(\"/\",SNPs!B1164)-FIND(\"/\",SNPs!B1164)+1),\"\")","v":""},{"$f":"IF(SNPs!B1164<>\"\",SNPs!B1164,\"\")","v":""}]
[{"$f":"IF(SNPs!A1165<>\"\",SNPs!A1165,\"\")","v":""},{"$f":"IF(SNPs!B1165<>\"\",MID(SNPs!B1165,FIND(\"[\",SNPs!B1165)+1,FIND(\"/\",SNPs!B1165)-FIND(\"[\",SNPs!B1165)-1),\"\")","v":""},{"$f":"IF(SNPs!B1165<>\"\",MID(SNPs!B1165,FIND(\"[\",SNPs!B1165)+3,FIND(\"/\",SNPs!B1165)-FIND(\"/\",SNPs!B1165)+1),\"\")","v":""},{"$f":"IF(SNPs!B1165<>\"\",SNPs!B1165,\"\")","v":""}]
[{"$f":"IF(SNPs!A1166<>\"\",SNPs!A1166,\"\")","v":""},{"$f":"IF(SNPs!B1166<>\"\",MID(SNPs!B1166,FIND(\"[\",SNPs!B1166)+1,FIND(\"/\",SNPs!B1166)-FIND(\"[\",SNPs!B1166)-1),\"\")","v":""},{"$f":"IF(SNPs!B1166<>\"\",MID(SNPs!B1166,FIND(\"[\",SNPs!B1166)+3,FIND(\"/\",SNPs!B1166)-FIND(\"/\",SNPs!B1166)+1),\"\")","v":""},{"$f":"IF(SNPs!B1166<>\"\",SNPs!B1166,\"\")","v":""}]
[{"$f":"IF(SNPs!A1167<>\"\",SNPs!A1167,\"\")","v":""},{"$f":"IF(SNPs!B1167<>\"\",MID(SNPs!B1167,FIND(\"[\",SNPs!B1167)+1,FIND(\"/\",SNPs!B1167)-FIND(\"[\",SNPs!B1167)-1),\"\")","v":""},{"$f":"IF(SNPs!B1167<>\"\",MID(SNPs!B1167,FIND(\"[\",SNPs!B1167)+3,FIND(\"/\",SNPs!B1167)-FIND(\"/\",SNPs!B1167)+1),\"\")","v":""},{"$f":"IF(SNPs!B1167<>\"\",SNPs!B1167,\"\")","v":""}]
[{"$f":"IF(SNPs!A1168<>\"\",SNPs!A1168,\"\")","v":""},{"$f":"IF(SNPs!B1168<>\"\",MID(SNPs!B1168,FIND(\"[\",SNPs!B1168)+1,FIND(\"/\",SNPs!B1168)-FIND(\"[\",SNPs!B1168)-1),\"\")","v":""},{"$f":"IF(SNPs!B1168<>\"\",MID(SNPs!B1168,FIND(\"[\",SNPs!B1168)+3,FIND(\"/\",SNPs!B1168)-FIND(\"/\",SNPs!B1168)+1),\"\")","v":""},{"$f":"IF(SNPs!B1168<>\"\",SNPs!B1168,\"\")","v":""}]
[{"$f":"IF(SNPs!A1169<>\"\",SNPs!A1169,\"\")","v":""},{"$f":"IF(SNPs!B1169<>\"\",MID(SNPs!B1169,FIND(\"[\",SNPs!B1169)+1,FIND(\"/\",SNPs!B1169)-FIND(\"[\",SNPs!B1169)-1),\"\")","v":""},{"$f":"IF(SNPs!B1169<>\"\",MID(SNPs!B1169,FIND(\"[\",SNPs!B1169)+3,FIND(\"/\",SNPs!B1169)-FIND(\"/\",SNPs!B1169)+1),\"\")","v":""},{"$f":"IF(SNPs!B1169<>\"\",SNPs!B1169,\"\")","v":""}]
[{"$f":"IF(SNPs!A1170<>\"\",SNPs!A1170,\"\")","v":""},{"$f":"IF(SNPs!B1170<>\"\",MID(SNPs!B1170,FIND(\"[\",SNPs!B1170)+1,FIND(\"/\",SNPs!B1170)-FIND(\"[\",SNPs!B1170)-1),\"\")","v":""},{"$f":"IF(SNPs!B1170<>\"\",MID(SNPs!B1170,FIND(\"[\",SNPs!B1170)+3,FIND(\"/\",SNPs!B1170)-FIND(\"/\",SNPs!B1170)+1),\"\")","v":""},{"$f":"IF(SNPs!B1170<>\"\",SNPs!B1170,\"\")","v":""}]
[{"$f":"IF(SNPs!A1171<>\"\",SNPs!A1171,\"\")","v":""},{"$f":"IF(SNPs!B1171<>\"\",MID(SNPs!B1171,FIND(\"[\",SNPs!B1171)+1,FIND(\"/\",SNPs!B1171)-FIND(\"[\",SNPs!B1171)-1),\"\")","v":""},{"$f":"IF(SNPs!B1171<>\"\",MID(SNPs!B1171,FIND(\"[\",SNPs!B1171)+3,FIND(\"/\",SNPs!B1171)-FIND(\"/\",SNPs!B1171)+1),\"\")","v":""},{"$f":"IF(SNPs!B1171<>\"\",SNPs!B1171,\"\")","v":""}]
[{"$f":"IF(SNPs!A1172<>\"\",SNPs!A1172,\"\")","v":""},{"$f":"IF(SNPs!B1172<>\"\",MID(SNPs!B1172,FIND(\"[\",SNPs!B1172)+1,FIND(\"/\",SNPs!B1172)-FIND(\"[\",SNPs!B1172)-1),\"\")","v":""},{"$f":"IF(SNPs!B1172<>\"\",MID(SNPs!B1172,FIND(\"[\",SNPs!B1172)+3,FIND(\"/\",SNPs!B1172)-FIND(\"/\",SNPs!B1172)+1),\"\")","v":""},{"$f":"IF(SNPs!B1172<>\"\",SNPs!B1172,\"\")","v":""}]
[{"$f":"IF(SNPs!A1173<>\"\",SNPs!A1173,\"\")","v":""},{"$f":"IF(SNPs!B1173<>\"\",MID(SNPs!B1173,FIND(\"[\",SNPs!B1173)+1,FIND(\"/\",SNPs!B1173)-FIND(\"[\",SNPs!B1173)-1),\"\")","v":""},{"$f":"IF(SNPs!B1173<>\"\",MID(SNPs!B1173,FIND(\"[\",SNPs!B1173)+3,FIND(\"/\",SNPs!B1173)-FIND(\"/\",SNPs!B1173)+1),\"\")","v":""},{"$f":"IF(SNPs!B1173<>\"\",SNPs!B1173,\"\")","v":""}]
[{"$f":"IF(SNPs!A1174<>\"\",SNPs!A1174,\"\")","v":""},{"$f":"IF(SNPs!B1174<>\"\",MID(SNPs!B1174,FIND(\"[\",SNPs!B1174)+1,FIND(\"/\",SNPs!B1174)-FIND(\"[\",SNPs!B1174)-1),\"\")","v":""},{"$f":"IF(SNPs!B1174<>\"\",MID(SNPs!B1174,FIND(\"[\",SNPs!B1174)+3,FIND(\"/\",SNPs!B1174)-FIND(\"/\",SNPs!B1174)+1),\"\")","v":""},{"$f":"IF(SNPs!B1174<>\"\",SNPs!B1174,\"\")","v":""}]
[{"$f":"IF(SNPs!A1175<>\"\",SNPs!A1175,\"\")","v":""},{"$f":"IF(SNPs!B1175<>\"\",MID(SNPs!B1175,FIND(\"[\",SNPs!B1175)+1,FIND(\"/\",SNPs!B1175)-FIND(\"[\",SNPs!B1175)-1),\"\")","v":""},{"$f":"IF(SNPs!B1175<>\"\",MID(SNPs!B1175,FIND(\"[\",SNPs!B1175)+3,FIND(\"/\",SNPs!B1175)-FIND(\"/\",SNPs!B1175)+1),\"\")","v":""},{"$f":"IF(SNPs!B1175<>\"\",SNPs!B1175,\"\")","v":""}]
[{"$f":"IF(SNPs!A1176<>\"\",SNPs!A1176,\"\")","v":""},{"$f":"IF(SNPs!B1176<>\"\",MID(SNPs!B1176,FIND(\"[\",SNPs!B1176)+1,FIND(\"/\",SNPs!B1176)-FIND(\"[\",SNPs!B1176)-1),\"\")","v":""},{"$f":"IF(SNPs!B1176<>\"\",MID(SNPs!B1176,FIND(\"[\",SNPs!B1176)+3,FIND(\"/\",SNPs!B1176)-FIND(\"/\",SNPs!B1176)+1),\"\")","v":""},{"$f":"IF(SNPs!B1176<>\"\",SNPs!B1176,\"\")","v":""}]
[{"$f":"IF(SNPs!A1177<>\"\",SNPs!A1177,\"\")","v":""},{"$f":"IF(SNPs!B1177<>\"\",MID(SNPs!B1177,FIND(\"[\",SNPs!B1177)+1,FIND(\"/\",SNPs!B1177)-FIND(\"[\",SNPs!B1177)-1),\"\")","v":""},{"$f":"IF(SNPs!B1177<>\"\",MID(SNPs!B1177,FIND(\"[\",SNPs!B1177)+3,FIND(\"/\",SNPs!B1177)-FIND(\"/\",SNPs!B1177)+1),\"\")","v":""},{"$f":"IF(SNPs!B1177<>\"\",SNPs!B1177,\"\")","v":""}]
[{"$f":"IF(SNPs!A1178<>\"\",SNPs!A1178,\"\")","v":""},{"$f":"IF(SNPs!B1178<>\"\",MID(SNPs!B1178,FIND(\"[\",SNPs!B1178)+1,FIND(\"/\",SNPs!B1178)-FIND(\"[\",SNPs!B1178)-1),\"\")","v":""},{"$f":"IF(SNPs!B1178<>\"\",MID(SNPs!B1178,FIND(\"[\",SNPs!B1178)+3,FIND(\"/\",SNPs!B1178)-FIND(\"/\",SNPs!B1178)+1),\"\")","v":""},{"$f":"IF(SNPs!B1178<>\"\",SNPs!B1178,\"\")","v":""}]
[{"$f":"IF(SNPs!A1179<>\"\",SNPs!A1179,\"\")","v":""},{"$f":"IF(SNPs!B1179<>\"\",MID(SNPs!B1179,FIND(\"[\",SNPs!B1179)+1,FIND(\"/\",SNPs!B1179)-FIND(\"[\",SNPs!B1179)-1),\"\")","v":""},{"$f":"IF(SNPs!B1179<>\"\",MID(SNPs!B1179,FIND(\"[\",SNPs!B1179)+3,FIND(\"/\",SNPs!B1179)-FIND(\"/\",SNPs!B1179)+1),\"\")","v":""},{"$f":"IF(SNPs!B1179<>\"\",SNPs!B1179,\"\")","v":""}]
[{"$f":"IF(SNPs!A1180<>\"\",SNPs!A1180,\"\")","v":""},{"$f":"IF(SNPs!B1180<>\"\",MID(SNPs!B1180,FIND(\"[\",SNPs!B1180)+1,FIND(\"/\",SNPs!B1180)-FIND(\"[\",SNPs!B1180)-1),\"\")","v":""},{"$f":"IF(SNPs!B1180<>\"\",MID(SNPs!B1180,FIND(\"[\",SNPs!B1180)+3,FIND(\"/\",SNPs!B1180)-FIND(\"/\",SNPs!B1180)+1),\"\")","v":""},{"$f":"IF(SNPs!B1180<>\"\",SNPs!B1180,\"\")","v":""}]
[{"$f":"IF(SNPs!A1181<>\"\",SNPs!A1181,\"\")","v":""},{"$f":"IF(SNPs!B1181<>\"\",MID(SNPs!B1181,FIND(\"[\",SNPs!B1181)+1,FIND(\"/\",SNPs!B1181)-FIND(\"[\",SNPs!B1181)-1),\"\")","v":""},{"$f":"IF(SNPs!B1181<>\"\",MID(SNPs!B1181,FIND(\"[\",SNPs!B1181)+3,FIND(\"/\",SNPs!B1181)-FIND(\"/\",SNPs!B1181)+1),\"\")","v":""},{"$f":"IF(SNPs!B1181<>\"\",SNPs!B1181,\"\")","v":""}]
[{"$f":"IF(SNPs!A1182<>\"\",SNPs!A1182,\"\")","v":""},{"$f":"IF(SNPs!B1182<>\"\",MID(SNPs!B1182,FIND(\"[\",SNPs!B1182)+1,FIND(\"/\",SNPs!B1182)-FIND(\"[\",SNPs!B1182)-1),\"\")","v":""},{"$f":"IF(SNPs!B1182<>\"\",MID(SNPs!B1182,FIND(\"[\",SNPs!B1182)+3,FIND(\"/\",SNPs!B1182)-FIND(\"/\",SNPs!B1182)+1),\"\")","v":""},{"$f":"IF(SNPs!B1182<>\"\",SNPs!B1182,\"\")","v":""}]
[{"$f":"IF(SNPs!A1183<>\"\",SNPs!A1183,\"\")","v":""},{"$f":"IF(SNPs!B1183<>\"\",MID(SNPs!B1183,FIND(\"[\",SNPs!B1183)+1,FIND(\"/\",SNPs!B1183)-FIND(\"[\",SNPs!B1183)-1),\"\")","v":""},{"$f":"IF(SNPs!B1183<>\"\",MID(SNPs!B1183,FIND(\"[\",SNPs!B1183)+3,FIND(\"/\",SNPs!B1183)-FIND(\"/\",SNPs!B1183)+1),\"\")","v":""},{"$f":"IF(SNPs!B1183<>\"\",SNPs!B1183,\"\")","v":""}]
[{"$f":"IF(SNPs!A1184<>\"\",SNPs!A1184,\"\")","v":""},{"$f":"IF(SNPs!B1184<>\"\",MID(SNPs!B1184,FIND(\"[\",SNPs!B1184)+1,FIND(\"/\",SNPs!B1184)-FIND(\"[\",SNPs!B1184)-1),\"\")","v":""},{"$f":"IF(SNPs!B1184<>\"\",MID(SNPs!B1184,FIND(\"[\",SNPs!B1184)+3,FIND(\"/\",SNPs!B1184)-FIND(\"/\",SNPs!B1184)+1),\"\")","v":""},{"$f":"IF(SNPs!B1184<>\"\",SNPs!B1184,\"\")","v":""}]
[{"$f":"IF(SNPs!A1185<>\"\",SNPs!A1185,\"\")","v":""},{"$f":"IF(SNPs!B1185<>\"\",MID(SNPs!B1185,FIND(\"[\",SNPs!B1185)+1,FIND(\"/\",SNPs!B1185)-FIND(\"[\",SNPs!B1185)-1),\"\")","v":""},{"$f":"IF(SNPs!B1185<>\"\",MID(SNPs!B1185,FIND(\"[\",SNPs!B1185)+3,FIND(\"/\",SNPs!B1185)-FIND(\"/\",SNPs!B1185)+1),\"\")","v":""},{"$f":"IF(SNPs!B1185<>\"\",SNPs!B1185,\"\")","v":""}]
[{"$f":"IF(SNPs!A1186<>\"\",SNPs!A1186,\"\")","v":""},{"$f":"IF(SNPs!B1186<>\"\",MID(SNPs!B1186,FIND(\"[\",SNPs!B1186)+1,FIND(\"/\",SNPs!B1186)-FIND(\"[\",SNPs!B1186)-1),\"\")","v":""},{"$f":"IF(SNPs!B1186<>\"\",MID(SNPs!B1186,FIND(\"[\",SNPs!B1186)+3,FIND(\"/\",SNPs!B1186)-FIND(\"/\",SNPs!B1186)+1),\"\")","v":""},{"$f":"IF(SNPs!B1186<>\"\",SNPs!B1186,\"\")","v":""}]
[{"$f":"IF(SNPs!A1187<>\"\",SNPs!A1187,\"\")","v":""},{"$f":"IF(SNPs!B1187<>\"\",MID(SNPs!B1187,FIND(\"[\",SNPs!B1187)+1,FIND(\"/\",SNPs!B1187)-FIND(\"[\",SNPs!B1187)-1),\"\")","v":""},{"$f":"IF(SNPs!B1187<>\"\",MID(SNPs!B1187,FIND(\"[\",SNPs!B1187)+3,FIND(\"/\",SNPs!B1187)-FIND(\"/\",SNPs!B1187)+1),\"\")","v":""},{"$f":"IF(SNPs!B1187<>\"\",SNPs!B1187,\"\")","v":""}]
[{"$f":"IF(SNPs!A1188<>\"\",SNPs!A1188,\"\")","v":""},{"$f":"IF(SNPs!B1188<>\"\",MID(SNPs!B1188,FIND(\"[\",SNPs!B1188)+1,FIND(\"/\",SNPs!B1188)-FIND(\"[\",SNPs!B1188)-1),\"\")","v":""},{"$f":"IF(SNPs!B1188<>\"\",MID(SNPs!B1188,FIND(\"[\",SNPs!B1188)+3,FIND(\"/\",SNPs!B1188)-FIND(\"/\",SNPs!B1188)+1),\"\")","v":""},{"$f":"IF(SNPs!B1188<>\"\",SNPs!B1188,\"\")","v":""}]
[{"$f":"IF(SNPs!A1189<>\"\",SNPs!A1189,\"\")","v":""},{"$f":"IF(SNPs!B1189<>\"\",MID(SNPs!B1189,FIND(\"[\",SNPs!B1189)+1,FIND(\"/\",SNPs!B1189)-FIND(\"[\",SNPs!B1189)-1),\"\")","v":""},{"$f":"IF(SNPs!B1189<>\"\",MID(SNPs!B1189,FIND(\"[\",SNPs!B1189)+3,FIND(\"/\",SNPs!B1189)-FIND(\"/\",SNPs!B1189)+1),\"\")","v":""},{"$f":"IF(SNPs!B1189<>\"\",SNPs!B1189,\"\")","v":""}]
[{"$f":"IF(SNPs!A1190<>\"\",SNPs!A1190,\"\")","v":""},{"$f":"IF(SNPs!B1190<>\"\",MID(SNPs!B1190,FIND(\"[\",SNPs!B1190)+1,FIND(\"/\",SNPs!B1190)-FIND(\"[\",SNPs!B1190)-1),\"\")","v":""},{"$f":"IF(SNPs!B1190<>\"\",MID(SNPs!B1190,FIND(\"[\",SNPs!B1190)+3,FIND(\"/\",SNPs!B1190)-FIND(\"/\",SNPs!B1190)+1),\"\")","v":""},{"$f":"IF(SNPs!B1190<>\"\",SNPs!B1190,\"\")","v":""}]
[{"$f":"IF(SNPs!A1191<>\"\",SNPs!A1191,\"\")","v":""},{"$f":"IF(SNPs!B1191<>\"\",MID(SNPs!B1191,FIND(\"[\",SNPs!B1191)+1,FIND(\"/\",SNPs!B1191)-FIND(\"[\",SNPs!B1191)-1),\"\")","v":""},{"$f":"IF(SNPs!B1191<>\"\",MID(SNPs!B1191,FIND(\"[\",SNPs!B1191)+3,FIND(\"/\",SNPs!B1191)-FIND(\"/\",SNPs!B1191)+1),\"\")","v":""},{"$f":"IF(SNPs!B1191<>\"\",SNPs!B1191,\"\")","v":""}]
[{"$f":"IF(SNPs!A1192<>\"\",SNPs!A1192,\"\")","v":""},{"$f":"IF(SNPs!B1192<>\"\",MID(SNPs!B1192,FIND(\"[\",SNPs!B1192)+1,FIND(\"/\",SNPs!B1192)-FIND(\"[\",SNPs!B1192)-1),\"\")","v":""},{"$f":"IF(SNPs!B1192<>\"\",MID(SNPs!B1192,FIND(\"[\",SNPs!B1192)+3,FIND(\"/\",SNPs!B1192)-FIND(\"/\",SNPs!B1192)+1),\"\")","v":""},{"$f":"IF(SNPs!B1192<>\"\",SNPs!B1192,\"\")","v":""}]
[{"$f":"IF(SNPs!A1193<>\"\",SNPs!A1193,\"\")","v":""},{"$f":"IF(SNPs!B1193<>\"\",MID(SNPs!B1193,FIND(\"[\",SNPs!B1193)+1,FIND(\"/\",SNPs!B1193)-FIND(\"[\",SNPs!B1193)-1),\"\")","v":""},{"$f":"IF(SNPs!B1193<>\"\",MID(SNPs!B1193,FIND(\"[\",SNPs!B1193)+3,FIND(\"/\",SNPs!B1193)-FIND(\"/\",SNPs!B1193)+1),\"\")","v":""},{"$f":"IF(SNPs!B1193<>\"\",SNPs!B1193,\"\")","v":""}]
[{"$f":"IF(SNPs!A1194<>\"\",SNPs!A1194,\"\")","v":""},{"$f":"IF(SNPs!B1194<>\"\",MID(SNPs!B1194,FIND(\"[\",SNPs!B1194)+1,FIND(\"/\",SNPs!B1194)-FIND(\"[\",SNPs!B1194)-1),\"\")","v":""},{"$f":"IF(SNPs!B1194<>\"\",MID(SNPs!B1194,FIND(\"[\",SNPs!B1194)+3,FIND(\"/\",SNPs!B1194)-FIND(\"/\",SNPs!B1194)+1),\"\")","v":""},{"$f":"IF(SNPs!B1194<>\"\",SNPs!B1194,\"\")","v":""}]
[{"$f":"IF(SNPs!A1195<>\"\",SNPs!A1195,\"\")","v":""},{"$f":"IF(SNPs!B1195<>\"\",MID(SNPs!B1195,FIND(\"[\",SNPs!B1195)+1,FIND(\"/\",SNPs!B1195)-FIND(\"[\",SNPs!B1195)-1),\"\")","v":""},{"$f":"IF(SNPs!B1195<>\"\",MID(SNPs!B1195,FIND(\"[\",SNPs!B1195)+3,FIND(\"/\",SNPs!B1195)-FIND(\"/\",SNPs!B1195)+1),\"\")","v":""},{"$f":"IF(SNPs!B1195<>\"\",SNPs!B1195,\"\")","v":""}]
[{"$f":"IF(SNPs!A1196<>\"\",SNPs!A1196,\"\")","v":""},{"$f":"IF(SNPs!B1196<>\"\",MID(SNPs!B1196,FIND(\"[\",SNPs!B1196)+1,FIND(\"/\",SNPs!B1196)-FIND(\"[\",SNPs!B1196)-1),\"\")","v":""},{"$f":"IF(SNPs!B1196<>\"\",MID(SNPs!B1196,FIND(\"[\",SNPs!B1196)+3,FIND(\"/\",SNPs!B1196)-FIND(\"/\",SNPs!B1196)+1),\"\")","v":""},{"$f":"IF(SNPs!B1196<>\"\",SNPs!B1196,\"\")","v":""}]
[{"$f":"IF(SNPs!A1197<>\"\",SNPs!A1197,\"\")","v":""},{"$f":"IF(SNPs!B1197<>\"\",MID(SNPs!B1197,FIND(\"[\",SNPs!B1197)+1,FIND(\"/\",SNPs!B1197)-FIND(\"[\",SNPs!B1197)-1),\"\")","v":""},{"$f":"IF(SNPs!B1197<>\"\",MID(SNPs!B1197,FIND(\"[\",SNPs!B1197)+3,FIND(\"/\",SNPs!B1197)-FIND(\"/\",SNPs!B1197)+1),\"\")","v":""},{"$f":"IF(SNPs!B1197<>\"\",SNPs!B1197,\"\")","v":""}]
[{"$f":"IF(SNPs!A1198<>\"\",SNPs!A1198,\"\")","v":""},{"$f":"IF(SNPs!B1198<>\"\",MID(SNPs!B1198,FIND(\"[\",SNPs!B1198)+1,FIND(\"/\",SNPs!B1198)-FIND(\"[\",SNPs!B1198)-1),\"\")","v":""},{"$f":"IF(SNPs!B1198<>\"\",MID(SNPs!B1198,FIND(\"[\",SNPs!B1198)+3,FIND(\"/\",SNPs!B1198)-FIND(\"/\",SNPs!B1198)+1),\"\")","v":""},{"$f":"IF(SNPs!B1198<>\"\",SNPs!B1198,\"\")","v":""}]
[{"$f":"IF(SNPs!A1199<>\"\",SNPs!A1199,\"\")","v":""},{"$f":"IF(SNPs!B1199<>\"\",MID(SNPs!B1199,FIND(\"[\",SNPs!B1199)+1,FIND(\"/\",SNPs!B1199)-FIND(\"[\",SNPs!B1199)-1),\"\")","v":""},{"$f":"IF(SNPs!B1199<>\"\",MID(SNPs!B1199,FIND(\"[\",SNPs!B1199)+3,FIND(\"/\",SNPs!B1199)-FIND(\"/\",SNPs!B1199)+1),\"\")","v":""},{"$f":"IF(SNPs!B1199<>\"\",SNPs!B1199,\"\")","v":""}]
[{"$f":"IF(SNPs!A1200<>\"\",SNPs!A1200,\"\")","v":""},{"$f":"IF(SNPs!B1200<>\"\",MID(SNPs!B1200,FIND(\"[\",SNPs!B1200)+1,FIND(\"/\",SNPs!B1200)-FIND(\"[\",SNPs!B1200)-1),\"\")","v":""},{"$f":"IF(SNPs!B1200<>\"\",MID(SNPs!B1200,FIND(\"[\",SNPs!B1200)+3,FIND(\"/\",SNPs!B1200)-FIND(\"/\",SNPs!B1200)+1),\"\")","v":""},{"$f":"IF(SNPs!B1200<>\"\",SNPs!B1200,\"\")","v":""}]
[{"$f":"IF(SNPs!A1201<>\"\",SNPs!A1201,\"\")","v":""},{"$f":"IF(SNPs!B1201<>\"\",MID(SNPs!B1201,FIND(\"[\",SNPs!B1201)+1,FIND(\"/\",SNPs!B1201)-FIND(\"[\",SNPs!B1201)-1),\"\")","v":""},{"$f":"IF(SNPs!B1201<>\"\",MID(SNPs!B1201,FIND(\"[\",SNPs!B1201)+3,FIND(\"/\",SNPs!B1201)-FIND(\"/\",SNPs!B1201)+1),\"\")","v":""},{"$f":"IF(SNPs!B1201<>\"\",SNPs!B1201,\"\")","v":""}]
[{"$f":"IF(SNPs!A1202<>\"\",SNPs!A1202,\"\")","v":""},{"$f":"IF(SNPs!B1202<>\"\",MID(SNPs!B1202,FIND(\"[\",SNPs!B1202)+1,FIND(\"/\",SNPs!B1202)-FIND(\"[\",SNPs!B1202)-1),\"\")","v":""},{"$f":"IF(SNPs!B1202<>\"\",MID(SNPs!B1202,FIND(\"[\",SNPs!B1202)+3,FIND(\"/\",SNPs!B1202)-FIND(\"/\",SNPs!B1202)+1),\"\")","v":""},{"$f":"IF(SNPs!B1202<>\"\",SNPs!B1202,\"\")","v":""}]
[{"$f":"IF(SNPs!A1203<>\"\",SNPs!A1203,\"\")","v":""},{"$f":"IF(SNPs!B1203<>\"\",MID(SNPs!B1203,FIND(\"[\",SNPs!B1203)+1,FIND(\"/\",SNPs!B1203)-FIND(\"[\",SNPs!B1203)-1),\"\")","v":""},{"$f":"IF(SNPs!B1203<>\"\",MID(SNPs!B1203,FIND(\"[\",SNPs!B1203)+3,FIND(\"/\",SNPs!B1203)-FIND(\"/\",SNPs!B1203)+1),\"\")","v":""},{"$f":"IF(SNPs!B1203<>\"\",SNPs!B1203,\"\")","v":""}]
[{"$f":"IF(SNPs!A1204<>\"\",SNPs!A1204,\"\")","v":""},{"$f":"IF(SNPs!B1204<>\"\",MID(SNPs!B1204,FIND(\"[\",SNPs!B1204)+1,FIND(\"/\",SNPs!B1204)-FIND(\"[\",SNPs!B1204)-1),\"\")","v":""},{"$f":"IF(SNPs!B1204<>\"\",MID(SNPs!B1204,FIND(\"[\",SNPs!B1204)+3,FIND(\"/\",SNPs!B1204)-FIND(\"/\",SNPs!B1204)+1),\"\")","v":""},{"$f":"IF(SNPs!B1204<>\"\",SNPs!B1204,\"\")","v":""}]
[{"$f":"IF(SNPs!A1205<>\"\",SNPs!A1205,\"\")","v":""},{"$f":"IF(SNPs!B1205<>\"\",MID(SNPs!B1205,FIND(\"[\",SNPs!B1205)+1,FIND(\"/\",SNPs!B1205)-FIND(\"[\",SNPs!B1205)-1),\"\")","v":""},{"$f":"IF(SNPs!B1205<>\"\",MID(SNPs!B1205,FIND(\"[\",SNPs!B1205)+3,FIND(\"/\",SNPs!B1205)-FIND(\"/\",SNPs!B1205)+1),\"\")","v":""},{"$f":"IF(SNPs!B1205<>\"\",SNPs!B1205,\"\")","v":""}]
[{"$f":"IF(SNPs!A1206<>\"\",SNPs!A1206,\"\")","v":""},{"$f":"IF(SNPs!B1206<>\"\",MID(SNPs!B1206,FIND(\"[\",SNPs!B1206)+1,FIND(\"/\",SNPs!B1206)-FIND(\"[\",SNPs!B1206)-1),\"\")","v":""},{"$f":"IF(SNPs!B1206<>\"\",MID(SNPs!B1206,FIND(\"[\",SNPs!B1206)+3,FIND(\"/\",SNPs!B1206)-FIND(\"/\",SNPs!B1206)+1),\"\")","v":""},{"$f":"IF(SNPs!B1206<>\"\",SNPs!B1206,\"\")","v":""}]
[{"$f":"IF(SNPs!A1207<>\"\",SNPs!A1207,\"\")","v":""},{"$f":"IF(SNPs!B1207<>\"\",MID(SNPs!B1207,FIND(\"[\",SNPs!B1207)+1,FIND(\"/\",SNPs!B1207)-FIND(\"[\",SNPs!B1207)-1),\"\")","v":""},{"$f":"IF(SNPs!B1207<>\"\",MID(SNPs!B1207,FIND(\"[\",SNPs!B1207)+3,FIND(\"/\",SNPs!B1207)-FIND(\"/\",SNPs!B1207)+1),\"\")","v":""},{"$f":"IF(SNPs!B1207<>\"\",SNPs!B1207,\"\")","v":""}]
[{"$f":"IF(SNPs!A1208<>\"\",SNPs!A1208,\"\")","v":""},{"$f":"IF(SNPs!B1208<>\"\",MID(SNPs!B1208,FIND(\"[\",SNPs!B1208)+1,FIND(\"/\",SNPs!B1208)-FIND(\"[\",SNPs!B1208)-1),\"\")","v":""},{"$f":"IF(SNPs!B1208<>\"\",MID(SNPs!B1208,FIND(\"[\",SNPs!B1208)+3,FIND(\"/\",SNPs!B1208)-FIND(\"/\",SNPs!B1208)+1),\"\")","v":""},{"$f":"IF(SNPs!B1208<>\"\",SNPs!B1208,\"\")","v":""}]
[{"$f":"IF(SNPs!A1209<>\"\",SNPs!A1209,\"\")","v":""},{"$f":"IF(SNPs!B1209<>\"\",MID(SNPs!B1209,FIND(\"[\",SNPs!B1209)+1,FIND(\"/\",SNPs!B1209)-FIND(\"[\",SNPs!B1209)-1),\"\")","v":""},{"$f":"IF(SNPs!B1209<>\"\",MID(SNPs!B1209,FIND(\"[\",SNPs!B1209)+3,FIND(\"/\",SNPs!B1209)-FIND(\"/\",SNPs!B1209)+1),\"\")","v":""},{"$f":"IF(SNPs!B1209<>\"\",SNPs!B1209,\"\")","v":""}]
[{"$f":"IF(SNPs!A1210<>\"\",SNPs!A1210,\"\")","v":""},{"$f":"IF(SNPs!B1210<>\"\",MID(SNPs!B1210,FIND(\"[\",SNPs!B1210)+1,FIND(\"/\",SNPs!B1210)-FIND(\"[\",SNPs!B1210)-1),\"\")","v":""},{"$f":"IF(SNPs!B1210<>\"\",MID(SNPs!B1210,FIND(\"[\",SNPs!B1210)+3,FIND(\"/\",SNPs!B1210)-FIND(\"/\",SNPs!B1210)+1),\"\")","v":""},{"$f":"IF(SNPs!B1210<>\"\",SNPs!B1210,\"\")","v":""}]
[{"$f":"IF(SNPs!A1211<>\"\",SNPs!A1211,\"\")","v":""},{"$f":"IF(SNPs!B1211<>\"\",MID(SNPs!B1211,FIND(\"[\",SNPs!B1211)+1,FIND(\"/\",SNPs!B1211)-FIND(\"[\",SNPs!B1211)-1),\"\")","v":""},{"$f":"IF(SNPs!B1211<>\"\",MID(SNPs!B1211,FIND(\"[\",SNPs!B1211)+3,FIND(\"/\",SNPs!B1211)-FIND(\"/\",SNPs!B1211)+1),\"\")","v":""},{"$f":"IF(SNPs!B1211<>\"\",SNPs!B1211,\"\")","v":""}]
[{"$f":"IF(SNPs!A1212<>\"\",SNPs!A1212,\"\")","v":""},{"$f":"IF(SNPs!B1212<>\"\",MID(SNPs!B1212,FIND(\"[\",SNPs!B1212)+1,FIND(\"/\",SNPs!B1212)-FIND(\"[\",SNPs!B1212)-1),\"\")","v":""},{"$f":"IF(SNPs!B1212<>\"\",MID(SNPs!B1212,FIND(\"[\",SNPs!B1212)+3,FIND(\"/\",SNPs!B1212)-FIND(\"/\",SNPs!B1212)+1),\"\")","v":""},{"$f":"IF(SNPs!B1212<>\"\",SNPs!B1212,\"\")","v":""}]
[{"$f":"IF(SNPs!A1213<>\"\",SNPs!A1213,\"\")","v":""},{"$f":"IF(SNPs!B1213<>\"\",MID(SNPs!B1213,FIND(\"[\",SNPs!B1213)+1,FIND(\"/\",SNPs!B1213)-FIND(\"[\",SNPs!B1213)-1),\"\")","v":""},{"$f":"IF(SNPs!B1213<>\"\",MID(SNPs!B1213,FIND(\"[\",SNPs!B1213)+3,FIND(\"/\",SNPs!B1213)-FIND(\"/\",SNPs!B1213)+1),\"\")","v":""},{"$f":"IF(SNPs!B1213<>\"\",SNPs!B1213,\"\")","v":""}]
[{"$f":"IF(SNPs!A1214<>\"\",SNPs!A1214,\"\")","v":""},{"$f":"IF(SNPs!B1214<>\"\",MID(SNPs!B1214,FIND(\"[\",SNPs!B1214)+1,FIND(\"/\",SNPs!B1214)-FIND(\"[\",SNPs!B1214)-1),\"\")","v":""},{"$f":"IF(SNPs!B1214<>\"\",MID(SNPs!B1214,FIND(\"[\",SNPs!B1214)+3,FIND(\"/\",SNPs!B1214)-FIND(\"/\",SNPs!B1214)+1),\"\")","v":""},{"$f":"IF(SNPs!B1214<>\"\",SNPs!B1214,\"\")","v":""}]
[{"$f":"IF(SNPs!A1215<>\"\",SNPs!A1215,\"\")","v":""},{"$f":"IF(SNPs!B1215<>\"\",MID(SNPs!B1215,FIND(\"[\",SNPs!B1215)+1,FIND(\"/\",SNPs!B1215)-FIND(\"[\",SNPs!B1215)-1),\"\")","v":""},{"$f":"IF(SNPs!B1215<>\"\",MID(SNPs!B1215,FIND(\"[\",SNPs!B1215)+3,FIND(\"/\",SNPs!B1215)-FIND(\"/\",SNPs!B1215)+1),\"\")","v":""},{"$f":"IF(SNPs!B1215<>\"\",SNPs!B1215,\"\")","v":""}]
[{"$f":"IF(SNPs!A1216<>\"\",SNPs!A1216,\"\")","v":""},{"$f":"IF(SNPs!B1216<>\"\",MID(SNPs!B1216,FIND(\"[\",SNPs!B1216)+1,FIND(\"/\",SNPs!B1216)-FIND(\"[\",SNPs!B1216)-1),\"\")","v":""},{"$f":"IF(SNPs!B1216<>\"\",MID(SNPs!B1216,FIND(\"[\",SNPs!B1216)+3,FIND(\"/\",SNPs!B1216)-FIND(\"/\",SNPs!B1216)+1),\"\")","v":""},{"$f":"IF(SNPs!B1216<>\"\",SNPs!B1216,\"\")","v":""}]
[{"$f":"IF(SNPs!A1217<>\"\",SNPs!A1217,\"\")","v":""},{"$f":"IF(SNPs!B1217<>\"\",MID(SNPs!B1217,FIND(\"[\",SNPs!B1217)+1,FIND(\"/\",SNPs!B1217)-FIND(\"[\",SNPs!B1217)-1),\"\")","v":""},{"$f":"IF(SNPs!B1217<>\"\",MID(SNPs!B1217,FIND(\"[\",SNPs!B1217)+3,FIND(\"/\",SNPs!B1217)-FIND(\"/\",SNPs!B1217)+1),\"\")","v":""},{"$f":"IF(SNPs!B1217<>\"\",SNPs!B1217,\"\")","v":""}]
[{"$f":"IF(SNPs!A1218<>\"\",SNPs!A1218,\"\")","v":""},{"$f":"IF(SNPs!B1218<>\"\",MID(SNPs!B1218,FIND(\"[\",SNPs!B1218)+1,FIND(\"/\",SNPs!B1218)-FIND(\"[\",SNPs!B1218)-1),\"\")","v":""},{"$f":"IF(SNPs!B1218<>\"\",MID(SNPs!B1218,FIND(\"[\",SNPs!B1218)+3,FIND(\"/\",SNPs!B1218)-FIND(\"/\",SNPs!B1218)+1),\"\")","v":""},{"$f":"IF(SNPs!B1218<>\"\",SNPs!B1218,\"\")","v":""}]
[{"$f":"IF(SNPs!A1219<>\"\",SNPs!A1219,\"\")","v":""},{"$f":"IF(SNPs!B1219<>\"\",MID(SNPs!B1219,FIND(\"[\",SNPs!B1219)+1,FIND(\"/\",SNPs!B1219)-FIND(\"[\",SNPs!B1219)-1),\"\")","v":""},{"$f":"IF(SNPs!B1219<>\"\",MID(SNPs!B1219,FIND(\"[\",SNPs!B1219)+3,FIND(\"/\",SNPs!B1219)-FIND(\"/\",SNPs!B1219)+1),\"\")","v":""},{"$f":"IF(SNPs!B1219<>\"\",SNPs!B1219,\"\")","v":""}]
[{"$f":"IF(SNPs!A1220<>\"\",SNPs!A1220,\"\")","v":""},{"$f":"IF(SNPs!B1220<>\"\",MID(SNPs!B1220,FIND(\"[\",SNPs!B1220)+1,FIND(\"/\",SNPs!B1220)-FIND(\"[\",SNPs!B1220)-1),\"\")","v":""},{"$f":"IF(SNPs!B1220<>\"\",MID(SNPs!B1220,FIND(\"[\",SNPs!B1220)+3,FIND(\"/\",SNPs!B1220)-FIND(\"/\",SNPs!B1220)+1),\"\")","v":""},{"$f":"IF(SNPs!B1220<>\"\",SNPs!B1220,\"\")","v":""}]
[{"$f":"IF(SNPs!A1221<>\"\",SNPs!A1221,\"\")","v":""},{"$f":"IF(SNPs!B1221<>\"\",MID(SNPs!B1221,FIND(\"[\",SNPs!B1221)+1,FIND(\"/\",SNPs!B1221)-FIND(\"[\",SNPs!B1221)-1),\"\")","v":""},{"$f":"IF(SNPs!B1221<>\"\",MID(SNPs!B1221,FIND(\"[\",SNPs!B1221)+3,FIND(\"/\",SNPs!B1221)-FIND(\"/\",SNPs!B1221)+1),\"\")","v":""},{"$f":"IF(SNPs!B1221<>\"\",SNPs!B1221,\"\")","v":""}]
[{"$f":"IF(SNPs!A1222<>\"\",SNPs!A1222,\"\")","v":""},{"$f":"IF(SNPs!B1222<>\"\",MID(SNPs!B1222,FIND(\"[\",SNPs!B1222)+1,FIND(\"/\",SNPs!B1222)-FIND(\"[\",SNPs!B1222)-1),\"\")","v":""},{"$f":"IF(SNPs!B1222<>\"\",MID(SNPs!B1222,FIND(\"[\",SNPs!B1222)+3,FIND(\"/\",SNPs!B1222)-FIND(\"/\",SNPs!B1222)+1),\"\")","v":""},{"$f":"IF(SNPs!B1222<>\"\",SNPs!B1222,\"\")","v":""}]
[{"$f":"IF(SNPs!A1223<>\"\",SNPs!A1223,\"\")","v":""},{"$f":"IF(SNPs!B1223<>\"\",MID(SNPs!B1223,FIND(\"[\",SNPs!B1223)+1,FIND(\"/\",SNPs!B1223)-FIND(\"[\",SNPs!B1223)-1),\"\")","v":""},{"$f":"IF(SNPs!B1223<>\"\",MID(SNPs!B1223,FIND(\"[\",SNPs!B1223)+3,FIND(\"/\",SNPs!B1223)-FIND(\"/\",SNPs!B1223)+1),\"\")","v":""},{"$f":"IF(SNPs!B1223<>\"\",SNPs!B1223,\"\")","v":""}]
[{"$f":"IF(SNPs!A1224<>\"\",SNPs!A1224,\"\")","v":""},{"$f":"IF(SNPs!B1224<>\"\",MID(SNPs!B1224,FIND(\"[\",SNPs!B1224)+1,FIND(\"/\",SNPs!B1224)-FIND(\"[\",SNPs!B1224)-1),\"\")","v":""},{"$f":"IF(SNPs!B1224<>\"\",MID(SNPs!B1224,FIND(\"[\",SNPs!B1224)+3,FIND(\"/\",SNPs!B1224)-FIND(\"/\",SNPs!B1224)+1),\"\")","v":""},{"$f":"IF(SNPs!B1224<>\"\",SNPs!B1224,\"\")","v":""}]
[{"$f":"IF(SNPs!A1225<>\"\",SNPs!A1225,\"\")","v":""},{"$f":"IF(SNPs!B1225<>\"\",MID(SNPs!B1225,FIND(\"[\",SNPs!B1225)+1,FIND(\"/\",SNPs!B1225)-FIND(\"[\",SNPs!B1225)-1),\"\")","v":""},{"$f":"IF(SNPs!B1225<>\"\",MID(SNPs!B1225,FIND(\"[\",SNPs!B1225)+3,FIND(\"/\",SNPs!B1225)-FIND(\"/\",SNPs!B1225)+1),\"\")","v":""},{"$f":"IF(SNPs!B1225<>\"\",SNPs!B1225,\"\")","v":""}]
[{"$f":"IF(SNPs!A1226<>\"\",SNPs!A1226,\"\")","v":""},{"$f":"IF(SNPs!B1226<>\"\",MID(SNPs!B1226,FIND(\"[\",SNPs!B1226)+1,FIND(\"/\",SNPs!B1226)-FIND(\"[\",SNPs!B1226)-1),\"\")","v":""},{"$f":"IF(SNPs!B1226<>\"\",MID(SNPs!B1226,FIND(\"[\",SNPs!B1226)+3,FIND(\"/\",SNPs!B1226)-FIND(\"/\",SNPs!B1226)+1),\"\")","v":""},{"$f":"IF(SNPs!B1226<>\"\",SNPs!B1226,\"\")","v":""}]
[{"$f":"IF(SNPs!A1227<>\"\",SNPs!A1227,\"\")","v":""},{"$f":"IF(SNPs!B1227<>\"\",MID(SNPs!B1227,FIND(\"[\",SNPs!B1227)+1,FIND(\"/\",SNPs!B1227)-FIND(\"[\",SNPs!B1227)-1),\"\")","v":""},{"$f":"IF(SNPs!B1227<>\"\",MID(SNPs!B1227,FIND(\"[\",SNPs!B1227)+3,FIND(\"/\",SNPs!B1227)-FIND(\"/\",SNPs!B1227)+1),\"\")","v":""},{"$f":"IF(SNPs!B1227<>\"\",SNPs!B1227,\"\")","v":""}]
[{"$f":"IF(SNPs!A1228<>\"\",SNPs!A1228,\"\")","v":""},{"$f":"IF(SNPs!B1228<>\"\",MID(SNPs!B1228,FIND(\"[\",SNPs!B1228)+1,FIND(\"/\",SNPs!B1228)-FIND(\"[\",SNPs!B1228)-1),\"\")","v":""},{"$f":"IF(SNPs!B1228<>\"\",MID(SNPs!B1228,FIND(\"[\",SNPs!B1228)+3,FIND(\"/\",SNPs!B1228)-FIND(\"/\",SNPs!B1228)+1),\"\")","v":""},{"$f":"IF(SNPs!B1228<>\"\",SNPs!B1228,\"\")","v":""}]
[{"$f":"IF(SNPs!A1229<>\"\",SNPs!A1229,\"\")","v":""},{"$f":"IF(SNPs!B1229<>\"\",MID(SNPs!B1229,FIND(\"[\",SNPs!B1229)+1,FIND(\"/\",SNPs!B1229)-FIND(\"[\",SNPs!B1229)-1),\"\")","v":""},{"$f":"IF(SNPs!B1229<>\"\",MID(SNPs!B1229,FIND(\"[\",SNPs!B1229)+3,FIND(\"/\",SNPs!B1229)-FIND(\"/\",SNPs!B1229)+1),\"\")","v":""},{"$f":"IF(SNPs!B1229<>\"\",SNPs!B1229,\"\")","v":""}]
[{"$f":"IF(SNPs!A1230<>\"\",SNPs!A1230,\"\")","v":""},{"$f":"IF(SNPs!B1230<>\"\",MID(SNPs!B1230,FIND(\"[\",SNPs!B1230)+1,FIND(\"/\",SNPs!B1230)-FIND(\"[\",SNPs!B1230)-1),\"\")","v":""},{"$f":"IF(SNPs!B1230<>\"\",MID(SNPs!B1230,FIND(\"[\",SNPs!B1230)+3,FIND(\"/\",SNPs!B1230)-FIND(\"/\",SNPs!B1230)+1),\"\")","v":""},{"$f":"IF(SNPs!B1230<>\"\",SNPs!B1230,\"\")","v":""}]
[{"$f":"IF(SNPs!A1231<>\"\",SNPs!A1231,\"\")","v":""},{"$f":"IF(SNPs!B1231<>\"\",MID(SNPs!B1231,FIND(\"[\",SNPs!B1231)+1,FIND(\"/\",SNPs!B1231)-FIND(\"[\",SNPs!B1231)-1),\"\")","v":""},{"$f":"IF(SNPs!B1231<>\"\",MID(SNPs!B1231,FIND(\"[\",SNPs!B1231)+3,FIND(\"/\",SNPs!B1231)-FIND(\"/\",SNPs!B1231)+1),\"\")","v":""},{"$f":"IF(SNPs!B1231<>\"\",SNPs!B1231,\"\")","v":""}]
[{"$f":"IF(SNPs!A1232<>\"\",SNPs!A1232,\"\")","v":""},{"$f":"IF(SNPs!B1232<>\"\",MID(SNPs!B1232,FIND(\"[\",SNPs!B1232)+1,FIND(\"/\",SNPs!B1232)-FIND(\"[\",SNPs!B1232)-1),\"\")","v":""},{"$f":"IF(SNPs!B1232<>\"\",MID(SNPs!B1232,FIND(\"[\",SNPs!B1232)+3,FIND(\"/\",SNPs!B1232)-FIND(\"/\",SNPs!B1232)+1),\"\")","v":""},{"$f":"IF(SNPs!B1232<>\"\",SNPs!B1232,\"\")","v":""}]
[{"$f":"IF(SNPs!A1233<>\"\",SNPs!A1233,\"\")","v":""},{"$f":"IF(SNPs!B1233<>\"\",MID(SNPs!B1233,FIND(\"[\",SNPs!B1233)+1,FIND(\"/\",SNPs!B1233)-FIND(\"[\",SNPs!B1233)-1),\"\")","v":""},{"$f":"IF(SNPs!B1233<>\"\",MID(SNPs!B1233,FIND(\"[\",SNPs!B1233)+3,FIND(\"/\",SNPs!B1233)-FIND(\"/\",SNPs!B1233)+1),\"\")","v":""},{"$f":"IF(SNPs!B1233<>\"\",SNPs!B1233,\"\")","v":""}]
[{"$f":"IF(SNPs!A1234<>\"\",SNPs!A1234,\"\")","v":""},{"$f":"IF(SNPs!B1234<>\"\",MID(SNPs!B1234,FIND(\"[\",SNPs!B1234)+1,FIND(\"/\",SNPs!B1234)-FIND(\"[\",SNPs!B1234)-1),\"\")","v":""},{"$f":"IF(SNPs!B1234<>\"\",MID(SNPs!B1234,FIND(\"[\",SNPs!B1234)+3,FIND(\"/\",SNPs!B1234)-FIND(\"/\",SNPs!B1234)+1),\"\")","v":""},{"$f":"IF(SNPs!B1234<>\"\",SNPs!B1234,\"\")","v":""}]
[{"$f":"IF(SNPs!A1235<>\"\",SNPs!A1235,\"\")","v":""},{"$f":"IF(SNPs!B1235<>\"\",MID(SNPs!B1235,FIND(\"[\",SNPs!B1235)+1,FIND(\"/\",SNPs!B1235)-FIND(\"[\",SNPs!B1235)-1),\"\")","v":""},{"$f":"IF(SNPs!B1235<>\"\",MID(SNPs!B1235,FIND(\"[\",SNPs!B1235)+3,FIND(\"/\",SNPs!B1235)-FIND(\"/\",SNPs!B1235)+1),\"\")","v":""},{"$f":"IF(SNPs!B1235<>\"\",SNPs!B1235,\"\")","v":""}]
[{"$f":"IF(SNPs!A1236<>\"\",SNPs!A1236,\"\")","v":""},{"$f":"IF(SNPs!B1236<>\"\",MID(SNPs!B1236,FIND(\"[\",SNPs!B1236)+1,FIND(\"/\",SNPs!B1236)-FIND(\"[\",SNPs!B1236)-1),\"\")","v":""},{"$f":"IF(SNPs!B1236<>\"\",MID(SNPs!B1236,FIND(\"[\",SNPs!B1236)+3,FIND(\"/\",SNPs!B1236)-FIND(\"/\",SNPs!B1236)+1),\"\")","v":""},{"$f":"IF(SNPs!B1236<>\"\",SNPs!B1236,\"\")","v":""}]
[{"$f":"IF(SNPs!A1237<>\"\",SNPs!A1237,\"\")","v":""},{"$f":"IF(SNPs!B1237<>\"\",MID(SNPs!B1237,FIND(\"[\",SNPs!B1237)+1,FIND(\"/\",SNPs!B1237)-FIND(\"[\",SNPs!B1237)-1),\"\")","v":""},{"$f":"IF(SNPs!B1237<>\"\",MID(SNPs!B1237,FIND(\"[\",SNPs!B1237)+3,FIND(\"/\",SNPs!B1237)-FIND(\"/\",SNPs!B1237)+1),\"\")","v":""},{"$f":"IF(SNPs!B1237<>\"\",SNPs!B1237,\"\")","v":""}]
[{"$f":"IF(SNPs!A1238<>\"\",SNPs!A1238,\"\")","v":""},{"$f":"IF(SNPs!B1238<>\"\",MID(SNPs!B1238,FIND(\"[\",SNPs!B1238)+1,FIND(\"/\",SNPs!B1238)-FIND(\"[\",SNPs!B1238)-1),\"\")","v":""},{"$f":"IF(SNPs!B1238<>\"\",MID(SNPs!B1238,FIND(\"[\",SNPs!B1238)+3,FIND(\"/\",SNPs!B1238)-FIND(\"/\",SNPs!B1238)+1),\"\")","v":""},{"$f":"IF(SNPs!B1238<>\"\",SNPs!B1238,\"\")","v":""}]
[{"$f":"IF(SNPs!A1239<>\"\",SNPs!A1239,\"\")","v":""},{"$f":"IF(SNPs!B1239<>\"\",MID(SNPs!B1239,FIND(\"[\",SNPs!B1239)+1,FIND(\"/\",SNPs!B1239)-FIND(\"[\",SNPs!B1239)-1),\"\")","v":""},{"$f":"IF(SNPs!B1239<>\"\",MID(SNPs!B1239,FIND(\"[\",SNPs!B1239)+3,FIND(\"/\",SNPs!B1239)-FIND(\"/\",SNPs!B1239)+1),\"\")","v":""},{"$f":"IF(SNPs!B1239<>\"\",SNPs!B1239,\"\")","v":""}]
[{"$f":"IF(SNPs!A1240<>\"\",SNPs!A1240,\"\")","v":""},{"$f":"IF(SNPs!B1240<>\"\",MID(SNPs!B1240,FIND(\"[\",SNPs!B1240)+1,FIND(\"/\",SNPs!B1240)-FIND(\"[\",SNPs!B1240)-1),\"\")","v":""},{"$f":"IF(SNPs!B1240<>\"\",MID(SNPs!B1240,FIND(\"[\",SNPs!B1240)+3,FIND(\"/\",SNPs!B1240)-FIND(\"/\",SNPs!B1240)+1),\"\")","v":""},{"$f":"IF(SNPs!B1240<>\"\",SNPs!B1240,\"\")","v":""}]
[{"$f":"IF(SNPs!A1241<>\"\",SNPs!A1241,\"\")","v":""},{"$f":"IF(SNPs!B1241<>\"\",MID(SNPs!B1241,FIND(\"[\",SNPs!B1241)+1,FIND(\"/\",SNPs!B1241)-FIND(\"[\",SNPs!B1241)-1),\"\")","v":""},{"$f":"IF(SNPs!B1241<>\"\",MID(SNPs!B1241,FIND(\"[\",SNPs!B1241)+3,FIND(\"/\",SNPs!B1241)-FIND(\"/\",SNPs!B1241)+1),\"\")","v":""},{"$f":"IF(SNPs!B1241<>\"\",SNPs!B1241,\"\")","v":""}]
[{"$f":"IF(SNPs!A1242<>\"\",SNPs!A1242,\"\")","v":""},{"$f":"IF(SNPs!B1242<>\"\",MID(SNPs!B1242,FIND(\"[\",SNPs!B1242)+1,FIND(\"/\",SNPs!B1242)-FIND(\"[\",SNPs!B1242)-1),\"\")","v":""},{"$f":"IF(SNPs!B1242<>\"\",MID(SNPs!B1242,FIND(\"[\",SNPs!B1242)+3,FIND(\"/\",SNPs!B1242)-FIND(\"/\",SNPs!B1242)+1),\"\")","v":""},{"$f":"IF(SNPs!B1242<>\"\",SNPs!B1242,\"\")","v":""}]
[{"$f":"IF(SNPs!A1243<>\"\",SNPs!A1243,\"\")","v":""},{"$f":"IF(SNPs!B1243<>\"\",MID(SNPs!B1243,FIND(\"[\",SNPs!B1243)+1,FIND(\"/\",SNPs!B1243)-FIND(\"[\",SNPs!B1243)-1),\"\")","v":""},{"$f":"IF(SNPs!B1243<>\"\",MID(SNPs!B1243,FIND(\"[\",SNPs!B1243)+3,FIND(\"/\",SNPs!B1243)-FIND(\"/\",SNPs!B1243)+1),\"\")","v":""},{"$f":"IF(SNPs!B1243<>\"\",SNPs!B1243,\"\")","v":""}]
[{"$f":"IF(SNPs!A1244<>\"\",SNPs!A1244,\"\")","v":""},{"$f":"IF(SNPs!B1244<>\"\",MID(SNPs!B1244,FIND(\"[\",SNPs!B1244)+1,FIND(\"/\",SNPs!B1244)-FIND(\"[\",SNPs!B1244)-1),\"\")","v":""},{"$f":"IF(SNPs!B1244<>\"\",MID(SNPs!B1244,FIND(\"[\",SNPs!B1244)+3,FIND(\"/\",SNPs!B1244)-FIND(\"/\",SNPs!B1244)+1),\"\")","v":""},{"$f":"IF(SNPs!B1244<>\"\",SNPs!B1244,\"\")","v":""}]
[{"$f":"IF(SNPs!A1245<>\"\",SNPs!A1245,\"\")","v":""},{"$f":"IF(SNPs!B1245<>\"\",MID(SNPs!B1245,FIND(\"[\",SNPs!B1245)+1,FIND(\"/\",SNPs!B1245)-FIND(\"[\",SNPs!B1245)-1),\"\")","v":""},{"$f":"IF(SNPs!B1245<>\"\",MID(SNPs!B1245,FIND(\"[\",SNPs!B1245)+3,FIND(\"/\",SNPs!B1245)-FIND(\"/\",SNPs!B1245)+1),\"\")","v":""},{"$f":"IF(SNPs!B1245<>\"\",SNPs!B1245,\"\")","v":""}]
[{"$f":"IF(SNPs!A1246<>\"\",SNPs!A1246,\"\")","v":""},{"$f":"IF(SNPs!B1246<>\"\",MID(SNPs!B1246,FIND(\"[\",SNPs!B1246)+1,FIND(\"/\",SNPs!B1246)-FIND(\"[\",SNPs!B1246)-1),\"\")","v":""},{"$f":"IF(SNPs!B1246<>\"\",MID(SNPs!B1246,FIND(\"[\",SNPs!B1246)+3,FIND(\"/\",SNPs!B1246)-FIND(\"/\",SNPs!B1246)+1),\"\")","v":""},{"$f":"IF(SNPs!B1246<>\"\",SNPs!B1246,\"\")","v":""}]
[{"$f":"IF(SNPs!A1247<>\"\",SNPs!A1247,\"\")","v":""},{"$f":"IF(SNPs!B1247<>\"\",MID(SNPs!B1247,FIND(\"[\",SNPs!B1247)+1,FIND(\"/\",SNPs!B1247)-FIND(\"[\",SNPs!B1247)-1),\"\")","v":""},{"$f":"IF(SNPs!B1247<>\"\",MID(SNPs!B1247,FIND(\"[\",SNPs!B1247)+3,FIND(\"/\",SNPs!B1247)-FIND(\"/\",SNPs!B1247)+1),\"\")","v":""},{"$f":"IF(SNPs!B1247<>\"\",SNPs!B1247,\"\")","v":""}]
[{"$f":"IF(SNPs!A1248<>\"\",SNPs!A1248,\"\")","v":""},{"$f":"IF(SNPs!B1248<>\"\",MID(SNPs!B1248,FIND(\"[\",SNPs!B1248)+1,FIND(\"/\",SNPs!B1248)-FIND(\"[\",SNPs!B1248)-1),\"\")","v":""},{"$f":"IF(SNPs!B1248<>\"\",MID(SNPs!B1248,FIND(\"[\",SNPs!B1248)+3,FIND(\"/\",SNPs!B1248)-FIND(\"/\",SNPs!B1248)+1),\"\")","v":""},{"$f":"IF(SNPs!B1248<>\"\",SNPs!B1248,\"\")","v":""}]
[{"$f":"IF(SNPs!A1249<>\"\",SNPs!A1249,\"\")","v":""},{"$f":"IF(SNPs!B1249<>\"\",MID(SNPs!B1249,FIND(\"[\",SNPs!B1249)+1,FIND(\"/\",SNPs!B1249)-FIND(\"[\",SNPs!B1249)-1),\"\")","v":""},{"$f":"IF(SNPs!B1249<>\"\",MID(SNPs!B1249,FIND(\"[\",SNPs!B1249)+3,FIND(\"/\",SNPs!B1249)-FIND(\"/\",SNPs!B1249)+1),\"\")","v":""},{"$f":"IF(SNPs!B1249<>\"\",SNPs!B1249,\"\")","v":""}]
[{"$f":"IF(SNPs!A1250<>\"\",SNPs!A1250,\"\")","v":""},{"$f":"IF(SNPs!B1250<>\"\",MID(SNPs!B1250,FIND(\"[\",SNPs!B1250)+1,FIND(\"/\",SNPs!B1250)-FIND(\"[\",SNPs!B1250)-1),\"\")","v":""},{"$f":"IF(SNPs!B1250<>\"\",MID(SNPs!B1250,FIND(\"[\",SNPs!B1250)+3,FIND(\"/\",SNPs!B1250)-FIND(\"/\",SNPs!B1250)+1),\"\")","v":""},{"$f":"IF(SNPs!B1250<>\"\",SNPs!B1250,\"\")","v":""}]
[{"$f":"IF(SNPs!A1251<>\"\",SNPs!A1251,\"\")","v":""},{"$f":"IF(SNPs!B1251<>\"\",MID(SNPs!B1251,FIND(\"[\",SNPs!B1251)+1,FIND(\"/\",SNPs!B1251)-FIND(\"[\",SNPs!B1251)-1),\"\")","v":""},{"$f":"IF(SNPs!B1251<>\"\",MID(SNPs!B1251,FIND(\"[\",SNPs!B1251)+3,FIND(\"/\",SNPs!B1251)-FIND(\"/\",SNPs!B1251)+1),\"\")","v":""},{"$f":"IF(SNPs!B1251<>\"\",SNPs!B1251,\"\")","v":""}]
[{"$f":"IF(SNPs!A1252<>\"\",SNPs!A1252,\"\")","v":""},{"$f":"IF(SNPs!B1252<>\"\",MID(SNPs!B1252,FIND(\"[\",SNPs!B1252)+1,FIND(\"/\",SNPs!B1252)-FIND(\"[\",SNPs!B1252)-1),\"\")","v":""},{"$f":"IF(SNPs!B1252<>\"\",MID(SNPs!B1252,FIND(\"[\",SNPs!B1252)+3,FIND(\"/\",SNPs!B1252)-FIND(\"/\",SNPs!B1252)+1),\"\")","v":""},{"$f":"IF(SNPs!B1252<>\"\",SNPs!B1252,\"\")","v":""}]
[{"$f":"IF(SNPs!A1253<>\"\",SNPs!A1253,\"\")","v":""},{"$f":"IF(SNPs!B1253<>\"\",MID(SNPs!B1253,FIND(\"[\",SNPs!B1253)+1,FIND(\"/\",SNPs!B1253)-FIND(\"[\",SNPs!B1253)-1),\"\")","v":""},{"$f":"IF(SNPs!B1253<>\"\",MID(SNPs!B1253,FIND(\"[\",SNPs!B1253)+3,FIND(\"/\",SNPs!B1253)-FIND(\"/\",SNPs!B1253)+1),\"\")","v":""},{"$f":"IF(SNPs!B1253<>\"\",SNPs!B1253,\"\")","v":""}]
[{"$f":"IF(SNPs!A1254<>\"\",SNPs!A1254,\"\")","v":""},{"$f":"IF(SNPs!B1254<>\"\",MID(SNPs!B1254,FIND(\"[\",SNPs!B1254)+1,FIND(\"/\",SNPs!B1254)-FIND(\"[\",SNPs!B1254)-1),\"\")","v":""},{"$f":"IF(SNPs!B1254<>\"\",MID(SNPs!B1254,FIND(\"[\",SNPs!B1254)+3,FIND(\"/\",SNPs!B1254)-FIND(\"/\",SNPs!B1254)+1),\"\")","v":""},{"$f":"IF(SNPs!B1254<>\"\",SNPs!B1254,\"\")","v":""}]
[{"$f":"IF(SNPs!A1255<>\"\",SNPs!A1255,\"\")","v":""},{"$f":"IF(SNPs!B1255<>\"\",MID(SNPs!B1255,FIND(\"[\",SNPs!B1255)+1,FIND(\"/\",SNPs!B1255)-FIND(\"[\",SNPs!B1255)-1),\"\")","v":""},{"$f":"IF(SNPs!B1255<>\"\",MID(SNPs!B1255,FIND(\"[\",SNPs!B1255)+3,FIND(\"/\",SNPs!B1255)-FIND(\"/\",SNPs!B1255)+1),\"\")","v":""},{"$f":"IF(SNPs!B1255<>\"\",SNPs!B1255,\"\")","v":""}]
[{"$f":"IF(SNPs!A1256<>\"\",SNPs!A1256,\"\")","v":""},{"$f":"IF(SNPs!B1256<>\"\",MID(SNPs!B1256,FIND(\"[\",SNPs!B1256)+1,FIND(\"/\",SNPs!B1256)-FIND(\"[\",SNPs!B1256)-1),\"\")","v":""},{"$f":"IF(SNPs!B1256<>\"\",MID(SNPs!B1256,FIND(\"[\",SNPs!B1256)+3,FIND(\"/\",SNPs!B1256)-FIND(\"/\",SNPs!B1256)+1),\"\")","v":""},{"$f":"IF(SNPs!B1256<>\"\",SNPs!B1256,\"\")","v":""}]
[{"$f":"IF(SNPs!A1257<>\"\",SNPs!A1257,\"\")","v":""},{"$f":"IF(SNPs!B1257<>\"\",MID(SNPs!B1257,FIND(\"[\",SNPs!B1257)+1,FIND(\"/\",SNPs!B1257)-FIND(\"[\",SNPs!B1257)-1),\"\")","v":""},{"$f":"IF(SNPs!B1257<>\"\",MID(SNPs!B1257,FIND(\"[\",SNPs!B1257)+3,FIND(\"/\",SNPs!B1257)-FIND(\"/\",SNPs!B1257)+1),\"\")","v":""},{"$f":"IF(SNPs!B1257<>\"\",SNPs!B1257,\"\")","v":""}]
[{"$f":"IF(SNPs!A1258<>\"\",SNPs!A1258,\"\")","v":""},{"$f":"IF(SNPs!B1258<>\"\",MID(SNPs!B1258,FIND(\"[\",SNPs!B1258)+1,FIND(\"/\",SNPs!B1258)-FIND(\"[\",SNPs!B1258)-1),\"\")","v":""},{"$f":"IF(SNPs!B1258<>\"\",MID(SNPs!B1258,FIND(\"[\",SNPs!B1258)+3,FIND(\"/\",SNPs!B1258)-FIND(\"/\",SNPs!B1258)+1),\"\")","v":""},{"$f":"IF(SNPs!B1258<>\"\",SNPs!B1258,\"\")","v":""}]
[{"$f":"IF(SNPs!A1259<>\"\",SNPs!A1259,\"\")","v":""},{"$f":"IF(SNPs!B1259<>\"\",MID(SNPs!B1259,FIND(\"[\",SNPs!B1259)+1,FIND(\"/\",SNPs!B1259)-FIND(\"[\",SNPs!B1259)-1),\"\")","v":""},{"$f":"IF(SNPs!B1259<>\"\",MID(SNPs!B1259,FIND(\"[\",SNPs!B1259)+3,FIND(\"/\",SNPs!B1259)-FIND(\"/\",SNPs!B1259)+1),\"\")","v":""},{"$f":"IF(SNPs!B1259<>\"\",SNPs!B1259,\"\")","v":""}]
[{"$f":"IF(SNPs!A1260<>\"\",SNPs!A1260,\"\")","v":""},{"$f":"IF(SNPs!B1260<>\"\",MID(SNPs!B1260,FIND(\"[\",SNPs!B1260)+1,FIND(\"/\",SNPs!B1260)-FIND(\"[\",SNPs!B1260)-1),\"\")","v":""},{"$f":"IF(SNPs!B1260<>\"\",MID(SNPs!B1260,FIND(\"[\",SNPs!B1260)+3,FIND(\"/\",SNPs!B1260)-FIND(\"/\",SNPs!B1260)+1),\"\")","v":""},{"$f":"IF(SNPs!B1260<>\"\",SNPs!B1260,\"\")","v":""}]
[{"$f":"IF(SNPs!A1261<>\"\",SNPs!A1261,\"\")","v":""},{"$f":"IF(SNPs!B1261<>\"\",MID(SNPs!B1261,FIND(\"[\",SNPs!B1261)+1,FIND(\"/\",SNPs!B1261)-FIND(\"[\",SNPs!B1261)-1),\"\")","v":""},{"$f":"IF(SNPs!B1261<>\"\",MID(SNPs!B1261,FIND(\"[\",SNPs!B1261)+3,FIND(\"/\",SNPs!B1261)-FIND(\"/\",SNPs!B1261)+1),\"\")","v":""},{"$f":"IF(SNPs!B1261<>\"\",SNPs!B1261,\"\")","v":""}]
[{"$f":"IF(SNPs!A1262<>\"\",SNPs!A1262,\"\")","v":""},{"$f":"IF(SNPs!B1262<>\"\",MID(SNPs!B1262,FIND(\"[\",SNPs!B1262)+1,FIND(\"/\",SNPs!B1262)-FIND(\"[\",SNPs!B1262)-1),\"\")","v":""},{"$f":"IF(SNPs!B1262<>\"\",MID(SNPs!B1262,FIND(\"[\",SNPs!B1262)+3,FIND(\"/\",SNPs!B1262)-FIND(\"/\",SNPs!B1262)+1),\"\")","v":""},{"$f":"IF(SNPs!B1262<>\"\",SNPs!B1262,\"\")","v":""}]
[{"$f":"IF(SNPs!A1263<>\"\",SNPs!A1263,\"\")","v":""},{"$f":"IF(SNPs!B1263<>\"\",MID(SNPs!B1263,FIND(\"[\",SNPs!B1263)+1,FIND(\"/\",SNPs!B1263)-FIND(\"[\",SNPs!B1263)-1),\"\")","v":""},{"$f":"IF(SNPs!B1263<>\"\",MID(SNPs!B1263,FIND(\"[\",SNPs!B1263)+3,FIND(\"/\",SNPs!B1263)-FIND(\"/\",SNPs!B1263)+1),\"\")","v":""},{"$f":"IF(SNPs!B1263<>\"\",SNPs!B1263,\"\")","v":""}]
[{"$f":"IF(SNPs!A1264<>\"\",SNPs!A1264,\"\")","v":""},{"$f":"IF(SNPs!B1264<>\"\",MID(SNPs!B1264,FIND(\"[\",SNPs!B1264)+1,FIND(\"/\",SNPs!B1264)-FIND(\"[\",SNPs!B1264)-1),\"\")","v":""},{"$f":"IF(SNPs!B1264<>\"\",MID(SNPs!B1264,FIND(\"[\",SNPs!B1264)+3,FIND(\"/\",SNPs!B1264)-FIND(\"/\",SNPs!B1264)+1),\"\")","v":""},{"$f":"IF(SNPs!B1264<>\"\",SNPs!B1264,\"\")","v":""}]
[{"$f":"IF(SNPs!A1265<>\"\",SNPs!A1265,\"\")","v":""},{"$f":"IF(SNPs!B1265<>\"\",MID(SNPs!B1265,FIND(\"[\",SNPs!B1265)+1,FIND(\"/\",SNPs!B1265)-FIND(\"[\",SNPs!B1265)-1),\"\")","v":""},{"$f":"IF(SNPs!B1265<>\"\",MID(SNPs!B1265,FIND(\"[\",SNPs!B1265)+3,FIND(\"/\",SNPs!B1265)-FIND(\"/\",SNPs!B1265)+1),\"\")","v":""},{"$f":"IF(SNPs!B1265<>\"\",SNPs!B1265,\"\")","v":""}]
[{"$f":"IF(SNPs!A1266<>\"\",SNPs!A1266,\"\")","v":""},{"$f":"IF(SNPs!B1266<>\"\",MID(SNPs!B1266,FIND(\"[\",SNPs!B1266)+1,FIND(\"/\",SNPs!B1266)-FIND(\"[\",SNPs!B1266)-1),\"\")","v":""},{"$f":"IF(SNPs!B1266<>\"\",MID(SNPs!B1266,FIND(\"[\",SNPs!B1266)+3,FIND(\"/\",SNPs!B1266)-FIND(\"/\",SNPs!B1266)+1),\"\")","v":""},{"$f":"IF(SNPs!B1266<>\"\",SNPs!B1266,\"\")","v":""}]
[{"$f":"IF(SNPs!A1267<>\"\",SNPs!A1267,\"\")","v":""},{"$f":"IF(SNPs!B1267<>\"\",MID(SNPs!B1267,FIND(\"[\",SNPs!B1267)+1,FIND(\"/\",SNPs!B1267)-FIND(\"[\",SNPs!B1267)-1),\"\")","v":""},{"$f":"IF(SNPs!B1267<>\"\",MID(SNPs!B1267,FIND(\"[\",SNPs!B1267)+3,FIND(\"/\",SNPs!B1267)-FIND(\"/\",SNPs!B1267)+1),\"\")","v":""},{"$f":"IF(SNPs!B1267<>\"\",SNPs!B1267,\"\")","v":""}]
[{"$f":"IF(SNPs!A1268<>\"\",SNPs!A1268,\"\")","v":""},{"$f":"IF(SNPs!B1268<>\"\",MID(SNPs!B1268,FIND(\"[\",SNPs!B1268)+1,FIND(\"/\",SNPs!B1268)-FIND(\"[\",SNPs!B1268)-1),\"\")","v":""},{"$f":"IF(SNPs!B1268<>\"\",MID(SNPs!B1268,FIND(\"[\",SNPs!B1268)+3,FIND(\"/\",SNPs!B1268)-FIND(\"/\",SNPs!B1268)+1),\"\")","v":""},{"$f":"IF(SNPs!B1268<>\"\",SNPs!B1268,\"\")","v":""}]
[{"$f":"IF(SNPs!A1269<>\"\",SNPs!A1269,\"\")","v":""},{"$f":"IF(SNPs!B1269<>\"\",MID(SNPs!B1269,FIND(\"[\",SNPs!B1269)+1,FIND(\"/\",SNPs!B1269)-FIND(\"[\",SNPs!B1269)-1),\"\")","v":""},{"$f":"IF(SNPs!B1269<>\"\",MID(SNPs!B1269,FIND(\"[\",SNPs!B1269)+3,FIND(\"/\",SNPs!B1269)-FIND(\"/\",SNPs!B1269)+1),\"\")","v":""},{"$f":"IF(SNPs!B1269<>\"\",SNPs!B1269,\"\")","v":""}]
[{"$f":"IF(SNPs!A1270<>\"\",SNPs!A1270,\"\")","v":""},{"$f":"IF(SNPs!B1270<>\"\",MID(SNPs!B1270,FIND(\"[\",SNPs!B1270)+1,FIND(\"/\",SNPs!B1270)-FIND(\"[\",SNPs!B1270)-1),\"\")","v":""},{"$f":"IF(SNPs!B1270<>\"\",MID(SNPs!B1270,FIND(\"[\",SNPs!B1270)+3,FIND(\"/\",SNPs!B1270)-FIND(\"/\",SNPs!B1270)+1),\"\")","v":""},{"$f":"IF(SNPs!B1270<>\"\",SNPs!B1270,\"\")","v":""}]
[{"$f":"IF(SNPs!A1271<>\"\",SNPs!A1271,\"\")","v":""},{"$f":"IF(SNPs!B1271<>\"\",MID(SNPs!B1271,FIND(\"[\",SNPs!B1271)+1,FIND(\"/\",SNPs!B1271)-FIND(\"[\",SNPs!B1271)-1),\"\")","v":""},{"$f":"IF(SNPs!B1271<>\"\",MID(SNPs!B1271,FIND(\"[\",SNPs!B1271)+3,FIND(\"/\",SNPs!B1271)-FIND(\"/\",SNPs!B1271)+1),\"\")","v":""},{"$f":"IF(SNPs!B1271<>\"\",SNPs!B1271,\"\")","v":""}]
[{"$f":"IF(SNPs!A1272<>\"\",SNPs!A1272,\"\")","v":""},{"$f":"IF(SNPs!B1272<>\"\",MID(SNPs!B1272,FIND(\"[\",SNPs!B1272)+1,FIND(\"/\",SNPs!B1272)-FIND(\"[\",SNPs!B1272)-1),\"\")","v":""},{"$f":"IF(SNPs!B1272<>\"\",MID(SNPs!B1272,FIND(\"[\",SNPs!B1272)+3,FIND(\"/\",SNPs!B1272)-FIND(\"/\",SNPs!B1272)+1),\"\")","v":""},{"$f":"IF(SNPs!B1272<>\"\",SNPs!B1272,\"\")","v":""}]
[{"$f":"IF(SNPs!A1273<>\"\",SNPs!A1273,\"\")","v":""},{"$f":"IF(SNPs!B1273<>\"\",MID(SNPs!B1273,FIND(\"[\",SNPs!B1273)+1,FIND(\"/\",SNPs!B1273)-FIND(\"[\",SNPs!B1273)-1),\"\")","v":""},{"$f":"IF(SNPs!B1273<>\"\",MID(SNPs!B1273,FIND(\"[\",SNPs!B1273)+3,FIND(\"/\",SNPs!B1273)-FIND(\"/\",SNPs!B1273)+1),\"\")","v":""},{"$f":"IF(SNPs!B1273<>\"\",SNPs!B1273,\"\")","v":""}]
[{"$f":"IF(SNPs!A1274<>\"\",SNPs!A1274,\"\")","v":""},{"$f":"IF(SNPs!B1274<>\"\",MID(SNPs!B1274,FIND(\"[\",SNPs!B1274)+1,FIND(\"/\",SNPs!B1274)-FIND(\"[\",SNPs!B1274)-1),\"\")","v":""},{"$f":"IF(SNPs!B1274<>\"\",MID(SNPs!B1274,FIND(\"[\",SNPs!B1274)+3,FIND(\"/\",SNPs!B1274)-FIND(\"/\",SNPs!B1274)+1),\"\")","v":""},{"$f":"IF(SNPs!B1274<>\"\",SNPs!B1274,\"\")","v":""}]
[{"$f":"IF(SNPs!A1275<>\"\",SNPs!A1275,\"\")","v":""},{"$f":"IF(SNPs!B1275<>\"\",MID(SNPs!B1275,FIND(\"[\",SNPs!B1275)+1,FIND(\"/\",SNPs!B1275)-FIND(\"[\",SNPs!B1275)-1),\"\")","v":""},{"$f":"IF(SNPs!B1275<>\"\",MID(SNPs!B1275,FIND(\"[\",SNPs!B1275)+3,FIND(\"/\",SNPs!B1275)-FIND(\"/\",SNPs!B1275)+1),\"\")","v":""},{"$f":"IF(SNPs!B1275<>\"\",SNPs!B1275,\"\")","v":""}]
[{"$f":"IF(SNPs!A1276<>\"\",SNPs!A1276,\"\")","v":""},{"$f":"IF(SNPs!B1276<>\"\",MID(SNPs!B1276,FIND(\"[\",SNPs!B1276)+1,FIND(\"/\",SNPs!B1276)-FIND(\"[\",SNPs!B1276)-1),\"\")","v":""},{"$f":"IF(SNPs!B1276<>\"\",MID(SNPs!B1276,FIND(\"[\",SNPs!B1276)+3,FIND(\"/\",SNPs!B1276)-FIND(\"/\",SNPs!B1276)+1),\"\")","v":""},{"$f":"IF(SNPs!B1276<>\"\",SNPs!B1276,\"\")","v":""}]
[{"$f":"IF(SNPs!A1277<>\"\",SNPs!A1277,\"\")","v":""},{"$f":"IF(SNPs!B1277<>\"\",MID(SNPs!B1277,FIND(\"[\",SNPs!B1277)+1,FIND(\"/\",SNPs!B1277)-FIND(\"[\",SNPs!B1277)-1),\"\")","v":""},{"$f":"IF(SNPs!B1277<>\"\",MID(SNPs!B1277,FIND(\"[\",SNPs!B1277)+3,FIND(\"/\",SNPs!B1277)-FIND(\"/\",SNPs!B1277)+1),\"\")","v":""},{"$f":"IF(SNPs!B1277<>\"\",SNPs!B1277,\"\")","v":""}]
[{"$f":"IF(SNPs!A1278<>\"\",SNPs!A1278,\"\")","v":""},{"$f":"IF(SNPs!B1278<>\"\",MID(SNPs!B1278,FIND(\"[\",SNPs!B1278)+1,FIND(\"/\",SNPs!B1278)-FIND(\"[\",SNPs!B1278)-1),\"\")","v":""},{"$f":"IF(SNPs!B1278<>\"\",MID(SNPs!B1278,FIND(\"[\",SNPs!B1278)+3,FIND(\"/\",SNPs!B1278)-FIND(\"/\",SNPs!B1278)+1),\"\")","v":""},{"$f":"IF(SNPs!B1278<>\"\",SNPs!B1278,\"\")","v":""}]
[{"$f":"IF(SNPs!A1279<>\"\",SNPs!A1279,\"\")","v":""},{"$f":"IF(SNPs!B1279<>\"\",MID(SNPs!B1279,FIND(\"[\",SNPs!B1279)+1,FIND(\"/\",SNPs!B1279)-FIND(\"[\",SNPs!B1279)-1),\"\")","v":""},{"$f":"IF(SNPs!B1279<>\"\",MID(SNPs!B1279,FIND(\"[\",SNPs!B1279)+3,FIND(\"/\",SNPs!B1279)-FIND(\"/\",SNPs!B1279)+1),\"\")","v":""},{"$f":"IF(SNPs!B1279<>\"\",SNPs!B1279,\"\")","v":""}]
[{"$f":"IF(SNPs!A1280<>\"\",SNPs!A1280,\"\")","v":""},{"$f":"IF(SNPs!B1280<>\"\",MID(SNPs!B1280,FIND(\"[\",SNPs!B1280)+1,FIND(\"/\",SNPs!B1280)-FIND(\"[\",SNPs!B1280)-1),\"\")","v":""},{"$f":"IF(SNPs!B1280<>\"\",MID(SNPs!B1280,FIND(\"[\",SNPs!B1280)+3,FIND(\"/\",SNPs!B1280)-FIND(\"/\",SNPs!B1280)+1),\"\")","v":""},{"$f":"IF(SNPs!B1280<>\"\",SNPs!B1280,\"\")","v":""}]
[{"$f":"IF(SNPs!A1281<>\"\",SNPs!A1281,\"\")","v":""},{"$f":"IF(SNPs!B1281<>\"\",MID(SNPs!B1281,FIND(\"[\",SNPs!B1281)+1,FIND(\"/\",SNPs!B1281)-FIND(\"[\",SNPs!B1281)-1),\"\")","v":""},{"$f":"IF(SNPs!B1281<>\"\",MID(SNPs!B1281,FIND(\"[\",SNPs!B1281)+3,FIND(\"/\",SNPs!B1281)-FIND(\"/\",SNPs!B1281)+1),\"\")","v":""},{"$f":"IF(SNPs!B1281<>\"\",SNPs!B1281,\"\")","v":""}]
[{"$f":"IF(SNPs!A1282<>\"\",SNPs!A1282,\"\")","v":""},{"$f":"IF(SNPs!B1282<>\"\",MID(SNPs!B1282,FIND(\"[\",SNPs!B1282)+1,FIND(\"/\",SNPs!B1282)-FIND(\"[\",SNPs!B1282)-1),\"\")","v":""},{"$f":"IF(SNPs!B1282<>\"\",MID(SNPs!B1282,FIND(\"[\",SNPs!B1282)+3,FIND(\"/\",SNPs!B1282)-FIND(\"/\",SNPs!B1282)+1),\"\")","v":""},{"$f":"IF(SNPs!B1282<>\"\",SNPs!B1282,\"\")","v":""}]
[{"$f":"IF(SNPs!A1283<>\"\",SNPs!A1283,\"\")","v":""},{"$f":"IF(SNPs!B1283<>\"\",MID(SNPs!B1283,FIND(\"[\",SNPs!B1283)+1,FIND(\"/\",SNPs!B1283)-FIND(\"[\",SNPs!B1283)-1),\"\")","v":""},{"$f":"IF(SNPs!B1283<>\"\",MID(SNPs!B1283,FIND(\"[\",SNPs!B1283)+3,FIND(\"/\",SNPs!B1283)-FIND(\"/\",SNPs!B1283)+1),\"\")","v":""},{"$f":"IF(SNPs!B1283<>\"\",SNPs!B1283,\"\")","v":""}]
[{"$f":"IF(SNPs!A1284<>\"\",SNPs!A1284,\"\")","v":""},{"$f":"IF(SNPs!B1284<>\"\",MID(SNPs!B1284,FIND(\"[\",SNPs!B1284)+1,FIND(\"/\",SNPs!B1284)-FIND(\"[\",SNPs!B1284)-1),\"\")","v":""},{"$f":"IF(SNPs!B1284<>\"\",MID(SNPs!B1284,FIND(\"[\",SNPs!B1284)+3,FIND(\"/\",SNPs!B1284)-FIND(\"/\",SNPs!B1284)+1),\"\")","v":""},{"$f":"IF(SNPs!B1284<>\"\",SNPs!B1284,\"\")","v":""}]
[{"$f":"IF(SNPs!A1285<>\"\",SNPs!A1285,\"\")","v":""},{"$f":"IF(SNPs!B1285<>\"\",MID(SNPs!B1285,FIND(\"[\",SNPs!B1285)+1,FIND(\"/\",SNPs!B1285)-FIND(\"[\",SNPs!B1285)-1),\"\")","v":""},{"$f":"IF(SNPs!B1285<>\"\",MID(SNPs!B1285,FIND(\"[\",SNPs!B1285)+3,FIND(\"/\",SNPs!B1285)-FIND(\"/\",SNPs!B1285)+1),\"\")","v":""},{"$f":"IF(SNPs!B1285<>\"\",SNPs!B1285,\"\")","v":""}]
[{"$f":"IF(SNPs!A1286<>\"\",SNPs!A1286,\"\")","v":""},{"$f":"IF(SNPs!B1286<>\"\",MID(SNPs!B1286,FIND(\"[\",SNPs!B1286)+1,FIND(\"/\",SNPs!B1286)-FIND(\"[\",SNPs!B1286)-1),\"\")","v":""},{"$f":"IF(SNPs!B1286<>\"\",MID(SNPs!B1286,FIND(\"[\",SNPs!B1286)+3,FIND(\"/\",SNPs!B1286)-FIND(\"/\",SNPs!B1286)+1),\"\")","v":""},{"$f":"IF(SNPs!B1286<>\"\",SNPs!B1286,\"\")","v":""}]
[{"$f":"IF(SNPs!A1287<>\"\",SNPs!A1287,\"\")","v":""},{"$f":"IF(SNPs!B1287<>\"\",MID(SNPs!B1287,FIND(\"[\",SNPs!B1287)+1,FIND(\"/\",SNPs!B1287)-FIND(\"[\",SNPs!B1287)-1),\"\")","v":""},{"$f":"IF(SNPs!B1287<>\"\",MID(SNPs!B1287,FIND(\"[\",SNPs!B1287)+3,FIND(\"/\",SNPs!B1287)-FIND(\"/\",SNPs!B1287)+1),\"\")","v":""},{"$f":"IF(SNPs!B1287<>\"\",SNPs!B1287,\"\")","v":""}]
[{"$f":"IF(SNPs!A1288<>\"\",SNPs!A1288,\"\")","v":""},{"$f":"IF(SNPs!B1288<>\"\",MID(SNPs!B1288,FIND(\"[\",SNPs!B1288)+1,FIND(\"/\",SNPs!B1288)-FIND(\"[\",SNPs!B1288)-1),\"\")","v":""},{"$f":"IF(SNPs!B1288<>\"\",MID(SNPs!B1288,FIND(\"[\",SNPs!B1288)+3,FIND(\"/\",SNPs!B1288)-FIND(\"/\",SNPs!B1288)+1),\"\")","v":""},{"$f":"IF(SNPs!B1288<>\"\",SNPs!B1288,\"\")","v":""}]
[{"$f":"IF(SNPs!A1289<>\"\",SNPs!A1289,\"\")","v":""},{"$f":"IF(SNPs!B1289<>\"\",MID(SNPs!B1289,FIND(\"[\",SNPs!B1289)+1,FIND(\"/\",SNPs!B1289)-FIND(\"[\",SNPs!B1289)-1),\"\")","v":""},{"$f":"IF(SNPs!B1289<>\"\",MID(SNPs!B1289,FIND(\"[\",SNPs!B1289)+3,FIND(\"/\",SNPs!B1289)-FIND(\"/\",SNPs!B1289)+1),\"\")","v":""},{"$f":"IF(SNPs!B1289<>\"\",SNPs!B1289,\"\")","v":""}]
[{"$f":"IF(SNPs!A1290<>\"\",SNPs!A1290,\"\")","v":""},{"$f":"IF(SNPs!B1290<>\"\",MID(SNPs!B1290,FIND(\"[\",SNPs!B1290)+1,FIND(\"/\",SNPs!B1290)-FIND(\"[\",SNPs!B1290)-1),\"\")","v":""},{"$f":"IF(SNPs!B1290<>\"\",MID(SNPs!B1290,FIND(\"[\",SNPs!B1290)+3,FIND(\"/\",SNPs!B1290)-FIND(\"/\",SNPs!B1290)+1),\"\")","v":""},{"$f":"IF(SNPs!B1290<>\"\",SNPs!B1290,\"\")","v":""}]
[{"$f":"IF(SNPs!A1291<>\"\",SNPs!A1291,\"\")","v":""},{"$f":"IF(SNPs!B1291<>\"\",MID(SNPs!B1291,FIND(\"[\",SNPs!B1291)+1,FIND(\"/\",SNPs!B1291)-FIND(\"[\",SNPs!B1291)-1),\"\")","v":""},{"$f":"IF(SNPs!B1291<>\"\",MID(SNPs!B1291,FIND(\"[\",SNPs!B1291)+3,FIND(\"/\",SNPs!B1291)-FIND(\"/\",SNPs!B1291)+1),\"\")","v":""},{"$f":"IF(SNPs!B1291<>\"\",SNPs!B1291,\"\")","v":""}]
[{"$f":"IF(SNPs!A1292<>\"\",SNPs!A1292,\"\")","v":""},{"$f":"IF(SNPs!B1292<>\"\",MID(SNPs!B1292,FIND(\"[\",SNPs!B1292)+1,FIND(\"/\",SNPs!B1292)-FIND(\"[\",SNPs!B1292)-1),\"\")","v":""},{"$f":"IF(SNPs!B1292<>\"\",MID(SNPs!B1292,FIND(\"[\",SNPs!B1292)+3,FIND(\"/\",SNPs!B1292)-FIND(\"/\",SNPs!B1292)+1),\"\")","v":""},{"$f":"IF(SNPs!B1292<>\"\",SNPs!B1292,\"\")","v":""}]
[{"$f":"IF(SNPs!A1293<>\"\",SNPs!A1293,\"\")","v":""},{"$f":"IF(SNPs!B1293<>\"\",MID(SNPs!B1293,FIND(\"[\",SNPs!B1293)+1,FIND(\"/\",SNPs!B1293)-FIND(\"[\",SNPs!B1293)-1),\"\")","v":""},{"$f":"IF(SNPs!B1293<>\"\",MID(SNPs!B1293,FIND(\"[\",SNPs!B1293)+3,FIND(\"/\",SNPs!B1293)-FIND(\"/\",SNPs!B1293)+1),\"\")","v":""},{"$f":"IF(SNPs!B1293<>\"\",SNPs!B1293,\"\")","v":""}]
[{"$f":"IF(SNPs!A1294<>\"\",SNPs!A1294,\"\")","v":""},{"$f":"IF(SNPs!B1294<>\"\",MID(SNPs!B1294,FIND(\"[\",SNPs!B1294)+1,FIND(\"/\",SNPs!B1294)-FIND(\"[\",SNPs!B1294)-1),\"\")","v":""},{"$f":"IF(SNPs!B1294<>\"\",MID(SNPs!B1294,FIND(\"[\",SNPs!B1294)+3,FIND(\"/\",SNPs!B1294)-FIND(\"/\",SNPs!B1294)+1),\"\")","v":""},{"$f":"IF(SNPs!B1294<>\"\",SNPs!B1294,\"\")","v":""}]
[{"$f":"IF(SNPs!A1295<>\"\",SNPs!A1295,\"\")","v":""},{"$f":"IF(SNPs!B1295<>\"\",MID(SNPs!B1295,FIND(\"[\",SNPs!B1295)+1,FIND(\"/\",SNPs!B1295)-FIND(\"[\",SNPs!B1295)-1),\"\")","v":""},{"$f":"IF(SNPs!B1295<>\"\",MID(SNPs!B1295,FIND(\"[\",SNPs!B1295)+3,FIND(\"/\",SNPs!B1295)-FIND(\"/\",SNPs!B1295)+1),\"\")","v":""},{"$f":"IF(SNPs!B1295<>\"\",SNPs!B1295,\"\")","v":""}]
[{"$f":"IF(SNPs!A1296<>\"\",SNPs!A1296,\"\")","v":""},{"$f":"IF(SNPs!B1296<>\"\",MID(SNPs!B1296,FIND(\"[\",SNPs!B1296)+1,FIND(\"/\",SNPs!B1296)-FIND(\"[\",SNPs!B1296)-1),\"\")","v":""},{"$f":"IF(SNPs!B1296<>\"\",MID(SNPs!B1296,FIND(\"[\",SNPs!B1296)+3,FIND(\"/\",SNPs!B1296)-FIND(\"/\",SNPs!B1296)+1),\"\")","v":""},{"$f":"IF(SNPs!B1296<>\"\",SNPs!B1296,\"\")","v":""}]
[{"$f":"IF(SNPs!A1297<>\"\",SNPs!A1297,\"\")","v":""},{"$f":"IF(SNPs!B1297<>\"\",MID(SNPs!B1297,FIND(\"[\",SNPs!B1297)+1,FIND(\"/\",SNPs!B1297)-FIND(\"[\",SNPs!B1297)-1),\"\")","v":""},{"$f":"IF(SNPs!B1297<>\"\",MID(SNPs!B1297,FIND(\"[\",SNPs!B1297)+3,FIND(\"/\",SNPs!B1297)-FIND(\"/\",SNPs!B1297)+1),\"\")","v":""},{"$f":"IF(SNPs!B1297<>\"\",SNPs!B1297,\"\")","v":""}]
[{"$f":"IF(SNPs!A1298<>\"\",SNPs!A1298,\"\")","v":""},{"$f":"IF(SNPs!B1298<>\"\",MID(SNPs!B1298,FIND(\"[\",SNPs!B1298)+1,FIND(\"/\",SNPs!B1298)-FIND(\"[\",SNPs!B1298)-1),\"\")","v":""},{"$f":"IF(SNPs!B1298<>\"\",MID(SNPs!B1298,FIND(\"[\",SNPs!B1298)+3,FIND(\"/\",SNPs!B1298)-FIND(\"/\",SNPs!B1298)+1),\"\")","v":""},{"$f":"IF(SNPs!B1298<>\"\",SNPs!B1298,\"\")","v":""}]
[{"$f":"IF(SNPs!A1299<>\"\",SNPs!A1299,\"\")","v":""},{"$f":"IF(SNPs!B1299<>\"\",MID(SNPs!B1299,FIND(\"[\",SNPs!B1299)+1,FIND(\"/\",SNPs!B1299)-FIND(\"[\",SNPs!B1299)-1),\"\")","v":""},{"$f":"IF(SNPs!B1299<>\"\",MID(SNPs!B1299,FIND(\"[\",SNPs!B1299)+3,FIND(\"/\",SNPs!B1299)-FIND(\"/\",SNPs!B1299)+1),\"\")","v":""},{"$f":"IF(SNPs!B1299<>\"\",SNPs!B1299,\"\")","v":""}]
[{"$f":"IF(SNPs!A1300<>\"\",SNPs!A1300,\"\")","v":""},{"$f":"IF(SNPs!B1300<>\"\",MID(SNPs!B1300,FIND(\"[\",SNPs!B1300)+1,FIND(\"/\",SNPs!B1300)-FIND(\"[\",SNPs!B1300)-1),\"\")","v":""},{"$f":"IF(SNPs!B1300<>\"\",MID(SNPs!B1300,FIND(\"[\",SNPs!B1300)+3,FIND(\"/\",SNPs!B1300)-FIND(\"/\",SNPs!B1300)+1),\"\")","v":""},{"$f":"IF(SNPs!B1300<>\"\",SNPs!B1300,\"\")","v":""}]
[{"$f":"IF(SNPs!A1301<>\"\",SNPs!A1301,\"\")","v":""},{"$f":"IF(SNPs!B1301<>\"\",MID(SNPs!B1301,FIND(\"[\",SNPs!B1301)+1,FIND(\"/\",SNPs!B1301)-FIND(\"[\",SNPs!B1301)-1),\"\")","v":""},{"$f":"IF(SNPs!B1301<>\"\",MID(SNPs!B1301,FIND(\"[\",SNPs!B1301)+3,FIND(\"/\",SNPs!B1301)-FIND(\"/\",SNPs!B1301)+1),\"\")","v":""},{"$f":"IF(SNPs!B1301<>\"\",SNPs!B1301,\"\")","v":""}]
[{"$f":"IF(SNPs!A1302<>\"\",SNPs!A1302,\"\")","v":""},{"$f":"IF(SNPs!B1302<>\"\",MID(SNPs!B1302,FIND(\"[\",SNPs!B1302)+1,FIND(\"/\",SNPs!B1302)-FIND(\"[\",SNPs!B1302)-1),\"\")","v":""},{"$f":"IF(SNPs!B1302<>\"\",MID(SNPs!B1302,FIND(\"[\",SNPs!B1302)+3,FIND(\"/\",SNPs!B1302)-FIND(\"/\",SNPs!B1302)+1),\"\")","v":""},{"$f":"IF(SNPs!B1302<>\"\",SNPs!B1302,\"\")","v":""}]
[{"$f":"IF(SNPs!A1303<>\"\",SNPs!A1303,\"\")","v":""},{"$f":"IF(SNPs!B1303<>\"\",MID(SNPs!B1303,FIND(\"[\",SNPs!B1303)+1,FIND(\"/\",SNPs!B1303)-FIND(\"[\",SNPs!B1303)-1),\"\")","v":""},{"$f":"IF(SNPs!B1303<>\"\",MID(SNPs!B1303,FIND(\"[\",SNPs!B1303)+3,FIND(\"/\",SNPs!B1303)-FIND(\"/\",SNPs!B1303)+1),\"\")","v":""},{"$f":"IF(SNPs!B1303<>\"\",SNPs!B1303,\"\")","v":""}]
[{"$f":"IF(SNPs!A1304<>\"\",SNPs!A1304,\"\")","v":""},{"$f":"IF(SNPs!B1304<>\"\",MID(SNPs!B1304,FIND(\"[\",SNPs!B1304)+1,FIND(\"/\",SNPs!B1304)-FIND(\"[\",SNPs!B1304)-1),\"\")","v":""},{"$f":"IF(SNPs!B1304<>\"\",MID(SNPs!B1304,FIND(\"[\",SNPs!B1304)+3,FIND(\"/\",SNPs!B1304)-FIND(\"/\",SNPs!B1304)+1),\"\")","v":""},{"$f":"IF(SNPs!B1304<>\"\",SNPs!B1304,\"\")","v":""}]
[{"$f":"IF(SNPs!A1305<>\"\",SNPs!A1305,\"\")","v":""},{"$f":"IF(SNPs!B1305<>\"\",MID(SNPs!B1305,FIND(\"[\",SNPs!B1305)+1,FIND(\"/\",SNPs!B1305)-FIND(\"[\",SNPs!B1305)-1),\"\")","v":""},{"$f":"IF(SNPs!B1305<>\"\",MID(SNPs!B1305,FIND(\"[\",SNPs!B1305)+3,FIND(\"/\",SNPs!B1305)-FIND(\"/\",SNPs!B1305)+1),\"\")","v":""},{"$f":"IF(SNPs!B1305<>\"\",SNPs!B1305,\"\")","v":""}]
[{"$f":"IF(SNPs!A1306<>\"\",SNPs!A1306,\"\")","v":""},{"$f":"IF(SNPs!B1306<>\"\",MID(SNPs!B1306,FIND(\"[\",SNPs!B1306)+1,FIND(\"/\",SNPs!B1306)-FIND(\"[\",SNPs!B1306)-1),\"\")","v":""},{"$f":"IF(SNPs!B1306<>\"\",MID(SNPs!B1306,FIND(\"[\",SNPs!B1306)+3,FIND(\"/\",SNPs!B1306)-FIND(\"/\",SNPs!B1306)+1),\"\")","v":""},{"$f":"IF(SNPs!B1306<>\"\",SNPs!B1306,\"\")","v":""}]
[{"$f":"IF(SNPs!A1307<>\"\",SNPs!A1307,\"\")","v":""},{"$f":"IF(SNPs!B1307<>\"\",MID(SNPs!B1307,FIND(\"[\",SNPs!B1307)+1,FIND(\"/\",SNPs!B1307)-FIND(\"[\",SNPs!B1307)-1),\"\")","v":""},{"$f":"IF(SNPs!B1307<>\"\",MID(SNPs!B1307,FIND(\"[\",SNPs!B1307)+3,FIND(\"/\",SNPs!B1307)-FIND(\"/\",SNPs!B1307)+1),\"\")","v":""},{"$f":"IF(SNPs!B1307<>\"\",SNPs!B1307,\"\")","v":""}]
[{"$f":"IF(SNPs!A1308<>\"\",SNPs!A1308,\"\")","v":""},{"$f":"IF(SNPs!B1308<>\"\",MID(SNPs!B1308,FIND(\"[\",SNPs!B1308)+1,FIND(\"/\",SNPs!B1308)-FIND(\"[\",SNPs!B1308)-1),\"\")","v":""},{"$f":"IF(SNPs!B1308<>\"\",MID(SNPs!B1308,FIND(\"[\",SNPs!B1308)+3,FIND(\"/\",SNPs!B1308)-FIND(\"/\",SNPs!B1308)+1),\"\")","v":""},{"$f":"IF(SNPs!B1308<>\"\",SNPs!B1308,\"\")","v":""}]
[{"$f":"IF(SNPs!A1309<>\"\",SNPs!A1309,\"\")","v":""},{"$f":"IF(SNPs!B1309<>\"\",MID(SNPs!B1309,FIND(\"[\",SNPs!B1309)+1,FIND(\"/\",SNPs!B1309)-FIND(\"[\",SNPs!B1309)-1),\"\")","v":""},{"$f":"IF(SNPs!B1309<>\"\",MID(SNPs!B1309,FIND(\"[\",SNPs!B1309)+3,FIND(\"/\",SNPs!B1309)-FIND(\"/\",SNPs!B1309)+1),\"\")","v":""},{"$f":"IF(SNPs!B1309<>\"\",SNPs!B1309,\"\")","v":""}]
[{"$f":"IF(SNPs!A1310<>\"\",SNPs!A1310,\"\")","v":""},{"$f":"IF(SNPs!B1310<>\"\",MID(SNPs!B1310,FIND(\"[\",SNPs!B1310)+1,FIND(\"/\",SNPs!B1310)-FIND(\"[\",SNPs!B1310)-1),\"\")","v":""},{"$f":"IF(SNPs!B1310<>\"\",MID(SNPs!B1310,FIND(\"[\",SNPs!B1310)+3,FIND(\"/\",SNPs!B1310)-FIND(\"/\",SNPs!B1310)+1),\"\")","v":""},{"$f":"IF(SNPs!B1310<>\"\",SNPs!B1310,\"\")","v":""}]
[{"$f":"IF(SNPs!A1311<>\"\",SNPs!A1311,\"\")","v":""},{"$f":"IF(SNPs!B1311<>\"\",MID(SNPs!B1311,FIND(\"[\",SNPs!B1311)+1,FIND(\"/\",SNPs!B1311)-FIND(\"[\",SNPs!B1311)-1),\"\")","v":""},{"$f":"IF(SNPs!B1311<>\"\",MID(SNPs!B1311,FIND(\"[\",SNPs!B1311)+3,FIND(\"/\",SNPs!B1311)-FIND(\"/\",SNPs!B1311)+1),\"\")","v":""},{"$f":"IF(SNPs!B1311<>\"\",SNPs!B1311,\"\")","v":""}]
[{"$f":"IF(SNPs!A1312<>\"\",SNPs!A1312,\"\")","v":""},{"$f":"IF(SNPs!B1312<>\"\",MID(SNPs!B1312,FIND(\"[\",SNPs!B1312)+1,FIND(\"/\",SNPs!B1312)-FIND(\"[\",SNPs!B1312)-1),\"\")","v":""},{"$f":"IF(SNPs!B1312<>\"\",MID(SNPs!B1312,FIND(\"[\",SNPs!B1312)+3,FIND(\"/\",SNPs!B1312)-FIND(\"/\",SNPs!B1312)+1),\"\")","v":""},{"$f":"IF(SNPs!B1312<>\"\",SNPs!B1312,\"\")","v":""}]
[{"$f":"IF(SNPs!A1313<>\"\",SNPs!A1313,\"\")","v":""},{"$f":"IF(SNPs!B1313<>\"\",MID(SNPs!B1313,FIND(\"[\",SNPs!B1313)+1,FIND(\"/\",SNPs!B1313)-FIND(\"[\",SNPs!B1313)-1),\"\")","v":""},{"$f":"IF(SNPs!B1313<>\"\",MID(SNPs!B1313,FIND(\"[\",SNPs!B1313)+3,FIND(\"/\",SNPs!B1313)-FIND(\"/\",SNPs!B1313)+1),\"\")","v":""},{"$f":"IF(SNPs!B1313<>\"\",SNPs!B1313,\"\")","v":""}]
[{"$f":"IF(SNPs!A1314<>\"\",SNPs!A1314,\"\")","v":""},{"$f":"IF(SNPs!B1314<>\"\",MID(SNPs!B1314,FIND(\"[\",SNPs!B1314)+1,FIND(\"/\",SNPs!B1314)-FIND(\"[\",SNPs!B1314)-1),\"\")","v":""},{"$f":"IF(SNPs!B1314<>\"\",MID(SNPs!B1314,FIND(\"[\",SNPs!B1314)+3,FIND(\"/\",SNPs!B1314)-FIND(\"/\",SNPs!B1314)+1),\"\")","v":""},{"$f":"IF(SNPs!B1314<>\"\",SNPs!B1314,\"\")","v":""}]
[{"$f":"IF(SNPs!A1315<>\"\",SNPs!A1315,\"\")","v":""},{"$f":"IF(SNPs!B1315<>\"\",MID(SNPs!B1315,FIND(\"[\",SNPs!B1315)+1,FIND(\"/\",SNPs!B1315)-FIND(\"[\",SNPs!B1315)-1),\"\")","v":""},{"$f":"IF(SNPs!B1315<>\"\",MID(SNPs!B1315,FIND(\"[\",SNPs!B1315)+3,FIND(\"/\",SNPs!B1315)-FIND(\"/\",SNPs!B1315)+1),\"\")","v":""},{"$f":"IF(SNPs!B1315<>\"\",SNPs!B1315,\"\")","v":""}]
[{"$f":"IF(SNPs!A1316<>\"\",SNPs!A1316,\"\")","v":""},{"$f":"IF(SNPs!B1316<>\"\",MID(SNPs!B1316,FIND(\"[\",SNPs!B1316)+1,FIND(\"/\",SNPs!B1316)-FIND(\"[\",SNPs!B1316)-1),\"\")","v":""},{"$f":"IF(SNPs!B1316<>\"\",MID(SNPs!B1316,FIND(\"[\",SNPs!B1316)+3,FIND(\"/\",SNPs!B1316)-FIND(\"/\",SNPs!B1316)+1),\"\")","v":""},{"$f":"IF(SNPs!B1316<>\"\",SNPs!B1316,\"\")","v":""}]
[{"$f":"IF(SNPs!A1317<>\"\",SNPs!A1317,\"\")","v":""},{"$f":"IF(SNPs!B1317<>\"\",MID(SNPs!B1317,FIND(\"[\",SNPs!B1317)+1,FIND(\"/\",SNPs!B1317)-FIND(\"[\",SNPs!B1317)-1),\"\")","v":""},{"$f":"IF(SNPs!B1317<>\"\",MID(SNPs!B1317,FIND(\"[\",SNPs!B1317)+3,FIND(\"/\",SNPs!B1317)-FIND(\"/\",SNPs!B1317)+1),\"\")","v":""},{"$f":"IF(SNPs!B1317<>\"\",SNPs!B1317,\"\")","v":""}]
[{"$f":"IF(SNPs!A1318<>\"\",SNPs!A1318,\"\")","v":""},{"$f":"IF(SNPs!B1318<>\"\",MID(SNPs!B1318,FIND(\"[\",SNPs!B1318)+1,FIND(\"/\",SNPs!B1318)-FIND(\"[\",SNPs!B1318)-1),\"\")","v":""},{"$f":"IF(SNPs!B1318<>\"\",MID(SNPs!B1318,FIND(\"[\",SNPs!B1318)+3,FIND(\"/\",SNPs!B1318)-FIND(\"/\",SNPs!B1318)+1),\"\")","v":""},{"$f":"IF(SNPs!B1318<>\"\",SNPs!B1318,\"\")","v":""}]
[{"$f":"IF(SNPs!A1319<>\"\",SNPs!A1319,\"\")","v":""},{"$f":"IF(SNPs!B1319<>\"\",MID(SNPs!B1319,FIND(\"[\",SNPs!B1319)+1,FIND(\"/\",SNPs!B1319)-FIND(\"[\",SNPs!B1319)-1),\"\")","v":""},{"$f":"IF(SNPs!B1319<>\"\",MID(SNPs!B1319,FIND(\"[\",SNPs!B1319)+3,FIND(\"/\",SNPs!B1319)-FIND(\"/\",SNPs!B1319)+1),\"\")","v":""},{"$f":"IF(SNPs!B1319<>\"\",SNPs!B1319,\"\")","v":""}]
[{"$f":"IF(SNPs!A1320<>\"\",SNPs!A1320,\"\")","v":""},{"$f":"IF(SNPs!B1320<>\"\",MID(SNPs!B1320,FIND(\"[\",SNPs!B1320)+1,FIND(\"/\",SNPs!B1320)-FIND(\"[\",SNPs!B1320)-1),\"\")","v":""},{"$f":"IF(SNPs!B1320<>\"\",MID(SNPs!B1320,FIND(\"[\",SNPs!B1320)+3,FIND(\"/\",SNPs!B1320)-FIND(\"/\",SNPs!B1320)+1),\"\")","v":""},{"$f":"IF(SNPs!B1320<>\"\",SNPs!B1320,\"\")","v":""}]
[{"$f":"IF(SNPs!A1321<>\"\",SNPs!A1321,\"\")","v":""},{"$f":"IF(SNPs!B1321<>\"\",MID(SNPs!B1321,FIND(\"[\",SNPs!B1321)+1,FIND(\"/\",SNPs!B1321)-FIND(\"[\",SNPs!B1321)-1),\"\")","v":""},{"$f":"IF(SNPs!B1321<>\"\",MID(SNPs!B1321,FIND(\"[\",SNPs!B1321)+3,FIND(\"/\",SNPs!B1321)-FIND(\"/\",SNPs!B1321)+1),\"\")","v":""},{"$f":"IF(SNPs!B1321<>\"\",SNPs!B1321,\"\")","v":""}]
[{"$f":"IF(SNPs!A1322<>\"\",SNPs!A1322,\"\")","v":""},{"$f":"IF(SNPs!B1322<>\"\",MID(SNPs!B1322,FIND(\"[\",SNPs!B1322)+1,FIND(\"/\",SNPs!B1322)-FIND(\"[\",SNPs!B1322)-1),\"\")","v":""},{"$f":"IF(SNPs!B1322<>\"\",MID(SNPs!B1322,FIND(\"[\",SNPs!B1322)+3,FIND(\"/\",SNPs!B1322)-FIND(\"/\",SNPs!B1322)+1),\"\")","v":""},{"$f":"IF(SNPs!B1322<>\"\",SNPs!B1322,\"\")","v":""}]
[{"$f":"IF(SNPs!A1323<>\"\",SNPs!A1323,\"\")","v":""},{"$f":"IF(SNPs!B1323<>\"\",MID(SNPs!B1323,FIND(\"[\",SNPs!B1323)+1,FIND(\"/\",SNPs!B1323)-FIND(\"[\",SNPs!B1323)-1),\"\")","v":""},{"$f":"IF(SNPs!B1323<>\"\",MID(SNPs!B1323,FIND(\"[\",SNPs!B1323)+3,FIND(\"/\",SNPs!B1323)-FIND(\"/\",SNPs!B1323)+1),\"\")","v":""},{"$f":"IF(SNPs!B1323<>\"\",SNPs!B1323,\"\")","v":""}]
[{"$f":"IF(SNPs!A1324<>\"\",SNPs!A1324,\"\")","v":""},{"$f":"IF(SNPs!B1324<>\"\",MID(SNPs!B1324,FIND(\"[\",SNPs!B1324)+1,FIND(\"/\",SNPs!B1324)-FIND(\"[\",SNPs!B1324)-1),\"\")","v":""},{"$f":"IF(SNPs!B1324<>\"\",MID(SNPs!B1324,FIND(\"[\",SNPs!B1324)+3,FIND(\"/\",SNPs!B1324)-FIND(\"/\",SNPs!B1324)+1),\"\")","v":""},{"$f":"IF(SNPs!B1324<>\"\",SNPs!B1324,\"\")","v":""}]
[{"$f":"IF(SNPs!A1325<>\"\",SNPs!A1325,\"\")","v":""},{"$f":"IF(SNPs!B1325<>\"\",MID(SNPs!B1325,FIND(\"[\",SNPs!B1325)+1,FIND(\"/\",SNPs!B1325)-FIND(\"[\",SNPs!B1325)-1),\"\")","v":""},{"$f":"IF(SNPs!B1325<>\"\",MID(SNPs!B1325,FIND(\"[\",SNPs!B1325)+3,FIND(\"/\",SNPs!B1325)-FIND(\"/\",SNPs!B1325)+1),\"\")","v":""},{"$f":"IF(SNPs!B1325<>\"\",SNPs!B1325,\"\")","v":""}]
[{"$f":"IF(SNPs!A1326<>\"\",SNPs!A1326,\"\")","v":""},{"$f":"IF(SNPs!B1326<>\"\",MID(SNPs!B1326,FIND(\"[\",SNPs!B1326)+1,FIND(\"/\",SNPs!B1326)-FIND(\"[\",SNPs!B1326)-1),\"\")","v":""},{"$f":"IF(SNPs!B1326<>\"\",MID(SNPs!B1326,FIND(\"[\",SNPs!B1326)+3,FIND(\"/\",SNPs!B1326)-FIND(\"/\",SNPs!B1326)+1),\"\")","v":""},{"$f":"IF(SNPs!B1326<>\"\",SNPs!B1326,\"\")","v":""}]
[{"$f":"IF(SNPs!A1327<>\"\",SNPs!A1327,\"\")","v":""},{"$f":"IF(SNPs!B1327<>\"\",MID(SNPs!B1327,FIND(\"[\",SNPs!B1327)+1,FIND(\"/\",SNPs!B1327)-FIND(\"[\",SNPs!B1327)-1),\"\")","v":""},{"$f":"IF(SNPs!B1327<>\"\",MID(SNPs!B1327,FIND(\"[\",SNPs!B1327)+3,FIND(\"/\",SNPs!B1327)-FIND(\"/\",SNPs!B1327)+1),\"\")","v":""},{"$f":"IF(SNPs!B1327<>\"\",SNPs!B1327,\"\")","v":""}]
[{"$f":"IF(SNPs!A1328<>\"\",SNPs!A1328,\"\")","v":""},{"$f":"IF(SNPs!B1328<>\"\",MID(SNPs!B1328,FIND(\"[\",SNPs!B1328)+1,FIND(\"/\",SNPs!B1328)-FIND(\"[\",SNPs!B1328)-1),\"\")","v":""},{"$f":"IF(SNPs!B1328<>\"\",MID(SNPs!B1328,FIND(\"[\",SNPs!B1328)+3,FIND(\"/\",SNPs!B1328)-FIND(\"/\",SNPs!B1328)+1),\"\")","v":""},{"$f":"IF(SNPs!B1328<>\"\",SNPs!B1328,\"\")","v":""}]
[{"$f":"IF(SNPs!A1329<>\"\",SNPs!A1329,\"\")","v":""},{"$f":"IF(SNPs!B1329<>\"\",MID(SNPs!B1329,FIND(\"[\",SNPs!B1329)+1,FIND(\"/\",SNPs!B1329)-FIND(\"[\",SNPs!B1329)-1),\"\")","v":""},{"$f":"IF(SNPs!B1329<>\"\",MID(SNPs!B1329,FIND(\"[\",SNPs!B1329)+3,FIND(\"/\",SNPs!B1329)-FIND(\"/\",SNPs!B1329)+1),\"\")","v":""},{"$f":"IF(SNPs!B1329<>\"\",SNPs!B1329,\"\")","v":""}]
[{"$f":"IF(SNPs!A1330<>\"\",SNPs!A1330,\"\")","v":""},{"$f":"IF(SNPs!B1330<>\"\",MID(SNPs!B1330,FIND(\"[\",SNPs!B1330)+1,FIND(\"/\",SNPs!B1330)-FIND(\"[\",SNPs!B1330)-1),\"\")","v":""},{"$f":"IF(SNPs!B1330<>\"\",MID(SNPs!B1330,FIND(\"[\",SNPs!B1330)+3,FIND(\"/\",SNPs!B1330)-FIND(\"/\",SNPs!B1330)+1),\"\")","v":""},{"$f":"IF(SNPs!B1330<>\"\",SNPs!B1330,\"\")","v":""}]
[{"$f":"IF(SNPs!A1331<>\"\",SNPs!A1331,\"\")","v":""},{"$f":"IF(SNPs!B1331<>\"\",MID(SNPs!B1331,FIND(\"[\",SNPs!B1331)+1,FIND(\"/\",SNPs!B1331)-FIND(\"[\",SNPs!B1331)-1),\"\")","v":""},{"$f":"IF(SNPs!B1331<>\"\",MID(SNPs!B1331,FIND(\"[\",SNPs!B1331)+3,FIND(\"/\",SNPs!B1331)-FIND(\"/\",SNPs!B1331)+1),\"\")","v":""},{"$f":"IF(SNPs!B1331<>\"\",SNPs!B1331,\"\")","v":""}]
[{"$f":"IF(SNPs!A1332<>\"\",SNPs!A1332,\"\")","v":""},{"$f":"IF(SNPs!B1332<>\"\",MID(SNPs!B1332,FIND(\"[\",SNPs!B1332)+1,FIND(\"/\",SNPs!B1332)-FIND(\"[\",SNPs!B1332)-1),\"\")","v":""},{"$f":"IF(SNPs!B1332<>\"\",MID(SNPs!B1332,FIND(\"[\",SNPs!B1332)+3,FIND(\"/\",SNPs!B1332)-FIND(\"/\",SNPs!B1332)+1),\"\")","v":""},{"$f":"IF(SNPs!B1332<>\"\",SNPs!B1332,\"\")","v":""}]
[{"$f":"IF(SNPs!A1333<>\"\",SNPs!A1333,\"\")","v":""},{"$f":"IF(SNPs!B1333<>\"\",MID(SNPs!B1333,FIND(\"[\",SNPs!B1333)+1,FIND(\"/\",SNPs!B1333)-FIND(\"[\",SNPs!B1333)-1),\"\")","v":""},{"$f":"IF(SNPs!B1333<>\"\",MID(SNPs!B1333,FIND(\"[\",SNPs!B1333)+3,FIND(\"/\",SNPs!B1333)-FIND(\"/\",SNPs!B1333)+1),\"\")","v":""},{"$f":"IF(SNPs!B1333<>\"\",SNPs!B1333,\"\")","v":""}]
[{"$f":"IF(SNPs!A1334<>\"\",SNPs!A1334,\"\")","v":""},{"$f":"IF(SNPs!B1334<>\"\",MID(SNPs!B1334,FIND(\"[\",SNPs!B1334)+1,FIND(\"/\",SNPs!B1334)-FIND(\"[\",SNPs!B1334)-1),\"\")","v":""},{"$f":"IF(SNPs!B1334<>\"\",MID(SNPs!B1334,FIND(\"[\",SNPs!B1334)+3,FIND(\"/\",SNPs!B1334)-FIND(\"/\",SNPs!B1334)+1),\"\")","v":""},{"$f":"IF(SNPs!B1334<>\"\",SNPs!B1334,\"\")","v":""}]
[{"$f":"IF(SNPs!A1335<>\"\",SNPs!A1335,\"\")","v":""},{"$f":"IF(SNPs!B1335<>\"\",MID(SNPs!B1335,FIND(\"[\",SNPs!B1335)+1,FIND(\"/\",SNPs!B1335)-FIND(\"[\",SNPs!B1335)-1),\"\")","v":""},{"$f":"IF(SNPs!B1335<>\"\",MID(SNPs!B1335,FIND(\"[\",SNPs!B1335)+3,FIND(\"/\",SNPs!B1335)-FIND(\"/\",SNPs!B1335)+1),\"\")","v":""},{"$f":"IF(SNPs!B1335<>\"\",SNPs!B1335,\"\")","v":""}]
[{"$f":"IF(SNPs!A1336<>\"\",SNPs!A1336,\"\")","v":""},{"$f":"IF(SNPs!B1336<>\"\",MID(SNPs!B1336,FIND(\"[\",SNPs!B1336)+1,FIND(\"/\",SNPs!B1336)-FIND(\"[\",SNPs!B1336)-1),\"\")","v":""},{"$f":"IF(SNPs!B1336<>\"\",MID(SNPs!B1336,FIND(\"[\",SNPs!B1336)+3,FIND(\"/\",SNPs!B1336)-FIND(\"/\",SNPs!B1336)+1),\"\")","v":""},{"$f":"IF(SNPs!B1336<>\"\",SNPs!B1336,\"\")","v":""}]
[{"$f":"IF(SNPs!A1337<>\"\",SNPs!A1337,\"\")","v":""},{"$f":"IF(SNPs!B1337<>\"\",MID(SNPs!B1337,FIND(\"[\",SNPs!B1337)+1,FIND(\"/\",SNPs!B1337)-FIND(\"[\",SNPs!B1337)-1),\"\")","v":""},{"$f":"IF(SNPs!B1337<>\"\",MID(SNPs!B1337,FIND(\"[\",SNPs!B1337)+3,FIND(\"/\",SNPs!B1337)-FIND(\"/\",SNPs!B1337)+1),\"\")","v":""},{"$f":"IF(SNPs!B1337<>\"\",SNPs!B1337,\"\")","v":""}]
[{"$f":"IF(SNPs!A1338<>\"\",SNPs!A1338,\"\")","v":""},{"$f":"IF(SNPs!B1338<>\"\",MID(SNPs!B1338,FIND(\"[\",SNPs!B1338)+1,FIND(\"/\",SNPs!B1338)-FIND(\"[\",SNPs!B1338)-1),\"\")","v":""},{"$f":"IF(SNPs!B1338<>\"\",MID(SNPs!B1338,FIND(\"[\",SNPs!B1338)+3,FIND(\"/\",SNPs!B1338)-FIND(\"/\",SNPs!B1338)+1),\"\")","v":""},{"$f":"IF(SNPs!B1338<>\"\",SNPs!B1338,\"\")","v":""}]
[{"$f":"IF(SNPs!A1339<>\"\",SNPs!A1339,\"\")","v":""},{"$f":"IF(SNPs!B1339<>\"\",MID(SNPs!B1339,FIND(\"[\",SNPs!B1339)+1,FIND(\"/\",SNPs!B1339)-FIND(\"[\",SNPs!B1339)-1),\"\")","v":""},{"$f":"IF(SNPs!B1339<>\"\",MID(SNPs!B1339,FIND(\"[\",SNPs!B1339)+3,FIND(\"/\",SNPs!B1339)-FIND(\"/\",SNPs!B1339)+1),\"\")","v":""},{"$f":"IF(SNPs!B1339<>\"\",SNPs!B1339,\"\")","v":""}]
[{"$f":"IF(SNPs!A1340<>\"\",SNPs!A1340,\"\")","v":""},{"$f":"IF(SNPs!B1340<>\"\",MID(SNPs!B1340,FIND(\"[\",SNPs!B1340)+1,FIND(\"/\",SNPs!B1340)-FIND(\"[\",SNPs!B1340)-1),\"\")","v":""},{"$f":"IF(SNPs!B1340<>\"\",MID(SNPs!B1340,FIND(\"[\",SNPs!B1340)+3,FIND(\"/\",SNPs!B1340)-FIND(\"/\",SNPs!B1340)+1),\"\")","v":""},{"$f":"IF(SNPs!B1340<>\"\",SNPs!B1340,\"\")","v":""}]
[{"$f":"IF(SNPs!A1341<>\"\",SNPs!A1341,\"\")","v":""},{"$f":"IF(SNPs!B1341<>\"\",MID(SNPs!B1341,FIND(\"[\",SNPs!B1341)+1,FIND(\"/\",SNPs!B1341)-FIND(\"[\",SNPs!B1341)-1),\"\")","v":""},{"$f":"IF(SNPs!B1341<>\"\",MID(SNPs!B1341,FIND(\"[\",SNPs!B1341)+3,FIND(\"/\",SNPs!B1341)-FIND(\"/\",SNPs!B1341)+1),\"\")","v":""},{"$f":"IF(SNPs!B1341<>\"\",SNPs!B1341,\"\")","v":""}]
[{"$f":"IF(SNPs!A1342<>\"\",SNPs!A1342,\"\")","v":""},{"$f":"IF(SNPs!B1342<>\"\",MID(SNPs!B1342,FIND(\"[\",SNPs!B1342)+1,FIND(\"/\",SNPs!B1342)-FIND(\"[\",SNPs!B1342)-1),\"\")","v":""},{"$f":"IF(SNPs!B1342<>\"\",MID(SNPs!B1342,FIND(\"[\",SNPs!B1342)+3,FIND(\"/\",SNPs!B1342)-FIND(\"/\",SNPs!B1342)+1),\"\")","v":""},{"$f":"IF(SNPs!B1342<>\"\",SNPs!B1342,\"\")","v":""}]
[{"$f":"IF(SNPs!A1343<>\"\",SNPs!A1343,\"\")","v":""},{"$f":"IF(SNPs!B1343<>\"\",MID(SNPs!B1343,FIND(\"[\",SNPs!B1343)+1,FIND(\"/\",SNPs!B1343)-FIND(\"[\",SNPs!B1343)-1),\"\")","v":""},{"$f":"IF(SNPs!B1343<>\"\",MID(SNPs!B1343,FIND(\"[\",SNPs!B1343)+3,FIND(\"/\",SNPs!B1343)-FIND(\"/\",SNPs!B1343)+1),\"\")","v":""},{"$f":"IF(SNPs!B1343<>\"\",SNPs!B1343,\"\")","v":""}]
[{"$f":"IF(SNPs!A1344<>\"\",SNPs!A1344,\"\")","v":""},{"$f":"IF(SNPs!B1344<>\"\",MID(SNPs!B1344,FIND(\"[\",SNPs!B1344)+1,FIND(\"/\",SNPs!B1344)-FIND(\"[\",SNPs!B1344)-1),\"\")","v":""},{"$f":"IF(SNPs!B1344<>\"\",MID(SNPs!B1344,FIND(\"[\",SNPs!B1344)+3,FIND(\"/\",SNPs!B1344)-FIND(\"/\",SNPs!B1344)+1),\"\")","v":""},{"$f":"IF(SNPs!B1344<>\"\",SNPs!B1344,\"\")","v":""}]
[{"$f":"IF(SNPs!A1345<>\"\",SNPs!A1345,\"\")","v":""},{"$f":"IF(SNPs!B1345<>\"\",MID(SNPs!B1345,FIND(\"[\",SNPs!B1345)+1,FIND(\"/\",SNPs!B1345)-FIND(\"[\",SNPs!B1345)-1),\"\")","v":""},{"$f":"IF(SNPs!B1345<>\"\",MID(SNPs!B1345,FIND(\"[\",SNPs!B1345)+3,FIND(\"/\",SNPs!B1345)-FIND(\"/\",SNPs!B1345)+1),\"\")","v":""},{"$f":"IF(SNPs!B1345<>\"\",SNPs!B1345,\"\")","v":""}]
[{"$f":"IF(SNPs!A1346<>\"\",SNPs!A1346,\"\")","v":""},{"$f":"IF(SNPs!B1346<>\"\",MID(SNPs!B1346,FIND(\"[\",SNPs!B1346)+1,FIND(\"/\",SNPs!B1346)-FIND(\"[\",SNPs!B1346)-1),\"\")","v":""},{"$f":"IF(SNPs!B1346<>\"\",MID(SNPs!B1346,FIND(\"[\",SNPs!B1346)+3,FIND(\"/\",SNPs!B1346)-FIND(\"/\",SNPs!B1346)+1),\"\")","v":""},{"$f":"IF(SNPs!B1346<>\"\",SNPs!B1346,\"\")","v":""}]
[{"$f":"IF(SNPs!A1347<>\"\",SNPs!A1347,\"\")","v":""},{"$f":"IF(SNPs!B1347<>\"\",MID(SNPs!B1347,FIND(\"[\",SNPs!B1347)+1,FIND(\"/\",SNPs!B1347)-FIND(\"[\",SNPs!B1347)-1),\"\")","v":""},{"$f":"IF(SNPs!B1347<>\"\",MID(SNPs!B1347,FIND(\"[\",SNPs!B1347)+3,FIND(\"/\",SNPs!B1347)-FIND(\"/\",SNPs!B1347)+1),\"\")","v":""},{"$f":"IF(SNPs!B1347<>\"\",SNPs!B1347,\"\")","v":""}]
[{"$f":"IF(SNPs!A1348<>\"\",SNPs!A1348,\"\")","v":""},{"$f":"IF(SNPs!B1348<>\"\",MID(SNPs!B1348,FIND(\"[\",SNPs!B1348)+1,FIND(\"/\",SNPs!B1348)-FIND(\"[\",SNPs!B1348)-1),\"\")","v":""},{"$f":"IF(SNPs!B1348<>\"\",MID(SNPs!B1348,FIND(\"[\",SNPs!B1348)+3,FIND(\"/\",SNPs!B1348)-FIND(\"/\",SNPs!B1348)+1),\"\")","v":""},{"$f":"IF(SNPs!B1348<>\"\",SNPs!B1348,\"\")","v":""}]
[{"$f":"IF(SNPs!A1349<>\"\",SNPs!A1349,\"\")","v":""},{"$f":"IF(SNPs!B1349<>\"\",MID(SNPs!B1349,FIND(\"[\",SNPs!B1349)+1,FIND(\"/\",SNPs!B1349)-FIND(\"[\",SNPs!B1349)-1),\"\")","v":""},{"$f":"IF(SNPs!B1349<>\"\",MID(SNPs!B1349,FIND(\"[\",SNPs!B1349)+3,FIND(\"/\",SNPs!B1349)-FIND(\"/\",SNPs!B1349)+1),\"\")","v":""},{"$f":"IF(SNPs!B1349<>\"\",SNPs!B1349,\"\")","v":""}]
[{"$f":"IF(SNPs!A1350<>\"\",SNPs!A1350,\"\")","v":""},{"$f":"IF(SNPs!B1350<>\"\",MID(SNPs!B1350,FIND(\"[\",SNPs!B1350)+1,FIND(\"/\",SNPs!B1350)-FIND(\"[\",SNPs!B1350)-1),\"\")","v":""},{"$f":"IF(SNPs!B1350<>\"\",MID(SNPs!B1350,FIND(\"[\",SNPs!B1350)+3,FIND(\"/\",SNPs!B1350)-FIND(\"/\",SNPs!B1350)+1),\"\")","v":""},{"$f":"IF(SNPs!B1350<>\"\",SNPs!B1350,\"\")","v":""}]
[{"$f":"IF(SNPs!A1351<>\"\",SNPs!A1351,\"\")","v":""},{"$f":"IF(SNPs!B1351<>\"\",MID(SNPs!B1351,FIND(\"[\",SNPs!B1351)+1,FIND(\"/\",SNPs!B1351)-FIND(\"[\",SNPs!B1351)-1),\"\")","v":""},{"$f":"IF(SNPs!B1351<>\"\",MID(SNPs!B1351,FIND(\"[\",SNPs!B1351)+3,FIND(\"/\",SNPs!B1351)-FIND(\"/\",SNPs!B1351)+1),\"\")","v":""},{"$f":"IF(SNPs!B1351<>\"\",SNPs!B1351,\"\")","v":""}]
[{"$f":"IF(SNPs!A1352<>\"\",SNPs!A1352,\"\")","v":""},{"$f":"IF(SNPs!B1352<>\"\",MID(SNPs!B1352,FIND(\"[\",SNPs!B1352)+1,FIND(\"/\",SNPs!B1352)-FIND(\"[\",SNPs!B1352)-1),\"\")","v":""},{"$f":"IF(SNPs!B1352<>\"\",MID(SNPs!B1352,FIND(\"[\",SNPs!B1352)+3,FIND(\"/\",SNPs!B1352)-FIND(\"/\",SNPs!B1352)+1),\"\")","v":""},{"$f":"IF(SNPs!B1352<>\"\",SNPs!B1352,\"\")","v":""}]
[{"$f":"IF(SNPs!A1353<>\"\",SNPs!A1353,\"\")","v":""},{"$f":"IF(SNPs!B1353<>\"\",MID(SNPs!B1353,FIND(\"[\",SNPs!B1353)+1,FIND(\"/\",SNPs!B1353)-FIND(\"[\",SNPs!B1353)-1),\"\")","v":""},{"$f":"IF(SNPs!B1353<>\"\",MID(SNPs!B1353,FIND(\"[\",SNPs!B1353)+3,FIND(\"/\",SNPs!B1353)-FIND(\"/\",SNPs!B1353)+1),\"\")","v":""},{"$f":"IF(SNPs!B1353<>\"\",SNPs!B1353,\"\")","v":""}]
[{"$f":"IF(SNPs!A1354<>\"\",SNPs!A1354,\"\")","v":""},{"$f":"IF(SNPs!B1354<>\"\",MID(SNPs!B1354,FIND(\"[\",SNPs!B1354)+1,FIND(\"/\",SNPs!B1354)-FIND(\"[\",SNPs!B1354)-1),\"\")","v":""},{"$f":"IF(SNPs!B1354<>\"\",MID(SNPs!B1354,FIND(\"[\",SNPs!B1354)+3,FIND(\"/\",SNPs!B1354)-FIND(\"/\",SNPs!B1354)+1),\"\")","v":""},{"$f":"IF(SNPs!B1354<>\"\",SNPs!B1354,\"\")","v":""}]
[{"$f":"IF(SNPs!A1355<>\"\",SNPs!A1355,\"\")","v":""},{"$f":"IF(SNPs!B1355<>\"\",MID(SNPs!B1355,FIND(\"[\",SNPs!B1355)+1,FIND(\"/\",SNPs!B1355)-FIND(\"[\",SNPs!B1355)-1),\"\")","v":""},{"$f":"IF(SNPs!B1355<>\"\",MID(SNPs!B1355,FIND(\"[\",SNPs!B1355)+3,FIND(\"/\",SNPs!B1355)-FIND(\"/\",SNPs!B1355)+1),\"\")","v":""},{"$f":"IF(SNPs!B1355<>\"\",SNPs!B1355,\"\")","v":""}]
[{"$f":"IF(SNPs!A1356<>\"\",SNPs!A1356,\"\")","v":""},{"$f":"IF(SNPs!B1356<>\"\",MID(SNPs!B1356,FIND(\"[\",SNPs!B1356)+1,FIND(\"/\",SNPs!B1356)-FIND(\"[\",SNPs!B1356)-1),\"\")","v":""},{"$f":"IF(SNPs!B1356<>\"\",MID(SNPs!B1356,FIND(\"[\",SNPs!B1356)+3,FIND(\"/\",SNPs!B1356)-FIND(\"/\",SNPs!B1356)+1),\"\")","v":""},{"$f":"IF(SNPs!B1356<>\"\",SNPs!B1356,\"\")","v":""}]
[{"$f":"IF(SNPs!A1357<>\"\",SNPs!A1357,\"\")","v":""},{"$f":"IF(SNPs!B1357<>\"\",MID(SNPs!B1357,FIND(\"[\",SNPs!B1357)+1,FIND(\"/\",SNPs!B1357)-FIND(\"[\",SNPs!B1357)-1),\"\")","v":""},{"$f":"IF(SNPs!B1357<>\"\",MID(SNPs!B1357,FIND(\"[\",SNPs!B1357)+3,FIND(\"/\",SNPs!B1357)-FIND(\"/\",SNPs!B1357)+1),\"\")","v":""},{"$f":"IF(SNPs!B1357<>\"\",SNPs!B1357,\"\")","v":""}]
[{"$f":"IF(SNPs!A1358<>\"\",SNPs!A1358,\"\")","v":""},{"$f":"IF(SNPs!B1358<>\"\",MID(SNPs!B1358,FIND(\"[\",SNPs!B1358)+1,FIND(\"/\",SNPs!B1358)-FIND(\"[\",SNPs!B1358)-1),\"\")","v":""},{"$f":"IF(SNPs!B1358<>\"\",MID(SNPs!B1358,FIND(\"[\",SNPs!B1358)+3,FIND(\"/\",SNPs!B1358)-FIND(\"/\",SNPs!B1358)+1),\"\")","v":""},{"$f":"IF(SNPs!B1358<>\"\",SNPs!B1358,\"\")","v":""}]
[{"$f":"IF(SNPs!A1359<>\"\",SNPs!A1359,\"\")","v":""},{"$f":"IF(SNPs!B1359<>\"\",MID(SNPs!B1359,FIND(\"[\",SNPs!B1359)+1,FIND(\"/\",SNPs!B1359)-FIND(\"[\",SNPs!B1359)-1),\"\")","v":""},{"$f":"IF(SNPs!B1359<>\"\",MID(SNPs!B1359,FIND(\"[\",SNPs!B1359)+3,FIND(\"/\",SNPs!B1359)-FIND(\"/\",SNPs!B1359)+1),\"\")","v":""},{"$f":"IF(SNPs!B1359<>\"\",SNPs!B1359,\"\")","v":""}]
[{"$f":"IF(SNPs!A1360<>\"\",SNPs!A1360,\"\")","v":""},{"$f":"IF(SNPs!B1360<>\"\",MID(SNPs!B1360,FIND(\"[\",SNPs!B1360)+1,FIND(\"/\",SNPs!B1360)-FIND(\"[\",SNPs!B1360)-1),\"\")","v":""},{"$f":"IF(SNPs!B1360<>\"\",MID(SNPs!B1360,FIND(\"[\",SNPs!B1360)+3,FIND(\"/\",SNPs!B1360)-FIND(\"/\",SNPs!B1360)+1),\"\")","v":""},{"$f":"IF(SNPs!B1360<>\"\",SNPs!B1360,\"\")","v":""}]
[{"$f":"IF(SNPs!A1361<>\"\",SNPs!A1361,\"\")","v":""},{"$f":"IF(SNPs!B1361<>\"\",MID(SNPs!B1361,FIND(\"[\",SNPs!B1361)+1,FIND(\"/\",SNPs!B1361)-FIND(\"[\",SNPs!B1361)-1),\"\")","v":""},{"$f":"IF(SNPs!B1361<>\"\",MID(SNPs!B1361,FIND(\"[\",SNPs!B1361)+3,FIND(\"/\",SNPs!B1361)-FIND(\"/\",SNPs!B1361)+1),\"\")","v":""},{"$f":"IF(SNPs!B1361<>\"\",SNPs!B1361,\"\")","v":""}]
[{"$f":"IF(SNPs!A1362<>\"\",SNPs!A1362,\"\")","v":""},{"$f":"IF(SNPs!B1362<>\"\",MID(SNPs!B1362,FIND(\"[\",SNPs!B1362)+1,FIND(\"/\",SNPs!B1362)-FIND(\"[\",SNPs!B1362)-1),\"\")","v":""},{"$f":"IF(SNPs!B1362<>\"\",MID(SNPs!B1362,FIND(\"[\",SNPs!B1362)+3,FIND(\"/\",SNPs!B1362)-FIND(\"/\",SNPs!B1362)+1),\"\")","v":""},{"$f":"IF(SNPs!B1362<>\"\",SNPs!B1362,\"\")","v":""}]
[{"$f":"IF(SNPs!A1363<>\"\",SNPs!A1363,\"\")","v":""},{"$f":"IF(SNPs!B1363<>\"\",MID(SNPs!B1363,FIND(\"[\",SNPs!B1363)+1,FIND(\"/\",SNPs!B1363)-FIND(\"[\",SNPs!B1363)-1),\"\")","v":""},{"$f":"IF(SNPs!B1363<>\"\",MID(SNPs!B1363,FIND(\"[\",SNPs!B1363)+3,FIND(\"/\",SNPs!B1363)-FIND(\"/\",SNPs!B1363)+1),\"\")","v":""},{"$f":"IF(SNPs!B1363<>\"\",SNPs!B1363,\"\")","v":""}]
[{"$f":"IF(SNPs!A1364<>\"\",SNPs!A1364,\"\")","v":""},{"$f":"IF(SNPs!B1364<>\"\",MID(SNPs!B1364,FIND(\"[\",SNPs!B1364)+1,FIND(\"/\",SNPs!B1364)-FIND(\"[\",SNPs!B1364)-1),\"\")","v":""},{"$f":"IF(SNPs!B1364<>\"\",MID(SNPs!B1364,FIND(\"[\",SNPs!B1364)+3,FIND(\"/\",SNPs!B1364)-FIND(\"/\",SNPs!B1364)+1),\"\")","v":""},{"$f":"IF(SNPs!B1364<>\"\",SNPs!B1364,\"\")","v":""}]
[{"$f":"IF(SNPs!A1365<>\"\",SNPs!A1365,\"\")","v":""},{"$f":"IF(SNPs!B1365<>\"\",MID(SNPs!B1365,FIND(\"[\",SNPs!B1365)+1,FIND(\"/\",SNPs!B1365)-FIND(\"[\",SNPs!B1365)-1),\"\")","v":""},{"$f":"IF(SNPs!B1365<>\"\",MID(SNPs!B1365,FIND(\"[\",SNPs!B1365)+3,FIND(\"/\",SNPs!B1365)-FIND(\"/\",SNPs!B1365)+1),\"\")","v":""},{"$f":"IF(SNPs!B1365<>\"\",SNPs!B1365,\"\")","v":""}]
[{"$f":"IF(SNPs!A1366<>\"\",SNPs!A1366,\"\")","v":""},{"$f":"IF(SNPs!B1366<>\"\",MID(SNPs!B1366,FIND(\"[\",SNPs!B1366)+1,FIND(\"/\",SNPs!B1366)-FIND(\"[\",SNPs!B1366)-1),\"\")","v":""},{"$f":"IF(SNPs!B1366<>\"\",MID(SNPs!B1366,FIND(\"[\",SNPs!B1366)+3,FIND(\"/\",SNPs!B1366)-FIND(\"/\",SNPs!B1366)+1),\"\")","v":""},{"$f":"IF(SNPs!B1366<>\"\",SNPs!B1366,\"\")","v":""}]
[{"$f":"IF(SNPs!A1367<>\"\",SNPs!A1367,\"\")","v":""},{"$f":"IF(SNPs!B1367<>\"\",MID(SNPs!B1367,FIND(\"[\",SNPs!B1367)+1,FIND(\"/\",SNPs!B1367)-FIND(\"[\",SNPs!B1367)-1),\"\")","v":""},{"$f":"IF(SNPs!B1367<>\"\",MID(SNPs!B1367,FIND(\"[\",SNPs!B1367)+3,FIND(\"/\",SNPs!B1367)-FIND(\"/\",SNPs!B1367)+1),\"\")","v":""},{"$f":"IF(SNPs!B1367<>\"\",SNPs!B1367,\"\")","v":""}]
[{"$f":"IF(SNPs!A1368<>\"\",SNPs!A1368,\"\")","v":""},{"$f":"IF(SNPs!B1368<>\"\",MID(SNPs!B1368,FIND(\"[\",SNPs!B1368)+1,FIND(\"/\",SNPs!B1368)-FIND(\"[\",SNPs!B1368)-1),\"\")","v":""},{"$f":"IF(SNPs!B1368<>\"\",MID(SNPs!B1368,FIND(\"[\",SNPs!B1368)+3,FIND(\"/\",SNPs!B1368)-FIND(\"/\",SNPs!B1368)+1),\"\")","v":""},{"$f":"IF(SNPs!B1368<>\"\",SNPs!B1368,\"\")","v":""}]
[{"$f":"IF(SNPs!A1369<>\"\",SNPs!A1369,\"\")","v":""},{"$f":"IF(SNPs!B1369<>\"\",MID(SNPs!B1369,FIND(\"[\",SNPs!B1369)+1,FIND(\"/\",SNPs!B1369)-FIND(\"[\",SNPs!B1369)-1),\"\")","v":""},{"$f":"IF(SNPs!B1369<>\"\",MID(SNPs!B1369,FIND(\"[\",SNPs!B1369)+3,FIND(\"/\",SNPs!B1369)-FIND(\"/\",SNPs!B1369)+1),\"\")","v":""},{"$f":"IF(SNPs!B1369<>\"\",SNPs!B1369,\"\")","v":""}]
[{"$f":"IF(SNPs!A1370<>\"\",SNPs!A1370,\"\")","v":""},{"$f":"IF(SNPs!B1370<>\"\",MID(SNPs!B1370,FIND(\"[\",SNPs!B1370)+1,FIND(\"/\",SNPs!B1370)-FIND(\"[\",SNPs!B1370)-1),\"\")","v":""},{"$f":"IF(SNPs!B1370<>\"\",MID(SNPs!B1370,FIND(\"[\",SNPs!B1370)+3,FIND(\"/\",SNPs!B1370)-FIND(\"/\",SNPs!B1370)+1),\"\")","v":""},{"$f":"IF(SNPs!B1370<>\"\",SNPs!B1370,\"\")","v":""}]
[{"$f":"IF(SNPs!A1371<>\"\",SNPs!A1371,\"\")","v":""},{"$f":"IF(SNPs!B1371<>\"\",MID(SNPs!B1371,FIND(\"[\",SNPs!B1371)+1,FIND(\"/\",SNPs!B1371)-FIND(\"[\",SNPs!B1371)-1),\"\")","v":""},{"$f":"IF(SNPs!B1371<>\"\",MID(SNPs!B1371,FIND(\"[\",SNPs!B1371)+3,FIND(\"/\",SNPs!B1371)-FIND(\"/\",SNPs!B1371)+1),\"\")","v":""},{"$f":"IF(SNPs!B1371<>\"\",SNPs!B1371,\"\")","v":""}]
[{"$f":"IF(SNPs!A1372<>\"\",SNPs!A1372,\"\")","v":""},{"$f":"IF(SNPs!B1372<>\"\",MID(SNPs!B1372,FIND(\"[\",SNPs!B1372)+1,FIND(\"/\",SNPs!B1372)-FIND(\"[\",SNPs!B1372)-1),\"\")","v":""},{"$f":"IF(SNPs!B1372<>\"\",MID(SNPs!B1372,FIND(\"[\",SNPs!B1372)+3,FIND(\"/\",SNPs!B1372)-FIND(\"/\",SNPs!B1372)+1),\"\")","v":""},{"$f":"IF(SNPs!B1372<>\"\",SNPs!B1372,\"\")","v":""}]
[{"$f":"IF(SNPs!A1373<>\"\",SNPs!A1373,\"\")","v":""},{"$f":"IF(SNPs!B1373<>\"\",MID(SNPs!B1373,FIND(\"[\",SNPs!B1373)+1,FIND(\"/\",SNPs!B1373)-FIND(\"[\",SNPs!B1373)-1),\"\")","v":""},{"$f":"IF(SNPs!B1373<>\"\",MID(SNPs!B1373,FIND(\"[\",SNPs!B1373)+3,FIND(\"/\",SNPs!B1373)-FIND(\"/\",SNPs!B1373)+1),\"\")","v":""},{"$f":"IF(SNPs!B1373<>\"\",SNPs!B1373,\"\")","v":""}]
[{"$f":"IF(SNPs!A1374<>\"\",SNPs!A1374,\"\")","v":""},{"$f":"IF(SNPs!B1374<>\"\",MID(SNPs!B1374,FIND(\"[\",SNPs!B1374)+1,FIND(\"/\",SNPs!B1374)-FIND(\"[\",SNPs!B1374)-1),\"\")","v":""},{"$f":"IF(SNPs!B1374<>\"\",MID(SNPs!B1374,FIND(\"[\",SNPs!B1374)+3,FIND(\"/\",SNPs!B1374)-FIND(\"/\",SNPs!B1374)+1),\"\")","v":""},{"$f":"IF(SNPs!B1374<>\"\",SNPs!B1374,\"\")","v":""}]
[{"$f":"IF(SNPs!A1375<>\"\",SNPs!A1375,\"\")","v":""},{"$f":"IF(SNPs!B1375<>\"\",MID(SNPs!B1375,FIND(\"[\",SNPs!B1375)+1,FIND(\"/\",SNPs!B1375)-FIND(\"[\",SNPs!B1375)-1),\"\")","v":""},{"$f":"IF(SNPs!B1375<>\"\",MID(SNPs!B1375,FIND(\"[\",SNPs!B1375)+3,FIND(\"/\",SNPs!B1375)-FIND(\"/\",SNPs!B1375)+1),\"\")","v":""},{"$f":"IF(SNPs!B1375<>\"\",SNPs!B1375,\"\")","v":""}]
[{"$f":"IF(SNPs!A1376<>\"\",SNPs!A1376,\"\")","v":""},{"$f":"IF(SNPs!B1376<>\"\",MID(SNPs!B1376,FIND(\"[\",SNPs!B1376)+1,FIND(\"/\",SNPs!B1376)-FIND(\"[\",SNPs!B1376)-1),\"\")","v":""},{"$f":"IF(SNPs!B1376<>\"\",MID(SNPs!B1376,FIND(\"[\",SNPs!B1376)+3,FIND(\"/\",SNPs!B1376)-FIND(\"/\",SNPs!B1376)+1),\"\")","v":""},{"$f":"IF(SNPs!B1376<>\"\",SNPs!B1376,\"\")","v":""}]
[{"$f":"IF(SNPs!A1377<>\"\",SNPs!A1377,\"\")","v":""},{"$f":"IF(SNPs!B1377<>\"\",MID(SNPs!B1377,FIND(\"[\",SNPs!B1377)+1,FIND(\"/\",SNPs!B1377)-FIND(\"[\",SNPs!B1377)-1),\"\")","v":""},{"$f":"IF(SNPs!B1377<>\"\",MID(SNPs!B1377,FIND(\"[\",SNPs!B1377)+3,FIND(\"/\",SNPs!B1377)-FIND(\"/\",SNPs!B1377)+1),\"\")","v":""},{"$f":"IF(SNPs!B1377<>\"\",SNPs!B1377,\"\")","v":""}]
[{"$f":"IF(SNPs!A1378<>\"\",SNPs!A1378,\"\")","v":""},{"$f":"IF(SNPs!B1378<>\"\",MID(SNPs!B1378,FIND(\"[\",SNPs!B1378)+1,FIND(\"/\",SNPs!B1378)-FIND(\"[\",SNPs!B1378)-1),\"\")","v":""},{"$f":"IF(SNPs!B1378<>\"\",MID(SNPs!B1378,FIND(\"[\",SNPs!B1378)+3,FIND(\"/\",SNPs!B1378)-FIND(\"/\",SNPs!B1378)+1),\"\")","v":""},{"$f":"IF(SNPs!B1378<>\"\",SNPs!B1378,\"\")","v":""}]
[{"$f":"IF(SNPs!A1379<>\"\",SNPs!A1379,\"\")","v":""},{"$f":"IF(SNPs!B1379<>\"\",MID(SNPs!B1379,FIND(\"[\",SNPs!B1379)+1,FIND(\"/\",SNPs!B1379)-FIND(\"[\",SNPs!B1379)-1),\"\")","v":""},{"$f":"IF(SNPs!B1379<>\"\",MID(SNPs!B1379,FIND(\"[\",SNPs!B1379)+3,FIND(\"/\",SNPs!B1379)-FIND(\"/\",SNPs!B1379)+1),\"\")","v":""},{"$f":"IF(SNPs!B1379<>\"\",SNPs!B1379,\"\")","v":""}]
[{"$f":"IF(SNPs!A1380<>\"\",SNPs!A1380,\"\")","v":""},{"$f":"IF(SNPs!B1380<>\"\",MID(SNPs!B1380,FIND(\"[\",SNPs!B1380)+1,FIND(\"/\",SNPs!B1380)-FIND(\"[\",SNPs!B1380)-1),\"\")","v":""},{"$f":"IF(SNPs!B1380<>\"\",MID(SNPs!B1380,FIND(\"[\",SNPs!B1380)+3,FIND(\"/\",SNPs!B1380)-FIND(\"/\",SNPs!B1380)+1),\"\")","v":""},{"$f":"IF(SNPs!B1380<>\"\",SNPs!B1380,\"\")","v":""}]
[{"$f":"IF(SNPs!A1381<>\"\",SNPs!A1381,\"\")","v":""},{"$f":"IF(SNPs!B1381<>\"\",MID(SNPs!B1381,FIND(\"[\",SNPs!B1381)+1,FIND(\"/\",SNPs!B1381)-FIND(\"[\",SNPs!B1381)-1),\"\")","v":""},{"$f":"IF(SNPs!B1381<>\"\",MID(SNPs!B1381,FIND(\"[\",SNPs!B1381)+3,FIND(\"/\",SNPs!B1381)-FIND(\"/\",SNPs!B1381)+1),\"\")","v":""},{"$f":"IF(SNPs!B1381<>\"\",SNPs!B1381,\"\")","v":""}]
[{"$f":"IF(SNPs!A1382<>\"\",SNPs!A1382,\"\")","v":""},{"$f":"IF(SNPs!B1382<>\"\",MID(SNPs!B1382,FIND(\"[\",SNPs!B1382)+1,FIND(\"/\",SNPs!B1382)-FIND(\"[\",SNPs!B1382)-1),\"\")","v":""},{"$f":"IF(SNPs!B1382<>\"\",MID(SNPs!B1382,FIND(\"[\",SNPs!B1382)+3,FIND(\"/\",SNPs!B1382)-FIND(\"/\",SNPs!B1382)+1),\"\")","v":""},{"$f":"IF(SNPs!B1382<>\"\",SNPs!B1382,\"\")","v":""}]
[{"$f":"IF(SNPs!A1383<>\"\",SNPs!A1383,\"\")","v":""},{"$f":"IF(SNPs!B1383<>\"\",MID(SNPs!B1383,FIND(\"[\",SNPs!B1383)+1,FIND(\"/\",SNPs!B1383)-FIND(\"[\",SNPs!B1383)-1),\"\")","v":""},{"$f":"IF(SNPs!B1383<>\"\",MID(SNPs!B1383,FIND(\"[\",SNPs!B1383)+3,FIND(\"/\",SNPs!B1383)-FIND(\"/\",SNPs!B1383)+1),\"\")","v":""},{"$f":"IF(SNPs!B1383<>\"\",SNPs!B1383,\"\")","v":""}]
[{"$f":"IF(SNPs!A1384<>\"\",SNPs!A1384,\"\")","v":""},{"$f":"IF(SNPs!B1384<>\"\",MID(SNPs!B1384,FIND(\"[\",SNPs!B1384)+1,FIND(\"/\",SNPs!B1384)-FIND(\"[\",SNPs!B1384)-1),\"\")","v":""},{"$f":"IF(SNPs!B1384<>\"\",MID(SNPs!B1384,FIND(\"[\",SNPs!B1384)+3,FIND(\"/\",SNPs!B1384)-FIND(\"/\",SNPs!B1384)+1),\"\")","v":""},{"$f":"IF(SNPs!B1384<>\"\",SNPs!B1384,\"\")","v":""}]
[{"$f":"IF(SNPs!A1385<>\"\",SNPs!A1385,\"\")","v":""},{"$f":"IF(SNPs!B1385<>\"\",MID(SNPs!B1385,FIND(\"[\",SNPs!B1385)+1,FIND(\"/\",SNPs!B1385)-FIND(\"[\",SNPs!B1385)-1),\"\")","v":""},{"$f":"IF(SNPs!B1385<>\"\",MID(SNPs!B1385,FIND(\"[\",SNPs!B1385)+3,FIND(\"/\",SNPs!B1385)-FIND(\"/\",SNPs!B1385)+1),\"\")","v":""},{"$f":"IF(SNPs!B1385<>\"\",SNPs!B1385,\"\")","v":""}]
[{"$f":"IF(SNPs!A1386<>\"\",SNPs!A1386,\"\")","v":""},{"$f":"IF(SNPs!B1386<>\"\",MID(SNPs!B1386,FIND(\"[\",SNPs!B1386)+1,FIND(\"/\",SNPs!B1386)-FIND(\"[\",SNPs!B1386)-1),\"\")","v":""},{"$f":"IF(SNPs!B1386<>\"\",MID(SNPs!B1386,FIND(\"[\",SNPs!B1386)+3,FIND(\"/\",SNPs!B1386)-FIND(\"/\",SNPs!B1386)+1),\"\")","v":""},{"$f":"IF(SNPs!B1386<>\"\",SNPs!B1386,\"\")","v":""}]
[{"$f":"IF(SNPs!A1387<>\"\",SNPs!A1387,\"\")","v":""},{"$f":"IF(SNPs!B1387<>\"\",MID(SNPs!B1387,FIND(\"[\",SNPs!B1387)+1,FIND(\"/\",SNPs!B1387)-FIND(\"[\",SNPs!B1387)-1),\"\")","v":""},{"$f":"IF(SNPs!B1387<>\"\",MID(SNPs!B1387,FIND(\"[\",SNPs!B1387)+3,FIND(\"/\",SNPs!B1387)-FIND(\"/\",SNPs!B1387)+1),\"\")","v":""},{"$f":"IF(SNPs!B1387<>\"\",SNPs!B1387,\"\")","v":""}]
[{"$f":"IF(SNPs!A1388<>\"\",SNPs!A1388,\"\")","v":""},{"$f":"IF(SNPs!B1388<>\"\",MID(SNPs!B1388,FIND(\"[\",SNPs!B1388)+1,FIND(\"/\",SNPs!B1388)-FIND(\"[\",SNPs!B1388)-1),\"\")","v":""},{"$f":"IF(SNPs!B1388<>\"\",MID(SNPs!B1388,FIND(\"[\",SNPs!B1388)+3,FIND(\"/\",SNPs!B1388)-FIND(\"/\",SNPs!B1388)+1),\"\")","v":""},{"$f":"IF(SNPs!B1388<>\"\",SNPs!B1388,\"\")","v":""}]
[{"$f":"IF(SNPs!A1389<>\"\",SNPs!A1389,\"\")","v":""},{"$f":"IF(SNPs!B1389<>\"\",MID(SNPs!B1389,FIND(\"[\",SNPs!B1389)+1,FIND(\"/\",SNPs!B1389)-FIND(\"[\",SNPs!B1389)-1),\"\")","v":""},{"$f":"IF(SNPs!B1389<>\"\",MID(SNPs!B1389,FIND(\"[\",SNPs!B1389)+3,FIND(\"/\",SNPs!B1389)-FIND(\"/\",SNPs!B1389)+1),\"\")","v":""},{"$f":"IF(SNPs!B1389<>\"\",SNPs!B1389,\"\")","v":""}]
[{"$f":"IF(SNPs!A1390<>\"\",SNPs!A1390,\"\")","v":""},{"$f":"IF(SNPs!B1390<>\"\",MID(SNPs!B1390,FIND(\"[\",SNPs!B1390)+1,FIND(\"/\",SNPs!B1390)-FIND(\"[\",SNPs!B1390)-1),\"\")","v":""},{"$f":"IF(SNPs!B1390<>\"\",MID(SNPs!B1390,FIND(\"[\",SNPs!B1390)+3,FIND(\"/\",SNPs!B1390)-FIND(\"/\",SNPs!B1390)+1),\"\")","v":""},{"$f":"IF(SNPs!B1390<>\"\",SNPs!B1390,\"\")","v":""}]
[{"$f":"IF(SNPs!A1391<>\"\",SNPs!A1391,\"\")","v":""},{"$f":"IF(SNPs!B1391<>\"\",MID(SNPs!B1391,FIND(\"[\",SNPs!B1391)+1,FIND(\"/\",SNPs!B1391)-FIND(\"[\",SNPs!B1391)-1),\"\")","v":""},{"$f":"IF(SNPs!B1391<>\"\",MID(SNPs!B1391,FIND(\"[\",SNPs!B1391)+3,FIND(\"/\",SNPs!B1391)-FIND(\"/\",SNPs!B1391)+1),\"\")","v":""},{"$f":"IF(SNPs!B1391<>\"\",SNPs!B1391,\"\")","v":""}]
[{"$f":"IF(SNPs!A1392<>\"\",SNPs!A1392,\"\")","v":""},{"$f":"IF(SNPs!B1392<>\"\",MID(SNPs!B1392,FIND(\"[\",SNPs!B1392)+1,FIND(\"/\",SNPs!B1392)-FIND(\"[\",SNPs!B1392)-1),\"\")","v":""},{"$f":"IF(SNPs!B1392<>\"\",MID(SNPs!B1392,FIND(\"[\",SNPs!B1392)+3,FIND(\"/\",SNPs!B1392)-FIND(\"/\",SNPs!B1392)+1),\"\")","v":""},{"$f":"IF(SNPs!B1392<>\"\",SNPs!B1392,\"\")","v":""}]
[{"$f":"IF(SNPs!A1393<>\"\",SNPs!A1393,\"\")","v":""},{"$f":"IF(SNPs!B1393<>\"\",MID(SNPs!B1393,FIND(\"[\",SNPs!B1393)+1,FIND(\"/\",SNPs!B1393)-FIND(\"[\",SNPs!B1393)-1),\"\")","v":""},{"$f":"IF(SNPs!B1393<>\"\",MID(SNPs!B1393,FIND(\"[\",SNPs!B1393)+3,FIND(\"/\",SNPs!B1393)-FIND(\"/\",SNPs!B1393)+1),\"\")","v":""},{"$f":"IF(SNPs!B1393<>\"\",SNPs!B1393,\"\")","v":""}]
[{"$f":"IF(SNPs!A1394<>\"\",SNPs!A1394,\"\")","v":""},{"$f":"IF(SNPs!B1394<>\"\",MID(SNPs!B1394,FIND(\"[\",SNPs!B1394)+1,FIND(\"/\",SNPs!B1394)-FIND(\"[\",SNPs!B1394)-1),\"\")","v":""},{"$f":"IF(SNPs!B1394<>\"\",MID(SNPs!B1394,FIND(\"[\",SNPs!B1394)+3,FIND(\"/\",SNPs!B1394)-FIND(\"/\",SNPs!B1394)+1),\"\")","v":""},{"$f":"IF(SNPs!B1394<>\"\",SNPs!B1394,\"\")","v":""}]
[{"$f":"IF(SNPs!A1395<>\"\",SNPs!A1395,\"\")","v":""},{"$f":"IF(SNPs!B1395<>\"\",MID(SNPs!B1395,FIND(\"[\",SNPs!B1395)+1,FIND(\"/\",SNPs!B1395)-FIND(\"[\",SNPs!B1395)-1),\"\")","v":""},{"$f":"IF(SNPs!B1395<>\"\",MID(SNPs!B1395,FIND(\"[\",SNPs!B1395)+3,FIND(\"/\",SNPs!B1395)-FIND(\"/\",SNPs!B1395)+1),\"\")","v":""},{"$f":"IF(SNPs!B1395<>\"\",SNPs!B1395,\"\")","v":""}]
[{"$f":"IF(SNPs!A1396<>\"\",SNPs!A1396,\"\")","v":""},{"$f":"IF(SNPs!B1396<>\"\",MID(SNPs!B1396,FIND(\"[\",SNPs!B1396)+1,FIND(\"/\",SNPs!B1396)-FIND(\"[\",SNPs!B1396)-1),\"\")","v":""},{"$f":"IF(SNPs!B1396<>\"\",MID(SNPs!B1396,FIND(\"[\",SNPs!B1396)+3,FIND(\"/\",SNPs!B1396)-FIND(\"/\",SNPs!B1396)+1),\"\")","v":""},{"$f":"IF(SNPs!B1396<>\"\",SNPs!B1396,\"\")","v":""}]
[{"$f":"IF(SNPs!A1397<>\"\",SNPs!A1397,\"\")","v":""},{"$f":"IF(SNPs!B1397<>\"\",MID(SNPs!B1397,FIND(\"[\",SNPs!B1397)+1,FIND(\"/\",SNPs!B1397)-FIND(\"[\",SNPs!B1397)-1),\"\")","v":""},{"$f":"IF(SNPs!B1397<>\"\",MID(SNPs!B1397,FIND(\"[\",SNPs!B1397)+3,FIND(\"/\",SNPs!B1397)-FIND(\"/\",SNPs!B1397)+1),\"\")","v":""},{"$f":"IF(SNPs!B1397<>\"\",SNPs!B1397,\"\")","v":""}]
[{"$f":"IF(SNPs!A1398<>\"\",SNPs!A1398,\"\")","v":""},{"$f":"IF(SNPs!B1398<>\"\",MID(SNPs!B1398,FIND(\"[\",SNPs!B1398)+1,FIND(\"/\",SNPs!B1398)-FIND(\"[\",SNPs!B1398)-1),\"\")","v":""},{"$f":"IF(SNPs!B1398<>\"\",MID(SNPs!B1398,FIND(\"[\",SNPs!B1398)+3,FIND(\"/\",SNPs!B1398)-FIND(\"/\",SNPs!B1398)+1),\"\")","v":""},{"$f":"IF(SNPs!B1398<>\"\",SNPs!B1398,\"\")","v":""}]
[{"$f":"IF(SNPs!A1399<>\"\",SNPs!A1399,\"\")","v":""},{"$f":"IF(SNPs!B1399<>\"\",MID(SNPs!B1399,FIND(\"[\",SNPs!B1399)+1,FIND(\"/\",SNPs!B1399)-FIND(\"[\",SNPs!B1399)-1),\"\")","v":""},{"$f":"IF(SNPs!B1399<>\"\",MID(SNPs!B1399,FIND(\"[\",SNPs!B1399)+3,FIND(\"/\",SNPs!B1399)-FIND(\"/\",SNPs!B1399)+1),\"\")","v":""},{"$f":"IF(SNPs!B1399<>\"\",SNPs!B1399,\"\")","v":""}]
[{"$f":"IF(SNPs!A1400<>\"\",SNPs!A1400,\"\")","v":""},{"$f":"IF(SNPs!B1400<>\"\",MID(SNPs!B1400,FIND(\"[\",SNPs!B1400)+1,FIND(\"/\",SNPs!B1400)-FIND(\"[\",SNPs!B1400)-1),\"\")","v":""},{"$f":"IF(SNPs!B1400<>\"\",MID(SNPs!B1400,FIND(\"[\",SNPs!B1400)+3,FIND(\"/\",SNPs!B1400)-FIND(\"/\",SNPs!B1400)+1),\"\")","v":""},{"$f":"IF(SNPs!B1400<>\"\",SNPs!B1400,\"\")","v":""}]
[{"$f":"IF(SNPs!A1401<>\"\",SNPs!A1401,\"\")","v":""},{"$f":"IF(SNPs!B1401<>\"\",MID(SNPs!B1401,FIND(\"[\",SNPs!B1401)+1,FIND(\"/\",SNPs!B1401)-FIND(\"[\",SNPs!B1401)-1),\"\")","v":""},{"$f":"IF(SNPs!B1401<>\"\",MID(SNPs!B1401,FIND(\"[\",SNPs!B1401)+3,FIND(\"/\",SNPs!B1401)-FIND(\"/\",SNPs!B1401)+1),\"\")","v":""},{"$f":"IF(SNPs!B1401<>\"\",SNPs!B1401,\"\")","v":""}]
[{"$f":"IF(SNPs!A1402<>\"\",SNPs!A1402,\"\")","v":""},{"$f":"IF(SNPs!B1402<>\"\",MID(SNPs!B1402,FIND(\"[\",SNPs!B1402)+1,FIND(\"/\",SNPs!B1402)-FIND(\"[\",SNPs!B1402)-1),\"\")","v":""},{"$f":"IF(SNPs!B1402<>\"\",MID(SNPs!B1402,FIND(\"[\",SNPs!B1402)+3,FIND(\"/\",SNPs!B1402)-FIND(\"/\",SNPs!B1402)+1),\"\")","v":""},{"$f":"IF(SNPs!B1402<>\"\",SNPs!B1402,\"\")","v":""}]
[{"$f":"IF(SNPs!A1403<>\"\",SNPs!A1403,\"\")","v":""},{"$f":"IF(SNPs!B1403<>\"\",MID(SNPs!B1403,FIND(\"[\",SNPs!B1403)+1,FIND(\"/\",SNPs!B1403)-FIND(\"[\",SNPs!B1403)-1),\"\")","v":""},{"$f":"IF(SNPs!B1403<>\"\",MID(SNPs!B1403,FIND(\"[\",SNPs!B1403)+3,FIND(\"/\",SNPs!B1403)-FIND(\"/\",SNPs!B1403)+1),\"\")","v":""},{"$f":"IF(SNPs!B1403<>\"\",SNPs!B1403,\"\")","v":""}]
[{"$f":"IF(SNPs!A1404<>\"\",SNPs!A1404,\"\")","v":""},{"$f":"IF(SNPs!B1404<>\"\",MID(SNPs!B1404,FIND(\"[\",SNPs!B1404)+1,FIND(\"/\",SNPs!B1404)-FIND(\"[\",SNPs!B1404)-1),\"\")","v":""},{"$f":"IF(SNPs!B1404<>\"\",MID(SNPs!B1404,FIND(\"[\",SNPs!B1404)+3,FIND(\"/\",SNPs!B1404)-FIND(\"/\",SNPs!B1404)+1),\"\")","v":""},{"$f":"IF(SNPs!B1404<>\"\",SNPs!B1404,\"\")","v":""}]
[{"$f":"IF(SNPs!A1405<>\"\",SNPs!A1405,\"\")","v":""},{"$f":"IF(SNPs!B1405<>\"\",MID(SNPs!B1405,FIND(\"[\",SNPs!B1405)+1,FIND(\"/\",SNPs!B1405)-FIND(\"[\",SNPs!B1405)-1),\"\")","v":""},{"$f":"IF(SNPs!B1405<>\"\",MID(SNPs!B1405,FIND(\"[\",SNPs!B1405)+3,FIND(\"/\",SNPs!B1405)-FIND(\"/\",SNPs!B1405)+1),\"\")","v":""},{"$f":"IF(SNPs!B1405<>\"\",SNPs!B1405,\"\")","v":""}]
[{"$f":"IF(SNPs!A1406<>\"\",SNPs!A1406,\"\")","v":""},{"$f":"IF(SNPs!B1406<>\"\",MID(SNPs!B1406,FIND(\"[\",SNPs!B1406)+1,FIND(\"/\",SNPs!B1406)-FIND(\"[\",SNPs!B1406)-1),\"\")","v":""},{"$f":"IF(SNPs!B1406<>\"\",MID(SNPs!B1406,FIND(\"[\",SNPs!B1406)+3,FIND(\"/\",SNPs!B1406)-FIND(\"/\",SNPs!B1406)+1),\"\")","v":""},{"$f":"IF(SNPs!B1406<>\"\",SNPs!B1406,\"\")","v":""}]
[{"$f":"IF(SNPs!A1407<>\"\",SNPs!A1407,\"\")","v":""},{"$f":"IF(SNPs!B1407<>\"\",MID(SNPs!B1407,FIND(\"[\",SNPs!B1407)+1,FIND(\"/\",SNPs!B1407)-FIND(\"[\",SNPs!B1407)-1),\"\")","v":""},{"$f":"IF(SNPs!B1407<>\"\",MID(SNPs!B1407,FIND(\"[\",SNPs!B1407)+3,FIND(\"/\",SNPs!B1407)-FIND(\"/\",SNPs!B1407)+1),\"\")","v":""},{"$f":"IF(SNPs!B1407<>\"\",SNPs!B1407,\"\")","v":""}]
[{"$f":"IF(SNPs!A1408<>\"\",SNPs!A1408,\"\")","v":""},{"$f":"IF(SNPs!B1408<>\"\",MID(SNPs!B1408,FIND(\"[\",SNPs!B1408)+1,FIND(\"/\",SNPs!B1408)-FIND(\"[\",SNPs!B1408)-1),\"\")","v":""},{"$f":"IF(SNPs!B1408<>\"\",MID(SNPs!B1408,FIND(\"[\",SNPs!B1408)+3,FIND(\"/\",SNPs!B1408)-FIND(\"/\",SNPs!B1408)+1),\"\")","v":""},{"$f":"IF(SNPs!B1408<>\"\",SNPs!B1408,\"\")","v":""}]
[{"$f":"IF(SNPs!A1409<>\"\",SNPs!A1409,\"\")","v":""},{"$f":"IF(SNPs!B1409<>\"\",MID(SNPs!B1409,FIND(\"[\",SNPs!B1409)+1,FIND(\"/\",SNPs!B1409)-FIND(\"[\",SNPs!B1409)-1),\"\")","v":""},{"$f":"IF(SNPs!B1409<>\"\",MID(SNPs!B1409,FIND(\"[\",SNPs!B1409)+3,FIND(\"/\",SNPs!B1409)-FIND(\"/\",SNPs!B1409)+1),\"\")","v":""},{"$f":"IF(SNPs!B1409<>\"\",SNPs!B1409,\"\")","v":""}]
[{"$f":"IF(SNPs!A1410<>\"\",SNPs!A1410,\"\")","v":""},{"$f":"IF(SNPs!B1410<>\"\",MID(SNPs!B1410,FIND(\"[\",SNPs!B1410)+1,FIND(\"/\",SNPs!B1410)-FIND(\"[\",SNPs!B1410)-1),\"\")","v":""},{"$f":"IF(SNPs!B1410<>\"\",MID(SNPs!B1410,FIND(\"[\",SNPs!B1410)+3,FIND(\"/\",SNPs!B1410)-FIND(\"/\",SNPs!B1410)+1),\"\")","v":""},{"$f":"IF(SNPs!B1410<>\"\",SNPs!B1410,\"\")","v":""}]
[{"$f":"IF(SNPs!A1411<>\"\",SNPs!A1411,\"\")","v":""},{"$f":"IF(SNPs!B1411<>\"\",MID(SNPs!B1411,FIND(\"[\",SNPs!B1411)+1,FIND(\"/\",SNPs!B1411)-FIND(\"[\",SNPs!B1411)-1),\"\")","v":""},{"$f":"IF(SNPs!B1411<>\"\",MID(SNPs!B1411,FIND(\"[\",SNPs!B1411)+3,FIND(\"/\",SNPs!B1411)-FIND(\"/\",SNPs!B1411)+1),\"\")","v":""},{"$f":"IF(SNPs!B1411<>\"\",SNPs!B1411,\"\")","v":""}]
[{"$f":"IF(SNPs!A1412<>\"\",SNPs!A1412,\"\")","v":""},{"$f":"IF(SNPs!B1412<>\"\",MID(SNPs!B1412,FIND(\"[\",SNPs!B1412)+1,FIND(\"/\",SNPs!B1412)-FIND(\"[\",SNPs!B1412)-1),\"\")","v":""},{"$f":"IF(SNPs!B1412<>\"\",MID(SNPs!B1412,FIND(\"[\",SNPs!B1412)+3,FIND(\"/\",SNPs!B1412)-FIND(\"/\",SNPs!B1412)+1),\"\")","v":""},{"$f":"IF(SNPs!B1412<>\"\",SNPs!B1412,\"\")","v":""}]
[{"$f":"IF(SNPs!A1413<>\"\",SNPs!A1413,\"\")","v":""},{"$f":"IF(SNPs!B1413<>\"\",MID(SNPs!B1413,FIND(\"[\",SNPs!B1413)+1,FIND(\"/\",SNPs!B1413)-FIND(\"[\",SNPs!B1413)-1),\"\")","v":""},{"$f":"IF(SNPs!B1413<>\"\",MID(SNPs!B1413,FIND(\"[\",SNPs!B1413)+3,FIND(\"/\",SNPs!B1413)-FIND(\"/\",SNPs!B1413)+1),\"\")","v":""},{"$f":"IF(SNPs!B1413<>\"\",SNPs!B1413,\"\")","v":""}]
[{"$f":"IF(SNPs!A1414<>\"\",SNPs!A1414,\"\")","v":""},{"$f":"IF(SNPs!B1414<>\"\",MID(SNPs!B1414,FIND(\"[\",SNPs!B1414)+1,FIND(\"/\",SNPs!B1414)-FIND(\"[\",SNPs!B1414)-1),\"\")","v":""},{"$f":"IF(SNPs!B1414<>\"\",MID(SNPs!B1414,FIND(\"[\",SNPs!B1414)+3,FIND(\"/\",SNPs!B1414)-FIND(\"/\",SNPs!B1414)+1),\"\")","v":""},{"$f":"IF(SNPs!B1414<>\"\",SNPs!B1414,\"\")","v":""}]
[{"$f":"IF(SNPs!A1415<>\"\",SNPs!A1415,\"\")","v":""},{"$f":"IF(SNPs!B1415<>\"\",MID(SNPs!B1415,FIND(\"[\",SNPs!B1415)+1,FIND(\"/\",SNPs!B1415)-FIND(\"[\",SNPs!B1415)-1),\"\")","v":""},{"$f":"IF(SNPs!B1415<>\"\",MID(SNPs!B1415,FIND(\"[\",SNPs!B1415)+3,FIND(\"/\",SNPs!B1415)-FIND(\"/\",SNPs!B1415)+1),\"\")","v":""},{"$f":"IF(SNPs!B1415<>\"\",SNPs!B1415,\"\")","v":""}]
[{"$f":"IF(SNPs!A1416<>\"\",SNPs!A1416,\"\")","v":""},{"$f":"IF(SNPs!B1416<>\"\",MID(SNPs!B1416,FIND(\"[\",SNPs!B1416)+1,FIND(\"/\",SNPs!B1416)-FIND(\"[\",SNPs!B1416)-1),\"\")","v":""},{"$f":"IF(SNPs!B1416<>\"\",MID(SNPs!B1416,FIND(\"[\",SNPs!B1416)+3,FIND(\"/\",SNPs!B1416)-FIND(\"/\",SNPs!B1416)+1),\"\")","v":""},{"$f":"IF(SNPs!B1416<>\"\",SNPs!B1416,\"\")","v":""}]
[{"$f":"IF(SNPs!A1417<>\"\",SNPs!A1417,\"\")","v":""},{"$f":"IF(SNPs!B1417<>\"\",MID(SNPs!B1417,FIND(\"[\",SNPs!B1417)+1,FIND(\"/\",SNPs!B1417)-FIND(\"[\",SNPs!B1417)-1),\"\")","v":""},{"$f":"IF(SNPs!B1417<>\"\",MID(SNPs!B1417,FIND(\"[\",SNPs!B1417)+3,FIND(\"/\",SNPs!B1417)-FIND(\"/\",SNPs!B1417)+1),\"\")","v":""},{"$f":"IF(SNPs!B1417<>\"\",SNPs!B1417,\"\")","v":""}]
[{"$f":"IF(SNPs!A1418<>\"\",SNPs!A1418,\"\")","v":""},{"$f":"IF(SNPs!B1418<>\"\",MID(SNPs!B1418,FIND(\"[\",SNPs!B1418)+1,FIND(\"/\",SNPs!B1418)-FIND(\"[\",SNPs!B1418)-1),\"\")","v":""},{"$f":"IF(SNPs!B1418<>\"\",MID(SNPs!B1418,FIND(\"[\",SNPs!B1418)+3,FIND(\"/\",SNPs!B1418)-FIND(\"/\",SNPs!B1418)+1),\"\")","v":""},{"$f":"IF(SNPs!B1418<>\"\",SNPs!B1418,\"\")","v":""}]
[{"$f":"IF(SNPs!A1419<>\"\",SNPs!A1419,\"\")","v":""},{"$f":"IF(SNPs!B1419<>\"\",MID(SNPs!B1419,FIND(\"[\",SNPs!B1419)+1,FIND(\"/\",SNPs!B1419)-FIND(\"[\",SNPs!B1419)-1),\"\")","v":""},{"$f":"IF(SNPs!B1419<>\"\",MID(SNPs!B1419,FIND(\"[\",SNPs!B1419)+3,FIND(\"/\",SNPs!B1419)-FIND(\"/\",SNPs!B1419)+1),\"\")","v":""},{"$f":"IF(SNPs!B1419<>\"\",SNPs!B1419,\"\")","v":""}]
[{"$f":"IF(SNPs!A1420<>\"\",SNPs!A1420,\"\")","v":""},{"$f":"IF(SNPs!B1420<>\"\",MID(SNPs!B1420,FIND(\"[\",SNPs!B1420)+1,FIND(\"/\",SNPs!B1420)-FIND(\"[\",SNPs!B1420)-1),\"\")","v":""},{"$f":"IF(SNPs!B1420<>\"\",MID(SNPs!B1420,FIND(\"[\",SNPs!B1420)+3,FIND(\"/\",SNPs!B1420)-FIND(\"/\",SNPs!B1420)+1),\"\")","v":""},{"$f":"IF(SNPs!B1420<>\"\",SNPs!B1420,\"\")","v":""}]
[{"$f":"IF(SNPs!A1421<>\"\",SNPs!A1421,\"\")","v":""},{"$f":"IF(SNPs!B1421<>\"\",MID(SNPs!B1421,FIND(\"[\",SNPs!B1421)+1,FIND(\"/\",SNPs!B1421)-FIND(\"[\",SNPs!B1421)-1),\"\")","v":""},{"$f":"IF(SNPs!B1421<>\"\",MID(SNPs!B1421,FIND(\"[\",SNPs!B1421)+3,FIND(\"/\",SNPs!B1421)-FIND(\"/\",SNPs!B1421)+1),\"\")","v":""},{"$f":"IF(SNPs!B1421<>\"\",SNPs!B1421,\"\")","v":""}]
[{"$f":"IF(SNPs!A1422<>\"\",SNPs!A1422,\"\")","v":""},{"$f":"IF(SNPs!B1422<>\"\",MID(SNPs!B1422,FIND(\"[\",SNPs!B1422)+1,FIND(\"/\",SNPs!B1422)-FIND(\"[\",SNPs!B1422)-1),\"\")","v":""},{"$f":"IF(SNPs!B1422<>\"\",MID(SNPs!B1422,FIND(\"[\",SNPs!B1422)+3,FIND(\"/\",SNPs!B1422)-FIND(\"/\",SNPs!B1422)+1),\"\")","v":""},{"$f":"IF(SNPs!B1422<>\"\",SNPs!B1422,\"\")","v":""}]
[{"$f":"IF(SNPs!A1423<>\"\",SNPs!A1423,\"\")","v":""},{"$f":"IF(SNPs!B1423<>\"\",MID(SNPs!B1423,FIND(\"[\",SNPs!B1423)+1,FIND(\"/\",SNPs!B1423)-FIND(\"[\",SNPs!B1423)-1),\"\")","v":""},{"$f":"IF(SNPs!B1423<>\"\",MID(SNPs!B1423,FIND(\"[\",SNPs!B1423)+3,FIND(\"/\",SNPs!B1423)-FIND(\"/\",SNPs!B1423)+1),\"\")","v":""},{"$f":"IF(SNPs!B1423<>\"\",SNPs!B1423,\"\")","v":""}]
[{"$f":"IF(SNPs!A1424<>\"\",SNPs!A1424,\"\")","v":""},{"$f":"IF(SNPs!B1424<>\"\",MID(SNPs!B1424,FIND(\"[\",SNPs!B1424)+1,FIND(\"/\",SNPs!B1424)-FIND(\"[\",SNPs!B1424)-1),\"\")","v":""},{"$f":"IF(SNPs!B1424<>\"\",MID(SNPs!B1424,FIND(\"[\",SNPs!B1424)+3,FIND(\"/\",SNPs!B1424)-FIND(\"/\",SNPs!B1424)+1),\"\")","v":""},{"$f":"IF(SNPs!B1424<>\"\",SNPs!B1424,\"\")","v":""}]
[{"$f":"IF(SNPs!A1425<>\"\",SNPs!A1425,\"\")","v":""},{"$f":"IF(SNPs!B1425<>\"\",MID(SNPs!B1425,FIND(\"[\",SNPs!B1425)+1,FIND(\"/\",SNPs!B1425)-FIND(\"[\",SNPs!B1425)-1),\"\")","v":""},{"$f":"IF(SNPs!B1425<>\"\",MID(SNPs!B1425,FIND(\"[\",SNPs!B1425)+3,FIND(\"/\",SNPs!B1425)-FIND(\"/\",SNPs!B1425)+1),\"\")","v":""},{"$f":"IF(SNPs!B1425<>\"\",SNPs!B1425,\"\")","v":""}]
[{"$f":"IF(SNPs!A1426<>\"\",SNPs!A1426,\"\")","v":""},{"$f":"IF(SNPs!B1426<>\"\",MID(SNPs!B1426,FIND(\"[\",SNPs!B1426)+1,FIND(\"/\",SNPs!B1426)-FIND(\"[\",SNPs!B1426)-1),\"\")","v":""},{"$f":"IF(SNPs!B1426<>\"\",MID(SNPs!B1426,FIND(\"[\",SNPs!B1426)+3,FIND(\"/\",SNPs!B1426)-FIND(\"/\",SNPs!B1426)+1),\"\")","v":""},{"$f":"IF(SNPs!B1426<>\"\",SNPs!B1426,\"\")","v":""}]
[{"$f":"IF(SNPs!A1427<>\"\",SNPs!A1427,\"\")","v":""},{"$f":"IF(SNPs!B1427<>\"\",MID(SNPs!B1427,FIND(\"[\",SNPs!B1427)+1,FIND(\"/\",SNPs!B1427)-FIND(\"[\",SNPs!B1427)-1),\"\")","v":""},{"$f":"IF(SNPs!B1427<>\"\",MID(SNPs!B1427,FIND(\"[\",SNPs!B1427)+3,FIND(\"/\",SNPs!B1427)-FIND(\"/\",SNPs!B1427)+1),\"\")","v":""},{"$f":"IF(SNPs!B1427<>\"\",SNPs!B1427,\"\")","v":""}]
[{"$f":"IF(SNPs!A1428<>\"\",SNPs!A1428,\"\")","v":""},{"$f":"IF(SNPs!B1428<>\"\",MID(SNPs!B1428,FIND(\"[\",SNPs!B1428)+1,FIND(\"/\",SNPs!B1428)-FIND(\"[\",SNPs!B1428)-1),\"\")","v":""},{"$f":"IF(SNPs!B1428<>\"\",MID(SNPs!B1428,FIND(\"[\",SNPs!B1428)+3,FIND(\"/\",SNPs!B1428)-FIND(\"/\",SNPs!B1428)+1),\"\")","v":""},{"$f":"IF(SNPs!B1428<>\"\",SNPs!B1428,\"\")","v":""}]
[{"$f":"IF(SNPs!A1429<>\"\",SNPs!A1429,\"\")","v":""},{"$f":"IF(SNPs!B1429<>\"\",MID(SNPs!B1429,FIND(\"[\",SNPs!B1429)+1,FIND(\"/\",SNPs!B1429)-FIND(\"[\",SNPs!B1429)-1),\"\")","v":""},{"$f":"IF(SNPs!B1429<>\"\",MID(SNPs!B1429,FIND(\"[\",SNPs!B1429)+3,FIND(\"/\",SNPs!B1429)-FIND(\"/\",SNPs!B1429)+1),\"\")","v":""},{"$f":"IF(SNPs!B1429<>\"\",SNPs!B1429,\"\")","v":""}]
[{"$f":"IF(SNPs!A1430<>\"\",SNPs!A1430,\"\")","v":""},{"$f":"IF(SNPs!B1430<>\"\",MID(SNPs!B1430,FIND(\"[\",SNPs!B1430)+1,FIND(\"/\",SNPs!B1430)-FIND(\"[\",SNPs!B1430)-1),\"\")","v":""},{"$f":"IF(SNPs!B1430<>\"\",MID(SNPs!B1430,FIND(\"[\",SNPs!B1430)+3,FIND(\"/\",SNPs!B1430)-FIND(\"/\",SNPs!B1430)+1),\"\")","v":""},{"$f":"IF(SNPs!B1430<>\"\",SNPs!B1430,\"\")","v":""}]
[{"$f":"IF(SNPs!A1431<>\"\",SNPs!A1431,\"\")","v":""},{"$f":"IF(SNPs!B1431<>\"\",MID(SNPs!B1431,FIND(\"[\",SNPs!B1431)+1,FIND(\"/\",SNPs!B1431)-FIND(\"[\",SNPs!B1431)-1),\"\")","v":""},{"$f":"IF(SNPs!B1431<>\"\",MID(SNPs!B1431,FIND(\"[\",SNPs!B1431)+3,FIND(\"/\",SNPs!B1431)-FIND(\"/\",SNPs!B1431)+1),\"\")","v":""},{"$f":"IF(SNPs!B1431<>\"\",SNPs!B1431,\"\")","v":""}]
[{"$f":"IF(SNPs!A1432<>\"\",SNPs!A1432,\"\")","v":""},{"$f":"IF(SNPs!B1432<>\"\",MID(SNPs!B1432,FIND(\"[\",SNPs!B1432)+1,FIND(\"/\",SNPs!B1432)-FIND(\"[\",SNPs!B1432)-1),\"\")","v":""},{"$f":"IF(SNPs!B1432<>\"\",MID(SNPs!B1432,FIND(\"[\",SNPs!B1432)+3,FIND(\"/\",SNPs!B1432)-FIND(\"/\",SNPs!B1432)+1),\"\")","v":""},{"$f":"IF(SNPs!B1432<>\"\",SNPs!B1432,\"\")","v":""}]
[{"$f":"IF(SNPs!A1433<>\"\",SNPs!A1433,\"\")","v":""},{"$f":"IF(SNPs!B1433<>\"\",MID(SNPs!B1433,FIND(\"[\",SNPs!B1433)+1,FIND(\"/\",SNPs!B1433)-FIND(\"[\",SNPs!B1433)-1),\"\")","v":""},{"$f":"IF(SNPs!B1433<>\"\",MID(SNPs!B1433,FIND(\"[\",SNPs!B1433)+3,FIND(\"/\",SNPs!B1433)-FIND(\"/\",SNPs!B1433)+1),\"\")","v":""},{"$f":"IF(SNPs!B1433<>\"\",SNPs!B1433,\"\")","v":""}]
[{"$f":"IF(SNPs!A1434<>\"\",SNPs!A1434,\"\")","v":""},{"$f":"IF(SNPs!B1434<>\"\",MID(SNPs!B1434,FIND(\"[\",SNPs!B1434)+1,FIND(\"/\",SNPs!B1434)-FIND(\"[\",SNPs!B1434)-1),\"\")","v":""},{"$f":"IF(SNPs!B1434<>\"\",MID(SNPs!B1434,FIND(\"[\",SNPs!B1434)+3,FIND(\"/\",SNPs!B1434)-FIND(\"/\",SNPs!B1434)+1),\"\")","v":""},{"$f":"IF(SNPs!B1434<>\"\",SNPs!B1434,\"\")","v":""}]
[{"$f":"IF(SNPs!A1435<>\"\",SNPs!A1435,\"\")","v":""},{"$f":"IF(SNPs!B1435<>\"\",MID(SNPs!B1435,FIND(\"[\",SNPs!B1435)+1,FIND(\"/\",SNPs!B1435)-FIND(\"[\",SNPs!B1435)-1),\"\")","v":""},{"$f":"IF(SNPs!B1435<>\"\",MID(SNPs!B1435,FIND(\"[\",SNPs!B1435)+3,FIND(\"/\",SNPs!B1435)-FIND(\"/\",SNPs!B1435)+1),\"\")","v":""},{"$f":"IF(SNPs!B1435<>\"\",SNPs!B1435,\"\")","v":""}]
[{"$f":"IF(SNPs!A1436<>\"\",SNPs!A1436,\"\")","v":""},{"$f":"IF(SNPs!B1436<>\"\",MID(SNPs!B1436,FIND(\"[\",SNPs!B1436)+1,FIND(\"/\",SNPs!B1436)-FIND(\"[\",SNPs!B1436)-1),\"\")","v":""},{"$f":"IF(SNPs!B1436<>\"\",MID(SNPs!B1436,FIND(\"[\",SNPs!B1436)+3,FIND(\"/\",SNPs!B1436)-FIND(\"/\",SNPs!B1436)+1),\"\")","v":""},{"$f":"IF(SNPs!B1436<>\"\",SNPs!B1436,\"\")","v":""}]
[{"$f":"IF(SNPs!A1437<>\"\",SNPs!A1437,\"\")","v":""},{"$f":"IF(SNPs!B1437<>\"\",MID(SNPs!B1437,FIND(\"[\",SNPs!B1437)+1,FIND(\"/\",SNPs!B1437)-FIND(\"[\",SNPs!B1437)-1),\"\")","v":""},{"$f":"IF(SNPs!B1437<>\"\",MID(SNPs!B1437,FIND(\"[\",SNPs!B1437)+3,FIND(\"/\",SNPs!B1437)-FIND(\"/\",SNPs!B1437)+1),\"\")","v":""},{"$f":"IF(SNPs!B1437<>\"\",SNPs!B1437,\"\")","v":""}]
[{"$f":"IF(SNPs!A1438<>\"\",SNPs!A1438,\"\")","v":""},{"$f":"IF(SNPs!B1438<>\"\",MID(SNPs!B1438,FIND(\"[\",SNPs!B1438)+1,FIND(\"/\",SNPs!B1438)-FIND(\"[\",SNPs!B1438)-1),\"\")","v":""},{"$f":"IF(SNPs!B1438<>\"\",MID(SNPs!B1438,FIND(\"[\",SNPs!B1438)+3,FIND(\"/\",SNPs!B1438)-FIND(\"/\",SNPs!B1438)+1),\"\")","v":""},{"$f":"IF(SNPs!B1438<>\"\",SNPs!B1438,\"\")","v":""}]
[{"$f":"IF(SNPs!A1439<>\"\",SNPs!A1439,\"\")","v":""},{"$f":"IF(SNPs!B1439<>\"\",MID(SNPs!B1439,FIND(\"[\",SNPs!B1439)+1,FIND(\"/\",SNPs!B1439)-FIND(\"[\",SNPs!B1439)-1),\"\")","v":""},{"$f":"IF(SNPs!B1439<>\"\",MID(SNPs!B1439,FIND(\"[\",SNPs!B1439)+3,FIND(\"/\",SNPs!B1439)-FIND(\"/\",SNPs!B1439)+1),\"\")","v":""},{"$f":"IF(SNPs!B1439<>\"\",SNPs!B1439,\"\")","v":""}]
[{"$f":"IF(SNPs!A1440<>\"\",SNPs!A1440,\"\")","v":""},{"$f":"IF(SNPs!B1440<>\"\",MID(SNPs!B1440,FIND(\"[\",SNPs!B1440)+1,FIND(\"/\",SNPs!B1440)-FIND(\"[\",SNPs!B1440)-1),\"\")","v":""},{"$f":"IF(SNPs!B1440<>\"\",MID(SNPs!B1440,FIND(\"[\",SNPs!B1440)+3,FIND(\"/\",SNPs!B1440)-FIND(\"/\",SNPs!B1440)+1),\"\")","v":""},{"$f":"IF(SNPs!B1440<>\"\",SNPs!B1440,\"\")","v":""}]
[{"$f":"IF(SNPs!A1441<>\"\",SNPs!A1441,\"\")","v":""},{"$f":"IF(SNPs!B1441<>\"\",MID(SNPs!B1441,FIND(\"[\",SNPs!B1441)+1,FIND(\"/\",SNPs!B1441)-FIND(\"[\",SNPs!B1441)-1),\"\")","v":""},{"$f":"IF(SNPs!B1441<>\"\",MID(SNPs!B1441,FIND(\"[\",SNPs!B1441)+3,FIND(\"/\",SNPs!B1441)-FIND(\"/\",SNPs!B1441)+1),\"\")","v":""},{"$f":"IF(SNPs!B1441<>\"\",SNPs!B1441,\"\")","v":""}]
[{"$f":"IF(SNPs!A1442<>\"\",SNPs!A1442,\"\")","v":""},{"$f":"IF(SNPs!B1442<>\"\",MID(SNPs!B1442,FIND(\"[\",SNPs!B1442)+1,FIND(\"/\",SNPs!B1442)-FIND(\"[\",SNPs!B1442)-1),\"\")","v":""},{"$f":"IF(SNPs!B1442<>\"\",MID(SNPs!B1442,FIND(\"[\",SNPs!B1442)+3,FIND(\"/\",SNPs!B1442)-FIND(\"/\",SNPs!B1442)+1),\"\")","v":""},{"$f":"IF(SNPs!B1442<>\"\",SNPs!B1442,\"\")","v":""}]
[{"$f":"IF(SNPs!A1443<>\"\",SNPs!A1443,\"\")","v":""},{"$f":"IF(SNPs!B1443<>\"\",MID(SNPs!B1443,FIND(\"[\",SNPs!B1443)+1,FIND(\"/\",SNPs!B1443)-FIND(\"[\",SNPs!B1443)-1),\"\")","v":""},{"$f":"IF(SNPs!B1443<>\"\",MID(SNPs!B1443,FIND(\"[\",SNPs!B1443)+3,FIND(\"/\",SNPs!B1443)-FIND(\"/\",SNPs!B1443)+1),\"\")","v":""},{"$f":"IF(SNPs!B1443<>\"\",SNPs!B1443,\"\")","v":""}]
[{"$f":"IF(SNPs!A1444<>\"\",SNPs!A1444,\"\")","v":""},{"$f":"IF(SNPs!B1444<>\"\",MID(SNPs!B1444,FIND(\"[\",SNPs!B1444)+1,FIND(\"/\",SNPs!B1444)-FIND(\"[\",SNPs!B1444)-1),\"\")","v":""},{"$f":"IF(SNPs!B1444<>\"\",MID(SNPs!B1444,FIND(\"[\",SNPs!B1444)+3,FIND(\"/\",SNPs!B1444)-FIND(\"/\",SNPs!B1444)+1),\"\")","v":""},{"$f":"IF(SNPs!B1444<>\"\",SNPs!B1444,\"\")","v":""}]
[{"$f":"IF(SNPs!A1445<>\"\",SNPs!A1445,\"\")","v":""},{"$f":"IF(SNPs!B1445<>\"\",MID(SNPs!B1445,FIND(\"[\",SNPs!B1445)+1,FIND(\"/\",SNPs!B1445)-FIND(\"[\",SNPs!B1445)-1),\"\")","v":""},{"$f":"IF(SNPs!B1445<>\"\",MID(SNPs!B1445,FIND(\"[\",SNPs!B1445)+3,FIND(\"/\",SNPs!B1445)-FIND(\"/\",SNPs!B1445)+1),\"\")","v":""},{"$f":"IF(SNPs!B1445<>\"\",SNPs!B1445,\"\")","v":""}]
[{"$f":"IF(SNPs!A1446<>\"\",SNPs!A1446,\"\")","v":""},{"$f":"IF(SNPs!B1446<>\"\",MID(SNPs!B1446,FIND(\"[\",SNPs!B1446)+1,FIND(\"/\",SNPs!B1446)-FIND(\"[\",SNPs!B1446)-1),\"\")","v":""},{"$f":"IF(SNPs!B1446<>\"\",MID(SNPs!B1446,FIND(\"[\",SNPs!B1446)+3,FIND(\"/\",SNPs!B1446)-FIND(\"/\",SNPs!B1446)+1),\"\")","v":""},{"$f":"IF(SNPs!B1446<>\"\",SNPs!B1446,\"\")","v":""}]
[{"$f":"IF(SNPs!A1447<>\"\",SNPs!A1447,\"\")","v":""},{"$f":"IF(SNPs!B1447<>\"\",MID(SNPs!B1447,FIND(\"[\",SNPs!B1447)+1,FIND(\"/\",SNPs!B1447)-FIND(\"[\",SNPs!B1447)-1),\"\")","v":""},{"$f":"IF(SNPs!B1447<>\"\",MID(SNPs!B1447,FIND(\"[\",SNPs!B1447)+3,FIND(\"/\",SNPs!B1447)-FIND(\"/\",SNPs!B1447)+1),\"\")","v":""},{"$f":"IF(SNPs!B1447<>\"\",SNPs!B1447,\"\")","v":""}]
[{"$f":"IF(SNPs!A1448<>\"\",SNPs!A1448,\"\")","v":""},{"$f":"IF(SNPs!B1448<>\"\",MID(SNPs!B1448,FIND(\"[\",SNPs!B1448)+1,FIND(\"/\",SNPs!B1448)-FIND(\"[\",SNPs!B1448)-1),\"\")","v":""},{"$f":"IF(SNPs!B1448<>\"\",MID(SNPs!B1448,FIND(\"[\",SNPs!B1448)+3,FIND(\"/\",SNPs!B1448)-FIND(\"/\",SNPs!B1448)+1),\"\")","v":""},{"$f":"IF(SNPs!B1448<>\"\",SNPs!B1448,\"\")","v":""}]
[{"$f":"IF(SNPs!A1449<>\"\",SNPs!A1449,\"\")","v":""},{"$f":"IF(SNPs!B1449<>\"\",MID(SNPs!B1449,FIND(\"[\",SNPs!B1449)+1,FIND(\"/\",SNPs!B1449)-FIND(\"[\",SNPs!B1449)-1),\"\")","v":""},{"$f":"IF(SNPs!B1449<>\"\",MID(SNPs!B1449,FIND(\"[\",SNPs!B1449)+3,FIND(\"/\",SNPs!B1449)-FIND(\"/\",SNPs!B1449)+1),\"\")","v":""},{"$f":"IF(SNPs!B1449<>\"\",SNPs!B1449,\"\")","v":""}]
[{"$f":"IF(SNPs!A1450<>\"\",SNPs!A1450,\"\")","v":""},{"$f":"IF(SNPs!B1450<>\"\",MID(SNPs!B1450,FIND(\"[\",SNPs!B1450)+1,FIND(\"/\",SNPs!B1450)-FIND(\"[\",SNPs!B1450)-1),\"\")","v":""},{"$f":"IF(SNPs!B1450<>\"\",MID(SNPs!B1450,FIND(\"[\",SNPs!B1450)+3,FIND(\"/\",SNPs!B1450)-FIND(\"/\",SNPs!B1450)+1),\"\")","v":""},{"$f":"IF(SNPs!B1450<>\"\",SNPs!B1450,\"\")","v":""}]
[{"$f":"IF(SNPs!A1451<>\"\",SNPs!A1451,\"\")","v":""},{"$f":"IF(SNPs!B1451<>\"\",MID(SNPs!B1451,FIND(\"[\",SNPs!B1451)+1,FIND(\"/\",SNPs!B1451)-FIND(\"[\",SNPs!B1451)-1),\"\")","v":""},{"$f":"IF(SNPs!B1451<>\"\",MID(SNPs!B1451,FIND(\"[\",SNPs!B1451)+3,FIND(\"/\",SNPs!B1451)-FIND(\"/\",SNPs!B1451)+1),\"\")","v":""},{"$f":"IF(SNPs!B1451<>\"\",SNPs!B1451,\"\")","v":""}]
[{"$f":"IF(SNPs!A1452<>\"\",SNPs!A1452,\"\")","v":""},{"$f":"IF(SNPs!B1452<>\"\",MID(SNPs!B1452,FIND(\"[\",SNPs!B1452)+1,FIND(\"/\",SNPs!B1452)-FIND(\"[\",SNPs!B1452)-1),\"\")","v":""},{"$f":"IF(SNPs!B1452<>\"\",MID(SNPs!B1452,FIND(\"[\",SNPs!B1452)+3,FIND(\"/\",SNPs!B1452)-FIND(\"/\",SNPs!B1452)+1),\"\")","v":""},{"$f":"IF(SNPs!B1452<>\"\",SNPs!B1452,\"\")","v":""}]
[{"$f":"IF(SNPs!A1453<>\"\",SNPs!A1453,\"\")","v":""},{"$f":"IF(SNPs!B1453<>\"\",MID(SNPs!B1453,FIND(\"[\",SNPs!B1453)+1,FIND(\"/\",SNPs!B1453)-FIND(\"[\",SNPs!B1453)-1),\"\")","v":""},{"$f":"IF(SNPs!B1453<>\"\",MID(SNPs!B1453,FIND(\"[\",SNPs!B1453)+3,FIND(\"/\",SNPs!B1453)-FIND(\"/\",SNPs!B1453)+1),\"\")","v":""},{"$f":"IF(SNPs!B1453<>\"\",SNPs!B1453,\"\")","v":""}]
[{"$f":"IF(SNPs!A1454<>\"\",SNPs!A1454,\"\")","v":""},{"$f":"IF(SNPs!B1454<>\"\",MID(SNPs!B1454,FIND(\"[\",SNPs!B1454)+1,FIND(\"/\",SNPs!B1454)-FIND(\"[\",SNPs!B1454)-1),\"\")","v":""},{"$f":"IF(SNPs!B1454<>\"\",MID(SNPs!B1454,FIND(\"[\",SNPs!B1454)+3,FIND(\"/\",SNPs!B1454)-FIND(\"/\",SNPs!B1454)+1),\"\")","v":""},{"$f":"IF(SNPs!B1454<>\"\",SNPs!B1454,\"\")","v":""}]
[{"$f":"IF(SNPs!A1455<>\"\",SNPs!A1455,\"\")","v":""},{"$f":"IF(SNPs!B1455<>\"\",MID(SNPs!B1455,FIND(\"[\",SNPs!B1455)+1,FIND(\"/\",SNPs!B1455)-FIND(\"[\",SNPs!B1455)-1),\"\")","v":""},{"$f":"IF(SNPs!B1455<>\"\",MID(SNPs!B1455,FIND(\"[\",SNPs!B1455)+3,FIND(\"/\",SNPs!B1455)-FIND(\"/\",SNPs!B1455)+1),\"\")","v":""},{"$f":"IF(SNPs!B1455<>\"\",SNPs!B1455,\"\")","v":""}]
[{"$f":"IF(SNPs!A1456<>\"\",SNPs!A1456,\"\")","v":""},{"$f":"IF(SNPs!B1456<>\"\",MID(SNPs!B1456,FIND(\"[\",SNPs!B1456)+1,FIND(\"/\",SNPs!B1456)-FIND(\"[\",SNPs!B1456)-1),\"\")","v":""},{"$f":"IF(SNPs!B1456<>\"\",MID(SNPs!B1456,FIND(\"[\",SNPs!B1456)+3,FIND(\"/\",SNPs!B1456)-FIND(\"/\",SNPs!B1456)+1),\"\")","v":""},{"$f":"IF(SNPs!B1456<>\"\",SNPs!B1456,\"\")","v":""}]
[{"$f":"IF(SNPs!A1457<>\"\",SNPs!A1457,\"\")","v":""},{"$f":"IF(SNPs!B1457<>\"\",MID(SNPs!B1457,FIND(\"[\",SNPs!B1457)+1,FIND(\"/\",SNPs!B1457)-FIND(\"[\",SNPs!B1457)-1),\"\")","v":""},{"$f":"IF(SNPs!B1457<>\"\",MID(SNPs!B1457,FIND(\"[\",SNPs!B1457)+3,FIND(\"/\",SNPs!B1457)-FIND(\"/\",SNPs!B1457)+1),\"\")","v":""},{"$f":"IF(SNPs!B1457<>\"\",SNPs!B1457,\"\")","v":""}]
[{"$f":"IF(SNPs!A1458<>\"\",SNPs!A1458,\"\")","v":""},{"$f":"IF(SNPs!B1458<>\"\",MID(SNPs!B1458,FIND(\"[\",SNPs!B1458)+1,FIND(\"/\",SNPs!B1458)-FIND(\"[\",SNPs!B1458)-1),\"\")","v":""},{"$f":"IF(SNPs!B1458<>\"\",MID(SNPs!B1458,FIND(\"[\",SNPs!B1458)+3,FIND(\"/\",SNPs!B1458)-FIND(\"/\",SNPs!B1458)+1),\"\")","v":""},{"$f":"IF(SNPs!B1458<>\"\",SNPs!B1458,\"\")","v":""}]
[{"$f":"IF(SNPs!A1459<>\"\",SNPs!A1459,\"\")","v":""},{"$f":"IF(SNPs!B1459<>\"\",MID(SNPs!B1459,FIND(\"[\",SNPs!B1459)+1,FIND(\"/\",SNPs!B1459)-FIND(\"[\",SNPs!B1459)-1),\"\")","v":""},{"$f":"IF(SNPs!B1459<>\"\",MID(SNPs!B1459,FIND(\"[\",SNPs!B1459)+3,FIND(\"/\",SNPs!B1459)-FIND(\"/\",SNPs!B1459)+1),\"\")","v":""},{"$f":"IF(SNPs!B1459<>\"\",SNPs!B1459,\"\")","v":""}]
[{"$f":"IF(SNPs!A1460<>\"\",SNPs!A1460,\"\")","v":""},{"$f":"IF(SNPs!B1460<>\"\",MID(SNPs!B1460,FIND(\"[\",SNPs!B1460)+1,FIND(\"/\",SNPs!B1460)-FIND(\"[\",SNPs!B1460)-1),\"\")","v":""},{"$f":"IF(SNPs!B1460<>\"\",MID(SNPs!B1460,FIND(\"[\",SNPs!B1460)+3,FIND(\"/\",SNPs!B1460)-FIND(\"/\",SNPs!B1460)+1),\"\")","v":""},{"$f":"IF(SNPs!B1460<>\"\",SNPs!B1460,\"\")","v":""}]
[{"$f":"IF(SNPs!A1461<>\"\",SNPs!A1461,\"\")","v":""},{"$f":"IF(SNPs!B1461<>\"\",MID(SNPs!B1461,FIND(\"[\",SNPs!B1461)+1,FIND(\"/\",SNPs!B1461)-FIND(\"[\",SNPs!B1461)-1),\"\")","v":""},{"$f":"IF(SNPs!B1461<>\"\",MID(SNPs!B1461,FIND(\"[\",SNPs!B1461)+3,FIND(\"/\",SNPs!B1461)-FIND(\"/\",SNPs!B1461)+1),\"\")","v":""},{"$f":"IF(SNPs!B1461<>\"\",SNPs!B1461,\"\")","v":""}]
[{"$f":"IF(SNPs!A1462<>\"\",SNPs!A1462,\"\")","v":""},{"$f":"IF(SNPs!B1462<>\"\",MID(SNPs!B1462,FIND(\"[\",SNPs!B1462)+1,FIND(\"/\",SNPs!B1462)-FIND(\"[\",SNPs!B1462)-1),\"\")","v":""},{"$f":"IF(SNPs!B1462<>\"\",MID(SNPs!B1462,FIND(\"[\",SNPs!B1462)+3,FIND(\"/\",SNPs!B1462)-FIND(\"/\",SNPs!B1462)+1),\"\")","v":""},{"$f":"IF(SNPs!B1462<>\"\",SNPs!B1462,\"\")","v":""}]
[{"$f":"IF(SNPs!A1463<>\"\",SNPs!A1463,\"\")","v":""},{"$f":"IF(SNPs!B1463<>\"\",MID(SNPs!B1463,FIND(\"[\",SNPs!B1463)+1,FIND(\"/\",SNPs!B1463)-FIND(\"[\",SNPs!B1463)-1),\"\")","v":""},{"$f":"IF(SNPs!B1463<>\"\",MID(SNPs!B1463,FIND(\"[\",SNPs!B1463)+3,FIND(\"/\",SNPs!B1463)-FIND(\"/\",SNPs!B1463)+1),\"\")","v":""},{"$f":"IF(SNPs!B1463<>\"\",SNPs!B1463,\"\")","v":""}]
[{"$f":"IF(SNPs!A1464<>\"\",SNPs!A1464,\"\")","v":""},{"$f":"IF(SNPs!B1464<>\"\",MID(SNPs!B1464,FIND(\"[\",SNPs!B1464)+1,FIND(\"/\",SNPs!B1464)-FIND(\"[\",SNPs!B1464)-1),\"\")","v":""},{"$f":"IF(SNPs!B1464<>\"\",MID(SNPs!B1464,FIND(\"[\",SNPs!B1464)+3,FIND(\"/\",SNPs!B1464)-FIND(\"/\",SNPs!B1464)+1),\"\")","v":""},{"$f":"IF(SNPs!B1464<>\"\",SNPs!B1464,\"\")","v":""}]
[{"$f":"IF(SNPs!A1465<>\"\",SNPs!A1465,\"\")","v":""},{"$f":"IF(SNPs!B1465<>\"\",MID(SNPs!B1465,FIND(\"[\",SNPs!B1465)+1,FIND(\"/\",SNPs!B1465)-FIND(\"[\",SNPs!B1465)-1),\"\")","v":""},{"$f":"IF(SNPs!B1465<>\"\",MID(SNPs!B1465,FIND(\"[\",SNPs!B1465)+3,FIND(\"/\",SNPs!B1465)-FIND(\"/\",SNPs!B1465)+1),\"\")","v":""},{"$f":"IF(SNPs!B1465<>\"\",SNPs!B1465,\"\")","v":""}]
[{"$f":"IF(SNPs!A1466<>\"\",SNPs!A1466,\"\")","v":""},{"$f":"IF(SNPs!B1466<>\"\",MID(SNPs!B1466,FIND(\"[\",SNPs!B1466)+1,FIND(\"/\",SNPs!B1466)-FIND(\"[\",SNPs!B1466)-1),\"\")","v":""},{"$f":"IF(SNPs!B1466<>\"\",MID(SNPs!B1466,FIND(\"[\",SNPs!B1466)+3,FIND(\"/\",SNPs!B1466)-FIND(\"/\",SNPs!B1466)+1),\"\")","v":""},{"$f":"IF(SNPs!B1466<>\"\",SNPs!B1466,\"\")","v":""}]
[{"$f":"IF(SNPs!A1467<>\"\",SNPs!A1467,\"\")","v":""},{"$f":"IF(SNPs!B1467<>\"\",MID(SNPs!B1467,FIND(\"[\",SNPs!B1467)+1,FIND(\"/\",SNPs!B1467)-FIND(\"[\",SNPs!B1467)-1),\"\")","v":""},{"$f":"IF(SNPs!B1467<>\"\",MID(SNPs!B1467,FIND(\"[\",SNPs!B1467)+3,FIND(\"/\",SNPs!B1467)-FIND(\"/\",SNPs!B1467)+1),\"\")","v":""},{"$f":"IF(SNPs!B1467<>\"\",SNPs!B1467,\"\")","v":""}]
[{"$f":"IF(SNPs!A1468<>\"\",SNPs!A1468,\"\")","v":""},{"$f":"IF(SNPs!B1468<>\"\",MID(SNPs!B1468,FIND(\"[\",SNPs!B1468)+1,FIND(\"/\",SNPs!B1468)-FIND(\"[\",SNPs!B1468)-1),\"\")","v":""},{"$f":"IF(SNPs!B1468<>\"\",MID(SNPs!B1468,FIND(\"[\",SNPs!B1468)+3,FIND(\"/\",SNPs!B1468)-FIND(\"/\",SNPs!B1468)+1),\"\")","v":""},{"$f":"IF(SNPs!B1468<>\"\",SNPs!B1468,\"\")","v":""}]
[{"$f":"IF(SNPs!A1469<>\"\",SNPs!A1469,\"\")","v":""},{"$f":"IF(SNPs!B1469<>\"\",MID(SNPs!B1469,FIND(\"[\",SNPs!B1469)+1,FIND(\"/\",SNPs!B1469)-FIND(\"[\",SNPs!B1469)-1),\"\")","v":""},{"$f":"IF(SNPs!B1469<>\"\",MID(SNPs!B1469,FIND(\"[\",SNPs!B1469)+3,FIND(\"/\",SNPs!B1469)-FIND(\"/\",SNPs!B1469)+1),\"\")","v":""},{"$f":"IF(SNPs!B1469<>\"\",SNPs!B1469,\"\")","v":""}]
[{"$f":"IF(SNPs!A1470<>\"\",SNPs!A1470,\"\")","v":""},{"$f":"IF(SNPs!B1470<>\"\",MID(SNPs!B1470,FIND(\"[\",SNPs!B1470)+1,FIND(\"/\",SNPs!B1470)-FIND(\"[\",SNPs!B1470)-1),\"\")","v":""},{"$f":"IF(SNPs!B1470<>\"\",MID(SNPs!B1470,FIND(\"[\",SNPs!B1470)+3,FIND(\"/\",SNPs!B1470)-FIND(\"/\",SNPs!B1470)+1),\"\")","v":""},{"$f":"IF(SNPs!B1470<>\"\",SNPs!B1470,\"\")","v":""}]
[{"$f":"IF(SNPs!A1471<>\"\",SNPs!A1471,\"\")","v":""},{"$f":"IF(SNPs!B1471<>\"\",MID(SNPs!B1471,FIND(\"[\",SNPs!B1471)+1,FIND(\"/\",SNPs!B1471)-FIND(\"[\",SNPs!B1471)-1),\"\")","v":""},{"$f":"IF(SNPs!B1471<>\"\",MID(SNPs!B1471,FIND(\"[\",SNPs!B1471)+3,FIND(\"/\",SNPs!B1471)-FIND(\"/\",SNPs!B1471)+1),\"\")","v":""},{"$f":"IF(SNPs!B1471<>\"\",SNPs!B1471,\"\")","v":""}]
[{"$f":"IF(SNPs!A1472<>\"\",SNPs!A1472,\"\")","v":""},{"$f":"IF(SNPs!B1472<>\"\",MID(SNPs!B1472,FIND(\"[\",SNPs!B1472)+1,FIND(\"/\",SNPs!B1472)-FIND(\"[\",SNPs!B1472)-1),\"\")","v":""},{"$f":"IF(SNPs!B1472<>\"\",MID(SNPs!B1472,FIND(\"[\",SNPs!B1472)+3,FIND(\"/\",SNPs!B1472)-FIND(\"/\",SNPs!B1472)+1),\"\")","v":""},{"$f":"IF(SNPs!B1472<>\"\",SNPs!B1472,\"\")","v":""}]
[{"$f":"IF(SNPs!A1473<>\"\",SNPs!A1473,\"\")","v":""},{"$f":"IF(SNPs!B1473<>\"\",MID(SNPs!B1473,FIND(\"[\",SNPs!B1473)+1,FIND(\"/\",SNPs!B1473)-FIND(\"[\",SNPs!B1473)-1),\"\")","v":""},{"$f":"IF(SNPs!B1473<>\"\",MID(SNPs!B1473,FIND(\"[\",SNPs!B1473)+3,FIND(\"/\",SNPs!B1473)-FIND(\"/\",SNPs!B1473)+1),\"\")","v":""},{"$f":"IF(SNPs!B1473<>\"\",SNPs!B1473,\"\")","v":""}]
[{"$f":"IF(SNPs!A1474<>\"\",SNPs!A1474,\"\")","v":""},{"$f":"IF(SNPs!B1474<>\"\",MID(SNPs!B1474,FIND(\"[\",SNPs!B1474)+1,FIND(\"/\",SNPs!B1474)-FIND(\"[\",SNPs!B1474)-1),\"\")","v":""},{"$f":"IF(SNPs!B1474<>\"\",MID(SNPs!B1474,FIND(\"[\",SNPs!B1474)+3,FIND(\"/\",SNPs!B1474)-FIND(\"/\",SNPs!B1474)+1),\"\")","v":""},{"$f":"IF(SNPs!B1474<>\"\",SNPs!B1474,\"\")","v":""}]
[{"$f":"IF(SNPs!A1475<>\"\",SNPs!A1475,\"\")","v":""},{"$f":"IF(SNPs!B1475<>\"\",MID(SNPs!B1475,FIND(\"[\",SNPs!B1475)+1,FIND(\"/\",SNPs!B1475)-FIND(\"[\",SNPs!B1475)-1),\"\")","v":""},{"$f":"IF(SNPs!B1475<>\"\",MID(SNPs!B1475,FIND(\"[\",SNPs!B1475)+3,FIND(\"/\",SNPs!B1475)-FIND(\"/\",SNPs!B1475)+1),\"\")","v":""},{"$f":"IF(SNPs!B1475<>\"\",SNPs!B1475,\"\")","v":""}]
[{"$f":"IF(SNPs!A1476<>\"\",SNPs!A1476,\"\")","v":""},{"$f":"IF(SNPs!B1476<>\"\",MID(SNPs!B1476,FIND(\"[\",SNPs!B1476)+1,FIND(\"/\",SNPs!B1476)-FIND(\"[\",SNPs!B1476)-1),\"\")","v":""},{"$f":"IF(SNPs!B1476<>\"\",MID(SNPs!B1476,FIND(\"[\",SNPs!B1476)+3,FIND(\"/\",SNPs!B1476)-FIND(\"/\",SNPs!B1476)+1),\"\")","v":""},{"$f":"IF(SNPs!B1476<>\"\",SNPs!B1476,\"\")","v":""}]
[{"$f":"IF(SNPs!A1477<>\"\",SNPs!A1477,\"\")","v":""},{"$f":"IF(SNPs!B1477<>\"\",MID(SNPs!B1477,FIND(\"[\",SNPs!B1477)+1,FIND(\"/\",SNPs!B1477)-FIND(\"[\",SNPs!B1477)-1),\"\")","v":""},{"$f":"IF(SNPs!B1477<>\"\",MID(SNPs!B1477,FIND(\"[\",SNPs!B1477)+3,FIND(\"/\",SNPs!B1477)-FIND(\"/\",SNPs!B1477)+1),\"\")","v":""},{"$f":"IF(SNPs!B1477<>\"\",SNPs!B1477,\"\")","v":""}]
[{"$f":"IF(SNPs!A1478<>\"\",SNPs!A1478,\"\")","v":""},{"$f":"IF(SNPs!B1478<>\"\",MID(SNPs!B1478,FIND(\"[\",SNPs!B1478)+1,FIND(\"/\",SNPs!B1478)-FIND(\"[\",SNPs!B1478)-1),\"\")","v":""},{"$f":"IF(SNPs!B1478<>\"\",MID(SNPs!B1478,FIND(\"[\",SNPs!B1478)+3,FIND(\"/\",SNPs!B1478)-FIND(\"/\",SNPs!B1478)+1),\"\")","v":""},{"$f":"IF(SNPs!B1478<>\"\",SNPs!B1478,\"\")","v":""}]
[{"$f":"IF(SNPs!A1479<>\"\",SNPs!A1479,\"\")","v":""},{"$f":"IF(SNPs!B1479<>\"\",MID(SNPs!B1479,FIND(\"[\",SNPs!B1479)+1,FIND(\"/\",SNPs!B1479)-FIND(\"[\",SNPs!B1479)-1),\"\")","v":""},{"$f":"IF(SNPs!B1479<>\"\",MID(SNPs!B1479,FIND(\"[\",SNPs!B1479)+3,FIND(\"/\",SNPs!B1479)-FIND(\"/\",SNPs!B1479)+1),\"\")","v":""},{"$f":"IF(SNPs!B1479<>\"\",SNPs!B1479,\"\")","v":""}]
[{"$f":"IF(SNPs!A1480<>\"\",SNPs!A1480,\"\")","v":""},{"$f":"IF(SNPs!B1480<>\"\",MID(SNPs!B1480,FIND(\"[\",SNPs!B1480)+1,FIND(\"/\",SNPs!B1480)-FIND(\"[\",SNPs!B1480)-1),\"\")","v":""},{"$f":"IF(SNPs!B1480<>\"\",MID(SNPs!B1480,FIND(\"[\",SNPs!B1480)+3,FIND(\"/\",SNPs!B1480)-FIND(\"/\",SNPs!B1480)+1),\"\")","v":""},{"$f":"IF(SNPs!B1480<>\"\",SNPs!B1480,\"\")","v":""}]
[{"$f":"IF(SNPs!A1481<>\"\",SNPs!A1481,\"\")","v":""},{"$f":"IF(SNPs!B1481<>\"\",MID(SNPs!B1481,FIND(\"[\",SNPs!B1481)+1,FIND(\"/\",SNPs!B1481)-FIND(\"[\",SNPs!B1481)-1),\"\")","v":""},{"$f":"IF(SNPs!B1481<>\"\",MID(SNPs!B1481,FIND(\"[\",SNPs!B1481)+3,FIND(\"/\",SNPs!B1481)-FIND(\"/\",SNPs!B1481)+1),\"\")","v":""},{"$f":"IF(SNPs!B1481<>\"\",SNPs!B1481,\"\")","v":""}]
[{"$f":"IF(SNPs!A1482<>\"\",SNPs!A1482,\"\")","v":""},{"$f":"IF(SNPs!B1482<>\"\",MID(SNPs!B1482,FIND(\"[\",SNPs!B1482)+1,FIND(\"/\",SNPs!B1482)-FIND(\"[\",SNPs!B1482)-1),\"\")","v":""},{"$f":"IF(SNPs!B1482<>\"\",MID(SNPs!B1482,FIND(\"[\",SNPs!B1482)+3,FIND(\"/\",SNPs!B1482)-FIND(\"/\",SNPs!B1482)+1),\"\")","v":""},{"$f":"IF(SNPs!B1482<>\"\",SNPs!B1482,\"\")","v":""}]
[{"$f":"IF(SNPs!A1483<>\"\",SNPs!A1483,\"\")","v":""},{"$f":"IF(SNPs!B1483<>\"\",MID(SNPs!B1483,FIND(\"[\",SNPs!B1483)+1,FIND(\"/\",SNPs!B1483)-FIND(\"[\",SNPs!B1483)-1),\"\")","v":""},{"$f":"IF(SNPs!B1483<>\"\",MID(SNPs!B1483,FIND(\"[\",SNPs!B1483)+3,FIND(\"/\",SNPs!B1483)-FIND(\"/\",SNPs!B1483)+1),\"\")","v":""},{"$f":"IF(SNPs!B1483<>\"\",SNPs!B1483,\"\")","v":""}]
[{"$f":"IF(SNPs!A1484<>\"\",SNPs!A1484,\"\")","v":""},{"$f":"IF(SNPs!B1484<>\"\",MID(SNPs!B1484,FIND(\"[\",SNPs!B1484)+1,FIND(\"/\",SNPs!B1484)-FIND(\"[\",SNPs!B1484)-1),\"\")","v":""},{"$f":"IF(SNPs!B1484<>\"\",MID(SNPs!B1484,FIND(\"[\",SNPs!B1484)+3,FIND(\"/\",SNPs!B1484)-FIND(\"/\",SNPs!B1484)+1),\"\")","v":""},{"$f":"IF(SNPs!B1484<>\"\",SNPs!B1484,\"\")","v":""}]
[{"$f":"IF(SNPs!A1485<>\"\",SNPs!A1485,\"\")","v":""},{"$f":"IF(SNPs!B1485<>\"\",MID(SNPs!B1485,FIND(\"[\",SNPs!B1485)+1,FIND(\"/\",SNPs!B1485)-FIND(\"[\",SNPs!B1485)-1),\"\")","v":""},{"$f":"IF(SNPs!B1485<>\"\",MID(SNPs!B1485,FIND(\"[\",SNPs!B1485)+3,FIND(\"/\",SNPs!B1485)-FIND(\"/\",SNPs!B1485)+1),\"\")","v":""},{"$f":"IF(SNPs!B1485<>\"\",SNPs!B1485,\"\")","v":""}]
[{"$f":"IF(SNPs!A1486<>\"\",SNPs!A1486,\"\")","v":""},{"$f":"IF(SNPs!B1486<>\"\",MID(SNPs!B1486,FIND(\"[\",SNPs!B1486)+1,FIND(\"/\",SNPs!B1486)-FIND(\"[\",SNPs!B1486)-1),\"\")","v":""},{"$f":"IF(SNPs!B1486<>\"\",MID(SNPs!B1486,FIND(\"[\",SNPs!B1486)+3,FIND(\"/\",SNPs!B1486)-FIND(\"/\",SNPs!B1486)+1),\"\")","v":""},{"$f":"IF(SNPs!B1486<>\"\",SNPs!B1486,\"\")","v":""}]
[{"$f":"IF(SNPs!A1487<>\"\",SNPs!A1487,\"\")","v":""},{"$f":"IF(SNPs!B1487<>\"\",MID(SNPs!B1487,FIND(\"[\",SNPs!B1487)+1,FIND(\"/\",SNPs!B1487)-FIND(\"[\",SNPs!B1487)-1),\"\")","v":""},{"$f":"IF(SNPs!B1487<>\"\",MID(SNPs!B1487,FIND(\"[\",SNPs!B1487)+3,FIND(\"/\",SNPs!B1487)-FIND(\"/\",SNPs!B1487)+1),\"\")","v":""},{"$f":"IF(SNPs!B1487<>\"\",SNPs!B1487,\"\")","v":""}]
[{"$f":"IF(SNPs!A1488<>\"\",SNPs!A1488,\"\")","v":""},{"$f":"IF(SNPs!B1488<>\"\",MID(SNPs!B1488,FIND(\"[\",SNPs!B1488)+1,FIND(\"/\",SNPs!B1488)-FIND(\"[\",SNPs!B1488)-1),\"\")","v":""},{"$f":"IF(SNPs!B1488<>\"\",MID(SNPs!B1488,FIND(\"[\",SNPs!B1488)+3,FIND(\"/\",SNPs!B1488)-FIND(\"/\",SNPs!B1488)+1),\"\")","v":""},{"$f":"IF(SNPs!B1488<>\"\",SNPs!B1488,\"\")","v":""}]
[{"$f":"IF(SNPs!A1489<>\"\",SNPs!A1489,\"\")","v":""},{"$f":"IF(SNPs!B1489<>\"\",MID(SNPs!B1489,FIND(\"[\",SNPs!B1489)+1,FIND(\"/\",SNPs!B1489)-FIND(\"[\",SNPs!B1489)-1),\"\")","v":""},{"$f":"IF(SNPs!B1489<>\"\",MID(SNPs!B1489,FIND(\"[\",SNPs!B1489)+3,FIND(\"/\",SNPs!B1489)-FIND(\"/\",SNPs!B1489)+1),\"\")","v":""},{"$f":"IF(SNPs!B1489<>\"\",SNPs!B1489,\"\")","v":""}]
[{"$f":"IF(SNPs!A1490<>\"\",SNPs!A1490,\"\")","v":""},{"$f":"IF(SNPs!B1490<>\"\",MID(SNPs!B1490,FIND(\"[\",SNPs!B1490)+1,FIND(\"/\",SNPs!B1490)-FIND(\"[\",SNPs!B1490)-1),\"\")","v":""},{"$f":"IF(SNPs!B1490<>\"\",MID(SNPs!B1490,FIND(\"[\",SNPs!B1490)+3,FIND(\"/\",SNPs!B1490)-FIND(\"/\",SNPs!B1490)+1),\"\")","v":""},{"$f":"IF(SNPs!B1490<>\"\",SNPs!B1490,\"\")","v":""}]
[{"$f":"IF(SNPs!A1491<>\"\",SNPs!A1491,\"\")","v":""},{"$f":"IF(SNPs!B1491<>\"\",MID(SNPs!B1491,FIND(\"[\",SNPs!B1491)+1,FIND(\"/\",SNPs!B1491)-FIND(\"[\",SNPs!B1491)-1),\"\")","v":""},{"$f":"IF(SNPs!B1491<>\"\",MID(SNPs!B1491,FIND(\"[\",SNPs!B1491)+3,FIND(\"/\",SNPs!B1491)-FIND(\"/\",SNPs!B1491)+1),\"\")","v":""},{"$f":"IF(SNPs!B1491<>\"\",SNPs!B1491,\"\")","v":""}]
[{"$f":"IF(SNPs!A1492<>\"\",SNPs!A1492,\"\")","v":""},{"$f":"IF(SNPs!B1492<>\"\",MID(SNPs!B1492,FIND(\"[\",SNPs!B1492)+1,FIND(\"/\",SNPs!B1492)-FIND(\"[\",SNPs!B1492)-1),\"\")","v":""},{"$f":"IF(SNPs!B1492<>\"\",MID(SNPs!B1492,FIND(\"[\",SNPs!B1492)+3,FIND(\"/\",SNPs!B1492)-FIND(\"/\",SNPs!B1492)+1),\"\")","v":""},{"$f":"IF(SNPs!B1492<>\"\",SNPs!B1492,\"\")","v":""}]
[{"$f":"IF(SNPs!A1493<>\"\",SNPs!A1493,\"\")","v":""},{"$f":"IF(SNPs!B1493<>\"\",MID(SNPs!B1493,FIND(\"[\",SNPs!B1493)+1,FIND(\"/\",SNPs!B1493)-FIND(\"[\",SNPs!B1493)-1),\"\")","v":""},{"$f":"IF(SNPs!B1493<>\"\",MID(SNPs!B1493,FIND(\"[\",SNPs!B1493)+3,FIND(\"/\",SNPs!B1493)-FIND(\"/\",SNPs!B1493)+1),\"\")","v":""},{"$f":"IF(SNPs!B1493<>\"\",SNPs!B1493,\"\")","v":""}]
[{"$f":"IF(SNPs!A1494<>\"\",SNPs!A1494,\"\")","v":""},{"$f":"IF(SNPs!B1494<>\"\",MID(SNPs!B1494,FIND(\"[\",SNPs!B1494)+1,FIND(\"/\",SNPs!B1494)-FIND(\"[\",SNPs!B1494)-1),\"\")","v":""},{"$f":"IF(SNPs!B1494<>\"\",MID(SNPs!B1494,FIND(\"[\",SNPs!B1494)+3,FIND(\"/\",SNPs!B1494)-FIND(\"/\",SNPs!B1494)+1),\"\")","v":""},{"$f":"IF(SNPs!B1494<>\"\",SNPs!B1494,\"\")","v":""}]
[{"$f":"IF(SNPs!A1495<>\"\",SNPs!A1495,\"\")","v":""},{"$f":"IF(SNPs!B1495<>\"\",MID(SNPs!B1495,FIND(\"[\",SNPs!B1495)+1,FIND(\"/\",SNPs!B1495)-FIND(\"[\",SNPs!B1495)-1),\"\")","v":""},{"$f":"IF(SNPs!B1495<>\"\",MID(SNPs!B1495,FIND(\"[\",SNPs!B1495)+3,FIND(\"/\",SNPs!B1495)-FIND(\"/\",SNPs!B1495)+1),\"\")","v":""},{"$f":"IF(SNPs!B1495<>\"\",SNPs!B1495,\"\")","v":""}]
[{"$f":"IF(SNPs!A1496<>\"\",SNPs!A1496,\"\")","v":""},{"$f":"IF(SNPs!B1496<>\"\",MID(SNPs!B1496,FIND(\"[\",SNPs!B1496)+1,FIND(\"/\",SNPs!B1496)-FIND(\"[\",SNPs!B1496)-1),\"\")","v":""},{"$f":"IF(SNPs!B1496<>\"\",MID(SNPs!B1496,FIND(\"[\",SNPs!B1496)+3,FIND(\"/\",SNPs!B1496)-FIND(\"/\",SNPs!B1496)+1),\"\")","v":""},{"$f":"IF(SNPs!B1496<>\"\",SNPs!B1496,\"\")","v":""}]
[{"$f":"IF(SNPs!A1497<>\"\",SNPs!A1497,\"\")","v":""},{"$f":"IF(SNPs!B1497<>\"\",MID(SNPs!B1497,FIND(\"[\",SNPs!B1497)+1,FIND(\"/\",SNPs!B1497)-FIND(\"[\",SNPs!B1497)-1),\"\")","v":""},{"$f":"IF(SNPs!B1497<>\"\",MID(SNPs!B1497,FIND(\"[\",SNPs!B1497)+3,FIND(\"/\",SNPs!B1497)-FIND(\"/\",SNPs!B1497)+1),\"\")","v":""},{"$f":"IF(SNPs!B1497<>\"\",SNPs!B1497,\"\")","v":""}]
[{"$f":"IF(SNPs!A1498<>\"\",SNPs!A1498,\"\")","v":""},{"$f":"IF(SNPs!B1498<>\"\",MID(SNPs!B1498,FIND(\"[\",SNPs!B1498)+1,FIND(\"/\",SNPs!B1498)-FIND(\"[\",SNPs!B1498)-1),\"\")","v":""},{"$f":"IF(SNPs!B1498<>\"\",MID(SNPs!B1498,FIND(\"[\",SNPs!B1498)+3,FIND(\"/\",SNPs!B1498)-FIND(\"/\",SNPs!B1498)+1),\"\")","v":""},{"$f":"IF(SNPs!B1498<>\"\",SNPs!B1498,\"\")","v":""}]
[{"$f":"IF(SNPs!A1499<>\"\",SNPs!A1499,\"\")","v":""},{"$f":"IF(SNPs!B1499<>\"\",MID(SNPs!B1499,FIND(\"[\",SNPs!B1499)+1,FIND(\"/\",SNPs!B1499)-FIND(\"[\",SNPs!B1499)-1),\"\")","v":""},{"$f":"IF(SNPs!B1499<>\"\",MID(SNPs!B1499,FIND(\"[\",SNPs!B1499)+3,FIND(\"/\",SNPs!B1499)-FIND(\"/\",SNPs!B1499)+1),\"\")","v":""},{"$f":"IF(SNPs!B1499<>\"\",SNPs!B1499,\"\")","v":""}]
[{"$f":"IF(SNPs!A1500<>\"\",SNPs!A1500,\"\")","v":""},{"$f":"IF(SNPs!B1500<>\"\",MID(SNPs!B1500,FIND(\"[\",SNPs!B1500)+1,FIND(\"/\",SNPs!B1500)-FIND(\"[\",SNPs!B1500)-1),\"\")","v":""},{"$f":"IF(SNPs!B1500<>\"\",MID(SNPs!B1500,FIND(\"[\",SNPs!B1500)+3,FIND(\"/\",SNPs!B1500)-FIND(\"/\",SNPs!B1500)+1),\"\")","v":""},{"$f":"IF(SNPs!B1500<>\"\",SNPs!B1500,\"\")","v":""}]
[{"$f":"IF(SNPs!A1501<>\"\",SNPs!A1501,\"\")","v":""},{"$f":"IF(SNPs!B1501<>\"\",MID(SNPs!B1501,FIND(\"[\",SNPs!B1501)+1,FIND(\"/\",SNPs!B1501)-FIND(\"[\",SNPs!B1501)-1),\"\")","v":""},{"$f":"IF(SNPs!B1501<>\"\",MID(SNPs!B1501,FIND(\"[\",SNPs!B1501)+3,FIND(\"/\",SNPs!B1501)-FIND(\"/\",SNPs!B1501)+1),\"\")","v":""},{"$f":"IF(SNPs!B1501<>\"\",SNPs!B1501,\"\")","v":""}]
[{"$f":"IF(SNPs!A1502<>\"\",SNPs!A1502,\"\")","v":""},{"$f":"IF(SNPs!B1502<>\"\",MID(SNPs!B1502,FIND(\"[\",SNPs!B1502)+1,FIND(\"/\",SNPs!B1502)-FIND(\"[\",SNPs!B1502)-1),\"\")","v":""},{"$f":"IF(SNPs!B1502<>\"\",MID(SNPs!B1502,FIND(\"[\",SNPs!B1502)+3,FIND(\"/\",SNPs!B1502)-FIND(\"/\",SNPs!B1502)+1),\"\")","v":""},{"$f":"IF(SNPs!B1502<>\"\",SNPs!B1502,\"\")","v":""}]
[{"$f":"IF(SNPs!A1503<>\"\",SNPs!A1503,\"\")","v":""},{"$f":"IF(SNPs!B1503<>\"\",MID(SNPs!B1503,FIND(\"[\",SNPs!B1503)+1,FIND(\"/\",SNPs!B1503)-FIND(\"[\",SNPs!B1503)-1),\"\")","v":""},{"$f":"IF(SNPs!B1503<>\"\",MID(SNPs!B1503,FIND(\"[\",SNPs!B1503)+3,FIND(\"/\",SNPs!B1503)-FIND(\"/\",SNPs!B1503)+1),\"\")","v":""},{"$f":"IF(SNPs!B1503<>\"\",SNPs!B1503,\"\")","v":""}]
[{"$f":"IF(SNPs!A1504<>\"\",SNPs!A1504,\"\")","v":""},{"$f":"IF(SNPs!B1504<>\"\",MID(SNPs!B1504,FIND(\"[\",SNPs!B1504)+1,FIND(\"/\",SNPs!B1504)-FIND(\"[\",SNPs!B1504)-1),\"\")","v":""},{"$f":"IF(SNPs!B1504<>\"\",MID(SNPs!B1504,FIND(\"[\",SNPs!B1504)+3,FIND(\"/\",SNPs!B1504)-FIND(\"/\",SNPs!B1504)+1),\"\")","v":""},{"$f":"IF(SNPs!B1504<>\"\",SNPs!B1504,\"\")","v":""}]
[{"$f":"IF(SNPs!A1505<>\"\",SNPs!A1505,\"\")","v":""},{"$f":"IF(SNPs!B1505<>\"\",MID(SNPs!B1505,FIND(\"[\",SNPs!B1505)+1,FIND(\"/\",SNPs!B1505)-FIND(\"[\",SNPs!B1505)-1),\"\")","v":""},{"$f":"IF(SNPs!B1505<>\"\",MID(SNPs!B1505,FIND(\"[\",SNPs!B1505)+3,FIND(\"/\",SNPs!B1505)-FIND(\"/\",SNPs!B1505)+1),\"\")","v":""},{"$f":"IF(SNPs!B1505<>\"\",SNPs!B1505,\"\")","v":""}]
[{"$f":"IF(SNPs!A1506<>\"\",SNPs!A1506,\"\")","v":""},{"$f":"IF(SNPs!B1506<>\"\",MID(SNPs!B1506,FIND(\"[\",SNPs!B1506)+1,FIND(\"/\",SNPs!B1506)-FIND(\"[\",SNPs!B1506)-1),\"\")","v":""},{"$f":"IF(SNPs!B1506<>\"\",MID(SNPs!B1506,FIND(\"[\",SNPs!B1506)+3,FIND(\"/\",SNPs!B1506)-FIND(\"/\",SNPs!B1506)+1),\"\")","v":""},{"$f":"IF(SNPs!B1506<>\"\",SNPs!B1506,\"\")","v":""}]
[{"$f":"IF(SNPs!A1507<>\"\",SNPs!A1507,\"\")","v":""},{"$f":"IF(SNPs!B1507<>\"\",MID(SNPs!B1507,FIND(\"[\",SNPs!B1507)+1,FIND(\"/\",SNPs!B1507)-FIND(\"[\",SNPs!B1507)-1),\"\")","v":""},{"$f":"IF(SNPs!B1507<>\"\",MID(SNPs!B1507,FIND(\"[\",SNPs!B1507)+3,FIND(\"/\",SNPs!B1507)-FIND(\"/\",SNPs!B1507)+1),\"\")","v":""},{"$f":"IF(SNPs!B1507<>\"\",SNPs!B1507,\"\")","v":""}]
[{"$f":"IF(SNPs!A1508<>\"\",SNPs!A1508,\"\")","v":""},{"$f":"IF(SNPs!B1508<>\"\",MID(SNPs!B1508,FIND(\"[\",SNPs!B1508)+1,FIND(\"/\",SNPs!B1508)-FIND(\"[\",SNPs!B1508)-1),\"\")","v":""},{"$f":"IF(SNPs!B1508<>\"\",MID(SNPs!B1508,FIND(\"[\",SNPs!B1508)+3,FIND(\"/\",SNPs!B1508)-FIND(\"/\",SNPs!B1508)+1),\"\")","v":""},{"$f":"IF(SNPs!B1508<>\"\",SNPs!B1508,\"\")","v":""}]
[{"$f":"IF(SNPs!A1509<>\"\",SNPs!A1509,\"\")","v":""},{"$f":"IF(SNPs!B1509<>\"\",MID(SNPs!B1509,FIND(\"[\",SNPs!B1509)+1,FIND(\"/\",SNPs!B1509)-FIND(\"[\",SNPs!B1509)-1),\"\")","v":""},{"$f":"IF(SNPs!B1509<>\"\",MID(SNPs!B1509,FIND(\"[\",SNPs!B1509)+3,FIND(\"/\",SNPs!B1509)-FIND(\"/\",SNPs!B1509)+1),\"\")","v":""},{"$f":"IF(SNPs!B1509<>\"\",SNPs!B1509,\"\")","v":""}]
[{"$f":"IF(SNPs!A1510<>\"\",SNPs!A1510,\"\")","v":""},{"$f":"IF(SNPs!B1510<>\"\",MID(SNPs!B1510,FIND(\"[\",SNPs!B1510)+1,FIND(\"/\",SNPs!B1510)-FIND(\"[\",SNPs!B1510)-1),\"\")","v":""},{"$f":"IF(SNPs!B1510<>\"\",MID(SNPs!B1510,FIND(\"[\",SNPs!B1510)+3,FIND(\"/\",SNPs!B1510)-FIND(\"/\",SNPs!B1510)+1),\"\")","v":""},{"$f":"IF(SNPs!B1510<>\"\",SNPs!B1510,\"\")","v":""}]
[{"$f":"IF(SNPs!A1511<>\"\",SNPs!A1511,\"\")","v":""},{"$f":"IF(SNPs!B1511<>\"\",MID(SNPs!B1511,FIND(\"[\",SNPs!B1511)+1,FIND(\"/\",SNPs!B1511)-FIND(\"[\",SNPs!B1511)-1),\"\")","v":""},{"$f":"IF(SNPs!B1511<>\"\",MID(SNPs!B1511,FIND(\"[\",SNPs!B1511)+3,FIND(\"/\",SNPs!B1511)-FIND(\"/\",SNPs!B1511)+1),\"\")","v":""},{"$f":"IF(SNPs!B1511<>\"\",SNPs!B1511,\"\")","v":""}]
[{"$f":"IF(SNPs!A1512<>\"\",SNPs!A1512,\"\")","v":""},{"$f":"IF(SNPs!B1512<>\"\",MID(SNPs!B1512,FIND(\"[\",SNPs!B1512)+1,FIND(\"/\",SNPs!B1512)-FIND(\"[\",SNPs!B1512)-1),\"\")","v":""},{"$f":"IF(SNPs!B1512<>\"\",MID(SNPs!B1512,FIND(\"[\",SNPs!B1512)+3,FIND(\"/\",SNPs!B1512)-FIND(\"/\",SNPs!B1512)+1),\"\")","v":""},{"$f":"IF(SNPs!B1512<>\"\",SNPs!B1512,\"\")","v":""}]
[{"$f":"IF(SNPs!A1513<>\"\",SNPs!A1513,\"\")","v":""},{"$f":"IF(SNPs!B1513<>\"\",MID(SNPs!B1513,FIND(\"[\",SNPs!B1513)+1,FIND(\"/\",SNPs!B1513)-FIND(\"[\",SNPs!B1513)-1),\"\")","v":""},{"$f":"IF(SNPs!B1513<>\"\",MID(SNPs!B1513,FIND(\"[\",SNPs!B1513)+3,FIND(\"/\",SNPs!B1513)-FIND(\"/\",SNPs!B1513)+1),\"\")","v":""},{"$f":"IF(SNPs!B1513<>\"\",SNPs!B1513,\"\")","v":""}]
[{"$f":"IF(SNPs!A1514<>\"\",SNPs!A1514,\"\")","v":""},{"$f":"IF(SNPs!B1514<>\"\",MID(SNPs!B1514,FIND(\"[\",SNPs!B1514)+1,FIND(\"/\",SNPs!B1514)-FIND(\"[\",SNPs!B1514)-1),\"\")","v":""},{"$f":"IF(SNPs!B1514<>\"\",MID(SNPs!B1514,FIND(\"[\",SNPs!B1514)+3,FIND(\"/\",SNPs!B1514)-FIND(\"/\",SNPs!B1514)+1),\"\")","v":""},{"$f":"IF(SNPs!B1514<>\"\",SNPs!B1514,\"\")","v":""}]
[{"$f":"IF(SNPs!A1515<>\"\",SNPs!A1515,\"\")","v":""},{"$f":"IF(SNPs!B1515<>\"\",MID(SNPs!B1515,FIND(\"[\",SNPs!B1515)+1,FIND(\"/\",SNPs!B1515)-FIND(\"[\",SNPs!B1515)-1),\"\")","v":""},{"$f":"IF(SNPs!B1515<>\"\",MID(SNPs!B1515,FIND(\"[\",SNPs!B1515)+3,FIND(\"/\",SNPs!B1515)-FIND(\"/\",SNPs!B1515)+1),\"\")","v":""},{"$f":"IF(SNPs!B1515<>\"\",SNPs!B1515,\"\")","v":""}]
[{"$f":"IF(SNPs!A1516<>\"\",SNPs!A1516,\"\")","v":""},{"$f":"IF(SNPs!B1516<>\"\",MID(SNPs!B1516,FIND(\"[\",SNPs!B1516)+1,FIND(\"/\",SNPs!B1516)-FIND(\"[\",SNPs!B1516)-1),\"\")","v":""},{"$f":"IF(SNPs!B1516<>\"\",MID(SNPs!B1516,FIND(\"[\",SNPs!B1516)+3,FIND(\"/\",SNPs!B1516)-FIND(\"/\",SNPs!B1516)+1),\"\")","v":""},{"$f":"IF(SNPs!B1516<>\"\",SNPs!B1516,\"\")","v":""}]
[{"$f":"IF(SNPs!A1517<>\"\",SNPs!A1517,\"\")","v":""},{"$f":"IF(SNPs!B1517<>\"\",MID(SNPs!B1517,FIND(\"[\",SNPs!B1517)+1,FIND(\"/\",SNPs!B1517)-FIND(\"[\",SNPs!B1517)-1),\"\")","v":""},{"$f":"IF(SNPs!B1517<>\"\",MID(SNPs!B1517,FIND(\"[\",SNPs!B1517)+3,FIND(\"/\",SNPs!B1517)-FIND(\"/\",SNPs!B1517)+1),\"\")","v":""},{"$f":"IF(SNPs!B1517<>\"\",SNPs!B1517,\"\")","v":""}]
[{"$f":"IF(SNPs!A1518<>\"\",SNPs!A1518,\"\")","v":""},{"$f":"IF(SNPs!B1518<>\"\",MID(SNPs!B1518,FIND(\"[\",SNPs!B1518)+1,FIND(\"/\",SNPs!B1518)-FIND(\"[\",SNPs!B1518)-1),\"\")","v":""},{"$f":"IF(SNPs!B1518<>\"\",MID(SNPs!B1518,FIND(\"[\",SNPs!B1518)+3,FIND(\"/\",SNPs!B1518)-FIND(\"/\",SNPs!B1518)+1),\"\")","v":""},{"$f":"IF(SNPs!B1518<>\"\",SNPs!B1518,\"\")","v":""}]
[{"$f":"IF(SNPs!A1519<>\"\",SNPs!A1519,\"\")","v":""},{"$f":"IF(SNPs!B1519<>\"\",MID(SNPs!B1519,FIND(\"[\",SNPs!B1519)+1,FIND(\"/\",SNPs!B1519)-FIND(\"[\",SNPs!B1519)-1),\"\")","v":""},{"$f":"IF(SNPs!B1519<>\"\",MID(SNPs!B1519,FIND(\"[\",SNPs!B1519)+3,FIND(\"/\",SNPs!B1519)-FIND(\"/\",SNPs!B1519)+1),\"\")","v":""},{"$f":"IF(SNPs!B1519<>\"\",SNPs!B1519,\"\")","v":""}]
[{"$f":"IF(SNPs!A1520<>\"\",SNPs!A1520,\"\")","v":""},{"$f":"IF(SNPs!B1520<>\"\",MID(SNPs!B1520,FIND(\"[\",SNPs!B1520)+1,FIND(\"/\",SNPs!B1520)-FIND(\"[\",SNPs!B1520)-1),\"\")","v":""},{"$f":"IF(SNPs!B1520<>\"\",MID(SNPs!B1520,FIND(\"[\",SNPs!B1520)+3,FIND(\"/\",SNPs!B1520)-FIND(\"/\",SNPs!B1520)+1),\"\")","v":""},{"$f":"IF(SNPs!B1520<>\"\",SNPs!B1520,\"\")","v":""}]
[{"$f":"IF(SNPs!A1521<>\"\",SNPs!A1521,\"\")","v":""},{"$f":"IF(SNPs!B1521<>\"\",MID(SNPs!B1521,FIND(\"[\",SNPs!B1521)+1,FIND(\"/\",SNPs!B1521)-FIND(\"[\",SNPs!B1521)-1),\"\")","v":""},{"$f":"IF(SNPs!B1521<>\"\",MID(SNPs!B1521,FIND(\"[\",SNPs!B1521)+3,FIND(\"/\",SNPs!B1521)-FIND(\"/\",SNPs!B1521)+1),\"\")","v":""},{"$f":"IF(SNPs!B1521<>\"\",SNPs!B1521,\"\")","v":""}]
[{"$f":"IF(SNPs!A1522<>\"\",SNPs!A1522,\"\")","v":""},{"$f":"IF(SNPs!B1522<>\"\",MID(SNPs!B1522,FIND(\"[\",SNPs!B1522)+1,FIND(\"/\",SNPs!B1522)-FIND(\"[\",SNPs!B1522)-1),\"\")","v":""},{"$f":"IF(SNPs!B1522<>\"\",MID(SNPs!B1522,FIND(\"[\",SNPs!B1522)+3,FIND(\"/\",SNPs!B1522)-FIND(\"/\",SNPs!B1522)+1),\"\")","v":""},{"$f":"IF(SNPs!B1522<>\"\",SNPs!B1522,\"\")","v":""}]
[{"$f":"IF(SNPs!A1523<>\"\",SNPs!A1523,\"\")","v":""},{"$f":"IF(SNPs!B1523<>\"\",MID(SNPs!B1523,FIND(\"[\",SNPs!B1523)+1,FIND(\"/\",SNPs!B1523)-FIND(\"[\",SNPs!B1523)-1),\"\")","v":""},{"$f":"IF(SNPs!B1523<>\"\",MID(SNPs!B1523,FIND(\"[\",SNPs!B1523)+3,FIND(\"/\",SNPs!B1523)-FIND(\"/\",SNPs!B1523)+1),\"\")","v":""},{"$f":"IF(SNPs!B1523<>\"\",SNPs!B1523,\"\")","v":""}]
[{"$f":"IF(SNPs!A1524<>\"\",SNPs!A1524,\"\")","v":""},{"$f":"IF(SNPs!B1524<>\"\",MID(SNPs!B1524,FIND(\"[\",SNPs!B1524)+1,FIND(\"/\",SNPs!B1524)-FIND(\"[\",SNPs!B1524)-1),\"\")","v":""},{"$f":"IF(SNPs!B1524<>\"\",MID(SNPs!B1524,FIND(\"[\",SNPs!B1524)+3,FIND(\"/\",SNPs!B1524)-FIND(\"/\",SNPs!B1524)+1),\"\")","v":""},{"$f":"IF(SNPs!B1524<>\"\",SNPs!B1524,\"\")","v":""}]
[{"$f":"IF(SNPs!A1525<>\"\",SNPs!A1525,\"\")","v":""},{"$f":"IF(SNPs!B1525<>\"\",MID(SNPs!B1525,FIND(\"[\",SNPs!B1525)+1,FIND(\"/\",SNPs!B1525)-FIND(\"[\",SNPs!B1525)-1),\"\")","v":""},{"$f":"IF(SNPs!B1525<>\"\",MID(SNPs!B1525,FIND(\"[\",SNPs!B1525)+3,FIND(\"/\",SNPs!B1525)-FIND(\"/\",SNPs!B1525)+1),\"\")","v":""},{"$f":"IF(SNPs!B1525<>\"\",SNPs!B1525,\"\")","v":""}]
[{"$f":"IF(SNPs!A1526<>\"\",SNPs!A1526,\"\")","v":""},{"$f":"IF(SNPs!B1526<>\"\",MID(SNPs!B1526,FIND(\"[\",SNPs!B1526)+1,FIND(\"/\",SNPs!B1526)-FIND(\"[\",SNPs!B1526)-1),\"\")","v":""},{"$f":"IF(SNPs!B1526<>\"\",MID(SNPs!B1526,FIND(\"[\",SNPs!B1526)+3,FIND(\"/\",SNPs!B1526)-FIND(\"/\",SNPs!B1526)+1),\"\")","v":""},{"$f":"IF(SNPs!B1526<>\"\",SNPs!B1526,\"\")","v":""}]
[{"$f":"IF(SNPs!A1527<>\"\",SNPs!A1527,\"\")","v":""},{"$f":"IF(SNPs!B1527<>\"\",MID(SNPs!B1527,FIND(\"[\",SNPs!B1527)+1,FIND(\"/\",SNPs!B1527)-FIND(\"[\",SNPs!B1527)-1),\"\")","v":""},{"$f":"IF(SNPs!B1527<>\"\",MID(SNPs!B1527,FIND(\"[\",SNPs!B1527)+3,FIND(\"/\",SNPs!B1527)-FIND(\"/\",SNPs!B1527)+1),\"\")","v":""},{"$f":"IF(SNPs!B1527<>\"\",SNPs!B1527,\"\")","v":""}]
[{"$f":"IF(SNPs!A1528<>\"\",SNPs!A1528,\"\")","v":""},{"$f":"IF(SNPs!B1528<>\"\",MID(SNPs!B1528,FIND(\"[\",SNPs!B1528)+1,FIND(\"/\",SNPs!B1528)-FIND(\"[\",SNPs!B1528)-1),\"\")","v":""},{"$f":"IF(SNPs!B1528<>\"\",MID(SNPs!B1528,FIND(\"[\",SNPs!B1528)+3,FIND(\"/\",SNPs!B1528)-FIND(\"/\",SNPs!B1528)+1),\"\")","v":""},{"$f":"IF(SNPs!B1528<>\"\",SNPs!B1528,\"\")","v":""}]
[{"$f":"IF(SNPs!A1529<>\"\",SNPs!A1529,\"\")","v":""},{"$f":"IF(SNPs!B1529<>\"\",MID(SNPs!B1529,FIND(\"[\",SNPs!B1529)+1,FIND(\"/\",SNPs!B1529)-FIND(\"[\",SNPs!B1529)-1),\"\")","v":""},{"$f":"IF(SNPs!B1529<>\"\",MID(SNPs!B1529,FIND(\"[\",SNPs!B1529)+3,FIND(\"/\",SNPs!B1529)-FIND(\"/\",SNPs!B1529)+1),\"\")","v":""},{"$f":"IF(SNPs!B1529<>\"\",SNPs!B1529,\"\")","v":""}]
[{"$f":"IF(SNPs!A1530<>\"\",SNPs!A1530,\"\")","v":""},{"$f":"IF(SNPs!B1530<>\"\",MID(SNPs!B1530,FIND(\"[\",SNPs!B1530)+1,FIND(\"/\",SNPs!B1530)-FIND(\"[\",SNPs!B1530)-1),\"\")","v":""},{"$f":"IF(SNPs!B1530<>\"\",MID(SNPs!B1530,FIND(\"[\",SNPs!B1530)+3,FIND(\"/\",SNPs!B1530)-FIND(\"/\",SNPs!B1530)+1),\"\")","v":""},{"$f":"IF(SNPs!B1530<>\"\",SNPs!B1530,\"\")","v":""}]
[{"$f":"IF(SNPs!A1531<>\"\",SNPs!A1531,\"\")","v":""},{"$f":"IF(SNPs!B1531<>\"\",MID(SNPs!B1531,FIND(\"[\",SNPs!B1531)+1,FIND(\"/\",SNPs!B1531)-FIND(\"[\",SNPs!B1531)-1),\"\")","v":""},{"$f":"IF(SNPs!B1531<>\"\",MID(SNPs!B1531,FIND(\"[\",SNPs!B1531)+3,FIND(\"/\",SNPs!B1531)-FIND(\"/\",SNPs!B1531)+1),\"\")","v":""},{"$f":"IF(SNPs!B1531<>\"\",SNPs!B1531,\"\")","v":""}]
[{"$f":"IF(SNPs!A1532<>\"\",SNPs!A1532,\"\")","v":""},{"$f":"IF(SNPs!B1532<>\"\",MID(SNPs!B1532,FIND(\"[\",SNPs!B1532)+1,FIND(\"/\",SNPs!B1532)-FIND(\"[\",SNPs!B1532)-1),\"\")","v":""},{"$f":"IF(SNPs!B1532<>\"\",MID(SNPs!B1532,FIND(\"[\",SNPs!B1532)+3,FIND(\"/\",SNPs!B1532)-FIND(\"/\",SNPs!B1532)+1),\"\")","v":""},{"$f":"IF(SNPs!B1532<>\"\",SNPs!B1532,\"\")","v":""}]
[{"$f":"IF(SNPs!A1533<>\"\",SNPs!A1533,\"\")","v":""},{"$f":"IF(SNPs!B1533<>\"\",MID(SNPs!B1533,FIND(\"[\",SNPs!B1533)+1,FIND(\"/\",SNPs!B1533)-FIND(\"[\",SNPs!B1533)-1),\"\")","v":""},{"$f":"IF(SNPs!B1533<>\"\",MID(SNPs!B1533,FIND(\"[\",SNPs!B1533)+3,FIND(\"/\",SNPs!B1533)-FIND(\"/\",SNPs!B1533)+1),\"\")","v":""},{"$f":"IF(SNPs!B1533<>\"\",SNPs!B1533,\"\")","v":""}]
[{"$f":"IF(SNPs!A1534<>\"\",SNPs!A1534,\"\")","v":""},{"$f":"IF(SNPs!B1534<>\"\",MID(SNPs!B1534,FIND(\"[\",SNPs!B1534)+1,FIND(\"/\",SNPs!B1534)-FIND(\"[\",SNPs!B1534)-1),\"\")","v":""},{"$f":"IF(SNPs!B1534<>\"\",MID(SNPs!B1534,FIND(\"[\",SNPs!B1534)+3,FIND(\"/\",SNPs!B1534)-FIND(\"/\",SNPs!B1534)+1),\"\")","v":""},{"$f":"IF(SNPs!B1534<>\"\",SNPs!B1534,\"\")","v":""}]
[{"$f":"IF(SNPs!A1535<>\"\",SNPs!A1535,\"\")","v":""},{"$f":"IF(SNPs!B1535<>\"\",MID(SNPs!B1535,FIND(\"[\",SNPs!B1535)+1,FIND(\"/\",SNPs!B1535)-FIND(\"[\",SNPs!B1535)-1),\"\")","v":""},{"$f":"IF(SNPs!B1535<>\"\",MID(SNPs!B1535,FIND(\"[\",SNPs!B1535)+3,FIND(\"/\",SNPs!B1535)-FIND(\"/\",SNPs!B1535)+1),\"\")","v":""},{"$f":"IF(SNPs!B1535<>\"\",SNPs!B1535,\"\")","v":""}]
[{"$f":"IF(SNPs!A1536<>\"\",SNPs!A1536,\"\")","v":""},{"$f":"IF(SNPs!B1536<>\"\",MID(SNPs!B1536,FIND(\"[\",SNPs!B1536)+1,FIND(\"/\",SNPs!B1536)-FIND(\"[\",SNPs!B1536)-1),\"\")","v":""},{"$f":"IF(SNPs!B1536<>\"\",MID(SNPs!B1536,FIND(\"[\",SNPs!B1536)+3,FIND(\"/\",SNPs!B1536)-FIND(\"/\",SNPs!B1536)+1),\"\")","v":""},{"$f":"IF(SNPs!B1536<>\"\",SNPs!B1536,\"\")","v":""}]
[{"$f":"IF(SNPs!A1537<>\"\",SNPs!A1537,\"\")","v":""},{"$f":"IF(SNPs!B1537<>\"\",MID(SNPs!B1537,FIND(\"[\",SNPs!B1537)+1,FIND(\"/\",SNPs!B1537)-FIND(\"[\",SNPs!B1537)-1),\"\")","v":""},{"$f":"IF(SNPs!B1537<>\"\",MID(SNPs!B1537,FIND(\"[\",SNPs!B1537)+3,FIND(\"/\",SNPs!B1537)-FIND(\"/\",SNPs!B1537)+1),\"\")","v":""},{"$f":"IF(SNPs!B1537<>\"\",SNPs!B1537,\"\")","v":""}]
[{"$f":"IF(SNPs!A1538<>\"\",SNPs!A1538,\"\")","v":""},{"$f":"IF(SNPs!B1538<>\"\",MID(SNPs!B1538,FIND(\"[\",SNPs!B1538)+1,FIND(\"/\",SNPs!B1538)-FIND(\"[\",SNPs!B1538)-1),\"\")","v":""},{"$f":"IF(SNPs!B1538<>\"\",MID(SNPs!B1538,FIND(\"[\",SNPs!B1538)+3,FIND(\"/\",SNPs!B1538)-FIND(\"/\",SNPs!B1538)+1),\"\")","v":""},{"$f":"IF(SNPs!B1538<>\"\",SNPs!B1538,\"\")","v":""}]
[{"$f":"IF(SNPs!A1539<>\"\",SNPs!A1539,\"\")","v":""},{"$f":"IF(SNPs!B1539<>\"\",MID(SNPs!B1539,FIND(\"[\",SNPs!B1539)+1,FIND(\"/\",SNPs!B1539)-FIND(\"[\",SNPs!B1539)-1),\"\")","v":""},{"$f":"IF(SNPs!B1539<>\"\",MID(SNPs!B1539,FIND(\"[\",SNPs!B1539)+3,FIND(\"/\",SNPs!B1539)-FIND(\"/\",SNPs!B1539)+1),\"\")","v":""},{"$f":"IF(SNPs!B1539<>\"\",SNPs!B1539,\"\")","v":""}]
[{"$f":"IF(SNPs!A1540<>\"\",SNPs!A1540,\"\")","v":""},{"$f":"IF(SNPs!B1540<>\"\",MID(SNPs!B1540,FIND(\"[\",SNPs!B1540)+1,FIND(\"/\",SNPs!B1540)-FIND(\"[\",SNPs!B1540)-1),\"\")","v":""},{"$f":"IF(SNPs!B1540<>\"\",MID(SNPs!B1540,FIND(\"[\",SNPs!B1540)+3,FIND(\"/\",SNPs!B1540)-FIND(\"/\",SNPs!B1540)+1),\"\")","v":""},{"$f":"IF(SNPs!B1540<>\"\",SNPs!B1540,\"\")","v":""}]
[{"$f":"IF(SNPs!A1541<>\"\",SNPs!A1541,\"\")","v":""},{"$f":"IF(SNPs!B1541<>\"\",MID(SNPs!B1541,FIND(\"[\",SNPs!B1541)+1,FIND(\"/\",SNPs!B1541)-FIND(\"[\",SNPs!B1541)-1),\"\")","v":""},{"$f":"IF(SNPs!B1541<>\"\",MID(SNPs!B1541,FIND(\"[\",SNPs!B1541)+3,FIND(\"/\",SNPs!B1541)-FIND(\"/\",SNPs!B1541)+1),\"\")","v":""},{"$f":"IF(SNPs!B1541<>\"\",SNPs!B1541,\"\")","v":""}]
[{"$f":"IF(SNPs!A1542<>\"\",SNPs!A1542,\"\")","v":""},{"$f":"IF(SNPs!B1542<>\"\",MID(SNPs!B1542,FIND(\"[\",SNPs!B1542)+1,FIND(\"/\",SNPs!B1542)-FIND(\"[\",SNPs!B1542)-1),\"\")","v":""},{"$f":"IF(SNPs!B1542<>\"\",MID(SNPs!B1542,FIND(\"[\",SNPs!B1542)+3,FIND(\"/\",SNPs!B1542)-FIND(\"/\",SNPs!B1542)+1),\"\")","v":""},{"$f":"IF(SNPs!B1542<>\"\",SNPs!B1542,\"\")","v":""}]
[{"$f":"IF(SNPs!A1543<>\"\",SNPs!A1543,\"\")","v":""},{"$f":"IF(SNPs!B1543<>\"\",MID(SNPs!B1543,FIND(\"[\",SNPs!B1543)+1,FIND(\"/\",SNPs!B1543)-FIND(\"[\",SNPs!B1543)-1),\"\")","v":""},{"$f":"IF(SNPs!B1543<>\"\",MID(SNPs!B1543,FIND(\"[\",SNPs!B1543)+3,FIND(\"/\",SNPs!B1543)-FIND(\"/\",SNPs!B1543)+1),\"\")","v":""},{"$f":"IF(SNPs!B1543<>\"\",SNPs!B1543,\"\")","v":""}]
[{"$f":"IF(SNPs!A1544<>\"\",SNPs!A1544,\"\")","v":""},{"$f":"IF(SNPs!B1544<>\"\",MID(SNPs!B1544,FIND(\"[\",SNPs!B1544)+1,FIND(\"/\",SNPs!B1544)-FIND(\"[\",SNPs!B1544)-1),\"\")","v":""},{"$f":"IF(SNPs!B1544<>\"\",MID(SNPs!B1544,FIND(\"[\",SNPs!B1544)+3,FIND(\"/\",SNPs!B1544)-FIND(\"/\",SNPs!B1544)+1),\"\")","v":""},{"$f":"IF(SNPs!B1544<>\"\",SNPs!B1544,\"\")","v":""}]
[{"$f":"IF(SNPs!A1545<>\"\",SNPs!A1545,\"\")","v":""},{"$f":"IF(SNPs!B1545<>\"\",MID(SNPs!B1545,FIND(\"[\",SNPs!B1545)+1,FIND(\"/\",SNPs!B1545)-FIND(\"[\",SNPs!B1545)-1),\"\")","v":""},{"$f":"IF(SNPs!B1545<>\"\",MID(SNPs!B1545,FIND(\"[\",SNPs!B1545)+3,FIND(\"/\",SNPs!B1545)-FIND(\"/\",SNPs!B1545)+1),\"\")","v":""},{"$f":"IF(SNPs!B1545<>\"\",SNPs!B1545,\"\")","v":""}]
[{"$f":"IF(SNPs!A1546<>\"\",SNPs!A1546,\"\")","v":""},{"$f":"IF(SNPs!B1546<>\"\",MID(SNPs!B1546,FIND(\"[\",SNPs!B1546)+1,FIND(\"/\",SNPs!B1546)-FIND(\"[\",SNPs!B1546)-1),\"\")","v":""},{"$f":"IF(SNPs!B1546<>\"\",MID(SNPs!B1546,FIND(\"[\",SNPs!B1546)+3,FIND(\"/\",SNPs!B1546)-FIND(\"/\",SNPs!B1546)+1),\"\")","v":""},{"$f":"IF(SNPs!B1546<>\"\",SNPs!B1546,\"\")","v":""}]
[{"$f":"IF(SNPs!A1547<>\"\",SNPs!A1547,\"\")","v":""},{"$f":"IF(SNPs!B1547<>\"\",MID(SNPs!B1547,FIND(\"[\",SNPs!B1547)+1,FIND(\"/\",SNPs!B1547)-FIND(\"[\",SNPs!B1547)-1),\"\")","v":""},{"$f":"IF(SNPs!B1547<>\"\",MID(SNPs!B1547,FIND(\"[\",SNPs!B1547)+3,FIND(\"/\",SNPs!B1547)-FIND(\"/\",SNPs!B1547)+1),\"\")","v":""},{"$f":"IF(SNPs!B1547<>\"\",SNPs!B1547,\"\")","v":""}]
[{"$f":"IF(SNPs!A1548<>\"\",SNPs!A1548,\"\")","v":""},{"$f":"IF(SNPs!B1548<>\"\",MID(SNPs!B1548,FIND(\"[\",SNPs!B1548)+1,FIND(\"/\",SNPs!B1548)-FIND(\"[\",SNPs!B1548)-1),\"\")","v":""},{"$f":"IF(SNPs!B1548<>\"\",MID(SNPs!B1548,FIND(\"[\",SNPs!B1548)+3,FIND(\"/\",SNPs!B1548)-FIND(\"/\",SNPs!B1548)+1),\"\")","v":""},{"$f":"IF(SNPs!B1548<>\"\",SNPs!B1548,\"\")","v":""}]
[{"$f":"IF(SNPs!A1549<>\"\",SNPs!A1549,\"\")","v":""},{"$f":"IF(SNPs!B1549<>\"\",MID(SNPs!B1549,FIND(\"[\",SNPs!B1549)+1,FIND(\"/\",SNPs!B1549)-FIND(\"[\",SNPs!B1549)-1),\"\")","v":""},{"$f":"IF(SNPs!B1549<>\"\",MID(SNPs!B1549,FIND(\"[\",SNPs!B1549)+3,FIND(\"/\",SNPs!B1549)-FIND(\"/\",SNPs!B1549)+1),\"\")","v":""},{"$f":"IF(SNPs!B1549<>\"\",SNPs!B1549,\"\")","v":""}]
[{"$f":"IF(SNPs!A1550<>\"\",SNPs!A1550,\"\")","v":""},{"$f":"IF(SNPs!B1550<>\"\",MID(SNPs!B1550,FIND(\"[\",SNPs!B1550)+1,FIND(\"/\",SNPs!B1550)-FIND(\"[\",SNPs!B1550)-1),\"\")","v":""},{"$f":"IF(SNPs!B1550<>\"\",MID(SNPs!B1550,FIND(\"[\",SNPs!B1550)+3,FIND(\"/\",SNPs!B1550)-FIND(\"/\",SNPs!B1550)+1),\"\")","v":""},{"$f":"IF(SNPs!B1550<>\"\",SNPs!B1550,\"\")","v":""}]
[{"$f":"IF(SNPs!A1551<>\"\",SNPs!A1551,\"\")","v":""},{"$f":"IF(SNPs!B1551<>\"\",MID(SNPs!B1551,FIND(\"[\",SNPs!B1551)+1,FIND(\"/\",SNPs!B1551)-FIND(\"[\",SNPs!B1551)-1),\"\")","v":""},{"$f":"IF(SNPs!B1551<>\"\",MID(SNPs!B1551,FIND(\"[\",SNPs!B1551)+3,FIND(\"/\",SNPs!B1551)-FIND(\"/\",SNPs!B1551)+1),\"\")","v":""},{"$f":"IF(SNPs!B1551<>\"\",SNPs!B1551,\"\")","v":""}]
[{"$f":"IF(SNPs!A1552<>\"\",SNPs!A1552,\"\")","v":""},{"$f":"IF(SNPs!B1552<>\"\",MID(SNPs!B1552,FIND(\"[\",SNPs!B1552)+1,FIND(\"/\",SNPs!B1552)-FIND(\"[\",SNPs!B1552)-1),\"\")","v":""},{"$f":"IF(SNPs!B1552<>\"\",MID(SNPs!B1552,FIND(\"[\",SNPs!B1552)+3,FIND(\"/\",SNPs!B1552)-FIND(\"/\",SNPs!B1552)+1),\"\")","v":""},{"$f":"IF(SNPs!B1552<>\"\",SNPs!B1552,\"\")","v":""}]
[{"$f":"IF(SNPs!A1553<>\"\",SNPs!A1553,\"\")","v":""},{"$f":"IF(SNPs!B1553<>\"\",MID(SNPs!B1553,FIND(\"[\",SNPs!B1553)+1,FIND(\"/\",SNPs!B1553)-FIND(\"[\",SNPs!B1553)-1),\"\")","v":""},{"$f":"IF(SNPs!B1553<>\"\",MID(SNPs!B1553,FIND(\"[\",SNPs!B1553)+3,FIND(\"/\",SNPs!B1553)-FIND(\"/\",SNPs!B1553)+1),\"\")","v":""},{"$f":"IF(SNPs!B1553<>\"\",SNPs!B1553,\"\")","v":""}]
[{"$f":"IF(SNPs!A1554<>\"\",SNPs!A1554,\"\")","v":""},{"$f":"IF(SNPs!B1554<>\"\",MID(SNPs!B1554,FIND(\"[\",SNPs!B1554)+1,FIND(\"/\",SNPs!B1554)-FIND(\"[\",SNPs!B1554)-1),\"\")","v":""},{"$f":"IF(SNPs!B1554<>\"\",MID(SNPs!B1554,FIND(\"[\",SNPs!B1554)+3,FIND(\"/\",SNPs!B1554)-FIND(\"/\",SNPs!B1554)+1),\"\")","v":""},{"$f":"IF(SNPs!B1554<>\"\",SNPs!B1554,\"\")","v":""}]
[{"$f":"IF(SNPs!A1555<>\"\",SNPs!A1555,\"\")","v":""},{"$f":"IF(SNPs!B1555<>\"\",MID(SNPs!B1555,FIND(\"[\",SNPs!B1555)+1,FIND(\"/\",SNPs!B1555)-FIND(\"[\",SNPs!B1555)-1),\"\")","v":""},{"$f":"IF(SNPs!B1555<>\"\",MID(SNPs!B1555,FIND(\"[\",SNPs!B1555)+3,FIND(\"/\",SNPs!B1555)-FIND(\"/\",SNPs!B1555)+1),\"\")","v":""},{"$f":"IF(SNPs!B1555<>\"\",SNPs!B1555,\"\")","v":""}]
[{"$f":"IF(SNPs!A1556<>\"\",SNPs!A1556,\"\")","v":""},{"$f":"IF(SNPs!B1556<>\"\",MID(SNPs!B1556,FIND(\"[\",SNPs!B1556)+1,FIND(\"/\",SNPs!B1556)-FIND(\"[\",SNPs!B1556)-1),\"\")","v":""},{"$f":"IF(SNPs!B1556<>\"\",MID(SNPs!B1556,FIND(\"[\",SNPs!B1556)+3,FIND(\"/\",SNPs!B1556)-FIND(\"/\",SNPs!B1556)+1),\"\")","v":""},{"$f":"IF(SNPs!B1556<>\"\",SNPs!B1556,\"\")","v":""}]
[{"$f":"IF(SNPs!A1557<>\"\",SNPs!A1557,\"\")","v":""},{"$f":"IF(SNPs!B1557<>\"\",MID(SNPs!B1557,FIND(\"[\",SNPs!B1557)+1,FIND(\"/\",SNPs!B1557)-FIND(\"[\",SNPs!B1557)-1),\"\")","v":""},{"$f":"IF(SNPs!B1557<>\"\",MID(SNPs!B1557,FIND(\"[\",SNPs!B1557)+3,FIND(\"/\",SNPs!B1557)-FIND(\"/\",SNPs!B1557)+1),\"\")","v":""},{"$f":"IF(SNPs!B1557<>\"\",SNPs!B1557,\"\")","v":""}]
[{"$f":"IF(SNPs!A1558<>\"\",SNPs!A1558,\"\")","v":""},{"$f":"IF(SNPs!B1558<>\"\",MID(SNPs!B1558,FIND(\"[\",SNPs!B1558)+1,FIND(\"/\",SNPs!B1558)-FIND(\"[\",SNPs!B1558)-1),\"\")","v":""},{"$f":"IF(SNPs!B1558<>\"\",MID(SNPs!B1558,FIND(\"[\",SNPs!B1558)+3,FIND(\"/\",SNPs!B1558)-FIND(\"/\",SNPs!B1558)+1),\"\")","v":""},{"$f":"IF(SNPs!B1558<>\"\",SNPs!B1558,\"\")","v":""}]
[{"$f":"IF(SNPs!A1559<>\"\",SNPs!A1559,\"\")","v":""},{"$f":"IF(SNPs!B1559<>\"\",MID(SNPs!B1559,FIND(\"[\",SNPs!B1559)+1,FIND(\"/\",SNPs!B1559)-FIND(\"[\",SNPs!B1559)-1),\"\")","v":""},{"$f":"IF(SNPs!B1559<>\"\",MID(SNPs!B1559,FIND(\"[\",SNPs!B1559)+3,FIND(\"/\",SNPs!B1559)-FIND(\"/\",SNPs!B1559)+1),\"\")","v":""},{"$f":"IF(SNPs!B1559<>\"\",SNPs!B1559,\"\")","v":""}]
[{"$f":"IF(SNPs!A1560<>\"\",SNPs!A1560,\"\")","v":""},{"$f":"IF(SNPs!B1560<>\"\",MID(SNPs!B1560,FIND(\"[\",SNPs!B1560)+1,FIND(\"/\",SNPs!B1560)-FIND(\"[\",SNPs!B1560)-1),\"\")","v":""},{"$f":"IF(SNPs!B1560<>\"\",MID(SNPs!B1560,FIND(\"[\",SNPs!B1560)+3,FIND(\"/\",SNPs!B1560)-FIND(\"/\",SNPs!B1560)+1),\"\")","v":""},{"$f":"IF(SNPs!B1560<>\"\",SNPs!B1560,\"\")","v":""}]
[{"$f":"IF(SNPs!A1561<>\"\",SNPs!A1561,\"\")","v":""},{"$f":"IF(SNPs!B1561<>\"\",MID(SNPs!B1561,FIND(\"[\",SNPs!B1561)+1,FIND(\"/\",SNPs!B1561)-FIND(\"[\",SNPs!B1561)-1),\"\")","v":""},{"$f":"IF(SNPs!B1561<>\"\",MID(SNPs!B1561,FIND(\"[\",SNPs!B1561)+3,FIND(\"/\",SNPs!B1561)-FIND(\"/\",SNPs!B1561)+1),\"\")","v":""},{"$f":"IF(SNPs!B1561<>\"\",SNPs!B1561,\"\")","v":""}]
[{"$f":"IF(SNPs!A1562<>\"\",SNPs!A1562,\"\")","v":""},{"$f":"IF(SNPs!B1562<>\"\",MID(SNPs!B1562,FIND(\"[\",SNPs!B1562)+1,FIND(\"/\",SNPs!B1562)-FIND(\"[\",SNPs!B1562)-1),\"\")","v":""},{"$f":"IF(SNPs!B1562<>\"\",MID(SNPs!B1562,FIND(\"[\",SNPs!B1562)+3,FIND(\"/\",SNPs!B1562)-FIND(\"/\",SNPs!B1562)+1),\"\")","v":""},{"$f":"IF(SNPs!B1562<>\"\",SNPs!B1562,\"\")","v":""}]
[{"$f":"IF(SNPs!A1563<>\"\",SNPs!A1563,\"\")","v":""},{"$f":"IF(SNPs!B1563<>\"\",MID(SNPs!B1563,FIND(\"[\",SNPs!B1563)+1,FIND(\"/\",SNPs!B1563)-FIND(\"[\",SNPs!B1563)-1),\"\")","v":""},{"$f":"IF(SNPs!B1563<>\"\",MID(SNPs!B1563,FIND(\"[\",SNPs!B1563)+3,FIND(\"/\",SNPs!B1563)-FIND(\"/\",SNPs!B1563)+1),\"\")","v":""},{"$f":"IF(SNPs!B1563<>\"\",SNPs!B1563,\"\")","v":""}]
[{"$f":"IF(SNPs!A1564<>\"\",SNPs!A1564,\"\")","v":""},{"$f":"IF(SNPs!B1564<>\"\",MID(SNPs!B1564,FIND(\"[\",SNPs!B1564)+1,FIND(\"/\",SNPs!B1564)-FIND(\"[\",SNPs!B1564)-1),\"\")","v":""},{"$f":"IF(SNPs!B1564<>\"\",MID(SNPs!B1564,FIND(\"[\",SNPs!B1564)+3,FIND(\"/\",SNPs!B1564)-FIND(\"/\",SNPs!B1564)+1),\"\")","v":""},{"$f":"IF(SNPs!B1564<>\"\",SNPs!B1564,\"\")","v":""}]
[{"$f":"IF(SNPs!A1565<>\"\",SNPs!A1565,\"\")","v":""},{"$f":"IF(SNPs!B1565<>\"\",MID(SNPs!B1565,FIND(\"[\",SNPs!B1565)+1,FIND(\"/\",SNPs!B1565)-FIND(\"[\",SNPs!B1565)-1),\"\")","v":""},{"$f":"IF(SNPs!B1565<>\"\",MID(SNPs!B1565,FIND(\"[\",SNPs!B1565)+3,FIND(\"/\",SNPs!B1565)-FIND(\"/\",SNPs!B1565)+1),\"\")","v":""},{"$f":"IF(SNPs!B1565<>\"\",SNPs!B1565,\"\")","v":""}]
[{"$f":"IF(SNPs!A1566<>\"\",SNPs!A1566,\"\")","v":""},{"$f":"IF(SNPs!B1566<>\"\",MID(SNPs!B1566,FIND(\"[\",SNPs!B1566)+1,FIND(\"/\",SNPs!B1566)-FIND(\"[\",SNPs!B1566)-1),\"\")","v":""},{"$f":"IF(SNPs!B1566<>\"\",MID(SNPs!B1566,FIND(\"[\",SNPs!B1566)+3,FIND(\"/\",SNPs!B1566)-FIND(\"/\",SNPs!B1566)+1),\"\")","v":""},{"$f":"IF(SNPs!B1566<>\"\",SNPs!B1566,\"\")","v":""}]
[{"$f":"IF(SNPs!A1567<>\"\",SNPs!A1567,\"\")","v":""},{"$f":"IF(SNPs!B1567<>\"\",MID(SNPs!B1567,FIND(\"[\",SNPs!B1567)+1,FIND(\"/\",SNPs!B1567)-FIND(\"[\",SNPs!B1567)-1),\"\")","v":""},{"$f":"IF(SNPs!B1567<>\"\",MID(SNPs!B1567,FIND(\"[\",SNPs!B1567)+3,FIND(\"/\",SNPs!B1567)-FIND(\"/\",SNPs!B1567)+1),\"\")","v":""},{"$f":"IF(SNPs!B1567<>\"\",SNPs!B1567,\"\")","v":""}]
[{"$f":"IF(SNPs!A1568<>\"\",SNPs!A1568,\"\")","v":""},{"$f":"IF(SNPs!B1568<>\"\",MID(SNPs!B1568,FIND(\"[\",SNPs!B1568)+1,FIND(\"/\",SNPs!B1568)-FIND(\"[\",SNPs!B1568)-1),\"\")","v":""},{"$f":"IF(SNPs!B1568<>\"\",MID(SNPs!B1568,FIND(\"[\",SNPs!B1568)+3,FIND(\"/\",SNPs!B1568)-FIND(\"/\",SNPs!B1568)+1),\"\")","v":""},{"$f":"IF(SNPs!B1568<>\"\",SNPs!B1568,\"\")","v":""}]
[{"$f":"IF(SNPs!A1569<>\"\",SNPs!A1569,\"\")","v":""},{"$f":"IF(SNPs!B1569<>\"\",MID(SNPs!B1569,FIND(\"[\",SNPs!B1569)+1,FIND(\"/\",SNPs!B1569)-FIND(\"[\",SNPs!B1569)-1),\"\")","v":""},{"$f":"IF(SNPs!B1569<>\"\",MID(SNPs!B1569,FIND(\"[\",SNPs!B1569)+3,FIND(\"/\",SNPs!B1569)-FIND(\"/\",SNPs!B1569)+1),\"\")","v":""},{"$f":"IF(SNPs!B1569<>\"\",SNPs!B1569,\"\")","v":""}]
[{"$f":"IF(SNPs!A1570<>\"\",SNPs!A1570,\"\")","v":""},{"$f":"IF(SNPs!B1570<>\"\",MID(SNPs!B1570,FIND(\"[\",SNPs!B1570)+1,FIND(\"/\",SNPs!B1570)-FIND(\"[\",SNPs!B1570)-1),\"\")","v":""},{"$f":"IF(SNPs!B1570<>\"\",MID(SNPs!B1570,FIND(\"[\",SNPs!B1570)+3,FIND(\"/\",SNPs!B1570)-FIND(\"/\",SNPs!B1570)+1),\"\")","v":""},{"$f":"IF(SNPs!B1570<>\"\",SNPs!B1570,\"\")","v":""}]
[{"$f":"IF(SNPs!A1571<>\"\",SNPs!A1571,\"\")","v":""},{"$f":"IF(SNPs!B1571<>\"\",MID(SNPs!B1571,FIND(\"[\",SNPs!B1571)+1,FIND(\"/\",SNPs!B1571)-FIND(\"[\",SNPs!B1571)-1),\"\")","v":""},{"$f":"IF(SNPs!B1571<>\"\",MID(SNPs!B1571,FIND(\"[\",SNPs!B1571)+3,FIND(\"/\",SNPs!B1571)-FIND(\"/\",SNPs!B1571)+1),\"\")","v":""},{"$f":"IF(SNPs!B1571<>\"\",SNPs!B1571,\"\")","v":""}]
[{"$f":"IF(SNPs!A1572<>\"\",SNPs!A1572,\"\")","v":""},{"$f":"IF(SNPs!B1572<>\"\",MID(SNPs!B1572,FIND(\"[\",SNPs!B1572)+1,FIND(\"/\",SNPs!B1572)-FIND(\"[\",SNPs!B1572)-1),\"\")","v":""},{"$f":"IF(SNPs!B1572<>\"\",MID(SNPs!B1572,FIND(\"[\",SNPs!B1572)+3,FIND(\"/\",SNPs!B1572)-FIND(\"/\",SNPs!B1572)+1),\"\")","v":""},{"$f":"IF(SNPs!B1572<>\"\",SNPs!B1572,\"\")","v":""}]
[{"$f":"IF(SNPs!A1573<>\"\",SNPs!A1573,\"\")","v":""},{"$f":"IF(SNPs!B1573<>\"\",MID(SNPs!B1573,FIND(\"[\",SNPs!B1573)+1,FIND(\"/\",SNPs!B1573)-FIND(\"[\",SNPs!B1573)-1),\"\")","v":""},{"$f":"IF(SNPs!B1573<>\"\",MID(SNPs!B1573,FIND(\"[\",SNPs!B1573)+3,FIND(\"/\",SNPs!B1573)-FIND(\"/\",SNPs!B1573)+1),\"\")","v":""},{"$f":"IF(SNPs!B1573<>\"\",SNPs!B1573,\"\")","v":""}]
[{"$f":"IF(SNPs!A1574<>\"\",SNPs!A1574,\"\")","v":""},{"$f":"IF(SNPs!B1574<>\"\",MID(SNPs!B1574,FIND(\"[\",SNPs!B1574)+1,FIND(\"/\",SNPs!B1574)-FIND(\"[\",SNPs!B1574)-1),\"\")","v":""},{"$f":"IF(SNPs!B1574<>\"\",MID(SNPs!B1574,FIND(\"[\",SNPs!B1574)+3,FIND(\"/\",SNPs!B1574)-FIND(\"/\",SNPs!B1574)+1),\"\")","v":""},{"$f":"IF(SNPs!B1574<>\"\",SNPs!B1574,\"\")","v":""}]
[{"$f":"IF(SNPs!A1575<>\"\",SNPs!A1575,\"\")","v":""},{"$f":"IF(SNPs!B1575<>\"\",MID(SNPs!B1575,FIND(\"[\",SNPs!B1575)+1,FIND(\"/\",SNPs!B1575)-FIND(\"[\",SNPs!B1575)-1),\"\")","v":""},{"$f":"IF(SNPs!B1575<>\"\",MID(SNPs!B1575,FIND(\"[\",SNPs!B1575)+3,FIND(\"/\",SNPs!B1575)-FIND(\"/\",SNPs!B1575)+1),\"\")","v":""},{"$f":"IF(SNPs!B1575<>\"\",SNPs!B1575,\"\")","v":""}]
[{"$f":"IF(SNPs!A1576<>\"\",SNPs!A1576,\"\")","v":""},{"$f":"IF(SNPs!B1576<>\"\",MID(SNPs!B1576,FIND(\"[\",SNPs!B1576)+1,FIND(\"/\",SNPs!B1576)-FIND(\"[\",SNPs!B1576)-1),\"\")","v":""},{"$f":"IF(SNPs!B1576<>\"\",MID(SNPs!B1576,FIND(\"[\",SNPs!B1576)+3,FIND(\"/\",SNPs!B1576)-FIND(\"/\",SNPs!B1576)+1),\"\")","v":""},{"$f":"IF(SNPs!B1576<>\"\",SNPs!B1576,\"\")","v":""}]
[{"$f":"IF(SNPs!A1577<>\"\",SNPs!A1577,\"\")","v":""},{"$f":"IF(SNPs!B1577<>\"\",MID(SNPs!B1577,FIND(\"[\",SNPs!B1577)+1,FIND(\"/\",SNPs!B1577)-FIND(\"[\",SNPs!B1577)-1),\"\")","v":""},{"$f":"IF(SNPs!B1577<>\"\",MID(SNPs!B1577,FIND(\"[\",SNPs!B1577)+3,FIND(\"/\",SNPs!B1577)-FIND(\"/\",SNPs!B1577)+1),\"\")","v":""},{"$f":"IF(SNPs!B1577<>\"\",SNPs!B1577,\"\")","v":""}]
[{"$f":"IF(SNPs!A1578<>\"\",SNPs!A1578,\"\")","v":""},{"$f":"IF(SNPs!B1578<>\"\",MID(SNPs!B1578,FIND(\"[\",SNPs!B1578)+1,FIND(\"/\",SNPs!B1578)-FIND(\"[\",SNPs!B1578)-1),\"\")","v":""},{"$f":"IF(SNPs!B1578<>\"\",MID(SNPs!B1578,FIND(\"[\",SNPs!B1578)+3,FIND(\"/\",SNPs!B1578)-FIND(\"/\",SNPs!B1578)+1),\"\")","v":""},{"$f":"IF(SNPs!B1578<>\"\",SNPs!B1578,\"\")","v":""}]
[{"$f":"IF(SNPs!A1579<>\"\",SNPs!A1579,\"\")","v":""},{"$f":"IF(SNPs!B1579<>\"\",MID(SNPs!B1579,FIND(\"[\",SNPs!B1579)+1,FIND(\"/\",SNPs!B1579)-FIND(\"[\",SNPs!B1579)-1),\"\")","v":""},{"$f":"IF(SNPs!B1579<>\"\",MID(SNPs!B1579,FIND(\"[\",SNPs!B1579)+3,FIND(\"/\",SNPs!B1579)-FIND(\"/\",SNPs!B1579)+1),\"\")","v":""},{"$f":"IF(SNPs!B1579<>\"\",SNPs!B1579,\"\")","v":""}]
[{"$f":"IF(SNPs!A1580<>\"\",SNPs!A1580,\"\")","v":""},{"$f":"IF(SNPs!B1580<>\"\",MID(SNPs!B1580,FIND(\"[\",SNPs!B1580)+1,FIND(\"/\",SNPs!B1580)-FIND(\"[\",SNPs!B1580)-1),\"\")","v":""},{"$f":"IF(SNPs!B1580<>\"\",MID(SNPs!B1580,FIND(\"[\",SNPs!B1580)+3,FIND(\"/\",SNPs!B1580)-FIND(\"/\",SNPs!B1580)+1),\"\")","v":""},{"$f":"IF(SNPs!B1580<>\"\",SNPs!B1580,\"\")","v":""}]
[{"$f":"IF(SNPs!A1581<>\"\",SNPs!A1581,\"\")","v":""},{"$f":"IF(SNPs!B1581<>\"\",MID(SNPs!B1581,FIND(\"[\",SNPs!B1581)+1,FIND(\"/\",SNPs!B1581)-FIND(\"[\",SNPs!B1581)-1),\"\")","v":""},{"$f":"IF(SNPs!B1581<>\"\",MID(SNPs!B1581,FIND(\"[\",SNPs!B1581)+3,FIND(\"/\",SNPs!B1581)-FIND(\"/\",SNPs!B1581)+1),\"\")","v":""},{"$f":"IF(SNPs!B1581<>\"\",SNPs!B1581,\"\")","v":""}]
[{"$f":"IF(SNPs!A1582<>\"\",SNPs!A1582,\"\")","v":""},{"$f":"IF(SNPs!B1582<>\"\",MID(SNPs!B1582,FIND(\"[\",SNPs!B1582)+1,FIND(\"/\",SNPs!B1582)-FIND(\"[\",SNPs!B1582)-1),\"\")","v":""},{"$f":"IF(SNPs!B1582<>\"\",MID(SNPs!B1582,FIND(\"[\",SNPs!B1582)+3,FIND(\"/\",SNPs!B1582)-FIND(\"/\",SNPs!B1582)+1),\"\")","v":""},{"$f":"IF(SNPs!B1582<>\"\",SNPs!B1582,\"\")","v":""}]
[{"$f":"IF(SNPs!A1583<>\"\",SNPs!A1583,\"\")","v":""},{"$f":"IF(SNPs!B1583<>\"\",MID(SNPs!B1583,FIND(\"[\",SNPs!B1583)+1,FIND(\"/\",SNPs!B1583)-FIND(\"[\",SNPs!B1583)-1),\"\")","v":""},{"$f":"IF(SNPs!B1583<>\"\",MID(SNPs!B1583,FIND(\"[\",SNPs!B1583)+3,FIND(\"/\",SNPs!B1583)-FIND(\"/\",SNPs!B1583)+1),\"\")","v":""},{"$f":"IF(SNPs!B1583<>\"\",SNPs!B1583,\"\")","v":""}]
[{"$f":"IF(SNPs!A1584<>\"\",SNPs!A1584,\"\")","v":""},{"$f":"IF(SNPs!B1584<>\"\",MID(SNPs!B1584,FIND(\"[\",SNPs!B1584)+1,FIND(\"/\",SNPs!B1584)-FIND(\"[\",SNPs!B1584)-1),\"\")","v":""},{"$f":"IF(SNPs!B1584<>\"\",MID(SNPs!B1584,FIND(\"[\",SNPs!B1584)+3,FIND(\"/\",SNPs!B1584)-FIND(\"/\",SNPs!B1584)+1),\"\")","v":""},{"$f":"IF(SNPs!B1584<>\"\",SNPs!B1584,\"\")","v":""}]
[{"$f":"IF(SNPs!A1585<>\"\",SNPs!A1585,\"\")","v":""},{"$f":"IF(SNPs!B1585<>\"\",MID(SNPs!B1585,FIND(\"[\",SNPs!B1585)+1,FIND(\"/\",SNPs!B1585)-FIND(\"[\",SNPs!B1585)-1),\"\")","v":""},{"$f":"IF(SNPs!B1585<>\"\",MID(SNPs!B1585,FIND(\"[\",SNPs!B1585)+3,FIND(\"/\",SNPs!B1585)-FIND(\"/\",SNPs!B1585)+1),\"\")","v":""},{"$f":"IF(SNPs!B1585<>\"\",SNPs!B1585,\"\")","v":""}]
[{"$f":"IF(SNPs!A1586<>\"\",SNPs!A1586,\"\")","v":""},{"$f":"IF(SNPs!B1586<>\"\",MID(SNPs!B1586,FIND(\"[\",SNPs!B1586)+1,FIND(\"/\",SNPs!B1586)-FIND(\"[\",SNPs!B1586)-1),\"\")","v":""},{"$f":"IF(SNPs!B1586<>\"\",MID(SNPs!B1586,FIND(\"[\",SNPs!B1586)+3,FIND(\"/\",SNPs!B1586)-FIND(\"/\",SNPs!B1586)+1),\"\")","v":""},{"$f":"IF(SNPs!B1586<>\"\",SNPs!B1586,\"\")","v":""}]
[{"$f":"IF(SNPs!A1587<>\"\",SNPs!A1587,\"\")","v":""},{"$f":"IF(SNPs!B1587<>\"\",MID(SNPs!B1587,FIND(\"[\",SNPs!B1587)+1,FIND(\"/\",SNPs!B1587)-FIND(\"[\",SNPs!B1587)-1),\"\")","v":""},{"$f":"IF(SNPs!B1587<>\"\",MID(SNPs!B1587,FIND(\"[\",SNPs!B1587)+3,FIND(\"/\",SNPs!B1587)-FIND(\"/\",SNPs!B1587)+1),\"\")","v":""},{"$f":"IF(SNPs!B1587<>\"\",SNPs!B1587,\"\")","v":""}]
[{"$f":"IF(SNPs!A1588<>\"\",SNPs!A1588,\"\")","v":""},{"$f":"IF(SNPs!B1588<>\"\",MID(SNPs!B1588,FIND(\"[\",SNPs!B1588)+1,FIND(\"/\",SNPs!B1588)-FIND(\"[\",SNPs!B1588)-1),\"\")","v":""},{"$f":"IF(SNPs!B1588<>\"\",MID(SNPs!B1588,FIND(\"[\",SNPs!B1588)+3,FIND(\"/\",SNPs!B1588)-FIND(\"/\",SNPs!B1588)+1),\"\")","v":""},{"$f":"IF(SNPs!B1588<>\"\",SNPs!B1588,\"\")","v":""}]
[{"$f":"IF(SNPs!A1589<>\"\",SNPs!A1589,\"\")","v":""},{"$f":"IF(SNPs!B1589<>\"\",MID(SNPs!B1589,FIND(\"[\",SNPs!B1589)+1,FIND(\"/\",SNPs!B1589)-FIND(\"[\",SNPs!B1589)-1),\"\")","v":""},{"$f":"IF(SNPs!B1589<>\"\",MID(SNPs!B1589,FIND(\"[\",SNPs!B1589)+3,FIND(\"/\",SNPs!B1589)-FIND(\"/\",SNPs!B1589)+1),\"\")","v":""},{"$f":"IF(SNPs!B1589<>\"\",SNPs!B1589,\"\")","v":""}]
[{"$f":"IF(SNPs!A1590<>\"\",SNPs!A1590,\"\")","v":""},{"$f":"IF(SNPs!B1590<>\"\",MID(SNPs!B1590,FIND(\"[\",SNPs!B1590)+1,FIND(\"/\",SNPs!B1590)-FIND(\"[\",SNPs!B1590)-1),\"\")","v":""},{"$f":"IF(SNPs!B1590<>\"\",MID(SNPs!B1590,FIND(\"[\",SNPs!B1590)+3,FIND(\"/\",SNPs!B1590)-FIND(\"/\",SNPs!B1590)+1),\"\")","v":""},{"$f":"IF(SNPs!B1590<>\"\",SNPs!B1590,\"\")","v":""}]
[{"$f":"IF(SNPs!A1591<>\"\",SNPs!A1591,\"\")","v":""},{"$f":"IF(SNPs!B1591<>\"\",MID(SNPs!B1591,FIND(\"[\",SNPs!B1591)+1,FIND(\"/\",SNPs!B1591)-FIND(\"[\",SNPs!B1591)-1),\"\")","v":""},{"$f":"IF(SNPs!B1591<>\"\",MID(SNPs!B1591,FIND(\"[\",SNPs!B1591)+3,FIND(\"/\",SNPs!B1591)-FIND(\"/\",SNPs!B1591)+1),\"\")","v":""},{"$f":"IF(SNPs!B1591<>\"\",SNPs!B1591,\"\")","v":""}]
[{"$f":"IF(SNPs!A1592<>\"\",SNPs!A1592,\"\")","v":""},{"$f":"IF(SNPs!B1592<>\"\",MID(SNPs!B1592,FIND(\"[\",SNPs!B1592)+1,FIND(\"/\",SNPs!B1592)-FIND(\"[\",SNPs!B1592)-1),\"\")","v":""},{"$f":"IF(SNPs!B1592<>\"\",MID(SNPs!B1592,FIND(\"[\",SNPs!B1592)+3,FIND(\"/\",SNPs!B1592)-FIND(\"/\",SNPs!B1592)+1),\"\")","v":""},{"$f":"IF(SNPs!B1592<>\"\",SNPs!B1592,\"\")","v":""}]
[{"$f":"IF(SNPs!A1593<>\"\",SNPs!A1593,\"\")","v":""},{"$f":"IF(SNPs!B1593<>\"\",MID(SNPs!B1593,FIND(\"[\",SNPs!B1593)+1,FIND(\"/\",SNPs!B1593)-FIND(\"[\",SNPs!B1593)-1),\"\")","v":""},{"$f":"IF(SNPs!B1593<>\"\",MID(SNPs!B1593,FIND(\"[\",SNPs!B1593)+3,FIND(\"/\",SNPs!B1593)-FIND(\"/\",SNPs!B1593)+1),\"\")","v":""},{"$f":"IF(SNPs!B1593<>\"\",SNPs!B1593,\"\")","v":""}]
[{"$f":"IF(SNPs!A1594<>\"\",SNPs!A1594,\"\")","v":""},{"$f":"IF(SNPs!B1594<>\"\",MID(SNPs!B1594,FIND(\"[\",SNPs!B1594)+1,FIND(\"/\",SNPs!B1594)-FIND(\"[\",SNPs!B1594)-1),\"\")","v":""},{"$f":"IF(SNPs!B1594<>\"\",MID(SNPs!B1594,FIND(\"[\",SNPs!B1594)+3,FIND(\"/\",SNPs!B1594)-FIND(\"/\",SNPs!B1594)+1),\"\")","v":""},{"$f":"IF(SNPs!B1594<>\"\",SNPs!B1594,\"\")","v":""}]
[{"$f":"IF(SNPs!A1595<>\"\",SNPs!A1595,\"\")","v":""},{"$f":"IF(SNPs!B1595<>\"\",MID(SNPs!B1595,FIND(\"[\",SNPs!B1595)+1,FIND(\"/\",SNPs!B1595)-FIND(\"[\",SNPs!B1595)-1),\"\")","v":""},{"$f":"IF(SNPs!B1595<>\"\",MID(SNPs!B1595,FIND(\"[\",SNPs!B1595)+3,FIND(\"/\",SNPs!B1595)-FIND(\"/\",SNPs!B1595)+1),\"\")","v":""},{"$f":"IF(SNPs!B1595<>\"\",SNPs!B1595,\"\")","v":""}]
[{"$f":"IF(SNPs!A1596<>\"\",SNPs!A1596,\"\")","v":""},{"$f":"IF(SNPs!B1596<>\"\",MID(SNPs!B1596,FIND(\"[\",SNPs!B1596)+1,FIND(\"/\",SNPs!B1596)-FIND(\"[\",SNPs!B1596)-1),\"\")","v":""},{"$f":"IF(SNPs!B1596<>\"\",MID(SNPs!B1596,FIND(\"[\",SNPs!B1596)+3,FIND(\"/\",SNPs!B1596)-FIND(\"/\",SNPs!B1596)+1),\"\")","v":""},{"$f":"IF(SNPs!B1596<>\"\",SNPs!B1596,\"\")","v":""}]
[{"$f":"IF(SNPs!A1597<>\"\",SNPs!A1597,\"\")","v":""},{"$f":"IF(SNPs!B1597<>\"\",MID(SNPs!B1597,FIND(\"[\",SNPs!B1597)+1,FIND(\"/\",SNPs!B1597)-FIND(\"[\",SNPs!B1597)-1),\"\")","v":""},{"$f":"IF(SNPs!B1597<>\"\",MID(SNPs!B1597,FIND(\"[\",SNPs!B1597)+3,FIND(\"/\",SNPs!B1597)-FIND(\"/\",SNPs!B1597)+1),\"\")","v":""},{"$f":"IF(SNPs!B1597<>\"\",SNPs!B1597,\"\")","v":""}]
[{"$f":"IF(SNPs!A1598<>\"\",SNPs!A1598,\"\")","v":""},{"$f":"IF(SNPs!B1598<>\"\",MID(SNPs!B1598,FIND(\"[\",SNPs!B1598)+1,FIND(\"/\",SNPs!B1598)-FIND(\"[\",SNPs!B1598)-1),\"\")","v":""},{"$f":"IF(SNPs!B1598<>\"\",MID(SNPs!B1598,FIND(\"[\",SNPs!B1598)+3,FIND(\"/\",SNPs!B1598)-FIND(\"/\",SNPs!B1598)+1),\"\")","v":""},{"$f":"IF(SNPs!B1598<>\"\",SNPs!B1598,\"\")","v":""}]
[{"$f":"IF(SNPs!A1599<>\"\",SNPs!A1599,\"\")","v":""},{"$f":"IF(SNPs!B1599<>\"\",MID(SNPs!B1599,FIND(\"[\",SNPs!B1599)+1,FIND(\"/\",SNPs!B1599)-FIND(\"[\",SNPs!B1599)-1),\"\")","v":""},{"$f":"IF(SNPs!B1599<>\"\",MID(SNPs!B1599,FIND(\"[\",SNPs!B1599)+3,FIND(\"/\",SNPs!B1599)-FIND(\"/\",SNPs!B1599)+1),\"\")","v":""},{"$f":"IF(SNPs!B1599<>\"\",SNPs!B1599,\"\")","v":""}]
[{"$f":"IF(SNPs!A1600<>\"\",SNPs!A1600,\"\")","v":""},{"$f":"IF(SNPs!B1600<>\"\",MID(SNPs!B1600,FIND(\"[\",SNPs!B1600)+1,FIND(\"/\",SNPs!B1600)-FIND(\"[\",SNPs!B1600)-1),\"\")","v":""},{"$f":"IF(SNPs!B1600<>\"\",MID(SNPs!B1600,FIND(\"[\",SNPs!B1600)+3,FIND(\"/\",SNPs!B1600)-FIND(\"/\",SNPs!B1600)+1),\"\")","v":""},{"$f":"IF(SNPs!B1600<>\"\",SNPs!B1600,\"\")","v":""}]
[{"$f":"IF(SNPs!A1601<>\"\",SNPs!A1601,\"\")","v":""},{"$f":"IF(SNPs!B1601<>\"\",MID(SNPs!B1601,FIND(\"[\",SNPs!B1601)+1,FIND(\"/\",SNPs!B1601)-FIND(\"[\",SNPs!B1601)-1),\"\")","v":""},{"$f":"IF(SNPs!B1601<>\"\",MID(SNPs!B1601,FIND(\"[\",SNPs!B1601)+3,FIND(\"/\",SNPs!B1601)-FIND(\"/\",SNPs!B1601)+1),\"\")","v":""},{"$f":"IF(SNPs!B1601<>\"\",SNPs!B1601,\"\")","v":""}]
[{"$f":"IF(SNPs!A1602<>\"\",SNPs!A1602,\"\")","v":""},{"$f":"IF(SNPs!B1602<>\"\",MID(SNPs!B1602,FIND(\"[\",SNPs!B1602)+1,FIND(\"/\",SNPs!B1602)-FIND(\"[\",SNPs!B1602)-1),\"\")","v":""},{"$f":"IF(SNPs!B1602<>\"\",MID(SNPs!B1602,FIND(\"[\",SNPs!B1602)+3,FIND(\"/\",SNPs!B1602)-FIND(\"/\",SNPs!B1602)+1),\"\")","v":""},{"$f":"IF(SNPs!B1602<>\"\",SNPs!B1602,\"\")","v":""}]
[{"$f":"IF(SNPs!A1603<>\"\",SNPs!A1603,\"\")","v":""},{"$f":"IF(SNPs!B1603<>\"\",MID(SNPs!B1603,FIND(\"[\",SNPs!B1603)+1,FIND(\"/\",SNPs!B1603)-FIND(\"[\",SNPs!B1603)-1),\"\")","v":""},{"$f":"IF(SNPs!B1603<>\"\",MID(SNPs!B1603,FIND(\"[\",SNPs!B1603)+3,FIND(\"/\",SNPs!B1603)-FIND(\"/\",SNPs!B1603)+1),\"\")","v":""},{"$f":"IF(SNPs!B1603<>\"\",SNPs!B1603,\"\")","v":""}]
[{"$f":"IF(SNPs!A1604<>\"\",SNPs!A1604,\"\")","v":""},{"$f":"IF(SNPs!B1604<>\"\",MID(SNPs!B1604,FIND(\"[\",SNPs!B1604)+1,FIND(\"/\",SNPs!B1604)-FIND(\"[\",SNPs!B1604)-1),\"\")","v":""},{"$f":"IF(SNPs!B1604<>\"\",MID(SNPs!B1604,FIND(\"[\",SNPs!B1604)+3,FIND(\"/\",SNPs!B1604)-FIND(\"/\",SNPs!B1604)+1),\"\")","v":""},{"$f":"IF(SNPs!B1604<>\"\",SNPs!B1604,\"\")","v":""}]
[{"$f":"IF(SNPs!A1605<>\"\",SNPs!A1605,\"\")","v":""},{"$f":"IF(SNPs!B1605<>\"\",MID(SNPs!B1605,FIND(\"[\",SNPs!B1605)+1,FIND(\"/\",SNPs!B1605)-FIND(\"[\",SNPs!B1605)-1),\"\")","v":""},{"$f":"IF(SNPs!B1605<>\"\",MID(SNPs!B1605,FIND(\"[\",SNPs!B1605)+3,FIND(\"/\",SNPs!B1605)-FIND(\"/\",SNPs!B1605)+1),\"\")","v":""},{"$f":"IF(SNPs!B1605<>\"\",SNPs!B1605,\"\")","v":""}]
[{"$f":"IF(SNPs!A1606<>\"\",SNPs!A1606,\"\")","v":""},{"$f":"IF(SNPs!B1606<>\"\",MID(SNPs!B1606,FIND(\"[\",SNPs!B1606)+1,FIND(\"/\",SNPs!B1606)-FIND(\"[\",SNPs!B1606)-1),\"\")","v":""},{"$f":"IF(SNPs!B1606<>\"\",MID(SNPs!B1606,FIND(\"[\",SNPs!B1606)+3,FIND(\"/\",SNPs!B1606)-FIND(\"/\",SNPs!B1606)+1),\"\")","v":""},{"$f":"IF(SNPs!B1606<>\"\",SNPs!B1606,\"\")","v":""}]
[{"$f":"IF(SNPs!A1607<>\"\",SNPs!A1607,\"\")","v":""},{"$f":"IF(SNPs!B1607<>\"\",MID(SNPs!B1607,FIND(\"[\",SNPs!B1607)+1,FIND(\"/\",SNPs!B1607)-FIND(\"[\",SNPs!B1607)-1),\"\")","v":""},{"$f":"IF(SNPs!B1607<>\"\",MID(SNPs!B1607,FIND(\"[\",SNPs!B1607)+3,FIND(\"/\",SNPs!B1607)-FIND(\"/\",SNPs!B1607)+1),\"\")","v":""},{"$f":"IF(SNPs!B1607<>\"\",SNPs!B1607,\"\")","v":""}]
[{"$f":"IF(SNPs!A1608<>\"\",SNPs!A1608,\"\")","v":""},{"$f":"IF(SNPs!B1608<>\"\",MID(SNPs!B1608,FIND(\"[\",SNPs!B1608)+1,FIND(\"/\",SNPs!B1608)-FIND(\"[\",SNPs!B1608)-1),\"\")","v":""},{"$f":"IF(SNPs!B1608<>\"\",MID(SNPs!B1608,FIND(\"[\",SNPs!B1608)+3,FIND(\"/\",SNPs!B1608)-FIND(\"/\",SNPs!B1608)+1),\"\")","v":""},{"$f":"IF(SNPs!B1608<>\"\",SNPs!B1608,\"\")","v":""}]
[{"$f":"IF(SNPs!A1609<>\"\",SNPs!A1609,\"\")","v":""},{"$f":"IF(SNPs!B1609<>\"\",MID(SNPs!B1609,FIND(\"[\",SNPs!B1609)+1,FIND(\"/\",SNPs!B1609)-FIND(\"[\",SNPs!B1609)-1),\"\")","v":""},{"$f":"IF(SNPs!B1609<>\"\",MID(SNPs!B1609,FIND(\"[\",SNPs!B1609)+3,FIND(\"/\",SNPs!B1609)-FIND(\"/\",SNPs!B1609)+1),\"\")","v":""},{"$f":"IF(SNPs!B1609<>\"\",SNPs!B1609,\"\")","v":""}]
[{"$f":"IF(SNPs!A1610<>\"\",SNPs!A1610,\"\")","v":""},{"$f":"IF(SNPs!B1610<>\"\",MID(SNPs!B1610,FIND(\"[\",SNPs!B1610)+1,FIND(\"/\",SNPs!B1610)-FIND(\"[\",SNPs!B1610)-1),\"\")","v":""},{"$f":"IF(SNPs!B1610<>\"\",MID(SNPs!B1610,FIND(\"[\",SNPs!B1610)+3,FIND(\"/\",SNPs!B1610)-FIND(\"/\",SNPs!B1610)+1),\"\")","v":""},{"$f":"IF(SNPs!B1610<>\"\",SNPs!B1610,\"\")","v":""}]
[{"$f":"IF(SNPs!A1611<>\"\",SNPs!A1611,\"\")","v":""},{"$f":"IF(SNPs!B1611<>\"\",MID(SNPs!B1611,FIND(\"[\",SNPs!B1611)+1,FIND(\"/\",SNPs!B1611)-FIND(\"[\",SNPs!B1611)-1),\"\")","v":""},{"$f":"IF(SNPs!B1611<>\"\",MID(SNPs!B1611,FIND(\"[\",SNPs!B1611)+3,FIND(\"/\",SNPs!B1611)-FIND(\"/\",SNPs!B1611)+1),\"\")","v":""},{"$f":"IF(SNPs!B1611<>\"\",SNPs!B1611,\"\")","v":""}]
[{"$f":"IF(SNPs!A1612<>\"\",SNPs!A1612,\"\")","v":""},{"$f":"IF(SNPs!B1612<>\"\",MID(SNPs!B1612,FIND(\"[\",SNPs!B1612)+1,FIND(\"/\",SNPs!B1612)-FIND(\"[\",SNPs!B1612)-1),\"\")","v":""},{"$f":"IF(SNPs!B1612<>\"\",MID(SNPs!B1612,FIND(\"[\",SNPs!B1612)+3,FIND(\"/\",SNPs!B1612)-FIND(\"/\",SNPs!B1612)+1),\"\")","v":""},{"$f":"IF(SNPs!B1612<>\"\",SNPs!B1612,\"\")","v":""}]
[{"$f":"IF(SNPs!A1613<>\"\",SNPs!A1613,\"\")","v":""},{"$f":"IF(SNPs!B1613<>\"\",MID(SNPs!B1613,FIND(\"[\",SNPs!B1613)+1,FIND(\"/\",SNPs!B1613)-FIND(\"[\",SNPs!B1613)-1),\"\")","v":""},{"$f":"IF(SNPs!B1613<>\"\",MID(SNPs!B1613,FIND(\"[\",SNPs!B1613)+3,FIND(\"/\",SNPs!B1613)-FIND(\"/\",SNPs!B1613)+1),\"\")","v":""},{"$f":"IF(SNPs!B1613<>\"\",SNPs!B1613,\"\")","v":""}]
[{"$f":"IF(SNPs!A1614<>\"\",SNPs!A1614,\"\")","v":""},{"$f":"IF(SNPs!B1614<>\"\",MID(SNPs!B1614,FIND(\"[\",SNPs!B1614)+1,FIND(\"/\",SNPs!B1614)-FIND(\"[\",SNPs!B1614)-1),\"\")","v":""},{"$f":"IF(SNPs!B1614<>\"\",MID(SNPs!B1614,FIND(\"[\",SNPs!B1614)+3,FIND(\"/\",SNPs!B1614)-FIND(\"/\",SNPs!B1614)+1),\"\")","v":""},{"$f":"IF(SNPs!B1614<>\"\",SNPs!B1614,\"\")","v":""}]
[{"$f":"IF(SNPs!A1615<>\"\",SNPs!A1615,\"\")","v":""},{"$f":"IF(SNPs!B1615<>\"\",MID(SNPs!B1615,FIND(\"[\",SNPs!B1615)+1,FIND(\"/\",SNPs!B1615)-FIND(\"[\",SNPs!B1615)-1),\"\")","v":""},{"$f":"IF(SNPs!B1615<>\"\",MID(SNPs!B1615,FIND(\"[\",SNPs!B1615)+3,FIND(\"/\",SNPs!B1615)-FIND(\"/\",SNPs!B1615)+1),\"\")","v":""},{"$f":"IF(SNPs!B1615<>\"\",SNPs!B1615,\"\")","v":""}]
[{"$f":"IF(SNPs!A1616<>\"\",SNPs!A1616,\"\")","v":""},{"$f":"IF(SNPs!B1616<>\"\",MID(SNPs!B1616,FIND(\"[\",SNPs!B1616)+1,FIND(\"/\",SNPs!B1616)-FIND(\"[\",SNPs!B1616)-1),\"\")","v":""},{"$f":"IF(SNPs!B1616<>\"\",MID(SNPs!B1616,FIND(\"[\",SNPs!B1616)+3,FIND(\"/\",SNPs!B1616)-FIND(\"/\",SNPs!B1616)+1),\"\")","v":""},{"$f":"IF(SNPs!B1616<>\"\",SNPs!B1616,\"\")","v":""}]
[{"$f":"IF(SNPs!A1617<>\"\",SNPs!A1617,\"\")","v":""},{"$f":"IF(SNPs!B1617<>\"\",MID(SNPs!B1617,FIND(\"[\",SNPs!B1617)+1,FIND(\"/\",SNPs!B1617)-FIND(\"[\",SNPs!B1617)-1),\"\")","v":""},{"$f":"IF(SNPs!B1617<>\"\",MID(SNPs!B1617,FIND(\"[\",SNPs!B1617)+3,FIND(\"/\",SNPs!B1617)-FIND(\"/\",SNPs!B1617)+1),\"\")","v":""},{"$f":"IF(SNPs!B1617<>\"\",SNPs!B1617,\"\")","v":""}]
[{"$f":"IF(SNPs!A1618<>\"\",SNPs!A1618,\"\")","v":""},{"$f":"IF(SNPs!B1618<>\"\",MID(SNPs!B1618,FIND(\"[\",SNPs!B1618)+1,FIND(\"/\",SNPs!B1618)-FIND(\"[\",SNPs!B1618)-1),\"\")","v":""},{"$f":"IF(SNPs!B1618<>\"\",MID(SNPs!B1618,FIND(\"[\",SNPs!B1618)+3,FIND(\"/\",SNPs!B1618)-FIND(\"/\",SNPs!B1618)+1),\"\")","v":""},{"$f":"IF(SNPs!B1618<>\"\",SNPs!B1618,\"\")","v":""}]
[{"$f":"IF(SNPs!A1619<>\"\",SNPs!A1619,\"\")","v":""},{"$f":"IF(SNPs!B1619<>\"\",MID(SNPs!B1619,FIND(\"[\",SNPs!B1619)+1,FIND(\"/\",SNPs!B1619)-FIND(\"[\",SNPs!B1619)-1),\"\")","v":""},{"$f":"IF(SNPs!B1619<>\"\",MID(SNPs!B1619,FIND(\"[\",SNPs!B1619)+3,FIND(\"/\",SNPs!B1619)-FIND(\"/\",SNPs!B1619)+1),\"\")","v":""},{"$f":"IF(SNPs!B1619<>\"\",SNPs!B1619,\"\")","v":""}]
[{"$f":"IF(SNPs!A1620<>\"\",SNPs!A1620,\"\")","v":""},{"$f":"IF(SNPs!B1620<>\"\",MID(SNPs!B1620,FIND(\"[\",SNPs!B1620)+1,FIND(\"/\",SNPs!B1620)-FIND(\"[\",SNPs!B1620)-1),\"\")","v":""},{"$f":"IF(SNPs!B1620<>\"\",MID(SNPs!B1620,FIND(\"[\",SNPs!B1620)+3,FIND(\"/\",SNPs!B1620)-FIND(\"/\",SNPs!B1620)+1),\"\")","v":""},{"$f":"IF(SNPs!B1620<>\"\",SNPs!B1620,\"\")","v":""}]
[{"$f":"IF(SNPs!A1621<>\"\",SNPs!A1621,\"\")","v":""},{"$f":"IF(SNPs!B1621<>\"\",MID(SNPs!B1621,FIND(\"[\",SNPs!B1621)+1,FIND(\"/\",SNPs!B1621)-FIND(\"[\",SNPs!B1621)-1),\"\")","v":""},{"$f":"IF(SNPs!B1621<>\"\",MID(SNPs!B1621,FIND(\"[\",SNPs!B1621)+3,FIND(\"/\",SNPs!B1621)-FIND(\"/\",SNPs!B1621)+1),\"\")","v":""},{"$f":"IF(SNPs!B1621<>\"\",SNPs!B1621,\"\")","v":""}]
[{"$f":"IF(SNPs!A1622<>\"\",SNPs!A1622,\"\")","v":""},{"$f":"IF(SNPs!B1622<>\"\",MID(SNPs!B1622,FIND(\"[\",SNPs!B1622)+1,FIND(\"/\",SNPs!B1622)-FIND(\"[\",SNPs!B1622)-1),\"\")","v":""},{"$f":"IF(SNPs!B1622<>\"\",MID(SNPs!B1622,FIND(\"[\",SNPs!B1622)+3,FIND(\"/\",SNPs!B1622)-FIND(\"/\",SNPs!B1622)+1),\"\")","v":""},{"$f":"IF(SNPs!B1622<>\"\",SNPs!B1622,\"\")","v":""}]
[{"$f":"IF(SNPs!A1623<>\"\",SNPs!A1623,\"\")","v":""},{"$f":"IF(SNPs!B1623<>\"\",MID(SNPs!B1623,FIND(\"[\",SNPs!B1623)+1,FIND(\"/\",SNPs!B1623)-FIND(\"[\",SNPs!B1623)-1),\"\")","v":""},{"$f":"IF(SNPs!B1623<>\"\",MID(SNPs!B1623,FIND(\"[\",SNPs!B1623)+3,FIND(\"/\",SNPs!B1623)-FIND(\"/\",SNPs!B1623)+1),\"\")","v":""},{"$f":"IF(SNPs!B1623<>\"\",SNPs!B1623,\"\")","v":""}]
[{"$f":"IF(SNPs!A1624<>\"\",SNPs!A1624,\"\")","v":""},{"$f":"IF(SNPs!B1624<>\"\",MID(SNPs!B1624,FIND(\"[\",SNPs!B1624)+1,FIND(\"/\",SNPs!B1624)-FIND(\"[\",SNPs!B1624)-1),\"\")","v":""},{"$f":"IF(SNPs!B1624<>\"\",MID(SNPs!B1624,FIND(\"[\",SNPs!B1624)+3,FIND(\"/\",SNPs!B1624)-FIND(\"/\",SNPs!B1624)+1),\"\")","v":""},{"$f":"IF(SNPs!B1624<>\"\",SNPs!B1624,\"\")","v":""}]
[{"$f":"IF(SNPs!A1625<>\"\",SNPs!A1625,\"\")","v":""},{"$f":"IF(SNPs!B1625<>\"\",MID(SNPs!B1625,FIND(\"[\",SNPs!B1625)+1,FIND(\"/\",SNPs!B1625)-FIND(\"[\",SNPs!B1625)-1),\"\")","v":""},{"$f":"IF(SNPs!B1625<>\"\",MID(SNPs!B1625,FIND(\"[\",SNPs!B1625)+3,FIND(\"/\",SNPs!B1625)-FIND(\"/\",SNPs!B1625)+1),\"\")","v":""},{"$f":"IF(SNPs!B1625<>\"\",SNPs!B1625,\"\")","v":""}]
[{"$f":"IF(SNPs!A1626<>\"\",SNPs!A1626,\"\")","v":""},{"$f":"IF(SNPs!B1626<>\"\",MID(SNPs!B1626,FIND(\"[\",SNPs!B1626)+1,FIND(\"/\",SNPs!B1626)-FIND(\"[\",SNPs!B1626)-1),\"\")","v":""},{"$f":"IF(SNPs!B1626<>\"\",MID(SNPs!B1626,FIND(\"[\",SNPs!B1626)+3,FIND(\"/\",SNPs!B1626)-FIND(\"/\",SNPs!B1626)+1),\"\")","v":""},{"$f":"IF(SNPs!B1626<>\"\",SNPs!B1626,\"\")","v":""}]
[{"$f":"IF(SNPs!A1627<>\"\",SNPs!A1627,\"\")","v":""},{"$f":"IF(SNPs!B1627<>\"\",MID(SNPs!B1627,FIND(\"[\",SNPs!B1627)+1,FIND(\"/\",SNPs!B1627)-FIND(\"[\",SNPs!B1627)-1),\"\")","v":""},{"$f":"IF(SNPs!B1627<>\"\",MID(SNPs!B1627,FIND(\"[\",SNPs!B1627)+3,FIND(\"/\",SNPs!B1627)-FIND(\"/\",SNPs!B1627)+1),\"\")","v":""},{"$f":"IF(SNPs!B1627<>\"\",SNPs!B1627,\"\")","v":""}]
[{"$f":"IF(SNPs!A1628<>\"\",SNPs!A1628,\"\")","v":""},{"$f":"IF(SNPs!B1628<>\"\",MID(SNPs!B1628,FIND(\"[\",SNPs!B1628)+1,FIND(\"/\",SNPs!B1628)-FIND(\"[\",SNPs!B1628)-1),\"\")","v":""},{"$f":"IF(SNPs!B1628<>\"\",MID(SNPs!B1628,FIND(\"[\",SNPs!B1628)+3,FIND(\"/\",SNPs!B1628)-FIND(\"/\",SNPs!B1628)+1),\"\")","v":""},{"$f":"IF(SNPs!B1628<>\"\",SNPs!B1628,\"\")","v":""}]
[{"$f":"IF(SNPs!A1629<>\"\",SNPs!A1629,\"\")","v":""},{"$f":"IF(SNPs!B1629<>\"\",MID(SNPs!B1629,FIND(\"[\",SNPs!B1629)+1,FIND(\"/\",SNPs!B1629)-FIND(\"[\",SNPs!B1629)-1),\"\")","v":""},{"$f":"IF(SNPs!B1629<>\"\",MID(SNPs!B1629,FIND(\"[\",SNPs!B1629)+3,FIND(\"/\",SNPs!B1629)-FIND(\"/\",SNPs!B1629)+1),\"\")","v":""},{"$f":"IF(SNPs!B1629<>\"\",SNPs!B1629,\"\")","v":""}]
[{"$f":"IF(SNPs!A1630<>\"\",SNPs!A1630,\"\")","v":""},{"$f":"IF(SNPs!B1630<>\"\",MID(SNPs!B1630,FIND(\"[\",SNPs!B1630)+1,FIND(\"/\",SNPs!B1630)-FIND(\"[\",SNPs!B1630)-1),\"\")","v":""},{"$f":"IF(SNPs!B1630<>\"\",MID(SNPs!B1630,FIND(\"[\",SNPs!B1630)+3,FIND(\"/\",SNPs!B1630)-FIND(\"/\",SNPs!B1630)+1),\"\")","v":""},{"$f":"IF(SNPs!B1630<>\"\",SNPs!B1630,\"\")","v":""}]
[{"$f":"IF(SNPs!A1631<>\"\",SNPs!A1631,\"\")","v":""},{"$f":"IF(SNPs!B1631<>\"\",MID(SNPs!B1631,FIND(\"[\",SNPs!B1631)+1,FIND(\"/\",SNPs!B1631)-FIND(\"[\",SNPs!B1631)-1),\"\")","v":""},{"$f":"IF(SNPs!B1631<>\"\",MID(SNPs!B1631,FIND(\"[\",SNPs!B1631)+3,FIND(\"/\",SNPs!B1631)-FIND(\"/\",SNPs!B1631)+1),\"\")","v":""},{"$f":"IF(SNPs!B1631<>\"\",SNPs!B1631,\"\")","v":""}]
[{"$f":"IF(SNPs!A1632<>\"\",SNPs!A1632,\"\")","v":""},{"$f":"IF(SNPs!B1632<>\"\",MID(SNPs!B1632,FIND(\"[\",SNPs!B1632)+1,FIND(\"/\",SNPs!B1632)-FIND(\"[\",SNPs!B1632)-1),\"\")","v":""},{"$f":"IF(SNPs!B1632<>\"\",MID(SNPs!B1632,FIND(\"[\",SNPs!B1632)+3,FIND(\"/\",SNPs!B1632)-FIND(\"/\",SNPs!B1632)+1),\"\")","v":""},{"$f":"IF(SNPs!B1632<>\"\",SNPs!B1632,\"\")","v":""}]
[{"$f":"IF(SNPs!A1633<>\"\",SNPs!A1633,\"\")","v":""},{"$f":"IF(SNPs!B1633<>\"\",MID(SNPs!B1633,FIND(\"[\",SNPs!B1633)+1,FIND(\"/\",SNPs!B1633)-FIND(\"[\",SNPs!B1633)-1),\"\")","v":""},{"$f":"IF(SNPs!B1633<>\"\",MID(SNPs!B1633,FIND(\"[\",SNPs!B1633)+3,FIND(\"/\",SNPs!B1633)-FIND(\"/\",SNPs!B1633)+1),\"\")","v":""},{"$f":"IF(SNPs!B1633<>\"\",SNPs!B1633,\"\")","v":""}]
[{"$f":"IF(SNPs!A1634<>\"\",SNPs!A1634,\"\")","v":""},{"$f":"IF(SNPs!B1634<>\"\",MID(SNPs!B1634,FIND(\"[\",SNPs!B1634)+1,FIND(\"/\",SNPs!B1634)-FIND(\"[\",SNPs!B1634)-1),\"\")","v":""},{"$f":"IF(SNPs!B1634<>\"\",MID(SNPs!B1634,FIND(\"[\",SNPs!B1634)+3,FIND(\"/\",SNPs!B1634)-FIND(\"/\",SNPs!B1634)+1),\"\")","v":""},{"$f":"IF(SNPs!B1634<>\"\",SNPs!B1634,\"\")","v":""}]
[{"$f":"IF(SNPs!A1635<>\"\",SNPs!A1635,\"\")","v":""},{"$f":"IF(SNPs!B1635<>\"\",MID(SNPs!B1635,FIND(\"[\",SNPs!B1635)+1,FIND(\"/\",SNPs!B1635)-FIND(\"[\",SNPs!B1635)-1),\"\")","v":""},{"$f":"IF(SNPs!B1635<>\"\",MID(SNPs!B1635,FIND(\"[\",SNPs!B1635)+3,FIND(\"/\",SNPs!B1635)-FIND(\"/\",SNPs!B1635)+1),\"\")","v":""},{"$f":"IF(SNPs!B1635<>\"\",SNPs!B1635,\"\")","v":""}]
[{"$f":"IF(SNPs!A1636<>\"\",SNPs!A1636,\"\")","v":""},{"$f":"IF(SNPs!B1636<>\"\",MID(SNPs!B1636,FIND(\"[\",SNPs!B1636)+1,FIND(\"/\",SNPs!B1636)-FIND(\"[\",SNPs!B1636)-1),\"\")","v":""},{"$f":"IF(SNPs!B1636<>\"\",MID(SNPs!B1636,FIND(\"[\",SNPs!B1636)+3,FIND(\"/\",SNPs!B1636)-FIND(\"/\",SNPs!B1636)+1),\"\")","v":""},{"$f":"IF(SNPs!B1636<>\"\",SNPs!B1636,\"\")","v":""}]
[{"$f":"IF(SNPs!A1637<>\"\",SNPs!A1637,\"\")","v":""},{"$f":"IF(SNPs!B1637<>\"\",MID(SNPs!B1637,FIND(\"[\",SNPs!B1637)+1,FIND(\"/\",SNPs!B1637)-FIND(\"[\",SNPs!B1637)-1),\"\")","v":""},{"$f":"IF(SNPs!B1637<>\"\",MID(SNPs!B1637,FIND(\"[\",SNPs!B1637)+3,FIND(\"/\",SNPs!B1637)-FIND(\"/\",SNPs!B1637)+1),\"\")","v":""},{"$f":"IF(SNPs!B1637<>\"\",SNPs!B1637,\"\")","v":""}]
[{"$f":"IF(SNPs!A1638<>\"\",SNPs!A1638,\"\")","v":""},{"$f":"IF(SNPs!B1638<>\"\",MID(SNPs!B1638,FIND(\"[\",SNPs!B1638)+1,FIND(\"/\",SNPs!B1638)-FIND(\"[\",SNPs!B1638)-1),\"\")","v":""},{"$f":"IF(SNPs!B1638<>\"\",MID(SNPs!B1638,FIND(\"[\",SNPs!B1638)+3,FIND(\"/\",SNPs!B1638)-FIND(\"/\",SNPs!B1638)+1),\"\")","v":""},{"$f":"IF(SNPs!B1638<>\"\",SNPs!B1638,\"\")","v":""}]
[{"$f":"IF(SNPs!A1639<>\"\",SNPs!A1639,\"\")","v":""},{"$f":"IF(SNPs!B1639<>\"\",MID(SNPs!B1639,FIND(\"[\",SNPs!B1639)+1,FIND(\"/\",SNPs!B1639)-FIND(\"[\",SNPs!B1639)-1),\"\")","v":""},{"$f":"IF(SNPs!B1639<>\"\",MID(SNPs!B1639,FIND(\"[\",SNPs!B1639)+3,FIND(\"/\",SNPs!B1639)-FIND(\"/\",SNPs!B1639)+1),\"\")","v":""},{"$f":"IF(SNPs!B1639<>\"\",SNPs!B1639,\"\")","v":""}]
[{"$f":"IF(SNPs!A1640<>\"\",SNPs!A1640,\"\")","v":""},{"$f":"IF(SNPs!B1640<>\"\",MID(SNPs!B1640,FIND(\"[\",SNPs!B1640)+1,FIND(\"/\",SNPs!B1640)-FIND(\"[\",SNPs!B1640)-1),\"\")","v":""},{"$f":"IF(SNPs!B1640<>\"\",MID(SNPs!B1640,FIND(\"[\",SNPs!B1640)+3,FIND(\"/\",SNPs!B1640)-FIND(\"/\",SNPs!B1640)+1),\"\")","v":""},{"$f":"IF(SNPs!B1640<>\"\",SNPs!B1640,\"\")","v":""}]
[{"$f":"IF(SNPs!A1641<>\"\",SNPs!A1641,\"\")","v":""},{"$f":"IF(SNPs!B1641<>\"\",MID(SNPs!B1641,FIND(\"[\",SNPs!B1641)+1,FIND(\"/\",SNPs!B1641)-FIND(\"[\",SNPs!B1641)-1),\"\")","v":""},{"$f":"IF(SNPs!B1641<>\"\",MID(SNPs!B1641,FIND(\"[\",SNPs!B1641)+3,FIND(\"/\",SNPs!B1641)-FIND(\"/\",SNPs!B1641)+1),\"\")","v":""},{"$f":"IF(SNPs!B1641<>\"\",SNPs!B1641,\"\")","v":""}]
[{"$f":"IF(SNPs!A1642<>\"\",SNPs!A1642,\"\")","v":""},{"$f":"IF(SNPs!B1642<>\"\",MID(SNPs!B1642,FIND(\"[\",SNPs!B1642)+1,FIND(\"/\",SNPs!B1642)-FIND(\"[\",SNPs!B1642)-1),\"\")","v":""},{"$f":"IF(SNPs!B1642<>\"\",MID(SNPs!B1642,FIND(\"[\",SNPs!B1642)+3,FIND(\"/\",SNPs!B1642)-FIND(\"/\",SNPs!B1642)+1),\"\")","v":""},{"$f":"IF(SNPs!B1642<>\"\",SNPs!B1642,\"\")","v":""}]
[{"$f":"IF(SNPs!A1643<>\"\",SNPs!A1643,\"\")","v":""},{"$f":"IF(SNPs!B1643<>\"\",MID(SNPs!B1643,FIND(\"[\",SNPs!B1643)+1,FIND(\"/\",SNPs!B1643)-FIND(\"[\",SNPs!B1643)-1),\"\")","v":""},{"$f":"IF(SNPs!B1643<>\"\",MID(SNPs!B1643,FIND(\"[\",SNPs!B1643)+3,FIND(\"/\",SNPs!B1643)-FIND(\"/\",SNPs!B1643)+1),\"\")","v":""},{"$f":"IF(SNPs!B1643<>\"\",SNPs!B1643,\"\")","v":""}]
[{"$f":"IF(SNPs!A1644<>\"\",SNPs!A1644,\"\")","v":""},{"$f":"IF(SNPs!B1644<>\"\",MID(SNPs!B1644,FIND(\"[\",SNPs!B1644)+1,FIND(\"/\",SNPs!B1644)-FIND(\"[\",SNPs!B1644)-1),\"\")","v":""},{"$f":"IF(SNPs!B1644<>\"\",MID(SNPs!B1644,FIND(\"[\",SNPs!B1644)+3,FIND(\"/\",SNPs!B1644)-FIND(\"/\",SNPs!B1644)+1),\"\")","v":""},{"$f":"IF(SNPs!B1644<>\"\",SNPs!B1644,\"\")","v":""}]
[{"$f":"IF(SNPs!A1645<>\"\",SNPs!A1645,\"\")","v":""},{"$f":"IF(SNPs!B1645<>\"\",MID(SNPs!B1645,FIND(\"[\",SNPs!B1645)+1,FIND(\"/\",SNPs!B1645)-FIND(\"[\",SNPs!B1645)-1),\"\")","v":""},{"$f":"IF(SNPs!B1645<>\"\",MID(SNPs!B1645,FIND(\"[\",SNPs!B1645)+3,FIND(\"/\",SNPs!B1645)-FIND(\"/\",SNPs!B1645)+1),\"\")","v":""},{"$f":"IF(SNPs!B1645<>\"\",SNPs!B1645,\"\")","v":""}]
[{"$f":"IF(SNPs!A1646<>\"\",SNPs!A1646,\"\")","v":""},{"$f":"IF(SNPs!B1646<>\"\",MID(SNPs!B1646,FIND(\"[\",SNPs!B1646)+1,FIND(\"/\",SNPs!B1646)-FIND(\"[\",SNPs!B1646)-1),\"\")","v":""},{"$f":"IF(SNPs!B1646<>\"\",MID(SNPs!B1646,FIND(\"[\",SNPs!B1646)+3,FIND(\"/\",SNPs!B1646)-FIND(\"/\",SNPs!B1646)+1),\"\")","v":""},{"$f":"IF(SNPs!B1646<>\"\",SNPs!B1646,\"\")","v":""}]
[{"$f":"IF(SNPs!A1647<>\"\",SNPs!A1647,\"\")","v":""},{"$f":"IF(SNPs!B1647<>\"\",MID(SNPs!B1647,FIND(\"[\",SNPs!B1647)+1,FIND(\"/\",SNPs!B1647)-FIND(\"[\",SNPs!B1647)-1),\"\")","v":""},{"$f":"IF(SNPs!B1647<>\"\",MID(SNPs!B1647,FIND(\"[\",SNPs!B1647)+3,FIND(\"/\",SNPs!B1647)-FIND(\"/\",SNPs!B1647)+1),\"\")","v":""},{"$f":"IF(SNPs!B1647<>\"\",SNPs!B1647,\"\")","v":""}]
[{"$f":"IF(SNPs!A1648<>\"\",SNPs!A1648,\"\")","v":""},{"$f":"IF(SNPs!B1648<>\"\",MID(SNPs!B1648,FIND(\"[\",SNPs!B1648)+1,FIND(\"/\",SNPs!B1648)-FIND(\"[\",SNPs!B1648)-1),\"\")","v":""},{"$f":"IF(SNPs!B1648<>\"\",MID(SNPs!B1648,FIND(\"[\",SNPs!B1648)+3,FIND(\"/\",SNPs!B1648)-FIND(\"/\",SNPs!B1648)+1),\"\")","v":""},{"$f":"IF(SNPs!B1648<>\"\",SNPs!B1648,\"\")","v":""}]
[{"$f":"IF(SNPs!A1649<>\"\",SNPs!A1649,\"\")","v":""},{"$f":"IF(SNPs!B1649<>\"\",MID(SNPs!B1649,FIND(\"[\",SNPs!B1649)+1,FIND(\"/\",SNPs!B1649)-FIND(\"[\",SNPs!B1649)-1),\"\")","v":""},{"$f":"IF(SNPs!B1649<>\"\",MID(SNPs!B1649,FIND(\"[\",SNPs!B1649)+3,FIND(\"/\",SNPs!B1649)-FIND(\"/\",SNPs!B1649)+1),\"\")","v":""},{"$f":"IF(SNPs!B1649<>\"\",SNPs!B1649,\"\")","v":""}]
[{"$f":"IF(SNPs!A1650<>\"\",SNPs!A1650,\"\")","v":""},{"$f":"IF(SNPs!B1650<>\"\",MID(SNPs!B1650,FIND(\"[\",SNPs!B1650)+1,FIND(\"/\",SNPs!B1650)-FIND(\"[\",SNPs!B1650)-1),\"\")","v":""},{"$f":"IF(SNPs!B1650<>\"\",MID(SNPs!B1650,FIND(\"[\",SNPs!B1650)+3,FIND(\"/\",SNPs!B1650)-FIND(\"/\",SNPs!B1650)+1),\"\")","v":""},{"$f":"IF(SNPs!B1650<>\"\",SNPs!B1650,\"\")","v":""}]
[{"$f":"IF(SNPs!A1651<>\"\",SNPs!A1651,\"\")","v":""},{"$f":"IF(SNPs!B1651<>\"\",MID(SNPs!B1651,FIND(\"[\",SNPs!B1651)+1,FIND(\"/\",SNPs!B1651)-FIND(\"[\",SNPs!B1651)-1),\"\")","v":""},{"$f":"IF(SNPs!B1651<>\"\",MID(SNPs!B1651,FIND(\"[\",SNPs!B1651)+3,FIND(\"/\",SNPs!B1651)-FIND(\"/\",SNPs!B1651)+1),\"\")","v":""},{"$f":"IF(SNPs!B1651<>\"\",SNPs!B1651,\"\")","v":""}]
[{"$f":"IF(SNPs!A1652<>\"\",SNPs!A1652,\"\")","v":""},{"$f":"IF(SNPs!B1652<>\"\",MID(SNPs!B1652,FIND(\"[\",SNPs!B1652)+1,FIND(\"/\",SNPs!B1652)-FIND(\"[\",SNPs!B1652)-1),\"\")","v":""},{"$f":"IF(SNPs!B1652<>\"\",MID(SNPs!B1652,FIND(\"[\",SNPs!B1652)+3,FIND(\"/\",SNPs!B1652)-FIND(\"/\",SNPs!B1652)+1),\"\")","v":""},{"$f":"IF(SNPs!B1652<>\"\",SNPs!B1652,\"\")","v":""}]
[{"$f":"IF(SNPs!A1653<>\"\",SNPs!A1653,\"\")","v":""},{"$f":"IF(SNPs!B1653<>\"\",MID(SNPs!B1653,FIND(\"[\",SNPs!B1653)+1,FIND(\"/\",SNPs!B1653)-FIND(\"[\",SNPs!B1653)-1),\"\")","v":""},{"$f":"IF(SNPs!B1653<>\"\",MID(SNPs!B1653,FIND(\"[\",SNPs!B1653)+3,FIND(\"/\",SNPs!B1653)-FIND(\"/\",SNPs!B1653)+1),\"\")","v":""},{"$f":"IF(SNPs!B1653<>\"\",SNPs!B1653,\"\")","v":""}]
[{"$f":"IF(SNPs!A1654<>\"\",SNPs!A1654,\"\")","v":""},{"$f":"IF(SNPs!B1654<>\"\",MID(SNPs!B1654,FIND(\"[\",SNPs!B1654)+1,FIND(\"/\",SNPs!B1654)-FIND(\"[\",SNPs!B1654)-1),\"\")","v":""},{"$f":"IF(SNPs!B1654<>\"\",MID(SNPs!B1654,FIND(\"[\",SNPs!B1654)+3,FIND(\"/\",SNPs!B1654)-FIND(\"/\",SNPs!B1654)+1),\"\")","v":""},{"$f":"IF(SNPs!B1654<>\"\",SNPs!B1654,\"\")","v":""}]
[{"$f":"IF(SNPs!A1655<>\"\",SNPs!A1655,\"\")","v":""},{"$f":"IF(SNPs!B1655<>\"\",MID(SNPs!B1655,FIND(\"[\",SNPs!B1655)+1,FIND(\"/\",SNPs!B1655)-FIND(\"[\",SNPs!B1655)-1),\"\")","v":""},{"$f":"IF(SNPs!B1655<>\"\",MID(SNPs!B1655,FIND(\"[\",SNPs!B1655)+3,FIND(\"/\",SNPs!B1655)-FIND(\"/\",SNPs!B1655)+1),\"\")","v":""},{"$f":"IF(SNPs!B1655<>\"\",SNPs!B1655,\"\")","v":""}]
[{"$f":"IF(SNPs!A1656<>\"\",SNPs!A1656,\"\")","v":""},{"$f":"IF(SNPs!B1656<>\"\",MID(SNPs!B1656,FIND(\"[\",SNPs!B1656)+1,FIND(\"/\",SNPs!B1656)-FIND(\"[\",SNPs!B1656)-1),\"\")","v":""},{"$f":"IF(SNPs!B1656<>\"\",MID(SNPs!B1656,FIND(\"[\",SNPs!B1656)+3,FIND(\"/\",SNPs!B1656)-FIND(\"/\",SNPs!B1656)+1),\"\")","v":""},{"$f":"IF(SNPs!B1656<>\"\",SNPs!B1656,\"\")","v":""}]
[{"$f":"IF(SNPs!A1657<>\"\",SNPs!A1657,\"\")","v":""},{"$f":"IF(SNPs!B1657<>\"\",MID(SNPs!B1657,FIND(\"[\",SNPs!B1657)+1,FIND(\"/\",SNPs!B1657)-FIND(\"[\",SNPs!B1657)-1),\"\")","v":""},{"$f":"IF(SNPs!B1657<>\"\",MID(SNPs!B1657,FIND(\"[\",SNPs!B1657)+3,FIND(\"/\",SNPs!B1657)-FIND(\"/\",SNPs!B1657)+1),\"\")","v":""},{"$f":"IF(SNPs!B1657<>\"\",SNPs!B1657,\"\")","v":""}]
[{"$f":"IF(SNPs!A1658<>\"\",SNPs!A1658,\"\")","v":""},{"$f":"IF(SNPs!B1658<>\"\",MID(SNPs!B1658,FIND(\"[\",SNPs!B1658)+1,FIND(\"/\",SNPs!B1658)-FIND(\"[\",SNPs!B1658)-1),\"\")","v":""},{"$f":"IF(SNPs!B1658<>\"\",MID(SNPs!B1658,FIND(\"[\",SNPs!B1658)+3,FIND(\"/\",SNPs!B1658)-FIND(\"/\",SNPs!B1658)+1),\"\")","v":""},{"$f":"IF(SNPs!B1658<>\"\",SNPs!B1658,\"\")","v":""}]
[{"$f":"IF(SNPs!A1659<>\"\",SNPs!A1659,\"\")","v":""},{"$f":"IF(SNPs!B1659<>\"\",MID(SNPs!B1659,FIND(\"[\",SNPs!B1659)+1,FIND(\"/\",SNPs!B1659)-FIND(\"[\",SNPs!B1659)-1),\"\")","v":""},{"$f":"IF(SNPs!B1659<>\"\",MID(SNPs!B1659,FIND(\"[\",SNPs!B1659)+3,FIND(\"/\",SNPs!B1659)-FIND(\"/\",SNPs!B1659)+1),\"\")","v":""},{"$f":"IF(SNPs!B1659<>\"\",SNPs!B1659,\"\")","v":""}]
[{"$f":"IF(SNPs!A1660<>\"\",SNPs!A1660,\"\")","v":""},{"$f":"IF(SNPs!B1660<>\"\",MID(SNPs!B1660,FIND(\"[\",SNPs!B1660)+1,FIND(\"/\",SNPs!B1660)-FIND(\"[\",SNPs!B1660)-1),\"\")","v":""},{"$f":"IF(SNPs!B1660<>\"\",MID(SNPs!B1660,FIND(\"[\",SNPs!B1660)+3,FIND(\"/\",SNPs!B1660)-FIND(\"/\",SNPs!B1660)+1),\"\")","v":""},{"$f":"IF(SNPs!B1660<>\"\",SNPs!B1660,\"\")","v":""}]
[{"$f":"IF(SNPs!A1661<>\"\",SNPs!A1661,\"\")","v":""},{"$f":"IF(SNPs!B1661<>\"\",MID(SNPs!B1661,FIND(\"[\",SNPs!B1661)+1,FIND(\"/\",SNPs!B1661)-FIND(\"[\",SNPs!B1661)-1),\"\")","v":""},{"$f":"IF(SNPs!B1661<>\"\",MID(SNPs!B1661,FIND(\"[\",SNPs!B1661)+3,FIND(\"/\",SNPs!B1661)-FIND(\"/\",SNPs!B1661)+1),\"\")","v":""},{"$f":"IF(SNPs!B1661<>\"\",SNPs!B1661,\"\")","v":""}]
[{"$f":"IF(SNPs!A1662<>\"\",SNPs!A1662,\"\")","v":""},{"$f":"IF(SNPs!B1662<>\"\",MID(SNPs!B1662,FIND(\"[\",SNPs!B1662)+1,FIND(\"/\",SNPs!B1662)-FIND(\"[\",SNPs!B1662)-1),\"\")","v":""},{"$f":"IF(SNPs!B1662<>\"\",MID(SNPs!B1662,FIND(\"[\",SNPs!B1662)+3,FIND(\"/\",SNPs!B1662)-FIND(\"/\",SNPs!B1662)+1),\"\")","v":""},{"$f":"IF(SNPs!B1662<>\"\",SNPs!B1662,\"\")","v":""}]
[{"$f":"IF(SNPs!A1663<>\"\",SNPs!A1663,\"\")","v":""},{"$f":"IF(SNPs!B1663<>\"\",MID(SNPs!B1663,FIND(\"[\",SNPs!B1663)+1,FIND(\"/\",SNPs!B1663)-FIND(\"[\",SNPs!B1663)-1),\"\")","v":""},{"$f":"IF(SNPs!B1663<>\"\",MID(SNPs!B1663,FIND(\"[\",SNPs!B1663)+3,FIND(\"/\",SNPs!B1663)-FIND(\"/\",SNPs!B1663)+1),\"\")","v":""},{"$f":"IF(SNPs!B1663<>\"\",SNPs!B1663,\"\")","v":""}]
[{"$f":"IF(SNPs!A1664<>\"\",SNPs!A1664,\"\")","v":""},{"$f":"IF(SNPs!B1664<>\"\",MID(SNPs!B1664,FIND(\"[\",SNPs!B1664)+1,FIND(\"/\",SNPs!B1664)-FIND(\"[\",SNPs!B1664)-1),\"\")","v":""},{"$f":"IF(SNPs!B1664<>\"\",MID(SNPs!B1664,FIND(\"[\",SNPs!B1664)+3,FIND(\"/\",SNPs!B1664)-FIND(\"/\",SNPs!B1664)+1),\"\")","v":""},{"$f":"IF(SNPs!B1664<>\"\",SNPs!B1664,\"\")","v":""}]
[{"$f":"IF(SNPs!A1665<>\"\",SNPs!A1665,\"\")","v":""},{"$f":"IF(SNPs!B1665<>\"\",MID(SNPs!B1665,FIND(\"[\",SNPs!B1665)+1,FIND(\"/\",SNPs!B1665)-FIND(\"[\",SNPs!B1665)-1),\"\")","v":""},{"$f":"IF(SNPs!B1665<>\"\",MID(SNPs!B1665,FIND(\"[\",SNPs!B1665)+3,FIND(\"/\",SNPs!B1665)-FIND(\"/\",SNPs!B1665)+1),\"\")","v":""},{"$f":"IF(SNPs!B1665<>\"\",SNPs!B1665,\"\")","v":""}]
[{"$f":"IF(SNPs!A1666<>\"\",SNPs!A1666,\"\")","v":""},{"$f":"IF(SNPs!B1666<>\"\",MID(SNPs!B1666,FIND(\"[\",SNPs!B1666)+1,FIND(\"/\",SNPs!B1666)-FIND(\"[\",SNPs!B1666)-1),\"\")","v":""},{"$f":"IF(SNPs!B1666<>\"\",MID(SNPs!B1666,FIND(\"[\",SNPs!B1666)+3,FIND(\"/\",SNPs!B1666)-FIND(\"/\",SNPs!B1666)+1),\"\")","v":""},{"$f":"IF(SNPs!B1666<>\"\",SNPs!B1666,\"\")","v":""}]
[{"$f":"IF(SNPs!A1667<>\"\",SNPs!A1667,\"\")","v":""},{"$f":"IF(SNPs!B1667<>\"\",MID(SNPs!B1667,FIND(\"[\",SNPs!B1667)+1,FIND(\"/\",SNPs!B1667)-FIND(\"[\",SNPs!B1667)-1),\"\")","v":""},{"$f":"IF(SNPs!B1667<>\"\",MID(SNPs!B1667,FIND(\"[\",SNPs!B1667)+3,FIND(\"/\",SNPs!B1667)-FIND(\"/\",SNPs!B1667)+1),\"\")","v":""},{"$f":"IF(SNPs!B1667<>\"\",SNPs!B1667,\"\")","v":""}]
[{"$f":"IF(SNPs!A1668<>\"\",SNPs!A1668,\"\")","v":""},{"$f":"IF(SNPs!B1668<>\"\",MID(SNPs!B1668,FIND(\"[\",SNPs!B1668)+1,FIND(\"/\",SNPs!B1668)-FIND(\"[\",SNPs!B1668)-1),\"\")","v":""},{"$f":"IF(SNPs!B1668<>\"\",MID(SNPs!B1668,FIND(\"[\",SNPs!B1668)+3,FIND(\"/\",SNPs!B1668)-FIND(\"/\",SNPs!B1668)+1),\"\")","v":""},{"$f":"IF(SNPs!B1668<>\"\",SNPs!B1668,\"\")","v":""}]
[{"$f":"IF(SNPs!A1669<>\"\",SNPs!A1669,\"\")","v":""},{"$f":"IF(SNPs!B1669<>\"\",MID(SNPs!B1669,FIND(\"[\",SNPs!B1669)+1,FIND(\"/\",SNPs!B1669)-FIND(\"[\",SNPs!B1669)-1),\"\")","v":""},{"$f":"IF(SNPs!B1669<>\"\",MID(SNPs!B1669,FIND(\"[\",SNPs!B1669)+3,FIND(\"/\",SNPs!B1669)-FIND(\"/\",SNPs!B1669)+1),\"\")","v":""},{"$f":"IF(SNPs!B1669<>\"\",SNPs!B1669,\"\")","v":""}]
[{"$f":"IF(SNPs!A1670<>\"\",SNPs!A1670,\"\")","v":""},{"$f":"IF(SNPs!B1670<>\"\",MID(SNPs!B1670,FIND(\"[\",SNPs!B1670)+1,FIND(\"/\",SNPs!B1670)-FIND(\"[\",SNPs!B1670)-1),\"\")","v":""},{"$f":"IF(SNPs!B1670<>\"\",MID(SNPs!B1670,FIND(\"[\",SNPs!B1670)+3,FIND(\"/\",SNPs!B1670)-FIND(\"/\",SNPs!B1670)+1),\"\")","v":""},{"$f":"IF(SNPs!B1670<>\"\",SNPs!B1670,\"\")","v":""}]
[{"$f":"IF(SNPs!A1671<>\"\",SNPs!A1671,\"\")","v":""},{"$f":"IF(SNPs!B1671<>\"\",MID(SNPs!B1671,FIND(\"[\",SNPs!B1671)+1,FIND(\"/\",SNPs!B1671)-FIND(\"[\",SNPs!B1671)-1),\"\")","v":""},{"$f":"IF(SNPs!B1671<>\"\",MID(SNPs!B1671,FIND(\"[\",SNPs!B1671)+3,FIND(\"/\",SNPs!B1671)-FIND(\"/\",SNPs!B1671)+1),\"\")","v":""},{"$f":"IF(SNPs!B1671<>\"\",SNPs!B1671,\"\")","v":""}]
[{"$f":"IF(SNPs!A1672<>\"\",SNPs!A1672,\"\")","v":""},{"$f":"IF(SNPs!B1672<>\"\",MID(SNPs!B1672,FIND(\"[\",SNPs!B1672)+1,FIND(\"/\",SNPs!B1672)-FIND(\"[\",SNPs!B1672)-1),\"\")","v":""},{"$f":"IF(SNPs!B1672<>\"\",MID(SNPs!B1672,FIND(\"[\",SNPs!B1672)+3,FIND(\"/\",SNPs!B1672)-FIND(\"/\",SNPs!B1672)+1),\"\")","v":""},{"$f":"IF(SNPs!B1672<>\"\",SNPs!B1672,\"\")","v":""}]
[{"$f":"IF(SNPs!A1673<>\"\",SNPs!A1673,\"\")","v":""},{"$f":"IF(SNPs!B1673<>\"\",MID(SNPs!B1673,FIND(\"[\",SNPs!B1673)+1,FIND(\"/\",SNPs!B1673)-FIND(\"[\",SNPs!B1673)-1),\"\")","v":""},{"$f":"IF(SNPs!B1673<>\"\",MID(SNPs!B1673,FIND(\"[\",SNPs!B1673)+3,FIND(\"/\",SNPs!B1673)-FIND(\"/\",SNPs!B1673)+1),\"\")","v":""},{"$f":"IF(SNPs!B1673<>\"\",SNPs!B1673,\"\")","v":""}]
[{"$f":"IF(SNPs!A1674<>\"\",SNPs!A1674,\"\")","v":""},{"$f":"IF(SNPs!B1674<>\"\",MID(SNPs!B1674,FIND(\"[\",SNPs!B1674)+1,FIND(\"/\",SNPs!B1674)-FIND(\"[\",SNPs!B1674)-1),\"\")","v":""},{"$f":"IF(SNPs!B1674<>\"\",MID(SNPs!B1674,FIND(\"[\",SNPs!B1674)+3,FIND(\"/\",SNPs!B1674)-FIND(\"/\",SNPs!B1674)+1),\"\")","v":""},{"$f":"IF(SNPs!B1674<>\"\",SNPs!B1674,\"\")","v":""}]
[{"$f":"IF(SNPs!A1675<>\"\",SNPs!A1675,\"\")","v":""},{"$f":"IF(SNPs!B1675<>\"\",MID(SNPs!B1675,FIND(\"[\",SNPs!B1675)+1,FIND(\"/\",SNPs!B1675)-FIND(\"[\",SNPs!B1675)-1),\"\")","v":""},{"$f":"IF(SNPs!B1675<>\"\",MID(SNPs!B1675,FIND(\"[\",SNPs!B1675)+3,FIND(\"/\",SNPs!B1675)-FIND(\"/\",SNPs!B1675)+1),\"\")","v":""},{"$f":"IF(SNPs!B1675<>\"\",SNPs!B1675,\"\")","v":""}]
[{"$f":"IF(SNPs!A1676<>\"\",SNPs!A1676,\"\")","v":""},{"$f":"IF(SNPs!B1676<>\"\",MID(SNPs!B1676,FIND(\"[\",SNPs!B1676)+1,FIND(\"/\",SNPs!B1676)-FIND(\"[\",SNPs!B1676)-1),\"\")","v":""},{"$f":"IF(SNPs!B1676<>\"\",MID(SNPs!B1676,FIND(\"[\",SNPs!B1676)+3,FIND(\"/\",SNPs!B1676)-FIND(\"/\",SNPs!B1676)+1),\"\")","v":""},{"$f":"IF(SNPs!B1676<>\"\",SNPs!B1676,\"\")","v":""}]
[{"$f":"IF(SNPs!A1677<>\"\",SNPs!A1677,\"\")","v":""},{"$f":"IF(SNPs!B1677<>\"\",MID(SNPs!B1677,FIND(\"[\",SNPs!B1677)+1,FIND(\"/\",SNPs!B1677)-FIND(\"[\",SNPs!B1677)-1),\"\")","v":""},{"$f":"IF(SNPs!B1677<>\"\",MID(SNPs!B1677,FIND(\"[\",SNPs!B1677)+3,FIND(\"/\",SNPs!B1677)-FIND(\"/\",SNPs!B1677)+1),\"\")","v":""},{"$f":"IF(SNPs!B1677<>\"\",SNPs!B1677,\"\")","v":""}]
[{"$f":"IF(SNPs!A1678<>\"\",SNPs!A1678,\"\")","v":""},{"$f":"IF(SNPs!B1678<>\"\",MID(SNPs!B1678,FIND(\"[\",SNPs!B1678)+1,FIND(\"/\",SNPs!B1678)-FIND(\"[\",SNPs!B1678)-1),\"\")","v":""},{"$f":"IF(SNPs!B1678<>\"\",MID(SNPs!B1678,FIND(\"[\",SNPs!B1678)+3,FIND(\"/\",SNPs!B1678)-FIND(\"/\",SNPs!B1678)+1),\"\")","v":""},{"$f":"IF(SNPs!B1678<>\"\",SNPs!B1678,\"\")","v":""}]
[{"$f":"IF(SNPs!A1679<>\"\",SNPs!A1679,\"\")","v":""},{"$f":"IF(SNPs!B1679<>\"\",MID(SNPs!B1679,FIND(\"[\",SNPs!B1679)+1,FIND(\"/\",SNPs!B1679)-FIND(\"[\",SNPs!B1679)-1),\"\")","v":""},{"$f":"IF(SNPs!B1679<>\"\",MID(SNPs!B1679,FIND(\"[\",SNPs!B1679)+3,FIND(\"/\",SNPs!B1679)-FIND(\"/\",SNPs!B1679)+1),\"\")","v":""},{"$f":"IF(SNPs!B1679<>\"\",SNPs!B1679,\"\")","v":""}]
[{"$f":"IF(SNPs!A1680<>\"\",SNPs!A1680,\"\")","v":""},{"$f":"IF(SNPs!B1680<>\"\",MID(SNPs!B1680,FIND(\"[\",SNPs!B1680)+1,FIND(\"/\",SNPs!B1680)-FIND(\"[\",SNPs!B1680)-1),\"\")","v":""},{"$f":"IF(SNPs!B1680<>\"\",MID(SNPs!B1680,FIND(\"[\",SNPs!B1680)+3,FIND(\"/\",SNPs!B1680)-FIND(\"/\",SNPs!B1680)+1),\"\")","v":""},{"$f":"IF(SNPs!B1680<>\"\",SNPs!B1680,\"\")","v":""}]
[{"$f":"IF(SNPs!A1681<>\"\",SNPs!A1681,\"\")","v":""},{"$f":"IF(SNPs!B1681<>\"\",MID(SNPs!B1681,FIND(\"[\",SNPs!B1681)+1,FIND(\"/\",SNPs!B1681)-FIND(\"[\",SNPs!B1681)-1),\"\")","v":""},{"$f":"IF(SNPs!B1681<>\"\",MID(SNPs!B1681,FIND(\"[\",SNPs!B1681)+3,FIND(\"/\",SNPs!B1681)-FIND(\"/\",SNPs!B1681)+1),\"\")","v":""},{"$f":"IF(SNPs!B1681<>\"\",SNPs!B1681,\"\")","v":""}]
[{"$f":"IF(SNPs!A1682<>\"\",SNPs!A1682,\"\")","v":""},{"$f":"IF(SNPs!B1682<>\"\",MID(SNPs!B1682,FIND(\"[\",SNPs!B1682)+1,FIND(\"/\",SNPs!B1682)-FIND(\"[\",SNPs!B1682)-1),\"\")","v":""},{"$f":"IF(SNPs!B1682<>\"\",MID(SNPs!B1682,FIND(\"[\",SNPs!B1682)+3,FIND(\"/\",SNPs!B1682)-FIND(\"/\",SNPs!B1682)+1),\"\")","v":""},{"$f":"IF(SNPs!B1682<>\"\",SNPs!B1682,\"\")","v":""}]
[{"$f":"IF(SNPs!A1683<>\"\",SNPs!A1683,\"\")","v":""},{"$f":"IF(SNPs!B1683<>\"\",MID(SNPs!B1683,FIND(\"[\",SNPs!B1683)+1,FIND(\"/\",SNPs!B1683)-FIND(\"[\",SNPs!B1683)-1),\"\")","v":""},{"$f":"IF(SNPs!B1683<>\"\",MID(SNPs!B1683,FIND(\"[\",SNPs!B1683)+3,FIND(\"/\",SNPs!B1683)-FIND(\"/\",SNPs!B1683)+1),\"\")","v":""},{"$f":"IF(SNPs!B1683<>\"\",SNPs!B1683,\"\")","v":""}]
[{"$f":"IF(SNPs!A1684<>\"\",SNPs!A1684,\"\")","v":""},{"$f":"IF(SNPs!B1684<>\"\",MID(SNPs!B1684,FIND(\"[\",SNPs!B1684)+1,FIND(\"/\",SNPs!B1684)-FIND(\"[\",SNPs!B1684)-1),\"\")","v":""},{"$f":"IF(SNPs!B1684<>\"\",MID(SNPs!B1684,FIND(\"[\",SNPs!B1684)+3,FIND(\"/\",SNPs!B1684)-FIND(\"/\",SNPs!B1684)+1),\"\")","v":""},{"$f":"IF(SNPs!B1684<>\"\",SNPs!B1684,\"\")","v":""}]
[{"$f":"IF(SNPs!A1685<>\"\",SNPs!A1685,\"\")","v":""},{"$f":"IF(SNPs!B1685<>\"\",MID(SNPs!B1685,FIND(\"[\",SNPs!B1685)+1,FIND(\"/\",SNPs!B1685)-FIND(\"[\",SNPs!B1685)-1),\"\")","v":""},{"$f":"IF(SNPs!B1685<>\"\",MID(SNPs!B1685,FIND(\"[\",SNPs!B1685)+3,FIND(\"/\",SNPs!B1685)-FIND(\"/\",SNPs!B1685)+1),\"\")","v":""},{"$f":"IF(SNPs!B1685<>\"\",SNPs!B1685,\"\")","v":""}]
[{"$f":"IF(SNPs!A1686<>\"\",SNPs!A1686,\"\")","v":""},{"$f":"IF(SNPs!B1686<>\"\",MID(SNPs!B1686,FIND(\"[\",SNPs!B1686)+1,FIND(\"/\",SNPs!B1686)-FIND(\"[\",SNPs!B1686)-1),\"\")","v":""},{"$f":"IF(SNPs!B1686<>\"\",MID(SNPs!B1686,FIND(\"[\",SNPs!B1686)+3,FIND(\"/\",SNPs!B1686)-FIND(\"/\",SNPs!B1686)+1),\"\")","v":""},{"$f":"IF(SNPs!B1686<>\"\",SNPs!B1686,\"\")","v":""}]
[{"$f":"IF(SNPs!A1687<>\"\",SNPs!A1687,\"\")","v":""},{"$f":"IF(SNPs!B1687<>\"\",MID(SNPs!B1687,FIND(\"[\",SNPs!B1687)+1,FIND(\"/\",SNPs!B1687)-FIND(\"[\",SNPs!B1687)-1),\"\")","v":""},{"$f":"IF(SNPs!B1687<>\"\",MID(SNPs!B1687,FIND(\"[\",SNPs!B1687)+3,FIND(\"/\",SNPs!B1687)-FIND(\"/\",SNPs!B1687)+1),\"\")","v":""},{"$f":"IF(SNPs!B1687<>\"\",SNPs!B1687,\"\")","v":""}]
[{"$f":"IF(SNPs!A1688<>\"\",SNPs!A1688,\"\")","v":""},{"$f":"IF(SNPs!B1688<>\"\",MID(SNPs!B1688,FIND(\"[\",SNPs!B1688)+1,FIND(\"/\",SNPs!B1688)-FIND(\"[\",SNPs!B1688)-1),\"\")","v":""},{"$f":"IF(SNPs!B1688<>\"\",MID(SNPs!B1688,FIND(\"[\",SNPs!B1688)+3,FIND(\"/\",SNPs!B1688)-FIND(\"/\",SNPs!B1688)+1),\"\")","v":""},{"$f":"IF(SNPs!B1688<>\"\",SNPs!B1688,\"\")","v":""}]
[{"$f":"IF(SNPs!A1689<>\"\",SNPs!A1689,\"\")","v":""},{"$f":"IF(SNPs!B1689<>\"\",MID(SNPs!B1689,FIND(\"[\",SNPs!B1689)+1,FIND(\"/\",SNPs!B1689)-FIND(\"[\",SNPs!B1689)-1),\"\")","v":""},{"$f":"IF(SNPs!B1689<>\"\",MID(SNPs!B1689,FIND(\"[\",SNPs!B1689)+3,FIND(\"/\",SNPs!B1689)-FIND(\"/\",SNPs!B1689)+1),\"\")","v":""},{"$f":"IF(SNPs!B1689<>\"\",SNPs!B1689,\"\")","v":""}]
[{"$f":"IF(SNPs!A1690<>\"\",SNPs!A1690,\"\")","v":""},{"$f":"IF(SNPs!B1690<>\"\",MID(SNPs!B1690,FIND(\"[\",SNPs!B1690)+1,FIND(\"/\",SNPs!B1690)-FIND(\"[\",SNPs!B1690)-1),\"\")","v":""},{"$f":"IF(SNPs!B1690<>\"\",MID(SNPs!B1690,FIND(\"[\",SNPs!B1690)+3,FIND(\"/\",SNPs!B1690)-FIND(\"/\",SNPs!B1690)+1),\"\")","v":""},{"$f":"IF(SNPs!B1690<>\"\",SNPs!B1690,\"\")","v":""}]
[{"$f":"IF(SNPs!A1691<>\"\",SNPs!A1691,\"\")","v":""},{"$f":"IF(SNPs!B1691<>\"\",MID(SNPs!B1691,FIND(\"[\",SNPs!B1691)+1,FIND(\"/\",SNPs!B1691)-FIND(\"[\",SNPs!B1691)-1),\"\")","v":""},{"$f":"IF(SNPs!B1691<>\"\",MID(SNPs!B1691,FIND(\"[\",SNPs!B1691)+3,FIND(\"/\",SNPs!B1691)-FIND(\"/\",SNPs!B1691)+1),\"\")","v":""},{"$f":"IF(SNPs!B1691<>\"\",SNPs!B1691,\"\")","v":""}]
[{"$f":"IF(SNPs!A1692<>\"\",SNPs!A1692,\"\")","v":""},{"$f":"IF(SNPs!B1692<>\"\",MID(SNPs!B1692,FIND(\"[\",SNPs!B1692)+1,FIND(\"/\",SNPs!B1692)-FIND(\"[\",SNPs!B1692)-1),\"\")","v":""},{"$f":"IF(SNPs!B1692<>\"\",MID(SNPs!B1692,FIND(\"[\",SNPs!B1692)+3,FIND(\"/\",SNPs!B1692)-FIND(\"/\",SNPs!B1692)+1),\"\")","v":""},{"$f":"IF(SNPs!B1692<>\"\",SNPs!B1692,\"\")","v":""}]
[{"$f":"IF(SNPs!A1693<>\"\",SNPs!A1693,\"\")","v":""},{"$f":"IF(SNPs!B1693<>\"\",MID(SNPs!B1693,FIND(\"[\",SNPs!B1693)+1,FIND(\"/\",SNPs!B1693)-FIND(\"[\",SNPs!B1693)-1),\"\")","v":""},{"$f":"IF(SNPs!B1693<>\"\",MID(SNPs!B1693,FIND(\"[\",SNPs!B1693)+3,FIND(\"/\",SNPs!B1693)-FIND(\"/\",SNPs!B1693)+1),\"\")","v":""},{"$f":"IF(SNPs!B1693<>\"\",SNPs!B1693,\"\")","v":""}]
[{"$f":"IF(SNPs!A1694<>\"\",SNPs!A1694,\"\")","v":""},{"$f":"IF(SNPs!B1694<>\"\",MID(SNPs!B1694,FIND(\"[\",SNPs!B1694)+1,FIND(\"/\",SNPs!B1694)-FIND(\"[\",SNPs!B1694)-1),\"\")","v":""},{"$f":"IF(SNPs!B1694<>\"\",MID(SNPs!B1694,FIND(\"[\",SNPs!B1694)+3,FIND(\"/\",SNPs!B1694)-FIND(\"/\",SNPs!B1694)+1),\"\")","v":""},{"$f":"IF(SNPs!B1694<>\"\",SNPs!B1694,\"\")","v":""}]
[{"$f":"IF(SNPs!A1695<>\"\",SNPs!A1695,\"\")","v":""},{"$f":"IF(SNPs!B1695<>\"\",MID(SNPs!B1695,FIND(\"[\",SNPs!B1695)+1,FIND(\"/\",SNPs!B1695)-FIND(\"[\",SNPs!B1695)-1),\"\")","v":""},{"$f":"IF(SNPs!B1695<>\"\",MID(SNPs!B1695,FIND(\"[\",SNPs!B1695)+3,FIND(\"/\",SNPs!B1695)-FIND(\"/\",SNPs!B1695)+1),\"\")","v":""},{"$f":"IF(SNPs!B1695<>\"\",SNPs!B1695,\"\")","v":""}]
[{"$f":"IF(SNPs!A1696<>\"\",SNPs!A1696,\"\")","v":""},{"$f":"IF(SNPs!B1696<>\"\",MID(SNPs!B1696,FIND(\"[\",SNPs!B1696)+1,FIND(\"/\",SNPs!B1696)-FIND(\"[\",SNPs!B1696)-1),\"\")","v":""},{"$f":"IF(SNPs!B1696<>\"\",MID(SNPs!B1696,FIND(\"[\",SNPs!B1696)+3,FIND(\"/\",SNPs!B1696)-FIND(\"/\",SNPs!B1696)+1),\"\")","v":""},{"$f":"IF(SNPs!B1696<>\"\",SNPs!B1696,\"\")","v":""}]
[{"$f":"IF(SNPs!A1697<>\"\",SNPs!A1697,\"\")","v":""},{"$f":"IF(SNPs!B1697<>\"\",MID(SNPs!B1697,FIND(\"[\",SNPs!B1697)+1,FIND(\"/\",SNPs!B1697)-FIND(\"[\",SNPs!B1697)-1),\"\")","v":""},{"$f":"IF(SNPs!B1697<>\"\",MID(SNPs!B1697,FIND(\"[\",SNPs!B1697)+3,FIND(\"/\",SNPs!B1697)-FIND(\"/\",SNPs!B1697)+1),\"\")","v":""},{"$f":"IF(SNPs!B1697<>\"\",SNPs!B1697,\"\")","v":""}]
[{"$f":"IF(SNPs!A1698<>\"\",SNPs!A1698,\"\")","v":""},{"$f":"IF(SNPs!B1698<>\"\",MID(SNPs!B1698,FIND(\"[\",SNPs!B1698)+1,FIND(\"/\",SNPs!B1698)-FIND(\"[\",SNPs!B1698)-1),\"\")","v":""},{"$f":"IF(SNPs!B1698<>\"\",MID(SNPs!B1698,FIND(\"[\",SNPs!B1698)+3,FIND(\"/\",SNPs!B1698)-FIND(\"/\",SNPs!B1698)+1),\"\")","v":""},{"$f":"IF(SNPs!B1698<>\"\",SNPs!B1698,\"\")","v":""}]
[{"$f":"IF(SNPs!A1699<>\"\",SNPs!A1699,\"\")","v":""},{"$f":"IF(SNPs!B1699<>\"\",MID(SNPs!B1699,FIND(\"[\",SNPs!B1699)+1,FIND(\"/\",SNPs!B1699)-FIND(\"[\",SNPs!B1699)-1),\"\")","v":""},{"$f":"IF(SNPs!B1699<>\"\",MID(SNPs!B1699,FIND(\"[\",SNPs!B1699)+3,FIND(\"/\",SNPs!B1699)-FIND(\"/\",SNPs!B1699)+1),\"\")","v":""},{"$f":"IF(SNPs!B1699<>\"\",SNPs!B1699,\"\")","v":""}]
[{"$f":"IF(SNPs!A1700<>\"\",SNPs!A1700,\"\")","v":""},{"$f":"IF(SNPs!B1700<>\"\",MID(SNPs!B1700,FIND(\"[\",SNPs!B1700)+1,FIND(\"/\",SNPs!B1700)-FIND(\"[\",SNPs!B1700)-1),\"\")","v":""},{"$f":"IF(SNPs!B1700<>\"\",MID(SNPs!B1700,FIND(\"[\",SNPs!B1700)+3,FIND(\"/\",SNPs!B1700)-FIND(\"/\",SNPs!B1700)+1),\"\")","v":""},{"$f":"IF(SNPs!B1700<>\"\",SNPs!B1700,\"\")","v":""}]
[{"$f":"IF(SNPs!A1701<>\"\",SNPs!A1701,\"\")","v":""},{"$f":"IF(SNPs!B1701<>\"\",MID(SNPs!B1701,FIND(\"[\",SNPs!B1701)+1,FIND(\"/\",SNPs!B1701)-FIND(\"[\",SNPs!B1701)-1),\"\")","v":""},{"$f":"IF(SNPs!B1701<>\"\",MID(SNPs!B1701,FIND(\"[\",SNPs!B1701)+3,FIND(\"/\",SNPs!B1701)-FIND(\"/\",SNPs!B1701)+1),\"\")","v":""},{"$f":"IF(SNPs!B1701<>\"\",SNPs!B1701,\"\")","v":""}]
[{"$f":"IF(SNPs!A1702<>\"\",SNPs!A1702,\"\")","v":""},{"$f":"IF(SNPs!B1702<>\"\",MID(SNPs!B1702,FIND(\"[\",SNPs!B1702)+1,FIND(\"/\",SNPs!B1702)-FIND(\"[\",SNPs!B1702)-1),\"\")","v":""},{"$f":"IF(SNPs!B1702<>\"\",MID(SNPs!B1702,FIND(\"[\",SNPs!B1702)+3,FIND(\"/\",SNPs!B1702)-FIND(\"/\",SNPs!B1702)+1),\"\")","v":""},{"$f":"IF(SNPs!B1702<>\"\",SNPs!B1702,\"\")","v":""}]
[{"$f":"IF(SNPs!A1703<>\"\",SNPs!A1703,\"\")","v":""},{"$f":"IF(SNPs!B1703<>\"\",MID(SNPs!B1703,FIND(\"[\",SNPs!B1703)+1,FIND(\"/\",SNPs!B1703)-FIND(\"[\",SNPs!B1703)-1),\"\")","v":""},{"$f":"IF(SNPs!B1703<>\"\",MID(SNPs!B1703,FIND(\"[\",SNPs!B1703)+3,FIND(\"/\",SNPs!B1703)-FIND(\"/\",SNPs!B1703)+1),\"\")","v":""},{"$f":"IF(SNPs!B1703<>\"\",SNPs!B1703,\"\")","v":""}]
[{"$f":"IF(SNPs!A1704<>\"\",SNPs!A1704,\"\")","v":""},{"$f":"IF(SNPs!B1704<>\"\",MID(SNPs!B1704,FIND(\"[\",SNPs!B1704)+1,FIND(\"/\",SNPs!B1704)-FIND(\"[\",SNPs!B1704)-1),\"\")","v":""},{"$f":"IF(SNPs!B1704<>\"\",MID(SNPs!B1704,FIND(\"[\",SNPs!B1704)+3,FIND(\"/\",SNPs!B1704)-FIND(\"/\",SNPs!B1704)+1),\"\")","v":""},{"$f":"IF(SNPs!B1704<>\"\",SNPs!B1704,\"\")","v":""}]
[{"$f":"IF(SNPs!A1705<>\"\",SNPs!A1705,\"\")","v":""},{"$f":"IF(SNPs!B1705<>\"\",MID(SNPs!B1705,FIND(\"[\",SNPs!B1705)+1,FIND(\"/\",SNPs!B1705)-FIND(\"[\",SNPs!B1705)-1),\"\")","v":""},{"$f":"IF(SNPs!B1705<>\"\",MID(SNPs!B1705,FIND(\"[\",SNPs!B1705)+3,FIND(\"/\",SNPs!B1705)-FIND(\"/\",SNPs!B1705)+1),\"\")","v":""},{"$f":"IF(SNPs!B1705<>\"\",SNPs!B1705,\"\")","v":""}]
[{"$f":"IF(SNPs!A1706<>\"\",SNPs!A1706,\"\")","v":""},{"$f":"IF(SNPs!B1706<>\"\",MID(SNPs!B1706,FIND(\"[\",SNPs!B1706)+1,FIND(\"/\",SNPs!B1706)-FIND(\"[\",SNPs!B1706)-1),\"\")","v":""},{"$f":"IF(SNPs!B1706<>\"\",MID(SNPs!B1706,FIND(\"[\",SNPs!B1706)+3,FIND(\"/\",SNPs!B1706)-FIND(\"/\",SNPs!B1706)+1),\"\")","v":""},{"$f":"IF(SNPs!B1706<>\"\",SNPs!B1706,\"\")","v":""}]
[{"$f":"IF(SNPs!A1707<>\"\",SNPs!A1707,\"\")","v":""},{"$f":"IF(SNPs!B1707<>\"\",MID(SNPs!B1707,FIND(\"[\",SNPs!B1707)+1,FIND(\"/\",SNPs!B1707)-FIND(\"[\",SNPs!B1707)-1),\"\")","v":""},{"$f":"IF(SNPs!B1707<>\"\",MID(SNPs!B1707,FIND(\"[\",SNPs!B1707)+3,FIND(\"/\",SNPs!B1707)-FIND(\"/\",SNPs!B1707)+1),\"\")","v":""},{"$f":"IF(SNPs!B1707<>\"\",SNPs!B1707,\"\")","v":""}]
[{"$f":"IF(SNPs!A1708<>\"\",SNPs!A1708,\"\")","v":""},{"$f":"IF(SNPs!B1708<>\"\",MID(SNPs!B1708,FIND(\"[\",SNPs!B1708)+1,FIND(\"/\",SNPs!B1708)-FIND(\"[\",SNPs!B1708)-1),\"\")","v":""},{"$f":"IF(SNPs!B1708<>\"\",MID(SNPs!B1708,FIND(\"[\",SNPs!B1708)+3,FIND(\"/\",SNPs!B1708)-FIND(\"/\",SNPs!B1708)+1),\"\")","v":""},{"$f":"IF(SNPs!B1708<>\"\",SNPs!B1708,\"\")","v":""}]
[{"$f":"IF(SNPs!A1709<>\"\",SNPs!A1709,\"\")","v":""},{"$f":"IF(SNPs!B1709<>\"\",MID(SNPs!B1709,FIND(\"[\",SNPs!B1709)+1,FIND(\"/\",SNPs!B1709)-FIND(\"[\",SNPs!B1709)-1),\"\")","v":""},{"$f":"IF(SNPs!B1709<>\"\",MID(SNPs!B1709,FIND(\"[\",SNPs!B1709)+3,FIND(\"/\",SNPs!B1709)-FIND(\"/\",SNPs!B1709)+1),\"\")","v":""},{"$f":"IF(SNPs!B1709<>\"\",SNPs!B1709,\"\")","v":""}]
[{"$f":"IF(SNPs!A1710<>\"\",SNPs!A1710,\"\")","v":""},{"$f":"IF(SNPs!B1710<>\"\",MID(SNPs!B1710,FIND(\"[\",SNPs!B1710)+1,FIND(\"/\",SNPs!B1710)-FIND(\"[\",SNPs!B1710)-1),\"\")","v":""},{"$f":"IF(SNPs!B1710<>\"\",MID(SNPs!B1710,FIND(\"[\",SNPs!B1710)+3,FIND(\"/\",SNPs!B1710)-FIND(\"/\",SNPs!B1710)+1),\"\")","v":""},{"$f":"IF(SNPs!B1710<>\"\",SNPs!B1710,\"\")","v":""}]
[{"$f":"IF(SNPs!A1711<>\"\",SNPs!A1711,\"\")","v":""},{"$f":"IF(SNPs!B1711<>\"\",MID(SNPs!B1711,FIND(\"[\",SNPs!B1711)+1,FIND(\"/\",SNPs!B1711)-FIND(\"[\",SNPs!B1711)-1),\"\")","v":""},{"$f":"IF(SNPs!B1711<>\"\",MID(SNPs!B1711,FIND(\"[\",SNPs!B1711)+3,FIND(\"/\",SNPs!B1711)-FIND(\"/\",SNPs!B1711)+1),\"\")","v":""},{"$f":"IF(SNPs!B1711<>\"\",SNPs!B1711,\"\")","v":""}]
[{"$f":"IF(SNPs!A1712<>\"\",SNPs!A1712,\"\")","v":""},{"$f":"IF(SNPs!B1712<>\"\",MID(SNPs!B1712,FIND(\"[\",SNPs!B1712)+1,FIND(\"/\",SNPs!B1712)-FIND(\"[\",SNPs!B1712)-1),\"\")","v":""},{"$f":"IF(SNPs!B1712<>\"\",MID(SNPs!B1712,FIND(\"[\",SNPs!B1712)+3,FIND(\"/\",SNPs!B1712)-FIND(\"/\",SNPs!B1712)+1),\"\")","v":""},{"$f":"IF(SNPs!B1712<>\"\",SNPs!B1712,\"\")","v":""}]
[{"$f":"IF(SNPs!A1713<>\"\",SNPs!A1713,\"\")","v":""},{"$f":"IF(SNPs!B1713<>\"\",MID(SNPs!B1713,FIND(\"[\",SNPs!B1713)+1,FIND(\"/\",SNPs!B1713)-FIND(\"[\",SNPs!B1713)-1),\"\")","v":""},{"$f":"IF(SNPs!B1713<>\"\",MID(SNPs!B1713,FIND(\"[\",SNPs!B1713)+3,FIND(\"/\",SNPs!B1713)-FIND(\"/\",SNPs!B1713)+1),\"\")","v":""},{"$f":"IF(SNPs!B1713<>\"\",SNPs!B1713,\"\")","v":""}]
[{"$f":"IF(SNPs!A1714<>\"\",SNPs!A1714,\"\")","v":""},{"$f":"IF(SNPs!B1714<>\"\",MID(SNPs!B1714,FIND(\"[\",SNPs!B1714)+1,FIND(\"/\",SNPs!B1714)-FIND(\"[\",SNPs!B1714)-1),\"\")","v":""},{"$f":"IF(SNPs!B1714<>\"\",MID(SNPs!B1714,FIND(\"[\",SNPs!B1714)+3,FIND(\"/\",SNPs!B1714)-FIND(\"/\",SNPs!B1714)+1),\"\")","v":""},{"$f":"IF(SNPs!B1714<>\"\",SNPs!B1714,\"\")","v":""}]
[{"$f":"IF(SNPs!A1715<>\"\",SNPs!A1715,\"\")","v":""},{"$f":"IF(SNPs!B1715<>\"\",MID(SNPs!B1715,FIND(\"[\",SNPs!B1715)+1,FIND(\"/\",SNPs!B1715)-FIND(\"[\",SNPs!B1715)-1),\"\")","v":""},{"$f":"IF(SNPs!B1715<>\"\",MID(SNPs!B1715,FIND(\"[\",SNPs!B1715)+3,FIND(\"/\",SNPs!B1715)-FIND(\"/\",SNPs!B1715)+1),\"\")","v":""},{"$f":"IF(SNPs!B1715<>\"\",SNPs!B1715,\"\")","v":""}]
[{"$f":"IF(SNPs!A1716<>\"\",SNPs!A1716,\"\")","v":""},{"$f":"IF(SNPs!B1716<>\"\",MID(SNPs!B1716,FIND(\"[\",SNPs!B1716)+1,FIND(\"/\",SNPs!B1716)-FIND(\"[\",SNPs!B1716)-1),\"\")","v":""},{"$f":"IF(SNPs!B1716<>\"\",MID(SNPs!B1716,FIND(\"[\",SNPs!B1716)+3,FIND(\"/\",SNPs!B1716)-FIND(\"/\",SNPs!B1716)+1),\"\")","v":""},{"$f":"IF(SNPs!B1716<>\"\",SNPs!B1716,\"\")","v":""}]
[{"$f":"IF(SNPs!A1717<>\"\",SNPs!A1717,\"\")","v":""},{"$f":"IF(SNPs!B1717<>\"\",MID(SNPs!B1717,FIND(\"[\",SNPs!B1717)+1,FIND(\"/\",SNPs!B1717)-FIND(\"[\",SNPs!B1717)-1),\"\")","v":""},{"$f":"IF(SNPs!B1717<>\"\",MID(SNPs!B1717,FIND(\"[\",SNPs!B1717)+3,FIND(\"/\",SNPs!B1717)-FIND(\"/\",SNPs!B1717)+1),\"\")","v":""},{"$f":"IF(SNPs!B1717<>\"\",SNPs!B1717,\"\")","v":""}]
[{"$f":"IF(SNPs!A1718<>\"\",SNPs!A1718,\"\")","v":""},{"$f":"IF(SNPs!B1718<>\"\",MID(SNPs!B1718,FIND(\"[\",SNPs!B1718)+1,FIND(\"/\",SNPs!B1718)-FIND(\"[\",SNPs!B1718)-1),\"\")","v":""},{"$f":"IF(SNPs!B1718<>\"\",MID(SNPs!B1718,FIND(\"[\",SNPs!B1718)+3,FIND(\"/\",SNPs!B1718)-FIND(\"/\",SNPs!B1718)+1),\"\")","v":""},{"$f":"IF(SNPs!B1718<>\"\",SNPs!B1718,\"\")","v":""}]
[{"$f":"IF(SNPs!A1719<>\"\",SNPs!A1719,\"\")","v":""},{"$f":"IF(SNPs!B1719<>\"\",MID(SNPs!B1719,FIND(\"[\",SNPs!B1719)+1,FIND(\"/\",SNPs!B1719)-FIND(\"[\",SNPs!B1719)-1),\"\")","v":""},{"$f":"IF(SNPs!B1719<>\"\",MID(SNPs!B1719,FIND(\"[\",SNPs!B1719)+3,FIND(\"/\",SNPs!B1719)-FIND(\"/\",SNPs!B1719)+1),\"\")","v":""},{"$f":"IF(SNPs!B1719<>\"\",SNPs!B1719,\"\")","v":""}]
[{"$f":"IF(SNPs!A1720<>\"\",SNPs!A1720,\"\")","v":""},{"$f":"IF(SNPs!B1720<>\"\",MID(SNPs!B1720,FIND(\"[\",SNPs!B1720)+1,FIND(\"/\",SNPs!B1720)-FIND(\"[\",SNPs!B1720)-1),\"\")","v":""},{"$f":"IF(SNPs!B1720<>\"\",MID(SNPs!B1720,FIND(\"[\",SNPs!B1720)+3,FIND(\"/\",SNPs!B1720)-FIND(\"/\",SNPs!B1720)+1),\"\")","v":""},{"$f":"IF(SNPs!B1720<>\"\",SNPs!B1720,\"\")","v":""}]
[{"$f":"IF(SNPs!A1721<>\"\",SNPs!A1721,\"\")","v":""},{"$f":"IF(SNPs!B1721<>\"\",MID(SNPs!B1721,FIND(\"[\",SNPs!B1721)+1,FIND(\"/\",SNPs!B1721)-FIND(\"[\",SNPs!B1721)-1),\"\")","v":""},{"$f":"IF(SNPs!B1721<>\"\",MID(SNPs!B1721,FIND(\"[\",SNPs!B1721)+3,FIND(\"/\",SNPs!B1721)-FIND(\"/\",SNPs!B1721)+1),\"\")","v":""},{"$f":"IF(SNPs!B1721<>\"\",SNPs!B1721,\"\")","v":""}]
[{"$f":"IF(SNPs!A1722<>\"\",SNPs!A1722,\"\")","v":""},{"$f":"IF(SNPs!B1722<>\"\",MID(SNPs!B1722,FIND(\"[\",SNPs!B1722)+1,FIND(\"/\",SNPs!B1722)-FIND(\"[\",SNPs!B1722)-1),\"\")","v":""},{"$f":"IF(SNPs!B1722<>\"\",MID(SNPs!B1722,FIND(\"[\",SNPs!B1722)+3,FIND(\"/\",SNPs!B1722)-FIND(\"/\",SNPs!B1722)+1),\"\")","v":""},{"$f":"IF(SNPs!B1722<>\"\",SNPs!B1722,\"\")","v":""}]
[{"$f":"IF(SNPs!A1723<>\"\",SNPs!A1723,\"\")","v":""},{"$f":"IF(SNPs!B1723<>\"\",MID(SNPs!B1723,FIND(\"[\",SNPs!B1723)+1,FIND(\"/\",SNPs!B1723)-FIND(\"[\",SNPs!B1723)-1),\"\")","v":""},{"$f":"IF(SNPs!B1723<>\"\",MID(SNPs!B1723,FIND(\"[\",SNPs!B1723)+3,FIND(\"/\",SNPs!B1723)-FIND(\"/\",SNPs!B1723)+1),\"\")","v":""},{"$f":"IF(SNPs!B1723<>\"\",SNPs!B1723,\"\")","v":""}]
[{"$f":"IF(SNPs!A1724<>\"\",SNPs!A1724,\"\")","v":""},{"$f":"IF(SNPs!B1724<>\"\",MID(SNPs!B1724,FIND(\"[\",SNPs!B1724)+1,FIND(\"/\",SNPs!B1724)-FIND(\"[\",SNPs!B1724)-1),\"\")","v":""},{"$f":"IF(SNPs!B1724<>\"\",MID(SNPs!B1724,FIND(\"[\",SNPs!B1724)+3,FIND(\"/\",SNPs!B1724)-FIND(\"/\",SNPs!B1724)+1),\"\")","v":""},{"$f":"IF(SNPs!B1724<>\"\",SNPs!B1724,\"\")","v":""}]
[{"$f":"IF(SNPs!A1725<>\"\",SNPs!A1725,\"\")","v":""},{"$f":"IF(SNPs!B1725<>\"\",MID(SNPs!B1725,FIND(\"[\",SNPs!B1725)+1,FIND(\"/\",SNPs!B1725)-FIND(\"[\",SNPs!B1725)-1),\"\")","v":""},{"$f":"IF(SNPs!B1725<>\"\",MID(SNPs!B1725,FIND(\"[\",SNPs!B1725)+3,FIND(\"/\",SNPs!B1725)-FIND(\"/\",SNPs!B1725)+1),\"\")","v":""},{"$f":"IF(SNPs!B1725<>\"\",SNPs!B1725,\"\")","v":""}]
[{"$f":"IF(SNPs!A1726<>\"\",SNPs!A1726,\"\")","v":""},{"$f":"IF(SNPs!B1726<>\"\",MID(SNPs!B1726,FIND(\"[\",SNPs!B1726)+1,FIND(\"/\",SNPs!B1726)-FIND(\"[\",SNPs!B1726)-1),\"\")","v":""},{"$f":"IF(SNPs!B1726<>\"\",MID(SNPs!B1726,FIND(\"[\",SNPs!B1726)+3,FIND(\"/\",SNPs!B1726)-FIND(\"/\",SNPs!B1726)+1),\"\")","v":""},{"$f":"IF(SNPs!B1726<>\"\",SNPs!B1726,\"\")","v":""}]
[{"$f":"IF(SNPs!A1727<>\"\",SNPs!A1727,\"\")","v":""},{"$f":"IF(SNPs!B1727<>\"\",MID(SNPs!B1727,FIND(\"[\",SNPs!B1727)+1,FIND(\"/\",SNPs!B1727)-FIND(\"[\",SNPs!B1727)-1),\"\")","v":""},{"$f":"IF(SNPs!B1727<>\"\",MID(SNPs!B1727,FIND(\"[\",SNPs!B1727)+3,FIND(\"/\",SNPs!B1727)-FIND(\"/\",SNPs!B1727)+1),\"\")","v":""},{"$f":"IF(SNPs!B1727<>\"\",SNPs!B1727,\"\")","v":""}]
[{"$f":"IF(SNPs!A1728<>\"\",SNPs!A1728,\"\")","v":""},{"$f":"IF(SNPs!B1728<>\"\",MID(SNPs!B1728,FIND(\"[\",SNPs!B1728)+1,FIND(\"/\",SNPs!B1728)-FIND(\"[\",SNPs!B1728)-1),\"\")","v":""},{"$f":"IF(SNPs!B1728<>\"\",MID(SNPs!B1728,FIND(\"[\",SNPs!B1728)+3,FIND(\"/\",SNPs!B1728)-FIND(\"/\",SNPs!B1728)+1),\"\")","v":""},{"$f":"IF(SNPs!B1728<>\"\",SNPs!B1728,\"\")","v":""}]
[{"$f":"IF(SNPs!A1729<>\"\",SNPs!A1729,\"\")","v":""},{"$f":"IF(SNPs!B1729<>\"\",MID(SNPs!B1729,FIND(\"[\",SNPs!B1729)+1,FIND(\"/\",SNPs!B1729)-FIND(\"[\",SNPs!B1729)-1),\"\")","v":""},{"$f":"IF(SNPs!B1729<>\"\",MID(SNPs!B1729,FIND(\"[\",SNPs!B1729)+3,FIND(\"/\",SNPs!B1729)-FIND(\"/\",SNPs!B1729)+1),\"\")","v":""},{"$f":"IF(SNPs!B1729<>\"\",SNPs!B1729,\"\")","v":""}]
[{"$f":"IF(SNPs!A1730<>\"\",SNPs!A1730,\"\")","v":""},{"$f":"IF(SNPs!B1730<>\"\",MID(SNPs!B1730,FIND(\"[\",SNPs!B1730)+1,FIND(\"/\",SNPs!B1730)-FIND(\"[\",SNPs!B1730)-1),\"\")","v":""},{"$f":"IF(SNPs!B1730<>\"\",MID(SNPs!B1730,FIND(\"[\",SNPs!B1730)+3,FIND(\"/\",SNPs!B1730)-FIND(\"/\",SNPs!B1730)+1),\"\")","v":""},{"$f":"IF(SNPs!B1730<>\"\",SNPs!B1730,\"\")","v":""}]
[{"$f":"IF(SNPs!A1731<>\"\",SNPs!A1731,\"\")","v":""},{"$f":"IF(SNPs!B1731<>\"\",MID(SNPs!B1731,FIND(\"[\",SNPs!B1731)+1,FIND(\"/\",SNPs!B1731)-FIND(\"[\",SNPs!B1731)-1),\"\")","v":""},{"$f":"IF(SNPs!B1731<>\"\",MID(SNPs!B1731,FIND(\"[\",SNPs!B1731)+3,FIND(\"/\",SNPs!B1731)-FIND(\"/\",SNPs!B1731)+1),\"\")","v":""},{"$f":"IF(SNPs!B1731<>\"\",SNPs!B1731,\"\")","v":""}]
[{"$f":"IF(SNPs!A1732<>\"\",SNPs!A1732,\"\")","v":""},{"$f":"IF(SNPs!B1732<>\"\",MID(SNPs!B1732,FIND(\"[\",SNPs!B1732)+1,FIND(\"/\",SNPs!B1732)-FIND(\"[\",SNPs!B1732)-1),\"\")","v":""},{"$f":"IF(SNPs!B1732<>\"\",MID(SNPs!B1732,FIND(\"[\",SNPs!B1732)+3,FIND(\"/\",SNPs!B1732)-FIND(\"/\",SNPs!B1732)+1),\"\")","v":""},{"$f":"IF(SNPs!B1732<>\"\",SNPs!B1732,\"\")","v":""}]
[{"$f":"IF(SNPs!A1733<>\"\",SNPs!A1733,\"\")","v":""},{"$f":"IF(SNPs!B1733<>\"\",MID(SNPs!B1733,FIND(\"[\",SNPs!B1733)+1,FIND(\"/\",SNPs!B1733)-FIND(\"[\",SNPs!B1733)-1),\"\")","v":""},{"$f":"IF(SNPs!B1733<>\"\",MID(SNPs!B1733,FIND(\"[\",SNPs!B1733)+3,FIND(\"/\",SNPs!B1733)-FIND(\"/\",SNPs!B1733)+1),\"\")","v":""},{"$f":"IF(SNPs!B1733<>\"\",SNPs!B1733,\"\")","v":""}]
[{"$f":"IF(SNPs!A1734<>\"\",SNPs!A1734,\"\")","v":""},{"$f":"IF(SNPs!B1734<>\"\",MID(SNPs!B1734,FIND(\"[\",SNPs!B1734)+1,FIND(\"/\",SNPs!B1734)-FIND(\"[\",SNPs!B1734)-1),\"\")","v":""},{"$f":"IF(SNPs!B1734<>\"\",MID(SNPs!B1734,FIND(\"[\",SNPs!B1734)+3,FIND(\"/\",SNPs!B1734)-FIND(\"/\",SNPs!B1734)+1),\"\")","v":""},{"$f":"IF(SNPs!B1734<>\"\",SNPs!B1734,\"\")","v":""}]
[{"$f":"IF(SNPs!A1735<>\"\",SNPs!A1735,\"\")","v":""},{"$f":"IF(SNPs!B1735<>\"\",MID(SNPs!B1735,FIND(\"[\",SNPs!B1735)+1,FIND(\"/\",SNPs!B1735)-FIND(\"[\",SNPs!B1735)-1),\"\")","v":""},{"$f":"IF(SNPs!B1735<>\"\",MID(SNPs!B1735,FIND(\"[\",SNPs!B1735)+3,FIND(\"/\",SNPs!B1735)-FIND(\"/\",SNPs!B1735)+1),\"\")","v":""},{"$f":"IF(SNPs!B1735<>\"\",SNPs!B1735,\"\")","v":""}]
[{"$f":"IF(SNPs!A1736<>\"\",SNPs!A1736,\"\")","v":""},{"$f":"IF(SNPs!B1736<>\"\",MID(SNPs!B1736,FIND(\"[\",SNPs!B1736)+1,FIND(\"/\",SNPs!B1736)-FIND(\"[\",SNPs!B1736)-1),\"\")","v":""},{"$f":"IF(SNPs!B1736<>\"\",MID(SNPs!B1736,FIND(\"[\",SNPs!B1736)+3,FIND(\"/\",SNPs!B1736)-FIND(\"/\",SNPs!B1736)+1),\"\")","v":""},{"$f":"IF(SNPs!B1736<>\"\",SNPs!B1736,\"\")","v":""}]
[{"$f":"IF(SNPs!A1737<>\"\",SNPs!A1737,\"\")","v":""},{"$f":"IF(SNPs!B1737<>\"\",MID(SNPs!B1737,FIND(\"[\",SNPs!B1737)+1,FIND(\"/\",SNPs!B1737)-FIND(\"[\",SNPs!B1737)-1),\"\")","v":""},{"$f":"IF(SNPs!B1737<>\"\",MID(SNPs!B1737,FIND(\"[\",SNPs!B1737)+3,FIND(\"/\",SNPs!B1737)-FIND(\"/\",SNPs!B1737)+1),\"\")","v":""},{"$f":"IF(SNPs!B1737<>\"\",SNPs!B1737,\"\")","v":""}]
[{"$f":"IF(SNPs!A1738<>\"\",SNPs!A1738,\"\")","v":""},{"$f":"IF(SNPs!B1738<>\"\",MID(SNPs!B1738,FIND(\"[\",SNPs!B1738)+1,FIND(\"/\",SNPs!B1738)-FIND(\"[\",SNPs!B1738)-1),\"\")","v":""},{"$f":"IF(SNPs!B1738<>\"\",MID(SNPs!B1738,FIND(\"[\",SNPs!B1738)+3,FIND(\"/\",SNPs!B1738)-FIND(\"/\",SNPs!B1738)+1),\"\")","v":""},{"$f":"IF(SNPs!B1738<>\"\",SNPs!B1738,\"\")","v":""}]
[{"$f":"IF(SNPs!A1739<>\"\",SNPs!A1739,\"\")","v":""},{"$f":"IF(SNPs!B1739<>\"\",MID(SNPs!B1739,FIND(\"[\",SNPs!B1739)+1,FIND(\"/\",SNPs!B1739)-FIND(\"[\",SNPs!B1739)-1),\"\")","v":""},{"$f":"IF(SNPs!B1739<>\"\",MID(SNPs!B1739,FIND(\"[\",SNPs!B1739)+3,FIND(\"/\",SNPs!B1739)-FIND(\"/\",SNPs!B1739)+1),\"\")","v":""},{"$f":"IF(SNPs!B1739<>\"\",SNPs!B1739,\"\")","v":""}]
[{"$f":"IF(SNPs!A1740<>\"\",SNPs!A1740,\"\")","v":""},{"$f":"IF(SNPs!B1740<>\"\",MID(SNPs!B1740,FIND(\"[\",SNPs!B1740)+1,FIND(\"/\",SNPs!B1740)-FIND(\"[\",SNPs!B1740)-1),\"\")","v":""},{"$f":"IF(SNPs!B1740<>\"\",MID(SNPs!B1740,FIND(\"[\",SNPs!B1740)+3,FIND(\"/\",SNPs!B1740)-FIND(\"/\",SNPs!B1740)+1),\"\")","v":""},{"$f":"IF(SNPs!B1740<>\"\",SNPs!B1740,\"\")","v":""}]
[{"$f":"IF(SNPs!A1741<>\"\",SNPs!A1741,\"\")","v":""},{"$f":"IF(SNPs!B1741<>\"\",MID(SNPs!B1741,FIND(\"[\",SNPs!B1741)+1,FIND(\"/\",SNPs!B1741)-FIND(\"[\",SNPs!B1741)-1),\"\")","v":""},{"$f":"IF(SNPs!B1741<>\"\",MID(SNPs!B1741,FIND(\"[\",SNPs!B1741)+3,FIND(\"/\",SNPs!B1741)-FIND(\"/\",SNPs!B1741)+1),\"\")","v":""},{"$f":"IF(SNPs!B1741<>\"\",SNPs!B1741,\"\")","v":""}]
[{"$f":"IF(SNPs!A1742<>\"\",SNPs!A1742,\"\")","v":""},{"$f":"IF(SNPs!B1742<>\"\",MID(SNPs!B1742,FIND(\"[\",SNPs!B1742)+1,FIND(\"/\",SNPs!B1742)-FIND(\"[\",SNPs!B1742)-1),\"\")","v":""},{"$f":"IF(SNPs!B1742<>\"\",MID(SNPs!B1742,FIND(\"[\",SNPs!B1742)+3,FIND(\"/\",SNPs!B1742)-FIND(\"/\",SNPs!B1742)+1),\"\")","v":""},{"$f":"IF(SNPs!B1742<>\"\",SNPs!B1742,\"\")","v":""}]
[{"$f":"IF(SNPs!A1743<>\"\",SNPs!A1743,\"\")","v":""},{"$f":"IF(SNPs!B1743<>\"\",MID(SNPs!B1743,FIND(\"[\",SNPs!B1743)+1,FIND(\"/\",SNPs!B1743)-FIND(\"[\",SNPs!B1743)-1),\"\")","v":""},{"$f":"IF(SNPs!B1743<>\"\",MID(SNPs!B1743,FIND(\"[\",SNPs!B1743)+3,FIND(\"/\",SNPs!B1743)-FIND(\"/\",SNPs!B1743)+1),\"\")","v":""},{"$f":"IF(SNPs!B1743<>\"\",SNPs!B1743,\"\")","v":""}]
[{"$f":"IF(SNPs!A1744<>\"\",SNPs!A1744,\"\")","v":""},{"$f":"IF(SNPs!B1744<>\"\",MID(SNPs!B1744,FIND(\"[\",SNPs!B1744)+1,FIND(\"/\",SNPs!B1744)-FIND(\"[\",SNPs!B1744)-1),\"\")","v":""},{"$f":"IF(SNPs!B1744<>\"\",MID(SNPs!B1744,FIND(\"[\",SNPs!B1744)+3,FIND(\"/\",SNPs!B1744)-FIND(\"/\",SNPs!B1744)+1),\"\")","v":""},{"$f":"IF(SNPs!B1744<>\"\",SNPs!B1744,\"\")","v":""}]
[{"$f":"IF(SNPs!A1745<>\"\",SNPs!A1745,\"\")","v":""},{"$f":"IF(SNPs!B1745<>\"\",MID(SNPs!B1745,FIND(\"[\",SNPs!B1745)+1,FIND(\"/\",SNPs!B1745)-FIND(\"[\",SNPs!B1745)-1),\"\")","v":""},{"$f":"IF(SNPs!B1745<>\"\",MID(SNPs!B1745,FIND(\"[\",SNPs!B1745)+3,FIND(\"/\",SNPs!B1745)-FIND(\"/\",SNPs!B1745)+1),\"\")","v":""},{"$f":"IF(SNPs!B1745<>\"\",SNPs!B1745,\"\")","v":""}]
[{"$f":"IF(SNPs!A1746<>\"\",SNPs!A1746,\"\")","v":""},{"$f":"IF(SNPs!B1746<>\"\",MID(SNPs!B1746,FIND(\"[\",SNPs!B1746)+1,FIND(\"/\",SNPs!B1746)-FIND(\"[\",SNPs!B1746)-1),\"\")","v":""},{"$f":"IF(SNPs!B1746<>\"\",MID(SNPs!B1746,FIND(\"[\",SNPs!B1746)+3,FIND(\"/\",SNPs!B1746)-FIND(\"/\",SNPs!B1746)+1),\"\")","v":""},{"$f":"IF(SNPs!B1746<>\"\",SNPs!B1746,\"\")","v":""}]
[{"$f":"IF(SNPs!A1747<>\"\",SNPs!A1747,\"\")","v":""},{"$f":"IF(SNPs!B1747<>\"\",MID(SNPs!B1747,FIND(\"[\",SNPs!B1747)+1,FIND(\"/\",SNPs!B1747)-FIND(\"[\",SNPs!B1747)-1),\"\")","v":""},{"$f":"IF(SNPs!B1747<>\"\",MID(SNPs!B1747,FIND(\"[\",SNPs!B1747)+3,FIND(\"/\",SNPs!B1747)-FIND(\"/\",SNPs!B1747)+1),\"\")","v":""},{"$f":"IF(SNPs!B1747<>\"\",SNPs!B1747,\"\")","v":""}]
[{"$f":"IF(SNPs!A1748<>\"\",SNPs!A1748,\"\")","v":""},{"$f":"IF(SNPs!B1748<>\"\",MID(SNPs!B1748,FIND(\"[\",SNPs!B1748)+1,FIND(\"/\",SNPs!B1748)-FIND(\"[\",SNPs!B1748)-1),\"\")","v":""},{"$f":"IF(SNPs!B1748<>\"\",MID(SNPs!B1748,FIND(\"[\",SNPs!B1748)+3,FIND(\"/\",SNPs!B1748)-FIND(\"/\",SNPs!B1748)+1),\"\")","v":""},{"$f":"IF(SNPs!B1748<>\"\",SNPs!B1748,\"\")","v":""}]
[{"$f":"IF(SNPs!A1749<>\"\",SNPs!A1749,\"\")","v":""},{"$f":"IF(SNPs!B1749<>\"\",MID(SNPs!B1749,FIND(\"[\",SNPs!B1749)+1,FIND(\"/\",SNPs!B1749)-FIND(\"[\",SNPs!B1749)-1),\"\")","v":""},{"$f":"IF(SNPs!B1749<>\"\",MID(SNPs!B1749,FIND(\"[\",SNPs!B1749)+3,FIND(\"/\",SNPs!B1749)-FIND(\"/\",SNPs!B1749)+1),\"\")","v":""},{"$f":"IF(SNPs!B1749<>\"\",SNPs!B1749,\"\")","v":""}]
[{"$f":"IF(SNPs!A1750<>\"\",SNPs!A1750,\"\")","v":""},{"$f":"IF(SNPs!B1750<>\"\",MID(SNPs!B1750,FIND(\"[\",SNPs!B1750)+1,FIND(\"/\",SNPs!B1750)-FIND(\"[\",SNPs!B1750)-1),\"\")","v":""},{"$f":"IF(SNPs!B1750<>\"\",MID(SNPs!B1750,FIND(\"[\",SNPs!B1750)+3,FIND(\"/\",SNPs!B1750)-FIND(\"/\",SNPs!B1750)+1),\"\")","v":""},{"$f":"IF(SNPs!B1750<>\"\",SNPs!B1750,\"\")","v":""}]
[{"$f":"IF(SNPs!A1751<>\"\",SNPs!A1751,\"\")","v":""},{"$f":"IF(SNPs!B1751<>\"\",MID(SNPs!B1751,FIND(\"[\",SNPs!B1751)+1,FIND(\"/\",SNPs!B1751)-FIND(\"[\",SNPs!B1751)-1),\"\")","v":""},{"$f":"IF(SNPs!B1751<>\"\",MID(SNPs!B1751,FIND(\"[\",SNPs!B1751)+3,FIND(\"/\",SNPs!B1751)-FIND(\"/\",SNPs!B1751)+1),\"\")","v":""},{"$f":"IF(SNPs!B1751<>\"\",SNPs!B1751,\"\")","v":""}]
[{"$f":"IF(SNPs!A1752<>\"\",SNPs!A1752,\"\")","v":""},{"$f":"IF(SNPs!B1752<>\"\",MID(SNPs!B1752,FIND(\"[\",SNPs!B1752)+1,FIND(\"/\",SNPs!B1752)-FIND(\"[\",SNPs!B1752)-1),\"\")","v":""},{"$f":"IF(SNPs!B1752<>\"\",MID(SNPs!B1752,FIND(\"[\",SNPs!B1752)+3,FIND(\"/\",SNPs!B1752)-FIND(\"/\",SNPs!B1752)+1),\"\")","v":""},{"$f":"IF(SNPs!B1752<>\"\",SNPs!B1752,\"\")","v":""}]
[{"$f":"IF(SNPs!A1753<>\"\",SNPs!A1753,\"\")","v":""},{"$f":"IF(SNPs!B1753<>\"\",MID(SNPs!B1753,FIND(\"[\",SNPs!B1753)+1,FIND(\"/\",SNPs!B1753)-FIND(\"[\",SNPs!B1753)-1),\"\")","v":""},{"$f":"IF(SNPs!B1753<>\"\",MID(SNPs!B1753,FIND(\"[\",SNPs!B1753)+3,FIND(\"/\",SNPs!B1753)-FIND(\"/\",SNPs!B1753)+1),\"\")","v":""},{"$f":"IF(SNPs!B1753<>\"\",SNPs!B1753,\"\")","v":""}]
[{"$f":"IF(SNPs!A1754<>\"\",SNPs!A1754,\"\")","v":""},{"$f":"IF(SNPs!B1754<>\"\",MID(SNPs!B1754,FIND(\"[\",SNPs!B1754)+1,FIND(\"/\",SNPs!B1754)-FIND(\"[\",SNPs!B1754)-1),\"\")","v":""},{"$f":"IF(SNPs!B1754<>\"\",MID(SNPs!B1754,FIND(\"[\",SNPs!B1754)+3,FIND(\"/\",SNPs!B1754)-FIND(\"/\",SNPs!B1754)+1),\"\")","v":""},{"$f":"IF(SNPs!B1754<>\"\",SNPs!B1754,\"\")","v":""}]
[{"$f":"IF(SNPs!A1755<>\"\",SNPs!A1755,\"\")","v":""},{"$f":"IF(SNPs!B1755<>\"\",MID(SNPs!B1755,FIND(\"[\",SNPs!B1755)+1,FIND(\"/\",SNPs!B1755)-FIND(\"[\",SNPs!B1755)-1),\"\")","v":""},{"$f":"IF(SNPs!B1755<>\"\",MID(SNPs!B1755,FIND(\"[\",SNPs!B1755)+3,FIND(\"/\",SNPs!B1755)-FIND(\"/\",SNPs!B1755)+1),\"\")","v":""},{"$f":"IF(SNPs!B1755<>\"\",SNPs!B1755,\"\")","v":""}]
[{"$f":"IF(SNPs!A1756<>\"\",SNPs!A1756,\"\")","v":""},{"$f":"IF(SNPs!B1756<>\"\",MID(SNPs!B1756,FIND(\"[\",SNPs!B1756)+1,FIND(\"/\",SNPs!B1756)-FIND(\"[\",SNPs!B1756)-1),\"\")","v":""},{"$f":"IF(SNPs!B1756<>\"\",MID(SNPs!B1756,FIND(\"[\",SNPs!B1756)+3,FIND(\"/\",SNPs!B1756)-FIND(\"/\",SNPs!B1756)+1),\"\")","v":""},{"$f":"IF(SNPs!B1756<>\"\",SNPs!B1756,\"\")","v":""}]
[{"$f":"IF(SNPs!A1757<>\"\",SNPs!A1757,\"\")","v":""},{"$f":"IF(SNPs!B1757<>\"\",MID(SNPs!B1757,FIND(\"[\",SNPs!B1757)+1,FIND(\"/\",SNPs!B1757)-FIND(\"[\",SNPs!B1757)-1),\"\")","v":""},{"$f":"IF(SNPs!B1757<>\"\",MID(SNPs!B1757,FIND(\"[\",SNPs!B1757)+3,FIND(\"/\",SNPs!B1757)-FIND(\"/\",SNPs!B1757)+1),\"\")","v":""},{"$f":"IF(SNPs!B1757<>\"\",SNPs!B1757,\"\")","v":""}]
[{"$f":"IF(SNPs!A1758<>\"\",SNPs!A1758,\"\")","v":""},{"$f":"IF(SNPs!B1758<>\"\",MID(SNPs!B1758,FIND(\"[\",SNPs!B1758)+1,FIND(\"/\",SNPs!B1758)-FIND(\"[\",SNPs!B1758)-1),\"\")","v":""},{"$f":"IF(SNPs!B1758<>\"\",MID(SNPs!B1758,FIND(\"[\",SNPs!B1758)+3,FIND(\"/\",SNPs!B1758)-FIND(\"/\",SNPs!B1758)+1),\"\")","v":""},{"$f":"IF(SNPs!B1758<>\"\",SNPs!B1758,\"\")","v":""}]
[{"$f":"IF(SNPs!A1759<>\"\",SNPs!A1759,\"\")","v":""},{"$f":"IF(SNPs!B1759<>\"\",MID(SNPs!B1759,FIND(\"[\",SNPs!B1759)+1,FIND(\"/\",SNPs!B1759)-FIND(\"[\",SNPs!B1759)-1),\"\")","v":""},{"$f":"IF(SNPs!B1759<>\"\",MID(SNPs!B1759,FIND(\"[\",SNPs!B1759)+3,FIND(\"/\",SNPs!B1759)-FIND(\"/\",SNPs!B1759)+1),\"\")","v":""},{"$f":"IF(SNPs!B1759<>\"\",SNPs!B1759,\"\")","v":""}]
[{"$f":"IF(SNPs!A1760<>\"\",SNPs!A1760,\"\")","v":""},{"$f":"IF(SNPs!B1760<>\"\",MID(SNPs!B1760,FIND(\"[\",SNPs!B1760)+1,FIND(\"/\",SNPs!B1760)-FIND(\"[\",SNPs!B1760)-1),\"\")","v":""},{"$f":"IF(SNPs!B1760<>\"\",MID(SNPs!B1760,FIND(\"[\",SNPs!B1760)+3,FIND(\"/\",SNPs!B1760)-FIND(\"/\",SNPs!B1760)+1),\"\")","v":""},{"$f":"IF(SNPs!B1760<>\"\",SNPs!B1760,\"\")","v":""}]
[{"$f":"IF(SNPs!A1761<>\"\",SNPs!A1761,\"\")","v":""},{"$f":"IF(SNPs!B1761<>\"\",MID(SNPs!B1761,FIND(\"[\",SNPs!B1761)+1,FIND(\"/\",SNPs!B1761)-FIND(\"[\",SNPs!B1761)-1),\"\")","v":""},{"$f":"IF(SNPs!B1761<>\"\",MID(SNPs!B1761,FIND(\"[\",SNPs!B1761)+3,FIND(\"/\",SNPs!B1761)-FIND(\"/\",SNPs!B1761)+1),\"\")","v":""},{"$f":"IF(SNPs!B1761<>\"\",SNPs!B1761,\"\")","v":""}]
[{"$f":"IF(SNPs!A1762<>\"\",SNPs!A1762,\"\")","v":""},{"$f":"IF(SNPs!B1762<>\"\",MID(SNPs!B1762,FIND(\"[\",SNPs!B1762)+1,FIND(\"/\",SNPs!B1762)-FIND(\"[\",SNPs!B1762)-1),\"\")","v":""},{"$f":"IF(SNPs!B1762<>\"\",MID(SNPs!B1762,FIND(\"[\",SNPs!B1762)+3,FIND(\"/\",SNPs!B1762)-FIND(\"/\",SNPs!B1762)+1),\"\")","v":""},{"$f":"IF(SNPs!B1762<>\"\",SNPs!B1762,\"\")","v":""}]
[{"$f":"IF(SNPs!A1763<>\"\",SNPs!A1763,\"\")","v":""},{"$f":"IF(SNPs!B1763<>\"\",MID(SNPs!B1763,FIND(\"[\",SNPs!B1763)+1,FIND(\"/\",SNPs!B1763)-FIND(\"[\",SNPs!B1763)-1),\"\")","v":""},{"$f":"IF(SNPs!B1763<>\"\",MID(SNPs!B1763,FIND(\"[\",SNPs!B1763)+3,FIND(\"/\",SNPs!B1763)-FIND(\"/\",SNPs!B1763)+1),\"\")","v":""},{"$f":"IF(SNPs!B1763<>\"\",SNPs!B1763,\"\")","v":""}]
[{"$f":"IF(SNPs!A1764<>\"\",SNPs!A1764,\"\")","v":""},{"$f":"IF(SNPs!B1764<>\"\",MID(SNPs!B1764,FIND(\"[\",SNPs!B1764)+1,FIND(\"/\",SNPs!B1764)-FIND(\"[\",SNPs!B1764)-1),\"\")","v":""},{"$f":"IF(SNPs!B1764<>\"\",MID(SNPs!B1764,FIND(\"[\",SNPs!B1764)+3,FIND(\"/\",SNPs!B1764)-FIND(\"/\",SNPs!B1764)+1),\"\")","v":""},{"$f":"IF(SNPs!B1764<>\"\",SNPs!B1764,\"\")","v":""}]
[{"$f":"IF(SNPs!A1765<>\"\",SNPs!A1765,\"\")","v":""},{"$f":"IF(SNPs!B1765<>\"\",MID(SNPs!B1765,FIND(\"[\",SNPs!B1765)+1,FIND(\"/\",SNPs!B1765)-FIND(\"[\",SNPs!B1765)-1),\"\")","v":""},{"$f":"IF(SNPs!B1765<>\"\",MID(SNPs!B1765,FIND(\"[\",SNPs!B1765)+3,FIND(\"/\",SNPs!B1765)-FIND(\"/\",SNPs!B1765)+1),\"\")","v":""},{"$f":"IF(SNPs!B1765<>\"\",SNPs!B1765,\"\")","v":""}]
[{"$f":"IF(SNPs!A1766<>\"\",SNPs!A1766,\"\")","v":""},{"$f":"IF(SNPs!B1766<>\"\",MID(SNPs!B1766,FIND(\"[\",SNPs!B1766)+1,FIND(\"/\",SNPs!B1766)-FIND(\"[\",SNPs!B1766)-1),\"\")","v":""},{"$f":"IF(SNPs!B1766<>\"\",MID(SNPs!B1766,FIND(\"[\",SNPs!B1766)+3,FIND(\"/\",SNPs!B1766)-FIND(\"/\",SNPs!B1766)+1),\"\")","v":""},{"$f":"IF(SNPs!B1766<>\"\",SNPs!B1766,\"\")","v":""}]
[{"$f":"IF(SNPs!A1767<>\"\",SNPs!A1767,\"\")","v":""},{"$f":"IF(SNPs!B1767<>\"\",MID(SNPs!B1767,FIND(\"[\",SNPs!B1767)+1,FIND(\"/\",SNPs!B1767)-FIND(\"[\",SNPs!B1767)-1),\"\")","v":""},{"$f":"IF(SNPs!B1767<>\"\",MID(SNPs!B1767,FIND(\"[\",SNPs!B1767)+3,FIND(\"/\",SNPs!B1767)-FIND(\"/\",SNPs!B1767)+1),\"\")","v":""},{"$f":"IF(SNPs!B1767<>\"\",SNPs!B1767,\"\")","v":""}]
[{"$f":"IF(SNPs!A1768<>\"\",SNPs!A1768,\"\")","v":""},{"$f":"IF(SNPs!B1768<>\"\",MID(SNPs!B1768,FIND(\"[\",SNPs!B1768)+1,FIND(\"/\",SNPs!B1768)-FIND(\"[\",SNPs!B1768)-1),\"\")","v":""},{"$f":"IF(SNPs!B1768<>\"\",MID(SNPs!B1768,FIND(\"[\",SNPs!B1768)+3,FIND(\"/\",SNPs!B1768)-FIND(\"/\",SNPs!B1768)+1),\"\")","v":""},{"$f":"IF(SNPs!B1768<>\"\",SNPs!B1768,\"\")","v":""}]
[{"$f":"IF(SNPs!A1769<>\"\",SNPs!A1769,\"\")","v":""},{"$f":"IF(SNPs!B1769<>\"\",MID(SNPs!B1769,FIND(\"[\",SNPs!B1769)+1,FIND(\"/\",SNPs!B1769)-FIND(\"[\",SNPs!B1769)-1),\"\")","v":""},{"$f":"IF(SNPs!B1769<>\"\",MID(SNPs!B1769,FIND(\"[\",SNPs!B1769)+3,FIND(\"/\",SNPs!B1769)-FIND(\"/\",SNPs!B1769)+1),\"\")","v":""},{"$f":"IF(SNPs!B1769<>\"\",SNPs!B1769,\"\")","v":""}]
[{"$f":"IF(SNPs!A1770<>\"\",SNPs!A1770,\"\")","v":""},{"$f":"IF(SNPs!B1770<>\"\",MID(SNPs!B1770,FIND(\"[\",SNPs!B1770)+1,FIND(\"/\",SNPs!B1770)-FIND(\"[\",SNPs!B1770)-1),\"\")","v":""},{"$f":"IF(SNPs!B1770<>\"\",MID(SNPs!B1770,FIND(\"[\",SNPs!B1770)+3,FIND(\"/\",SNPs!B1770)-FIND(\"/\",SNPs!B1770)+1),\"\")","v":""},{"$f":"IF(SNPs!B1770<>\"\",SNPs!B1770,\"\")","v":""}]
[{"$f":"IF(SNPs!A1771<>\"\",SNPs!A1771,\"\")","v":""},{"$f":"IF(SNPs!B1771<>\"\",MID(SNPs!B1771,FIND(\"[\",SNPs!B1771)+1,FIND(\"/\",SNPs!B1771)-FIND(\"[\",SNPs!B1771)-1),\"\")","v":""},{"$f":"IF(SNPs!B1771<>\"\",MID(SNPs!B1771,FIND(\"[\",SNPs!B1771)+3,FIND(\"/\",SNPs!B1771)-FIND(\"/\",SNPs!B1771)+1),\"\")","v":""},{"$f":"IF(SNPs!B1771<>\"\",SNPs!B1771,\"\")","v":""}]
[{"$f":"IF(SNPs!A1772<>\"\",SNPs!A1772,\"\")","v":""},{"$f":"IF(SNPs!B1772<>\"\",MID(SNPs!B1772,FIND(\"[\",SNPs!B1772)+1,FIND(\"/\",SNPs!B1772)-FIND(\"[\",SNPs!B1772)-1),\"\")","v":""},{"$f":"IF(SNPs!B1772<>\"\",MID(SNPs!B1772,FIND(\"[\",SNPs!B1772)+3,FIND(\"/\",SNPs!B1772)-FIND(\"/\",SNPs!B1772)+1),\"\")","v":""},{"$f":"IF(SNPs!B1772<>\"\",SNPs!B1772,\"\")","v":""}]
[{"$f":"IF(SNPs!A1773<>\"\",SNPs!A1773,\"\")","v":""},{"$f":"IF(SNPs!B1773<>\"\",MID(SNPs!B1773,FIND(\"[\",SNPs!B1773)+1,FIND(\"/\",SNPs!B1773)-FIND(\"[\",SNPs!B1773)-1),\"\")","v":""},{"$f":"IF(SNPs!B1773<>\"\",MID(SNPs!B1773,FIND(\"[\",SNPs!B1773)+3,FIND(\"/\",SNPs!B1773)-FIND(\"/\",SNPs!B1773)+1),\"\")","v":""},{"$f":"IF(SNPs!B1773<>\"\",SNPs!B1773,\"\")","v":""}]
[{"$f":"IF(SNPs!A1774<>\"\",SNPs!A1774,\"\")","v":""},{"$f":"IF(SNPs!B1774<>\"\",MID(SNPs!B1774,FIND(\"[\",SNPs!B1774)+1,FIND(\"/\",SNPs!B1774)-FIND(\"[\",SNPs!B1774)-1),\"\")","v":""},{"$f":"IF(SNPs!B1774<>\"\",MID(SNPs!B1774,FIND(\"[\",SNPs!B1774)+3,FIND(\"/\",SNPs!B1774)-FIND(\"/\",SNPs!B1774)+1),\"\")","v":""},{"$f":"IF(SNPs!B1774<>\"\",SNPs!B1774,\"\")","v":""}]
[{"$f":"IF(SNPs!A1775<>\"\",SNPs!A1775,\"\")","v":""},{"$f":"IF(SNPs!B1775<>\"\",MID(SNPs!B1775,FIND(\"[\",SNPs!B1775)+1,FIND(\"/\",SNPs!B1775)-FIND(\"[\",SNPs!B1775)-1),\"\")","v":""},{"$f":"IF(SNPs!B1775<>\"\",MID(SNPs!B1775,FIND(\"[\",SNPs!B1775)+3,FIND(\"/\",SNPs!B1775)-FIND(\"/\",SNPs!B1775)+1),\"\")","v":""},{"$f":"IF(SNPs!B1775<>\"\",SNPs!B1775,\"\")","v":""}]
[{"$f":"IF(SNPs!A1776<>\"\",SNPs!A1776,\"\")","v":""},{"$f":"IF(SNPs!B1776<>\"\",MID(SNPs!B1776,FIND(\"[\",SNPs!B1776)+1,FIND(\"/\",SNPs!B1776)-FIND(\"[\",SNPs!B1776)-1),\"\")","v":""},{"$f":"IF(SNPs!B1776<>\"\",MID(SNPs!B1776,FIND(\"[\",SNPs!B1776)+3,FIND(\"/\",SNPs!B1776)-FIND(\"/\",SNPs!B1776)+1),\"\")","v":""},{"$f":"IF(SNPs!B1776<>\"\",SNPs!B1776,\"\")","v":""}]
[{"$f":"IF(SNPs!A1777<>\"\",SNPs!A1777,\"\")","v":""},{"$f":"IF(SNPs!B1777<>\"\",MID(SNPs!B1777,FIND(\"[\",SNPs!B1777)+1,FIND(\"/\",SNPs!B1777)-FIND(\"[\",SNPs!B1777)-1),\"\")","v":""},{"$f":"IF(SNPs!B1777<>\"\",MID(SNPs!B1777,FIND(\"[\",SNPs!B1777)+3,FIND(\"/\",SNPs!B1777)-FIND(\"/\",SNPs!B1777)+1),\"\")","v":""},{"$f":"IF(SNPs!B1777<>\"\",SNPs!B1777,\"\")","v":""}]
[{"$f":"IF(SNPs!A1778<>\"\",SNPs!A1778,\"\")","v":""},{"$f":"IF(SNPs!B1778<>\"\",MID(SNPs!B1778,FIND(\"[\",SNPs!B1778)+1,FIND(\"/\",SNPs!B1778)-FIND(\"[\",SNPs!B1778)-1),\"\")","v":""},{"$f":"IF(SNPs!B1778<>\"\",MID(SNPs!B1778,FIND(\"[\",SNPs!B1778)+3,FIND(\"/\",SNPs!B1778)-FIND(\"/\",SNPs!B1778)+1),\"\")","v":""},{"$f":"IF(SNPs!B1778<>\"\",SNPs!B1778,\"\")","v":""}]
[{"$f":"IF(SNPs!A1779<>\"\",SNPs!A1779,\"\")","v":""},{"$f":"IF(SNPs!B1779<>\"\",MID(SNPs!B1779,FIND(\"[\",SNPs!B1779)+1,FIND(\"/\",SNPs!B1779)-FIND(\"[\",SNPs!B1779)-1),\"\")","v":""},{"$f":"IF(SNPs!B1779<>\"\",MID(SNPs!B1779,FIND(\"[\",SNPs!B1779)+3,FIND(\"/\",SNPs!B1779)-FIND(\"/\",SNPs!B1779)+1),\"\")","v":""},{"$f":"IF(SNPs!B1779<>\"\",SNPs!B1779,\"\")","v":""}]
[{"$f":"IF(SNPs!A1780<>\"\",SNPs!A1780,\"\")","v":""},{"$f":"IF(SNPs!B1780<>\"\",MID(SNPs!B1780,FIND(\"[\",SNPs!B1780)+1,FIND(\"/\",SNPs!B1780)-FIND(\"[\",SNPs!B1780)-1),\"\")","v":""},{"$f":"IF(SNPs!B1780<>\"\",MID(SNPs!B1780,FIND(\"[\",SNPs!B1780)+3,FIND(\"/\",SNPs!B1780)-FIND(\"/\",SNPs!B1780)+1),\"\")","v":""},{"$f":"IF(SNPs!B1780<>\"\",SNPs!B1780,\"\")","v":""}]
[{"$f":"IF(SNPs!A1781<>\"\",SNPs!A1781,\"\")","v":""},{"$f":"IF(SNPs!B1781<>\"\",MID(SNPs!B1781,FIND(\"[\",SNPs!B1781)+1,FIND(\"/\",SNPs!B1781)-FIND(\"[\",SNPs!B1781)-1),\"\")","v":""},{"$f":"IF(SNPs!B1781<>\"\",MID(SNPs!B1781,FIND(\"[\",SNPs!B1781)+3,FIND(\"/\",SNPs!B1781)-FIND(\"/\",SNPs!B1781)+1),\"\")","v":""},{"$f":"IF(SNPs!B1781<>\"\",SNPs!B1781,\"\")","v":""}]
[{"$f":"IF(SNPs!A1782<>\"\",SNPs!A1782,\"\")","v":""},{"$f":"IF(SNPs!B1782<>\"\",MID(SNPs!B1782,FIND(\"[\",SNPs!B1782)+1,FIND(\"/\",SNPs!B1782)-FIND(\"[\",SNPs!B1782)-1),\"\")","v":""},{"$f":"IF(SNPs!B1782<>\"\",MID(SNPs!B1782,FIND(\"[\",SNPs!B1782)+3,FIND(\"/\",SNPs!B1782)-FIND(\"/\",SNPs!B1782)+1),\"\")","v":""},{"$f":"IF(SNPs!B1782<>\"\",SNPs!B1782,\"\")","v":""}]
[{"$f":"IF(SNPs!A1783<>\"\",SNPs!A1783,\"\")","v":""},{"$f":"IF(SNPs!B1783<>\"\",MID(SNPs!B1783,FIND(\"[\",SNPs!B1783)+1,FIND(\"/\",SNPs!B1783)-FIND(\"[\",SNPs!B1783)-1),\"\")","v":""},{"$f":"IF(SNPs!B1783<>\"\",MID(SNPs!B1783,FIND(\"[\",SNPs!B1783)+3,FIND(\"/\",SNPs!B1783)-FIND(\"/\",SNPs!B1783)+1),\"\")","v":""},{"$f":"IF(SNPs!B1783<>\"\",SNPs!B1783,\"\")","v":""}]
[{"$f":"IF(SNPs!A1784<>\"\",SNPs!A1784,\"\")","v":""},{"$f":"IF(SNPs!B1784<>\"\",MID(SNPs!B1784,FIND(\"[\",SNPs!B1784)+1,FIND(\"/\",SNPs!B1784)-FIND(\"[\",SNPs!B1784)-1),\"\")","v":""},{"$f":"IF(SNPs!B1784<>\"\",MID(SNPs!B1784,FIND(\"[\",SNPs!B1784)+3,FIND(\"/\",SNPs!B1784)-FIND(\"/\",SNPs!B1784)+1),\"\")","v":""},{"$f":"IF(SNPs!B1784<>\"\",SNPs!B1784,\"\")","v":""}]
[{"$f":"IF(SNPs!A1785<>\"\",SNPs!A1785,\"\")","v":""},{"$f":"IF(SNPs!B1785<>\"\",MID(SNPs!B1785,FIND(\"[\",SNPs!B1785)+1,FIND(\"/\",SNPs!B1785)-FIND(\"[\",SNPs!B1785)-1),\"\")","v":""},{"$f":"IF(SNPs!B1785<>\"\",MID(SNPs!B1785,FIND(\"[\",SNPs!B1785)+3,FIND(\"/\",SNPs!B1785)-FIND(\"/\",SNPs!B1785)+1),\"\")","v":""},{"$f":"IF(SNPs!B1785<>\"\",SNPs!B1785,\"\")","v":""}]
[{"$f":"IF(SNPs!A1786<>\"\",SNPs!A1786,\"\")","v":""},{"$f":"IF(SNPs!B1786<>\"\",MID(SNPs!B1786,FIND(\"[\",SNPs!B1786)+1,FIND(\"/\",SNPs!B1786)-FIND(\"[\",SNPs!B1786)-1),\"\")","v":""},{"$f":"IF(SNPs!B1786<>\"\",MID(SNPs!B1786,FIND(\"[\",SNPs!B1786)+3,FIND(\"/\",SNPs!B1786)-FIND(\"/\",SNPs!B1786)+1),\"\")","v":""},{"$f":"IF(SNPs!B1786<>\"\",SNPs!B1786,\"\")","v":""}]
[{"$f":"IF(SNPs!A1787<>\"\",SNPs!A1787,\"\")","v":""},{"$f":"IF(SNPs!B1787<>\"\",MID(SNPs!B1787,FIND(\"[\",SNPs!B1787)+1,FIND(\"/\",SNPs!B1787)-FIND(\"[\",SNPs!B1787)-1),\"\")","v":""},{"$f":"IF(SNPs!B1787<>\"\",MID(SNPs!B1787,FIND(\"[\",SNPs!B1787)+3,FIND(\"/\",SNPs!B1787)-FIND(\"/\",SNPs!B1787)+1),\"\")","v":""},{"$f":"IF(SNPs!B1787<>\"\",SNPs!B1787,\"\")","v":""}]
[{"$f":"IF(SNPs!A1788<>\"\",SNPs!A1788,\"\")","v":""},{"$f":"IF(SNPs!B1788<>\"\",MID(SNPs!B1788,FIND(\"[\",SNPs!B1788)+1,FIND(\"/\",SNPs!B1788)-FIND(\"[\",SNPs!B1788)-1),\"\")","v":""},{"$f":"IF(SNPs!B1788<>\"\",MID(SNPs!B1788,FIND(\"[\",SNPs!B1788)+3,FIND(\"/\",SNPs!B1788)-FIND(\"/\",SNPs!B1788)+1),\"\")","v":""},{"$f":"IF(SNPs!B1788<>\"\",SNPs!B1788,\"\")","v":""}]
[{"$f":"IF(SNPs!A1789<>\"\",SNPs!A1789,\"\")","v":""},{"$f":"IF(SNPs!B1789<>\"\",MID(SNPs!B1789,FIND(\"[\",SNPs!B1789)+1,FIND(\"/\",SNPs!B1789)-FIND(\"[\",SNPs!B1789)-1),\"\")","v":""},{"$f":"IF(SNPs!B1789<>\"\",MID(SNPs!B1789,FIND(\"[\",SNPs!B1789)+3,FIND(\"/\",SNPs!B1789)-FIND(\"/\",SNPs!B1789)+1),\"\")","v":""},{"$f":"IF(SNPs!B1789<>\"\",SNPs!B1789,\"\")","v":""}]
[{"$f":"IF(SNPs!A1790<>\"\",SNPs!A1790,\"\")","v":""},{"$f":"IF(SNPs!B1790<>\"\",MID(SNPs!B1790,FIND(\"[\",SNPs!B1790)+1,FIND(\"/\",SNPs!B1790)-FIND(\"[\",SNPs!B1790)-1),\"\")","v":""},{"$f":"IF(SNPs!B1790<>\"\",MID(SNPs!B1790,FIND(\"[\",SNPs!B1790)+3,FIND(\"/\",SNPs!B1790)-FIND(\"/\",SNPs!B1790)+1),\"\")","v":""},{"$f":"IF(SNPs!B1790<>\"\",SNPs!B1790,\"\")","v":""}]
[{"$f":"IF(SNPs!A1791<>\"\",SNPs!A1791,\"\")","v":""},{"$f":"IF(SNPs!B1791<>\"\",MID(SNPs!B1791,FIND(\"[\",SNPs!B1791)+1,FIND(\"/\",SNPs!B1791)-FIND(\"[\",SNPs!B1791)-1),\"\")","v":""},{"$f":"IF(SNPs!B1791<>\"\",MID(SNPs!B1791,FIND(\"[\",SNPs!B1791)+3,FIND(\"/\",SNPs!B1791)-FIND(\"/\",SNPs!B1791)+1),\"\")","v":""},{"$f":"IF(SNPs!B1791<>\"\",SNPs!B1791,\"\")","v":""}]
[{"$f":"IF(SNPs!A1792<>\"\",SNPs!A1792,\"\")","v":""},{"$f":"IF(SNPs!B1792<>\"\",MID(SNPs!B1792,FIND(\"[\",SNPs!B1792)+1,FIND(\"/\",SNPs!B1792)-FIND(\"[\",SNPs!B1792)-1),\"\")","v":""},{"$f":"IF(SNPs!B1792<>\"\",MID(SNPs!B1792,FIND(\"[\",SNPs!B1792)+3,FIND(\"/\",SNPs!B1792)-FIND(\"/\",SNPs!B1792)+1),\"\")","v":""},{"$f":"IF(SNPs!B1792<>\"\",SNPs!B1792,\"\")","v":""}]
[{"$f":"IF(SNPs!A1793<>\"\",SNPs!A1793,\"\")","v":""},{"$f":"IF(SNPs!B1793<>\"\",MID(SNPs!B1793,FIND(\"[\",SNPs!B1793)+1,FIND(\"/\",SNPs!B1793)-FIND(\"[\",SNPs!B1793)-1),\"\")","v":""},{"$f":"IF(SNPs!B1793<>\"\",MID(SNPs!B1793,FIND(\"[\",SNPs!B1793)+3,FIND(\"/\",SNPs!B1793)-FIND(\"/\",SNPs!B1793)+1),\"\")","v":""},{"$f":"IF(SNPs!B1793<>\"\",SNPs!B1793,\"\")","v":""}]
[{"$f":"IF(SNPs!A1794<>\"\",SNPs!A1794,\"\")","v":""},{"$f":"IF(SNPs!B1794<>\"\",MID(SNPs!B1794,FIND(\"[\",SNPs!B1794)+1,FIND(\"/\",SNPs!B1794)-FIND(\"[\",SNPs!B1794)-1),\"\")","v":""},{"$f":"IF(SNPs!B1794<>\"\",MID(SNPs!B1794,FIND(\"[\",SNPs!B1794)+3,FIND(\"/\",SNPs!B1794)-FIND(\"/\",SNPs!B1794)+1),\"\")","v":""},{"$f":"IF(SNPs!B1794<>\"\",SNPs!B1794,\"\")","v":""}]
[{"$f":"IF(SNPs!A1795<>\"\",SNPs!A1795,\"\")","v":""},{"$f":"IF(SNPs!B1795<>\"\",MID(SNPs!B1795,FIND(\"[\",SNPs!B1795)+1,FIND(\"/\",SNPs!B1795)-FIND(\"[\",SNPs!B1795)-1),\"\")","v":""},{"$f":"IF(SNPs!B1795<>\"\",MID(SNPs!B1795,FIND(\"[\",SNPs!B1795)+3,FIND(\"/\",SNPs!B1795)-FIND(\"/\",SNPs!B1795)+1),\"\")","v":""},{"$f":"IF(SNPs!B1795<>\"\",SNPs!B1795,\"\")","v":""}]
[{"$f":"IF(SNPs!A1796<>\"\",SNPs!A1796,\"\")","v":""},{"$f":"IF(SNPs!B1796<>\"\",MID(SNPs!B1796,FIND(\"[\",SNPs!B1796)+1,FIND(\"/\",SNPs!B1796)-FIND(\"[\",SNPs!B1796)-1),\"\")","v":""},{"$f":"IF(SNPs!B1796<>\"\",MID(SNPs!B1796,FIND(\"[\",SNPs!B1796)+3,FIND(\"/\",SNPs!B1796)-FIND(\"/\",SNPs!B1796)+1),\"\")","v":""},{"$f":"IF(SNPs!B1796<>\"\",SNPs!B1796,\"\")","v":""}]
[{"$f":"IF(SNPs!A1797<>\"\",SNPs!A1797,\"\")","v":""},{"$f":"IF(SNPs!B1797<>\"\",MID(SNPs!B1797,FIND(\"[\",SNPs!B1797)+1,FIND(\"/\",SNPs!B1797)-FIND(\"[\",SNPs!B1797)-1),\"\")","v":""},{"$f":"IF(SNPs!B1797<>\"\",MID(SNPs!B1797,FIND(\"[\",SNPs!B1797)+3,FIND(\"/\",SNPs!B1797)-FIND(\"/\",SNPs!B1797)+1),\"\")","v":""},{"$f":"IF(SNPs!B1797<>\"\",SNPs!B1797,\"\")","v":""}]
[{"$f":"IF(SNPs!A1798<>\"\",SNPs!A1798,\"\")","v":""},{"$f":"IF(SNPs!B1798<>\"\",MID(SNPs!B1798,FIND(\"[\",SNPs!B1798)+1,FIND(\"/\",SNPs!B1798)-FIND(\"[\",SNPs!B1798)-1),\"\")","v":""},{"$f":"IF(SNPs!B1798<>\"\",MID(SNPs!B1798,FIND(\"[\",SNPs!B1798)+3,FIND(\"/\",SNPs!B1798)-FIND(\"/\",SNPs!B1798)+1),\"\")","v":""},{"$f":"IF(SNPs!B1798<>\"\",SNPs!B1798,\"\")","v":""}]
[{"$f":"IF(SNPs!A1799<>\"\",SNPs!A1799,\"\")","v":""},{"$f":"IF(SNPs!B1799<>\"\",MID(SNPs!B1799,FIND(\"[\",SNPs!B1799)+1,FIND(\"/\",SNPs!B1799)-FIND(\"[\",SNPs!B1799)-1),\"\")","v":""},{"$f":"IF(SNPs!B1799<>\"\",MID(SNPs!B1799,FIND(\"[\",SNPs!B1799)+3,FIND(\"/\",SNPs!B1799)-FIND(\"/\",SNPs!B1799)+1),\"\")","v":""},{"$f":"IF(SNPs!B1799<>\"\",SNPs!B1799,\"\")","v":""}]
[{"$f":"IF(SNPs!A1800<>\"\",SNPs!A1800,\"\")","v":""},{"$f":"IF(SNPs!B1800<>\"\",MID(SNPs!B1800,FIND(\"[\",SNPs!B1800)+1,FIND(\"/\",SNPs!B1800)-FIND(\"[\",SNPs!B1800)-1),\"\")","v":""},{"$f":"IF(SNPs!B1800<>\"\",MID(SNPs!B1800,FIND(\"[\",SNPs!B1800)+3,FIND(\"/\",SNPs!B1800)-FIND(\"/\",SNPs!B1800)+1),\"\")","v":""},{"$f":"IF(SNPs!B1800<>\"\",SNPs!B1800,\"\")","v":""}]
[{"$f":"IF(SNPs!A1801<>\"\",SNPs!A1801,\"\")","v":""},{"$f":"IF(SNPs!B1801<>\"\",MID(SNPs!B1801,FIND(\"[\",SNPs!B1801)+1,FIND(\"/\",SNPs!B1801)-FIND(\"[\",SNPs!B1801)-1),\"\")","v":""},{"$f":"IF(SNPs!B1801<>\"\",MID(SNPs!B1801,FIND(\"[\",SNPs!B1801)+3,FIND(\"/\",SNPs!B1801)-FIND(\"/\",SNPs!B1801)+1),\"\")","v":""},{"$f":"IF(SNPs!B1801<>\"\",SNPs!B1801,\"\")","v":""}]
[{"$f":"IF(SNPs!A1802<>\"\",SNPs!A1802,\"\")","v":""},{"$f":"IF(SNPs!B1802<>\"\",MID(SNPs!B1802,FIND(\"[\",SNPs!B1802)+1,FIND(\"/\",SNPs!B1802)-FIND(\"[\",SNPs!B1802)-1),\"\")","v":""},{"$f":"IF(SNPs!B1802<>\"\",MID(SNPs!B1802,FIND(\"[\",SNPs!B1802)+3,FIND(\"/\",SNPs!B1802)-FIND(\"/\",SNPs!B1802)+1),\"\")","v":""},{"$f":"IF(SNPs!B1802<>\"\",SNPs!B1802,\"\")","v":""}]
[{"$f":"IF(SNPs!A1803<>\"\",SNPs!A1803,\"\")","v":""},{"$f":"IF(SNPs!B1803<>\"\",MID(SNPs!B1803,FIND(\"[\",SNPs!B1803)+1,FIND(\"/\",SNPs!B1803)-FIND(\"[\",SNPs!B1803)-1),\"\")","v":""},{"$f":"IF(SNPs!B1803<>\"\",MID(SNPs!B1803,FIND(\"[\",SNPs!B1803)+3,FIND(\"/\",SNPs!B1803)-FIND(\"/\",SNPs!B1803)+1),\"\")","v":""},{"$f":"IF(SNPs!B1803<>\"\",SNPs!B1803,\"\")","v":""}]
[{"$f":"IF(SNPs!A1804<>\"\",SNPs!A1804,\"\")","v":""},{"$f":"IF(SNPs!B1804<>\"\",MID(SNPs!B1804,FIND(\"[\",SNPs!B1804)+1,FIND(\"/\",SNPs!B1804)-FIND(\"[\",SNPs!B1804)-1),\"\")","v":""},{"$f":"IF(SNPs!B1804<>\"\",MID(SNPs!B1804,FIND(\"[\",SNPs!B1804)+3,FIND(\"/\",SNPs!B1804)-FIND(\"/\",SNPs!B1804)+1),\"\")","v":""},{"$f":"IF(SNPs!B1804<>\"\",SNPs!B1804,\"\")","v":""}]
[{"$f":"IF(SNPs!A1805<>\"\",SNPs!A1805,\"\")","v":""},{"$f":"IF(SNPs!B1805<>\"\",MID(SNPs!B1805,FIND(\"[\",SNPs!B1805)+1,FIND(\"/\",SNPs!B1805)-FIND(\"[\",SNPs!B1805)-1),\"\")","v":""},{"$f":"IF(SNPs!B1805<>\"\",MID(SNPs!B1805,FIND(\"[\",SNPs!B1805)+3,FIND(\"/\",SNPs!B1805)-FIND(\"/\",SNPs!B1805)+1),\"\")","v":""},{"$f":"IF(SNPs!B1805<>\"\",SNPs!B1805,\"\")","v":""}]
[{"$f":"IF(SNPs!A1806<>\"\",SNPs!A1806,\"\")","v":""},{"$f":"IF(SNPs!B1806<>\"\",MID(SNPs!B1806,FIND(\"[\",SNPs!B1806)+1,FIND(\"/\",SNPs!B1806)-FIND(\"[\",SNPs!B1806)-1),\"\")","v":""},{"$f":"IF(SNPs!B1806<>\"\",MID(SNPs!B1806,FIND(\"[\",SNPs!B1806)+3,FIND(\"/\",SNPs!B1806)-FIND(\"/\",SNPs!B1806)+1),\"\")","v":""},{"$f":"IF(SNPs!B1806<>\"\",SNPs!B1806,\"\")","v":""}]
[{"$f":"IF(SNPs!A1807<>\"\",SNPs!A1807,\"\")","v":""},{"$f":"IF(SNPs!B1807<>\"\",MID(SNPs!B1807,FIND(\"[\",SNPs!B1807)+1,FIND(\"/\",SNPs!B1807)-FIND(\"[\",SNPs!B1807)-1),\"\")","v":""},{"$f":"IF(SNPs!B1807<>\"\",MID(SNPs!B1807,FIND(\"[\",SNPs!B1807)+3,FIND(\"/\",SNPs!B1807)-FIND(\"/\",SNPs!B1807)+1),\"\")","v":""},{"$f":"IF(SNPs!B1807<>\"\",SNPs!B1807,\"\")","v":""}]
[{"$f":"IF(SNPs!A1808<>\"\",SNPs!A1808,\"\")","v":""},{"$f":"IF(SNPs!B1808<>\"\",MID(SNPs!B1808,FIND(\"[\",SNPs!B1808)+1,FIND(\"/\",SNPs!B1808)-FIND(\"[\",SNPs!B1808)-1),\"\")","v":""},{"$f":"IF(SNPs!B1808<>\"\",MID(SNPs!B1808,FIND(\"[\",SNPs!B1808)+3,FIND(\"/\",SNPs!B1808)-FIND(\"/\",SNPs!B1808)+1),\"\")","v":""},{"$f":"IF(SNPs!B1808<>\"\",SNPs!B1808,\"\")","v":""}]
[{"$f":"IF(SNPs!A1809<>\"\",SNPs!A1809,\"\")","v":""},{"$f":"IF(SNPs!B1809<>\"\",MID(SNPs!B1809,FIND(\"[\",SNPs!B1809)+1,FIND(\"/\",SNPs!B1809)-FIND(\"[\",SNPs!B1809)-1),\"\")","v":""},{"$f":"IF(SNPs!B1809<>\"\",MID(SNPs!B1809,FIND(\"[\",SNPs!B1809)+3,FIND(\"/\",SNPs!B1809)-FIND(\"/\",SNPs!B1809)+1),\"\")","v":""},{"$f":"IF(SNPs!B1809<>\"\",SNPs!B1809,\"\")","v":""}]
[{"$f":"IF(SNPs!A1810<>\"\",SNPs!A1810,\"\")","v":""},{"$f":"IF(SNPs!B1810<>\"\",MID(SNPs!B1810,FIND(\"[\",SNPs!B1810)+1,FIND(\"/\",SNPs!B1810)-FIND(\"[\",SNPs!B1810)-1),\"\")","v":""},{"$f":"IF(SNPs!B1810<>\"\",MID(SNPs!B1810,FIND(\"[\",SNPs!B1810)+3,FIND(\"/\",SNPs!B1810)-FIND(\"/\",SNPs!B1810)+1),\"\")","v":""},{"$f":"IF(SNPs!B1810<>\"\",SNPs!B1810,\"\")","v":""}]
[{"$f":"IF(SNPs!A1811<>\"\",SNPs!A1811,\"\")","v":""},{"$f":"IF(SNPs!B1811<>\"\",MID(SNPs!B1811,FIND(\"[\",SNPs!B1811)+1,FIND(\"/\",SNPs!B1811)-FIND(\"[\",SNPs!B1811)-1),\"\")","v":""},{"$f":"IF(SNPs!B1811<>\"\",MID(SNPs!B1811,FIND(\"[\",SNPs!B1811)+3,FIND(\"/\",SNPs!B1811)-FIND(\"/\",SNPs!B1811)+1),\"\")","v":""},{"$f":"IF(SNPs!B1811<>\"\",SNPs!B1811,\"\")","v":""}]
[{"$f":"IF(SNPs!A1812<>\"\",SNPs!A1812,\"\")","v":""},{"$f":"IF(SNPs!B1812<>\"\",MID(SNPs!B1812,FIND(\"[\",SNPs!B1812)+1,FIND(\"/\",SNPs!B1812)-FIND(\"[\",SNPs!B1812)-1),\"\")","v":""},{"$f":"IF(SNPs!B1812<>\"\",MID(SNPs!B1812,FIND(\"[\",SNPs!B1812)+3,FIND(\"/\",SNPs!B1812)-FIND(\"/\",SNPs!B1812)+1),\"\")","v":""},{"$f":"IF(SNPs!B1812<>\"\",SNPs!B1812,\"\")","v":""}]
[{"$f":"IF(SNPs!A1813<>\"\",SNPs!A1813,\"\")","v":""},{"$f":"IF(SNPs!B1813<>\"\",MID(SNPs!B1813,FIND(\"[\",SNPs!B1813)+1,FIND(\"/\",SNPs!B1813)-FIND(\"[\",SNPs!B1813)-1),\"\")","v":""},{"$f":"IF(SNPs!B1813<>\"\",MID(SNPs!B1813,FIND(\"[\",SNPs!B1813)+3,FIND(\"/\",SNPs!B1813)-FIND(\"/\",SNPs!B1813)+1),\"\")","v":""},{"$f":"IF(SNPs!B1813<>\"\",SNPs!B1813,\"\")","v":""}]
[{"$f":"IF(SNPs!A1814<>\"\",SNPs!A1814,\"\")","v":""},{"$f":"IF(SNPs!B1814<>\"\",MID(SNPs!B1814,FIND(\"[\",SNPs!B1814)+1,FIND(\"/\",SNPs!B1814)-FIND(\"[\",SNPs!B1814)-1),\"\")","v":""},{"$f":"IF(SNPs!B1814<>\"\",MID(SNPs!B1814,FIND(\"[\",SNPs!B1814)+3,FIND(\"/\",SNPs!B1814)-FIND(\"/\",SNPs!B1814)+1),\"\")","v":""},{"$f":"IF(SNPs!B1814<>\"\",SNPs!B1814,\"\")","v":""}]
[{"$f":"IF(SNPs!A1815<>\"\",SNPs!A1815,\"\")","v":""},{"$f":"IF(SNPs!B1815<>\"\",MID(SNPs!B1815,FIND(\"[\",SNPs!B1815)+1,FIND(\"/\",SNPs!B1815)-FIND(\"[\",SNPs!B1815)-1),\"\")","v":""},{"$f":"IF(SNPs!B1815<>\"\",MID(SNPs!B1815,FIND(\"[\",SNPs!B1815)+3,FIND(\"/\",SNPs!B1815)-FIND(\"/\",SNPs!B1815)+1),\"\")","v":""},{"$f":"IF(SNPs!B1815<>\"\",SNPs!B1815,\"\")","v":""}]
[{"$f":"IF(SNPs!A1816<>\"\",SNPs!A1816,\"\")","v":""},{"$f":"IF(SNPs!B1816<>\"\",MID(SNPs!B1816,FIND(\"[\",SNPs!B1816)+1,FIND(\"/\",SNPs!B1816)-FIND(\"[\",SNPs!B1816)-1),\"\")","v":""},{"$f":"IF(SNPs!B1816<>\"\",MID(SNPs!B1816,FIND(\"[\",SNPs!B1816)+3,FIND(\"/\",SNPs!B1816)-FIND(\"/\",SNPs!B1816)+1),\"\")","v":""},{"$f":"IF(SNPs!B1816<>\"\",SNPs!B1816,\"\")","v":""}]
[{"$f":"IF(SNPs!A1817<>\"\",SNPs!A1817,\"\")","v":""},{"$f":"IF(SNPs!B1817<>\"\",MID(SNPs!B1817,FIND(\"[\",SNPs!B1817)+1,FIND(\"/\",SNPs!B1817)-FIND(\"[\",SNPs!B1817)-1),\"\")","v":""},{"$f":"IF(SNPs!B1817<>\"\",MID(SNPs!B1817,FIND(\"[\",SNPs!B1817)+3,FIND(\"/\",SNPs!B1817)-FIND(\"/\",SNPs!B1817)+1),\"\")","v":""},{"$f":"IF(SNPs!B1817<>\"\",SNPs!B1817,\"\")","v":""}]
[{"$f":"IF(SNPs!A1818<>\"\",SNPs!A1818,\"\")","v":""},{"$f":"IF(SNPs!B1818<>\"\",MID(SNPs!B1818,FIND(\"[\",SNPs!B1818)+1,FIND(\"/\",SNPs!B1818)-FIND(\"[\",SNPs!B1818)-1),\"\")","v":""},{"$f":"IF(SNPs!B1818<>\"\",MID(SNPs!B1818,FIND(\"[\",SNPs!B1818)+3,FIND(\"/\",SNPs!B1818)-FIND(\"/\",SNPs!B1818)+1),\"\")","v":""},{"$f":"IF(SNPs!B1818<>\"\",SNPs!B1818,\"\")","v":""}]
[{"$f":"IF(SNPs!A1819<>\"\",SNPs!A1819,\"\")","v":""},{"$f":"IF(SNPs!B1819<>\"\",MID(SNPs!B1819,FIND(\"[\",SNPs!B1819)+1,FIND(\"/\",SNPs!B1819)-FIND(\"[\",SNPs!B1819)-1),\"\")","v":""},{"$f":"IF(SNPs!B1819<>\"\",MID(SNPs!B1819,FIND(\"[\",SNPs!B1819)+3,FIND(\"/\",SNPs!B1819)-FIND(\"/\",SNPs!B1819)+1),\"\")","v":""},{"$f":"IF(SNPs!B1819<>\"\",SNPs!B1819,\"\")","v":""}]
[{"$f":"IF(SNPs!A1820<>\"\",SNPs!A1820,\"\")","v":""},{"$f":"IF(SNPs!B1820<>\"\",MID(SNPs!B1820,FIND(\"[\",SNPs!B1820)+1,FIND(\"/\",SNPs!B1820)-FIND(\"[\",SNPs!B1820)-1),\"\")","v":""},{"$f":"IF(SNPs!B1820<>\"\",MID(SNPs!B1820,FIND(\"[\",SNPs!B1820)+3,FIND(\"/\",SNPs!B1820)-FIND(\"/\",SNPs!B1820)+1),\"\")","v":""},{"$f":"IF(SNPs!B1820<>\"\",SNPs!B1820,\"\")","v":""}]
[{"$f":"IF(SNPs!A1821<>\"\",SNPs!A1821,\"\")","v":""},{"$f":"IF(SNPs!B1821<>\"\",MID(SNPs!B1821,FIND(\"[\",SNPs!B1821)+1,FIND(\"/\",SNPs!B1821)-FIND(\"[\",SNPs!B1821)-1),\"\")","v":""},{"$f":"IF(SNPs!B1821<>\"\",MID(SNPs!B1821,FIND(\"[\",SNPs!B1821)+3,FIND(\"/\",SNPs!B1821)-FIND(\"/\",SNPs!B1821)+1),\"\")","v":""},{"$f":"IF(SNPs!B1821<>\"\",SNPs!B1821,\"\")","v":""}]
[{"$f":"IF(SNPs!A1822<>\"\",SNPs!A1822,\"\")","v":""},{"$f":"IF(SNPs!B1822<>\"\",MID(SNPs!B1822,FIND(\"[\",SNPs!B1822)+1,FIND(\"/\",SNPs!B1822)-FIND(\"[\",SNPs!B1822)-1),\"\")","v":""},{"$f":"IF(SNPs!B1822<>\"\",MID(SNPs!B1822,FIND(\"[\",SNPs!B1822)+3,FIND(\"/\",SNPs!B1822)-FIND(\"/\",SNPs!B1822)+1),\"\")","v":""},{"$f":"IF(SNPs!B1822<>\"\",SNPs!B1822,\"\")","v":""}]
[{"$f":"IF(SNPs!A1823<>\"\",SNPs!A1823,\"\")","v":""},{"$f":"IF(SNPs!B1823<>\"\",MID(SNPs!B1823,FIND(\"[\",SNPs!B1823)+1,FIND(\"/\",SNPs!B1823)-FIND(\"[\",SNPs!B1823)-1),\"\")","v":""},{"$f":"IF(SNPs!B1823<>\"\",MID(SNPs!B1823,FIND(\"[\",SNPs!B1823)+3,FIND(\"/\",SNPs!B1823)-FIND(\"/\",SNPs!B1823)+1),\"\")","v":""},{"$f":"IF(SNPs!B1823<>\"\",SNPs!B1823,\"\")","v":""}]
[{"$f":"IF(SNPs!A1824<>\"\",SNPs!A1824,\"\")","v":""},{"$f":"IF(SNPs!B1824<>\"\",MID(SNPs!B1824,FIND(\"[\",SNPs!B1824)+1,FIND(\"/\",SNPs!B1824)-FIND(\"[\",SNPs!B1824)-1),\"\")","v":""},{"$f":"IF(SNPs!B1824<>\"\",MID(SNPs!B1824,FIND(\"[\",SNPs!B1824)+3,FIND(\"/\",SNPs!B1824)-FIND(\"/\",SNPs!B1824)+1),\"\")","v":""},{"$f":"IF(SNPs!B1824<>\"\",SNPs!B1824,\"\")","v":""}]
[{"$f":"IF(SNPs!A1825<>\"\",SNPs!A1825,\"\")","v":""},{"$f":"IF(SNPs!B1825<>\"\",MID(SNPs!B1825,FIND(\"[\",SNPs!B1825)+1,FIND(\"/\",SNPs!B1825)-FIND(\"[\",SNPs!B1825)-1),\"\")","v":""},{"$f":"IF(SNPs!B1825<>\"\",MID(SNPs!B1825,FIND(\"[\",SNPs!B1825)+3,FIND(\"/\",SNPs!B1825)-FIND(\"/\",SNPs!B1825)+1),\"\")","v":""},{"$f":"IF(SNPs!B1825<>\"\",SNPs!B1825,\"\")","v":""}]
[{"$f":"IF(SNPs!A1826<>\"\",SNPs!A1826,\"\")","v":""},{"$f":"IF(SNPs!B1826<>\"\",MID(SNPs!B1826,FIND(\"[\",SNPs!B1826)+1,FIND(\"/\",SNPs!B1826)-FIND(\"[\",SNPs!B1826)-1),\"\")","v":""},{"$f":"IF(SNPs!B1826<>\"\",MID(SNPs!B1826,FIND(\"[\",SNPs!B1826)+3,FIND(\"/\",SNPs!B1826)-FIND(\"/\",SNPs!B1826)+1),\"\")","v":""},{"$f":"IF(SNPs!B1826<>\"\",SNPs!B1826,\"\")","v":""}]
[{"$f":"IF(SNPs!A1827<>\"\",SNPs!A1827,\"\")","v":""},{"$f":"IF(SNPs!B1827<>\"\",MID(SNPs!B1827,FIND(\"[\",SNPs!B1827)+1,FIND(\"/\",SNPs!B1827)-FIND(\"[\",SNPs!B1827)-1),\"\")","v":""},{"$f":"IF(SNPs!B1827<>\"\",MID(SNPs!B1827,FIND(\"[\",SNPs!B1827)+3,FIND(\"/\",SNPs!B1827)-FIND(\"/\",SNPs!B1827)+1),\"\")","v":""},{"$f":"IF(SNPs!B1827<>\"\",SNPs!B1827,\"\")","v":""}]
[{"$f":"IF(SNPs!A1828<>\"\",SNPs!A1828,\"\")","v":""},{"$f":"IF(SNPs!B1828<>\"\",MID(SNPs!B1828,FIND(\"[\",SNPs!B1828)+1,FIND(\"/\",SNPs!B1828)-FIND(\"[\",SNPs!B1828)-1),\"\")","v":""},{"$f":"IF(SNPs!B1828<>\"\",MID(SNPs!B1828,FIND(\"[\",SNPs!B1828)+3,FIND(\"/\",SNPs!B1828)-FIND(\"/\",SNPs!B1828)+1),\"\")","v":""},{"$f":"IF(SNPs!B1828<>\"\",SNPs!B1828,\"\")","v":""}]
[{"$f":"IF(SNPs!A1829<>\"\",SNPs!A1829,\"\")","v":""},{"$f":"IF(SNPs!B1829<>\"\",MID(SNPs!B1829,FIND(\"[\",SNPs!B1829)+1,FIND(\"/\",SNPs!B1829)-FIND(\"[\",SNPs!B1829)-1),\"\")","v":""},{"$f":"IF(SNPs!B1829<>\"\",MID(SNPs!B1829,FIND(\"[\",SNPs!B1829)+3,FIND(\"/\",SNPs!B1829)-FIND(\"/\",SNPs!B1829)+1),\"\")","v":""},{"$f":"IF(SNPs!B1829<>\"\",SNPs!B1829,\"\")","v":""}]
[{"$f":"IF(SNPs!A1830<>\"\",SNPs!A1830,\"\")","v":""},{"$f":"IF(SNPs!B1830<>\"\",MID(SNPs!B1830,FIND(\"[\",SNPs!B1830)+1,FIND(\"/\",SNPs!B1830)-FIND(\"[\",SNPs!B1830)-1),\"\")","v":""},{"$f":"IF(SNPs!B1830<>\"\",MID(SNPs!B1830,FIND(\"[\",SNPs!B1830)+3,FIND(\"/\",SNPs!B1830)-FIND(\"/\",SNPs!B1830)+1),\"\")","v":""},{"$f":"IF(SNPs!B1830<>\"\",SNPs!B1830,\"\")","v":""}]
[{"$f":"IF(SNPs!A1831<>\"\",SNPs!A1831,\"\")","v":""},{"$f":"IF(SNPs!B1831<>\"\",MID(SNPs!B1831,FIND(\"[\",SNPs!B1831)+1,FIND(\"/\",SNPs!B1831)-FIND(\"[\",SNPs!B1831)-1),\"\")","v":""},{"$f":"IF(SNPs!B1831<>\"\",MID(SNPs!B1831,FIND(\"[\",SNPs!B1831)+3,FIND(\"/\",SNPs!B1831)-FIND(\"/\",SNPs!B1831)+1),\"\")","v":""},{"$f":"IF(SNPs!B1831<>\"\",SNPs!B1831,\"\")","v":""}]
[{"$f":"IF(SNPs!A1832<>\"\",SNPs!A1832,\"\")","v":""},{"$f":"IF(SNPs!B1832<>\"\",MID(SNPs!B1832,FIND(\"[\",SNPs!B1832)+1,FIND(\"/\",SNPs!B1832)-FIND(\"[\",SNPs!B1832)-1),\"\")","v":""},{"$f":"IF(SNPs!B1832<>\"\",MID(SNPs!B1832,FIND(\"[\",SNPs!B1832)+3,FIND(\"/\",SNPs!B1832)-FIND(\"/\",SNPs!B1832)+1),\"\")","v":""},{"$f":"IF(SNPs!B1832<>\"\",SNPs!B1832,\"\")","v":""}]
[{"$f":"IF(SNPs!A1833<>\"\",SNPs!A1833,\"\")","v":""},{"$f":"IF(SNPs!B1833<>\"\",MID(SNPs!B1833,FIND(\"[\",SNPs!B1833)+1,FIND(\"/\",SNPs!B1833)-FIND(\"[\",SNPs!B1833)-1),\"\")","v":""},{"$f":"IF(SNPs!B1833<>\"\",MID(SNPs!B1833,FIND(\"[\",SNPs!B1833)+3,FIND(\"/\",SNPs!B1833)-FIND(\"/\",SNPs!B1833)+1),\"\")","v":""},{"$f":"IF(SNPs!B1833<>\"\",SNPs!B1833,\"\")","v":""}]
[{"$f":"IF(SNPs!A1834<>\"\",SNPs!A1834,\"\")","v":""},{"$f":"IF(SNPs!B1834<>\"\",MID(SNPs!B1834,FIND(\"[\",SNPs!B1834)+1,FIND(\"/\",SNPs!B1834)-FIND(\"[\",SNPs!B1834)-1),\"\")","v":""},{"$f":"IF(SNPs!B1834<>\"\",MID(SNPs!B1834,FIND(\"[\",SNPs!B1834)+3,FIND(\"/\",SNPs!B1834)-FIND(\"/\",SNPs!B1834)+1),\"\")","v":""},{"$f":"IF(SNPs!B1834<>\"\",SNPs!B1834,\"\")","v":""}]
[{"$f":"IF(SNPs!A1835<>\"\",SNPs!A1835,\"\")","v":""},{"$f":"IF(SNPs!B1835<>\"\",MID(SNPs!B1835,FIND(\"[\",SNPs!B1835)+1,FIND(\"/\",SNPs!B1835)-FIND(\"[\",SNPs!B1835)-1),\"\")","v":""},{"$f":"IF(SNPs!B1835<>\"\",MID(SNPs!B1835,FIND(\"[\",SNPs!B1835)+3,FIND(\"/\",SNPs!B1835)-FIND(\"/\",SNPs!B1835)+1),\"\")","v":""},{"$f":"IF(SNPs!B1835<>\"\",SNPs!B1835,\"\")","v":""}]
[{"$f":"IF(SNPs!A1836<>\"\",SNPs!A1836,\"\")","v":""},{"$f":"IF(SNPs!B1836<>\"\",MID(SNPs!B1836,FIND(\"[\",SNPs!B1836)+1,FIND(\"/\",SNPs!B1836)-FIND(\"[\",SNPs!B1836)-1),\"\")","v":""},{"$f":"IF(SNPs!B1836<>\"\",MID(SNPs!B1836,FIND(\"[\",SNPs!B1836)+3,FIND(\"/\",SNPs!B1836)-FIND(\"/\",SNPs!B1836)+1),\"\")","v":""},{"$f":"IF(SNPs!B1836<>\"\",SNPs!B1836,\"\")","v":""}]
[{"$f":"IF(SNPs!A1837<>\"\",SNPs!A1837,\"\")","v":""},{"$f":"IF(SNPs!B1837<>\"\",MID(SNPs!B1837,FIND(\"[\",SNPs!B1837)+1,FIND(\"/\",SNPs!B1837)-FIND(\"[\",SNPs!B1837)-1),\"\")","v":""},{"$f":"IF(SNPs!B1837<>\"\",MID(SNPs!B1837,FIND(\"[\",SNPs!B1837)+3,FIND(\"/\",SNPs!B1837)-FIND(\"/\",SNPs!B1837)+1),\"\")","v":""},{"$f":"IF(SNPs!B1837<>\"\",SNPs!B1837,\"\")","v":""}]
[{"$f":"IF(SNPs!A1838<>\"\",SNPs!A1838,\"\")","v":""},{"$f":"IF(SNPs!B1838<>\"\",MID(SNPs!B1838,FIND(\"[\",SNPs!B1838)+1,FIND(\"/\",SNPs!B1838)-FIND(\"[\",SNPs!B1838)-1),\"\")","v":""},{"$f":"IF(SNPs!B1838<>\"\",MID(SNPs!B1838,FIND(\"[\",SNPs!B1838)+3,FIND(\"/\",SNPs!B1838)-FIND(\"/\",SNPs!B1838)+1),\"\")","v":""},{"$f":"IF(SNPs!B1838<>\"\",SNPs!B1838,\"\")","v":""}]
[{"$f":"IF(SNPs!A1839<>\"\",SNPs!A1839,\"\")","v":""},{"$f":"IF(SNPs!B1839<>\"\",MID(SNPs!B1839,FIND(\"[\",SNPs!B1839)+1,FIND(\"/\",SNPs!B1839)-FIND(\"[\",SNPs!B1839)-1),\"\")","v":""},{"$f":"IF(SNPs!B1839<>\"\",MID(SNPs!B1839,FIND(\"[\",SNPs!B1839)+3,FIND(\"/\",SNPs!B1839)-FIND(\"/\",SNPs!B1839)+1),\"\")","v":""},{"$f":"IF(SNPs!B1839<>\"\",SNPs!B1839,\"\")","v":""}]
[{"$f":"IF(SNPs!A1840<>\"\",SNPs!A1840,\"\")","v":""},{"$f":"IF(SNPs!B1840<>\"\",MID(SNPs!B1840,FIND(\"[\",SNPs!B1840)+1,FIND(\"/\",SNPs!B1840)-FIND(\"[\",SNPs!B1840)-1),\"\")","v":""},{"$f":"IF(SNPs!B1840<>\"\",MID(SNPs!B1840,FIND(\"[\",SNPs!B1840)+3,FIND(\"/\",SNPs!B1840)-FIND(\"/\",SNPs!B1840)+1),\"\")","v":""},{"$f":"IF(SNPs!B1840<>\"\",SNPs!B1840,\"\")","v":""}]
[{"$f":"IF(SNPs!A1841<>\"\",SNPs!A1841,\"\")","v":""},{"$f":"IF(SNPs!B1841<>\"\",MID(SNPs!B1841,FIND(\"[\",SNPs!B1841)+1,FIND(\"/\",SNPs!B1841)-FIND(\"[\",SNPs!B1841)-1),\"\")","v":""},{"$f":"IF(SNPs!B1841<>\"\",MID(SNPs!B1841,FIND(\"[\",SNPs!B1841)+3,FIND(\"/\",SNPs!B1841)-FIND(\"/\",SNPs!B1841)+1),\"\")","v":""},{"$f":"IF(SNPs!B1841<>\"\",SNPs!B1841,\"\")","v":""}]
[{"$f":"IF(SNPs!A1842<>\"\",SNPs!A1842,\"\")","v":""},{"$f":"IF(SNPs!B1842<>\"\",MID(SNPs!B1842,FIND(\"[\",SNPs!B1842)+1,FIND(\"/\",SNPs!B1842)-FIND(\"[\",SNPs!B1842)-1),\"\")","v":""},{"$f":"IF(SNPs!B1842<>\"\",MID(SNPs!B1842,FIND(\"[\",SNPs!B1842)+3,FIND(\"/\",SNPs!B1842)-FIND(\"/\",SNPs!B1842)+1),\"\")","v":""},{"$f":"IF(SNPs!B1842<>\"\",SNPs!B1842,\"\")","v":""}]
[{"$f":"IF(SNPs!A1843<>\"\",SNPs!A1843,\"\")","v":""},{"$f":"IF(SNPs!B1843<>\"\",MID(SNPs!B1843,FIND(\"[\",SNPs!B1843)+1,FIND(\"/\",SNPs!B1843)-FIND(\"[\",SNPs!B1843)-1),\"\")","v":""},{"$f":"IF(SNPs!B1843<>\"\",MID(SNPs!B1843,FIND(\"[\",SNPs!B1843)+3,FIND(\"/\",SNPs!B1843)-FIND(\"/\",SNPs!B1843)+1),\"\")","v":""},{"$f":"IF(SNPs!B1843<>\"\",SNPs!B1843,\"\")","v":""}]
[{"$f":"IF(SNPs!A1844<>\"\",SNPs!A1844,\"\")","v":""},{"$f":"IF(SNPs!B1844<>\"\",MID(SNPs!B1844,FIND(\"[\",SNPs!B1844)+1,FIND(\"/\",SNPs!B1844)-FIND(\"[\",SNPs!B1844)-1),\"\")","v":""},{"$f":"IF(SNPs!B1844<>\"\",MID(SNPs!B1844,FIND(\"[\",SNPs!B1844)+3,FIND(\"/\",SNPs!B1844)-FIND(\"/\",SNPs!B1844)+1),\"\")","v":""},{"$f":"IF(SNPs!B1844<>\"\",SNPs!B1844,\"\")","v":""}]
[{"$f":"IF(SNPs!A1845<>\"\",SNPs!A1845,\"\")","v":""},{"$f":"IF(SNPs!B1845<>\"\",MID(SNPs!B1845,FIND(\"[\",SNPs!B1845)+1,FIND(\"/\",SNPs!B1845)-FIND(\"[\",SNPs!B1845)-1),\"\")","v":""},{"$f":"IF(SNPs!B1845<>\"\",MID(SNPs!B1845,FIND(\"[\",SNPs!B1845)+3,FIND(\"/\",SNPs!B1845)-FIND(\"/\",SNPs!B1845)+1),\"\")","v":""},{"$f":"IF(SNPs!B1845<>\"\",SNPs!B1845,\"\")","v":""}]
[{"$f":"IF(SNPs!A1846<>\"\",SNPs!A1846,\"\")","v":""},{"$f":"IF(SNPs!B1846<>\"\",MID(SNPs!B1846,FIND(\"[\",SNPs!B1846)+1,FIND(\"/\",SNPs!B1846)-FIND(\"[\",SNPs!B1846)-1),\"\")","v":""},{"$f":"IF(SNPs!B1846<>\"\",MID(SNPs!B1846,FIND(\"[\",SNPs!B1846)+3,FIND(\"/\",SNPs!B1846)-FIND(\"/\",SNPs!B1846)+1),\"\")","v":""},{"$f":"IF(SNPs!B1846<>\"\",SNPs!B1846,\"\")","v":""}]
[{"$f":"IF(SNPs!A1847<>\"\",SNPs!A1847,\"\")","v":""},{"$f":"IF(SNPs!B1847<>\"\",MID(SNPs!B1847,FIND(\"[\",SNPs!B1847)+1,FIND(\"/\",SNPs!B1847)-FIND(\"[\",SNPs!B1847)-1),\"\")","v":""},{"$f":"IF(SNPs!B1847<>\"\",MID(SNPs!B1847,FIND(\"[\",SNPs!B1847)+3,FIND(\"/\",SNPs!B1847)-FIND(\"/\",SNPs!B1847)+1),\"\")","v":""},{"$f":"IF(SNPs!B1847<>\"\",SNPs!B1847,\"\")","v":""}]
[{"$f":"IF(SNPs!A1848<>\"\",SNPs!A1848,\"\")","v":""},{"$f":"IF(SNPs!B1848<>\"\",MID(SNPs!B1848,FIND(\"[\",SNPs!B1848)+1,FIND(\"/\",SNPs!B1848)-FIND(\"[\",SNPs!B1848)-1),\"\")","v":""},{"$f":"IF(SNPs!B1848<>\"\",MID(SNPs!B1848,FIND(\"[\",SNPs!B1848)+3,FIND(\"/\",SNPs!B1848)-FIND(\"/\",SNPs!B1848)+1),\"\")","v":""},{"$f":"IF(SNPs!B1848<>\"\",SNPs!B1848,\"\")","v":""}]
[{"$f":"IF(SNPs!A1849<>\"\",SNPs!A1849,\"\")","v":""},{"$f":"IF(SNPs!B1849<>\"\",MID(SNPs!B1849,FIND(\"[\",SNPs!B1849)+1,FIND(\"/\",SNPs!B1849)-FIND(\"[\",SNPs!B1849)-1),\"\")","v":""},{"$f":"IF(SNPs!B1849<>\"\",MID(SNPs!B1849,FIND(\"[\",SNPs!B1849)+3,FIND(\"/\",SNPs!B1849)-FIND(\"/\",SNPs!B1849)+1),\"\")","v":""},{"$f":"IF(SNPs!B1849<>\"\",SNPs!B1849,\"\")","v":""}]
[{"$f":"IF(SNPs!A1850<>\"\",SNPs!A1850,\"\")","v":""},{"$f":"IF(SNPs!B1850<>\"\",MID(SNPs!B1850,FIND(\"[\",SNPs!B1850)+1,FIND(\"/\",SNPs!B1850)-FIND(\"[\",SNPs!B1850)-1),\"\")","v":""},{"$f":"IF(SNPs!B1850<>\"\",MID(SNPs!B1850,FIND(\"[\",SNPs!B1850)+3,FIND(\"/\",SNPs!B1850)-FIND(\"/\",SNPs!B1850)+1),\"\")","v":""},{"$f":"IF(SNPs!B1850<>\"\",SNPs!B1850,\"\")","v":""}]
[{"$f":"IF(SNPs!A1851<>\"\",SNPs!A1851,\"\")","v":""},{"$f":"IF(SNPs!B1851<>\"\",MID(SNPs!B1851,FIND(\"[\",SNPs!B1851)+1,FIND(\"/\",SNPs!B1851)-FIND(\"[\",SNPs!B1851)-1),\"\")","v":""},{"$f":"IF(SNPs!B1851<>\"\",MID(SNPs!B1851,FIND(\"[\",SNPs!B1851)+3,FIND(\"/\",SNPs!B1851)-FIND(\"/\",SNPs!B1851)+1),\"\")","v":""},{"$f":"IF(SNPs!B1851<>\"\",SNPs!B1851,\"\")","v":""}]
[{"$f":"IF(SNPs!A1852<>\"\",SNPs!A1852,\"\")","v":""},{"$f":"IF(SNPs!B1852<>\"\",MID(SNPs!B1852,FIND(\"[\",SNPs!B1852)+1,FIND(\"/\",SNPs!B1852)-FIND(\"[\",SNPs!B1852)-1),\"\")","v":""},{"$f":"IF(SNPs!B1852<>\"\",MID(SNPs!B1852,FIND(\"[\",SNPs!B1852)+3,FIND(\"/\",SNPs!B1852)-FIND(\"/\",SNPs!B1852)+1),\"\")","v":""},{"$f":"IF(SNPs!B1852<>\"\",SNPs!B1852,\"\")","v":""}]
[{"$f":"IF(SNPs!A1853<>\"\",SNPs!A1853,\"\")","v":""},{"$f":"IF(SNPs!B1853<>\"\",MID(SNPs!B1853,FIND(\"[\",SNPs!B1853)+1,FIND(\"/\",SNPs!B1853)-FIND(\"[\",SNPs!B1853)-1),\"\")","v":""},{"$f":"IF(SNPs!B1853<>\"\",MID(SNPs!B1853,FIND(\"[\",SNPs!B1853)+3,FIND(\"/\",SNPs!B1853)-FIND(\"/\",SNPs!B1853)+1),\"\")","v":""},{"$f":"IF(SNPs!B1853<>\"\",SNPs!B1853,\"\")","v":""}]
[{"$f":"IF(SNPs!A1854<>\"\",SNPs!A1854,\"\")","v":""},{"$f":"IF(SNPs!B1854<>\"\",MID(SNPs!B1854,FIND(\"[\",SNPs!B1854)+1,FIND(\"/\",SNPs!B1854)-FIND(\"[\",SNPs!B1854)-1),\"\")","v":""},{"$f":"IF(SNPs!B1854<>\"\",MID(SNPs!B1854,FIND(\"[\",SNPs!B1854)+3,FIND(\"/\",SNPs!B1854)-FIND(\"/\",SNPs!B1854)+1),\"\")","v":""},{"$f":"IF(SNPs!B1854<>\"\",SNPs!B1854,\"\")","v":""}]
[{"$f":"IF(SNPs!A1855<>\"\",SNPs!A1855,\"\")","v":""},{"$f":"IF(SNPs!B1855<>\"\",MID(SNPs!B1855,FIND(\"[\",SNPs!B1855)+1,FIND(\"/\",SNPs!B1855)-FIND(\"[\",SNPs!B1855)-1),\"\")","v":""},{"$f":"IF(SNPs!B1855<>\"\",MID(SNPs!B1855,FIND(\"[\",SNPs!B1855)+3,FIND(\"/\",SNPs!B1855)-FIND(\"/\",SNPs!B1855)+1),\"\")","v":""},{"$f":"IF(SNPs!B1855<>\"\",SNPs!B1855,\"\")","v":""}]
[{"$f":"IF(SNPs!A1856<>\"\",SNPs!A1856,\"\")","v":""},{"$f":"IF(SNPs!B1856<>\"\",MID(SNPs!B1856,FIND(\"[\",SNPs!B1856)+1,FIND(\"/\",SNPs!B1856)-FIND(\"[\",SNPs!B1856)-1),\"\")","v":""},{"$f":"IF(SNPs!B1856<>\"\",MID(SNPs!B1856,FIND(\"[\",SNPs!B1856)+3,FIND(\"/\",SNPs!B1856)-FIND(\"/\",SNPs!B1856)+1),\"\")","v":""},{"$f":"IF(SNPs!B1856<>\"\",SNPs!B1856,\"\")","v":""}]
[{"$f":"IF(SNPs!A1857<>\"\",SNPs!A1857,\"\")","v":""},{"$f":"IF(SNPs!B1857<>\"\",MID(SNPs!B1857,FIND(\"[\",SNPs!B1857)+1,FIND(\"/\",SNPs!B1857)-FIND(\"[\",SNPs!B1857)-1),\"\")","v":""},{"$f":"IF(SNPs!B1857<>\"\",MID(SNPs!B1857,FIND(\"[\",SNPs!B1857)+3,FIND(\"/\",SNPs!B1857)-FIND(\"/\",SNPs!B1857)+1),\"\")","v":""},{"$f":"IF(SNPs!B1857<>\"\",SNPs!B1857,\"\")","v":""}]
[{"$f":"IF(SNPs!A1858<>\"\",SNPs!A1858,\"\")","v":""},{"$f":"IF(SNPs!B1858<>\"\",MID(SNPs!B1858,FIND(\"[\",SNPs!B1858)+1,FIND(\"/\",SNPs!B1858)-FIND(\"[\",SNPs!B1858)-1),\"\")","v":""},{"$f":"IF(SNPs!B1858<>\"\",MID(SNPs!B1858,FIND(\"[\",SNPs!B1858)+3,FIND(\"/\",SNPs!B1858)-FIND(\"/\",SNPs!B1858)+1),\"\")","v":""},{"$f":"IF(SNPs!B1858<>\"\",SNPs!B1858,\"\")","v":""}]
[{"$f":"IF(SNPs!A1859<>\"\",SNPs!A1859,\"\")","v":""},{"$f":"IF(SNPs!B1859<>\"\",MID(SNPs!B1859,FIND(\"[\",SNPs!B1859)+1,FIND(\"/\",SNPs!B1859)-FIND(\"[\",SNPs!B1859)-1),\"\")","v":""},{"$f":"IF(SNPs!B1859<>\"\",MID(SNPs!B1859,FIND(\"[\",SNPs!B1859)+3,FIND(\"/\",SNPs!B1859)-FIND(\"/\",SNPs!B1859)+1),\"\")","v":""},{"$f":"IF(SNPs!B1859<>\"\",SNPs!B1859,\"\")","v":""}]
[{"$f":"IF(SNPs!A1860<>\"\",SNPs!A1860,\"\")","v":""},{"$f":"IF(SNPs!B1860<>\"\",MID(SNPs!B1860,FIND(\"[\",SNPs!B1860)+1,FIND(\"/\",SNPs!B1860)-FIND(\"[\",SNPs!B1860)-1),\"\")","v":""},{"$f":"IF(SNPs!B1860<>\"\",MID(SNPs!B1860,FIND(\"[\",SNPs!B1860)+3,FIND(\"/\",SNPs!B1860)-FIND(\"/\",SNPs!B1860)+1),\"\")","v":""},{"$f":"IF(SNPs!B1860<>\"\",SNPs!B1860,\"\")","v":""}]
[{"$f":"IF(SNPs!A1861<>\"\",SNPs!A1861,\"\")","v":""},{"$f":"IF(SNPs!B1861<>\"\",MID(SNPs!B1861,FIND(\"[\",SNPs!B1861)+1,FIND(\"/\",SNPs!B1861)-FIND(\"[\",SNPs!B1861)-1),\"\")","v":""},{"$f":"IF(SNPs!B1861<>\"\",MID(SNPs!B1861,FIND(\"[\",SNPs!B1861)+3,FIND(\"/\",SNPs!B1861)-FIND(\"/\",SNPs!B1861)+1),\"\")","v":""},{"$f":"IF(SNPs!B1861<>\"\",SNPs!B1861,\"\")","v":""}]
[{"$f":"IF(SNPs!A1862<>\"\",SNPs!A1862,\"\")","v":""},{"$f":"IF(SNPs!B1862<>\"\",MID(SNPs!B1862,FIND(\"[\",SNPs!B1862)+1,FIND(\"/\",SNPs!B1862)-FIND(\"[\",SNPs!B1862)-1),\"\")","v":""},{"$f":"IF(SNPs!B1862<>\"\",MID(SNPs!B1862,FIND(\"[\",SNPs!B1862)+3,FIND(\"/\",SNPs!B1862)-FIND(\"/\",SNPs!B1862)+1),\"\")","v":""},{"$f":"IF(SNPs!B1862<>\"\",SNPs!B1862,\"\")","v":""}]
[{"$f":"IF(SNPs!A1863<>\"\",SNPs!A1863,\"\")","v":""},{"$f":"IF(SNPs!B1863<>\"\",MID(SNPs!B1863,FIND(\"[\",SNPs!B1863)+1,FIND(\"/\",SNPs!B1863)-FIND(\"[\",SNPs!B1863)-1),\"\")","v":""},{"$f":"IF(SNPs!B1863<>\"\",MID(SNPs!B1863,FIND(\"[\",SNPs!B1863)+3,FIND(\"/\",SNPs!B1863)-FIND(\"/\",SNPs!B1863)+1),\"\")","v":""},{"$f":"IF(SNPs!B1863<>\"\",SNPs!B1863,\"\")","v":""}]
[{"$f":"IF(SNPs!A1864<>\"\",SNPs!A1864,\"\")","v":""},{"$f":"IF(SNPs!B1864<>\"\",MID(SNPs!B1864,FIND(\"[\",SNPs!B1864)+1,FIND(\"/\",SNPs!B1864)-FIND(\"[\",SNPs!B1864)-1),\"\")","v":""},{"$f":"IF(SNPs!B1864<>\"\",MID(SNPs!B1864,FIND(\"[\",SNPs!B1864)+3,FIND(\"/\",SNPs!B1864)-FIND(\"/\",SNPs!B1864)+1),\"\")","v":""},{"$f":"IF(SNPs!B1864<>\"\",SNPs!B1864,\"\")","v":""}]
[{"$f":"IF(SNPs!A1865<>\"\",SNPs!A1865,\"\")","v":""},{"$f":"IF(SNPs!B1865<>\"\",MID(SNPs!B1865,FIND(\"[\",SNPs!B1865)+1,FIND(\"/\",SNPs!B1865)-FIND(\"[\",SNPs!B1865)-1),\"\")","v":""},{"$f":"IF(SNPs!B1865<>\"\",MID(SNPs!B1865,FIND(\"[\",SNPs!B1865)+3,FIND(\"/\",SNPs!B1865)-FIND(\"/\",SNPs!B1865)+1),\"\")","v":""},{"$f":"IF(SNPs!B1865<>\"\",SNPs!B1865,\"\")","v":""}]
[{"$f":"IF(SNPs!A1866<>\"\",SNPs!A1866,\"\")","v":""},{"$f":"IF(SNPs!B1866<>\"\",MID(SNPs!B1866,FIND(\"[\",SNPs!B1866)+1,FIND(\"/\",SNPs!B1866)-FIND(\"[\",SNPs!B1866)-1),\"\")","v":""},{"$f":"IF(SNPs!B1866<>\"\",MID(SNPs!B1866,FIND(\"[\",SNPs!B1866)+3,FIND(\"/\",SNPs!B1866)-FIND(\"/\",SNPs!B1866)+1),\"\")","v":""},{"$f":"IF(SNPs!B1866<>\"\",SNPs!B1866,\"\")","v":""}]
[{"$f":"IF(SNPs!A1867<>\"\",SNPs!A1867,\"\")","v":""},{"$f":"IF(SNPs!B1867<>\"\",MID(SNPs!B1867,FIND(\"[\",SNPs!B1867)+1,FIND(\"/\",SNPs!B1867)-FIND(\"[\",SNPs!B1867)-1),\"\")","v":""},{"$f":"IF(SNPs!B1867<>\"\",MID(SNPs!B1867,FIND(\"[\",SNPs!B1867)+3,FIND(\"/\",SNPs!B1867)-FIND(\"/\",SNPs!B1867)+1),\"\")","v":""},{"$f":"IF(SNPs!B1867<>\"\",SNPs!B1867,\"\")","v":""}]
[{"$f":"IF(SNPs!A1868<>\"\",SNPs!A1868,\"\")","v":""},{"$f":"IF(SNPs!B1868<>\"\",MID(SNPs!B1868,FIND(\"[\",SNPs!B1868)+1,FIND(\"/\",SNPs!B1868)-FIND(\"[\",SNPs!B1868)-1),\"\")","v":""},{"$f":"IF(SNPs!B1868<>\"\",MID(SNPs!B1868,FIND(\"[\",SNPs!B1868)+3,FIND(\"/\",SNPs!B1868)-FIND(\"/\",SNPs!B1868)+1),\"\")","v":""},{"$f":"IF(SNPs!B1868<>\"\",SNPs!B1868,\"\")","v":""}]
[{"$f":"IF(SNPs!A1869<>\"\",SNPs!A1869,\"\")","v":""},{"$f":"IF(SNPs!B1869<>\"\",MID(SNPs!B1869,FIND(\"[\",SNPs!B1869)+1,FIND(\"/\",SNPs!B1869)-FIND(\"[\",SNPs!B1869)-1),\"\")","v":""},{"$f":"IF(SNPs!B1869<>\"\",MID(SNPs!B1869,FIND(\"[\",SNPs!B1869)+3,FIND(\"/\",SNPs!B1869)-FIND(\"/\",SNPs!B1869)+1),\"\")","v":""},{"$f":"IF(SNPs!B1869<>\"\",SNPs!B1869,\"\")","v":""}]
[{"$f":"IF(SNPs!A1870<>\"\",SNPs!A1870,\"\")","v":""},{"$f":"IF(SNPs!B1870<>\"\",MID(SNPs!B1870,FIND(\"[\",SNPs!B1870)+1,FIND(\"/\",SNPs!B1870)-FIND(\"[\",SNPs!B1870)-1),\"\")","v":""},{"$f":"IF(SNPs!B1870<>\"\",MID(SNPs!B1870,FIND(\"[\",SNPs!B1870)+3,FIND(\"/\",SNPs!B1870)-FIND(\"/\",SNPs!B1870)+1),\"\")","v":""},{"$f":"IF(SNPs!B1870<>\"\",SNPs!B1870,\"\")","v":""}]
[{"$f":"IF(SNPs!A1871<>\"\",SNPs!A1871,\"\")","v":""},{"$f":"IF(SNPs!B1871<>\"\",MID(SNPs!B1871,FIND(\"[\",SNPs!B1871)+1,FIND(\"/\",SNPs!B1871)-FIND(\"[\",SNPs!B1871)-1),\"\")","v":""},{"$f":"IF(SNPs!B1871<>\"\",MID(SNPs!B1871,FIND(\"[\",SNPs!B1871)+3,FIND(\"/\",SNPs!B1871)-FIND(\"/\",SNPs!B1871)+1),\"\")","v":""},{"$f":"IF(SNPs!B1871<>\"\",SNPs!B1871,\"\")","v":""}]
[{"$f":"IF(SNPs!A1872<>\"\",SNPs!A1872,\"\")","v":""},{"$f":"IF(SNPs!B1872<>\"\",MID(SNPs!B1872,FIND(\"[\",SNPs!B1872)+1,FIND(\"/\",SNPs!B1872)-FIND(\"[\",SNPs!B1872)-1),\"\")","v":""},{"$f":"IF(SNPs!B1872<>\"\",MID(SNPs!B1872,FIND(\"[\",SNPs!B1872)+3,FIND(\"/\",SNPs!B1872)-FIND(\"/\",SNPs!B1872)+1),\"\")","v":""},{"$f":"IF(SNPs!B1872<>\"\",SNPs!B1872,\"\")","v":""}]
[{"$f":"IF(SNPs!A1873<>\"\",SNPs!A1873,\"\")","v":""},{"$f":"IF(SNPs!B1873<>\"\",MID(SNPs!B1873,FIND(\"[\",SNPs!B1873)+1,FIND(\"/\",SNPs!B1873)-FIND(\"[\",SNPs!B1873)-1),\"\")","v":""},{"$f":"IF(SNPs!B1873<>\"\",MID(SNPs!B1873,FIND(\"[\",SNPs!B1873)+3,FIND(\"/\",SNPs!B1873)-FIND(\"/\",SNPs!B1873)+1),\"\")","v":""},{"$f":"IF(SNPs!B1873<>\"\",SNPs!B1873,\"\")","v":""}]
[{"$f":"IF(SNPs!A1874<>\"\",SNPs!A1874,\"\")","v":""},{"$f":"IF(SNPs!B1874<>\"\",MID(SNPs!B1874,FIND(\"[\",SNPs!B1874)+1,FIND(\"/\",SNPs!B1874)-FIND(\"[\",SNPs!B1874)-1),\"\")","v":""},{"$f":"IF(SNPs!B1874<>\"\",MID(SNPs!B1874,FIND(\"[\",SNPs!B1874)+3,FIND(\"/\",SNPs!B1874)-FIND(\"/\",SNPs!B1874)+1),\"\")","v":""},{"$f":"IF(SNPs!B1874<>\"\",SNPs!B1874,\"\")","v":""}]
[{"$f":"IF(SNPs!A1875<>\"\",SNPs!A1875,\"\")","v":""},{"$f":"IF(SNPs!B1875<>\"\",MID(SNPs!B1875,FIND(\"[\",SNPs!B1875)+1,FIND(\"/\",SNPs!B1875)-FIND(\"[\",SNPs!B1875)-1),\"\")","v":""},{"$f":"IF(SNPs!B1875<>\"\",MID(SNPs!B1875,FIND(\"[\",SNPs!B1875)+3,FIND(\"/\",SNPs!B1875)-FIND(\"/\",SNPs!B1875)+1),\"\")","v":""},{"$f":"IF(SNPs!B1875<>\"\",SNPs!B1875,\"\")","v":""}]
[{"$f":"IF(SNPs!A1876<>\"\",SNPs!A1876,\"\")","v":""},{"$f":"IF(SNPs!B1876<>\"\",MID(SNPs!B1876,FIND(\"[\",SNPs!B1876)+1,FIND(\"/\",SNPs!B1876)-FIND(\"[\",SNPs!B1876)-1),\"\")","v":""},{"$f":"IF(SNPs!B1876<>\"\",MID(SNPs!B1876,FIND(\"[\",SNPs!B1876)+3,FIND(\"/\",SNPs!B1876)-FIND(\"/\",SNPs!B1876)+1),\"\")","v":""},{"$f":"IF(SNPs!B1876<>\"\",SNPs!B1876,\"\")","v":""}]
[{"$f":"IF(SNPs!A1877<>\"\",SNPs!A1877,\"\")","v":""},{"$f":"IF(SNPs!B1877<>\"\",MID(SNPs!B1877,FIND(\"[\",SNPs!B1877)+1,FIND(\"/\",SNPs!B1877)-FIND(\"[\",SNPs!B1877)-1),\"\")","v":""},{"$f":"IF(SNPs!B1877<>\"\",MID(SNPs!B1877,FIND(\"[\",SNPs!B1877)+3,FIND(\"/\",SNPs!B1877)-FIND(\"/\",SNPs!B1877)+1),\"\")","v":""},{"$f":"IF(SNPs!B1877<>\"\",SNPs!B1877,\"\")","v":""}]
[{"$f":"IF(SNPs!A1878<>\"\",SNPs!A1878,\"\")","v":""},{"$f":"IF(SNPs!B1878<>\"\",MID(SNPs!B1878,FIND(\"[\",SNPs!B1878)+1,FIND(\"/\",SNPs!B1878)-FIND(\"[\",SNPs!B1878)-1),\"\")","v":""},{"$f":"IF(SNPs!B1878<>\"\",MID(SNPs!B1878,FIND(\"[\",SNPs!B1878)+3,FIND(\"/\",SNPs!B1878)-FIND(\"/\",SNPs!B1878)+1),\"\")","v":""},{"$f":"IF(SNPs!B1878<>\"\",SNPs!B1878,\"\")","v":""}]
[{"$f":"IF(SNPs!A1879<>\"\",SNPs!A1879,\"\")","v":""},{"$f":"IF(SNPs!B1879<>\"\",MID(SNPs!B1879,FIND(\"[\",SNPs!B1879)+1,FIND(\"/\",SNPs!B1879)-FIND(\"[\",SNPs!B1879)-1),\"\")","v":""},{"$f":"IF(SNPs!B1879<>\"\",MID(SNPs!B1879,FIND(\"[\",SNPs!B1879)+3,FIND(\"/\",SNPs!B1879)-FIND(\"/\",SNPs!B1879)+1),\"\")","v":""},{"$f":"IF(SNPs!B1879<>\"\",SNPs!B1879,\"\")","v":""}]
[{"$f":"IF(SNPs!A1880<>\"\",SNPs!A1880,\"\")","v":""},{"$f":"IF(SNPs!B1880<>\"\",MID(SNPs!B1880,FIND(\"[\",SNPs!B1880)+1,FIND(\"/\",SNPs!B1880)-FIND(\"[\",SNPs!B1880)-1),\"\")","v":""},{"$f":"IF(SNPs!B1880<>\"\",MID(SNPs!B1880,FIND(\"[\",SNPs!B1880)+3,FIND(\"/\",SNPs!B1880)-FIND(\"/\",SNPs!B1880)+1),\"\")","v":""},{"$f":"IF(SNPs!B1880<>\"\",SNPs!B1880,\"\")","v":""}]
[{"$f":"IF(SNPs!A1881<>\"\",SNPs!A1881,\"\")","v":""},{"$f":"IF(SNPs!B1881<>\"\",MID(SNPs!B1881,FIND(\"[\",SNPs!B1881)+1,FIND(\"/\",SNPs!B1881)-FIND(\"[\",SNPs!B1881)-1),\"\")","v":""},{"$f":"IF(SNPs!B1881<>\"\",MID(SNPs!B1881,FIND(\"[\",SNPs!B1881)+3,FIND(\"/\",SNPs!B1881)-FIND(\"/\",SNPs!B1881)+1),\"\")","v":""},{"$f":"IF(SNPs!B1881<>\"\",SNPs!B1881,\"\")","v":""}]
[{"$f":"IF(SNPs!A1882<>\"\",SNPs!A1882,\"\")","v":""},{"$f":"IF(SNPs!B1882<>\"\",MID(SNPs!B1882,FIND(\"[\",SNPs!B1882)+1,FIND(\"/\",SNPs!B1882)-FIND(\"[\",SNPs!B1882)-1),\"\")","v":""},{"$f":"IF(SNPs!B1882<>\"\",MID(SNPs!B1882,FIND(\"[\",SNPs!B1882)+3,FIND(\"/\",SNPs!B1882)-FIND(\"/\",SNPs!B1882)+1),\"\")","v":""},{"$f":"IF(SNPs!B1882<>\"\",SNPs!B1882,\"\")","v":""}]
[{"$f":"IF(SNPs!A1883<>\"\",SNPs!A1883,\"\")","v":""},{"$f":"IF(SNPs!B1883<>\"\",MID(SNPs!B1883,FIND(\"[\",SNPs!B1883)+1,FIND(\"/\",SNPs!B1883)-FIND(\"[\",SNPs!B1883)-1),\"\")","v":""},{"$f":"IF(SNPs!B1883<>\"\",MID(SNPs!B1883,FIND(\"[\",SNPs!B1883)+3,FIND(\"/\",SNPs!B1883)-FIND(\"/\",SNPs!B1883)+1),\"\")","v":""},{"$f":"IF(SNPs!B1883<>\"\",SNPs!B1883,\"\")","v":""}]
[{"$f":"IF(SNPs!A1884<>\"\",SNPs!A1884,\"\")","v":""},{"$f":"IF(SNPs!B1884<>\"\",MID(SNPs!B1884,FIND(\"[\",SNPs!B1884)+1,FIND(\"/\",SNPs!B1884)-FIND(\"[\",SNPs!B1884)-1),\"\")","v":""},{"$f":"IF(SNPs!B1884<>\"\",MID(SNPs!B1884,FIND(\"[\",SNPs!B1884)+3,FIND(\"/\",SNPs!B1884)-FIND(\"/\",SNPs!B1884)+1),\"\")","v":""},{"$f":"IF(SNPs!B1884<>\"\",SNPs!B1884,\"\")","v":""}]
[{"$f":"IF(SNPs!A1885<>\"\",SNPs!A1885,\"\")","v":""},{"$f":"IF(SNPs!B1885<>\"\",MID(SNPs!B1885,FIND(\"[\",SNPs!B1885)+1,FIND(\"/\",SNPs!B1885)-FIND(\"[\",SNPs!B1885)-1),\"\")","v":""},{"$f":"IF(SNPs!B1885<>\"\",MID(SNPs!B1885,FIND(\"[\",SNPs!B1885)+3,FIND(\"/\",SNPs!B1885)-FIND(\"/\",SNPs!B1885)+1),\"\")","v":""},{"$f":"IF(SNPs!B1885<>\"\",SNPs!B1885,\"\")","v":""}]
[{"$f":"IF(SNPs!A1886<>\"\",SNPs!A1886,\"\")","v":""},{"$f":"IF(SNPs!B1886<>\"\",MID(SNPs!B1886,FIND(\"[\",SNPs!B1886)+1,FIND(\"/\",SNPs!B1886)-FIND(\"[\",SNPs!B1886)-1),\"\")","v":""},{"$f":"IF(SNPs!B1886<>\"\",MID(SNPs!B1886,FIND(\"[\",SNPs!B1886)+3,FIND(\"/\",SNPs!B1886)-FIND(\"/\",SNPs!B1886)+1),\"\")","v":""},{"$f":"IF(SNPs!B1886<>\"\",SNPs!B1886,\"\")","v":""}]
[{"$f":"IF(SNPs!A1887<>\"\",SNPs!A1887,\"\")","v":""},{"$f":"IF(SNPs!B1887<>\"\",MID(SNPs!B1887,FIND(\"[\",SNPs!B1887)+1,FIND(\"/\",SNPs!B1887)-FIND(\"[\",SNPs!B1887)-1),\"\")","v":""},{"$f":"IF(SNPs!B1887<>\"\",MID(SNPs!B1887,FIND(\"[\",SNPs!B1887)+3,FIND(\"/\",SNPs!B1887)-FIND(\"/\",SNPs!B1887)+1),\"\")","v":""},{"$f":"IF(SNPs!B1887<>\"\",SNPs!B1887,\"\")","v":""}]
[{"$f":"IF(SNPs!A1888<>\"\",SNPs!A1888,\"\")","v":""},{"$f":"IF(SNPs!B1888<>\"\",MID(SNPs!B1888,FIND(\"[\",SNPs!B1888)+1,FIND(\"/\",SNPs!B1888)-FIND(\"[\",SNPs!B1888)-1),\"\")","v":""},{"$f":"IF(SNPs!B1888<>\"\",MID(SNPs!B1888,FIND(\"[\",SNPs!B1888)+3,FIND(\"/\",SNPs!B1888)-FIND(\"/\",SNPs!B1888)+1),\"\")","v":""},{"$f":"IF(SNPs!B1888<>\"\",SNPs!B1888,\"\")","v":""}]
[{"$f":"IF(SNPs!A1889<>\"\",SNPs!A1889,\"\")","v":""},{"$f":"IF(SNPs!B1889<>\"\",MID(SNPs!B1889,FIND(\"[\",SNPs!B1889)+1,FIND(\"/\",SNPs!B1889)-FIND(\"[\",SNPs!B1889)-1),\"\")","v":""},{"$f":"IF(SNPs!B1889<>\"\",MID(SNPs!B1889,FIND(\"[\",SNPs!B1889)+3,FIND(\"/\",SNPs!B1889)-FIND(\"/\",SNPs!B1889)+1),\"\")","v":""},{"$f":"IF(SNPs!B1889<>\"\",SNPs!B1889,\"\")","v":""}]
[{"$f":"IF(SNPs!A1890<>\"\",SNPs!A1890,\"\")","v":""},{"$f":"IF(SNPs!B1890<>\"\",MID(SNPs!B1890,FIND(\"[\",SNPs!B1890)+1,FIND(\"/\",SNPs!B1890)-FIND(\"[\",SNPs!B1890)-1),\"\")","v":""},{"$f":"IF(SNPs!B1890<>\"\",MID(SNPs!B1890,FIND(\"[\",SNPs!B1890)+3,FIND(\"/\",SNPs!B1890)-FIND(\"/\",SNPs!B1890)+1),\"\")","v":""},{"$f":"IF(SNPs!B1890<>\"\",SNPs!B1890,\"\")","v":""}]
[{"$f":"IF(SNPs!A1891<>\"\",SNPs!A1891,\"\")","v":""},{"$f":"IF(SNPs!B1891<>\"\",MID(SNPs!B1891,FIND(\"[\",SNPs!B1891)+1,FIND(\"/\",SNPs!B1891)-FIND(\"[\",SNPs!B1891)-1),\"\")","v":""},{"$f":"IF(SNPs!B1891<>\"\",MID(SNPs!B1891,FIND(\"[\",SNPs!B1891)+3,FIND(\"/\",SNPs!B1891)-FIND(\"/\",SNPs!B1891)+1),\"\")","v":""},{"$f":"IF(SNPs!B1891<>\"\",SNPs!B1891,\"\")","v":""}]
[{"$f":"IF(SNPs!A1892<>\"\",SNPs!A1892,\"\")","v":""},{"$f":"IF(SNPs!B1892<>\"\",MID(SNPs!B1892,FIND(\"[\",SNPs!B1892)+1,FIND(\"/\",SNPs!B1892)-FIND(\"[\",SNPs!B1892)-1),\"\")","v":""},{"$f":"IF(SNPs!B1892<>\"\",MID(SNPs!B1892,FIND(\"[\",SNPs!B1892)+3,FIND(\"/\",SNPs!B1892)-FIND(\"/\",SNPs!B1892)+1),\"\")","v":""},{"$f":"IF(SNPs!B1892<>\"\",SNPs!B1892,\"\")","v":""}]
[{"$f":"IF(SNPs!A1893<>\"\",SNPs!A1893,\"\")","v":""},{"$f":"IF(SNPs!B1893<>\"\",MID(SNPs!B1893,FIND(\"[\",SNPs!B1893)+1,FIND(\"/\",SNPs!B1893)-FIND(\"[\",SNPs!B1893)-1),\"\")","v":""},{"$f":"IF(SNPs!B1893<>\"\",MID(SNPs!B1893,FIND(\"[\",SNPs!B1893)+3,FIND(\"/\",SNPs!B1893)-FIND(\"/\",SNPs!B1893)+1),\"\")","v":""},{"$f":"IF(SNPs!B1893<>\"\",SNPs!B1893,\"\")","v":""}]
[{"$f":"IF(SNPs!A1894<>\"\",SNPs!A1894,\"\")","v":""},{"$f":"IF(SNPs!B1894<>\"\",MID(SNPs!B1894,FIND(\"[\",SNPs!B1894)+1,FIND(\"/\",SNPs!B1894)-FIND(\"[\",SNPs!B1894)-1),\"\")","v":""},{"$f":"IF(SNPs!B1894<>\"\",MID(SNPs!B1894,FIND(\"[\",SNPs!B1894)+3,FIND(\"/\",SNPs!B1894)-FIND(\"/\",SNPs!B1894)+1),\"\")","v":""},{"$f":"IF(SNPs!B1894<>\"\",SNPs!B1894,\"\")","v":""}]
[{"$f":"IF(SNPs!A1895<>\"\",SNPs!A1895,\"\")","v":""},{"$f":"IF(SNPs!B1895<>\"\",MID(SNPs!B1895,FIND(\"[\",SNPs!B1895)+1,FIND(\"/\",SNPs!B1895)-FIND(\"[\",SNPs!B1895)-1),\"\")","v":""},{"$f":"IF(SNPs!B1895<>\"\",MID(SNPs!B1895,FIND(\"[\",SNPs!B1895)+3,FIND(\"/\",SNPs!B1895)-FIND(\"/\",SNPs!B1895)+1),\"\")","v":""},{"$f":"IF(SNPs!B1895<>\"\",SNPs!B1895,\"\")","v":""}]
[{"$f":"IF(SNPs!A1896<>\"\",SNPs!A1896,\"\")","v":""},{"$f":"IF(SNPs!B1896<>\"\",MID(SNPs!B1896,FIND(\"[\",SNPs!B1896)+1,FIND(\"/\",SNPs!B1896)-FIND(\"[\",SNPs!B1896)-1),\"\")","v":""},{"$f":"IF(SNPs!B1896<>\"\",MID(SNPs!B1896,FIND(\"[\",SNPs!B1896)+3,FIND(\"/\",SNPs!B1896)-FIND(\"/\",SNPs!B1896)+1),\"\")","v":""},{"$f":"IF(SNPs!B1896<>\"\",SNPs!B1896,\"\")","v":""}]
[{"$f":"IF(SNPs!A1897<>\"\",SNPs!A1897,\"\")","v":""},{"$f":"IF(SNPs!B1897<>\"\",MID(SNPs!B1897,FIND(\"[\",SNPs!B1897)+1,FIND(\"/\",SNPs!B1897)-FIND(\"[\",SNPs!B1897)-1),\"\")","v":""},{"$f":"IF(SNPs!B1897<>\"\",MID(SNPs!B1897,FIND(\"[\",SNPs!B1897)+3,FIND(\"/\",SNPs!B1897)-FIND(\"/\",SNPs!B1897)+1),\"\")","v":""},{"$f":"IF(SNPs!B1897<>\"\",SNPs!B1897,\"\")","v":""}]
[{"$f":"IF(SNPs!A1898<>\"\",SNPs!A1898,\"\")","v":""},{"$f":"IF(SNPs!B1898<>\"\",MID(SNPs!B1898,FIND(\"[\",SNPs!B1898)+1,FIND(\"/\",SNPs!B1898)-FIND(\"[\",SNPs!B1898)-1),\"\")","v":""},{"$f":"IF(SNPs!B1898<>\"\",MID(SNPs!B1898,FIND(\"[\",SNPs!B1898)+3,FIND(\"/\",SNPs!B1898)-FIND(\"/\",SNPs!B1898)+1),\"\")","v":""},{"$f":"IF(SNPs!B1898<>\"\",SNPs!B1898,\"\")","v":""}]
[{"$f":"IF(SNPs!A1899<>\"\",SNPs!A1899,\"\")","v":""},{"$f":"IF(SNPs!B1899<>\"\",MID(SNPs!B1899,FIND(\"[\",SNPs!B1899)+1,FIND(\"/\",SNPs!B1899)-FIND(\"[\",SNPs!B1899)-1),\"\")","v":""},{"$f":"IF(SNPs!B1899<>\"\",MID(SNPs!B1899,FIND(\"[\",SNPs!B1899)+3,FIND(\"/\",SNPs!B1899)-FIND(\"/\",SNPs!B1899)+1),\"\")","v":""},{"$f":"IF(SNPs!B1899<>\"\",SNPs!B1899,\"\")","v":""}]
[{"$f":"IF(SNPs!A1900<>\"\",SNPs!A1900,\"\")","v":""},{"$f":"IF(SNPs!B1900<>\"\",MID(SNPs!B1900,FIND(\"[\",SNPs!B1900)+1,FIND(\"/\",SNPs!B1900)-FIND(\"[\",SNPs!B1900)-1),\"\")","v":""},{"$f":"IF(SNPs!B1900<>\"\",MID(SNPs!B1900,FIND(\"[\",SNPs!B1900)+3,FIND(\"/\",SNPs!B1900)-FIND(\"/\",SNPs!B1900)+1),\"\")","v":""},{"$f":"IF(SNPs!B1900<>\"\",SNPs!B1900,\"\")","v":""}]
[{"$f":"IF(SNPs!A1901<>\"\",SNPs!A1901,\"\")","v":""},{"$f":"IF(SNPs!B1901<>\"\",MID(SNPs!B1901,FIND(\"[\",SNPs!B1901)+1,FIND(\"/\",SNPs!B1901)-FIND(\"[\",SNPs!B1901)-1),\"\")","v":""},{"$f":"IF(SNPs!B1901<>\"\",MID(SNPs!B1901,FIND(\"[\",SNPs!B1901)+3,FIND(\"/\",SNPs!B1901)-FIND(\"/\",SNPs!B1901)+1),\"\")","v":""},{"$f":"IF(SNPs!B1901<>\"\",SNPs!B1901,\"\")","v":""}]
[{"$f":"IF(SNPs!A1902<>\"\",SNPs!A1902,\"\")","v":""},{"$f":"IF(SNPs!B1902<>\"\",MID(SNPs!B1902,FIND(\"[\",SNPs!B1902)+1,FIND(\"/\",SNPs!B1902)-FIND(\"[\",SNPs!B1902)-1),\"\")","v":""},{"$f":"IF(SNPs!B1902<>\"\",MID(SNPs!B1902,FIND(\"[\",SNPs!B1902)+3,FIND(\"/\",SNPs!B1902)-FIND(\"/\",SNPs!B1902)+1),\"\")","v":""},{"$f":"IF(SNPs!B1902<>\"\",SNPs!B1902,\"\")","v":""}]
[{"$f":"IF(SNPs!A1903<>\"\",SNPs!A1903,\"\")","v":""},{"$f":"IF(SNPs!B1903<>\"\",MID(SNPs!B1903,FIND(\"[\",SNPs!B1903)+1,FIND(\"/\",SNPs!B1903)-FIND(\"[\",SNPs!B1903)-1),\"\")","v":""},{"$f":"IF(SNPs!B1903<>\"\",MID(SNPs!B1903,FIND(\"[\",SNPs!B1903)+3,FIND(\"/\",SNPs!B1903)-FIND(\"/\",SNPs!B1903)+1),\"\")","v":""},{"$f":"IF(SNPs!B1903<>\"\",SNPs!B1903,\"\")","v":""}]
[{"$f":"IF(SNPs!A1904<>\"\",SNPs!A1904,\"\")","v":""},{"$f":"IF(SNPs!B1904<>\"\",MID(SNPs!B1904,FIND(\"[\",SNPs!B1904)+1,FIND(\"/\",SNPs!B1904)-FIND(\"[\",SNPs!B1904)-1),\"\")","v":""},{"$f":"IF(SNPs!B1904<>\"\",MID(SNPs!B1904,FIND(\"[\",SNPs!B1904)+3,FIND(\"/\",SNPs!B1904)-FIND(\"/\",SNPs!B1904)+1),\"\")","v":""},{"$f":"IF(SNPs!B1904<>\"\",SNPs!B1904,\"\")","v":""}]
[{"$f":"IF(SNPs!A1905<>\"\",SNPs!A1905,\"\")","v":""},{"$f":"IF(SNPs!B1905<>\"\",MID(SNPs!B1905,FIND(\"[\",SNPs!B1905)+1,FIND(\"/\",SNPs!B1905)-FIND(\"[\",SNPs!B1905)-1),\"\")","v":""},{"$f":"IF(SNPs!B1905<>\"\",MID(SNPs!B1905,FIND(\"[\",SNPs!B1905)+3,FIND(\"/\",SNPs!B1905)-FIND(\"/\",SNPs!B1905)+1),\"\")","v":""},{"$f":"IF(SNPs!B1905<>\"\",SNPs!B1905,\"\")","v":""}]
[{"$f":"IF(SNPs!A1906<>\"\",SNPs!A1906,\"\")","v":""},{"$f":"IF(SNPs!B1906<>\"\",MID(SNPs!B1906,FIND(\"[\",SNPs!B1906)+1,FIND(\"/\",SNPs!B1906)-FIND(\"[\",SNPs!B1906)-1),\"\")","v":""},{"$f":"IF(SNPs!B1906<>\"\",MID(SNPs!B1906,FIND(\"[\",SNPs!B1906)+3,FIND(\"/\",SNPs!B1906)-FIND(\"/\",SNPs!B1906)+1),\"\")","v":""},{"$f":"IF(SNPs!B1906<>\"\",SNPs!B1906,\"\")","v":""}]
[{"$f":"IF(SNPs!A1907<>\"\",SNPs!A1907,\"\")","v":""},{"$f":"IF(SNPs!B1907<>\"\",MID(SNPs!B1907,FIND(\"[\",SNPs!B1907)+1,FIND(\"/\",SNPs!B1907)-FIND(\"[\",SNPs!B1907)-1),\"\")","v":""},{"$f":"IF(SNPs!B1907<>\"\",MID(SNPs!B1907,FIND(\"[\",SNPs!B1907)+3,FIND(\"/\",SNPs!B1907)-FIND(\"/\",SNPs!B1907)+1),\"\")","v":""},{"$f":"IF(SNPs!B1907<>\"\",SNPs!B1907,\"\")","v":""}]
[{"$f":"IF(SNPs!A1908<>\"\",SNPs!A1908,\"\")","v":""},{"$f":"IF(SNPs!B1908<>\"\",MID(SNPs!B1908,FIND(\"[\",SNPs!B1908)+1,FIND(\"/\",SNPs!B1908)-FIND(\"[\",SNPs!B1908)-1),\"\")","v":""},{"$f":"IF(SNPs!B1908<>\"\",MID(SNPs!B1908,FIND(\"[\",SNPs!B1908)+3,FIND(\"/\",SNPs!B1908)-FIND(\"/\",SNPs!B1908)+1),\"\")","v":""},{"$f":"IF(SNPs!B1908<>\"\",SNPs!B1908,\"\")","v":""}]
[{"$f":"IF(SNPs!A1909<>\"\",SNPs!A1909,\"\")","v":""},{"$f":"IF(SNPs!B1909<>\"\",MID(SNPs!B1909,FIND(\"[\",SNPs!B1909)+1,FIND(\"/\",SNPs!B1909)-FIND(\"[\",SNPs!B1909)-1),\"\")","v":""},{"$f":"IF(SNPs!B1909<>\"\",MID(SNPs!B1909,FIND(\"[\",SNPs!B1909)+3,FIND(\"/\",SNPs!B1909)-FIND(\"/\",SNPs!B1909)+1),\"\")","v":""},{"$f":"IF(SNPs!B1909<>\"\",SNPs!B1909,\"\")","v":""}]
[{"$f":"IF(SNPs!A1910<>\"\",SNPs!A1910,\"\")","v":""},{"$f":"IF(SNPs!B1910<>\"\",MID(SNPs!B1910,FIND(\"[\",SNPs!B1910)+1,FIND(\"/\",SNPs!B1910)-FIND(\"[\",SNPs!B1910)-1),\"\")","v":""},{"$f":"IF(SNPs!B1910<>\"\",MID(SNPs!B1910,FIND(\"[\",SNPs!B1910)+3,FIND(\"/\",SNPs!B1910)-FIND(\"/\",SNPs!B1910)+1),\"\")","v":""},{"$f":"IF(SNPs!B1910<>\"\",SNPs!B1910,\"\")","v":""}]
[{"$f":"IF(SNPs!A1911<>\"\",SNPs!A1911,\"\")","v":""},{"$f":"IF(SNPs!B1911<>\"\",MID(SNPs!B1911,FIND(\"[\",SNPs!B1911)+1,FIND(\"/\",SNPs!B1911)-FIND(\"[\",SNPs!B1911)-1),\"\")","v":""},{"$f":"IF(SNPs!B1911<>\"\",MID(SNPs!B1911,FIND(\"[\",SNPs!B1911)+3,FIND(\"/\",SNPs!B1911)-FIND(\"/\",SNPs!B1911)+1),\"\")","v":""},{"$f":"IF(SNPs!B1911<>\"\",SNPs!B1911,\"\")","v":""}]
[{"$f":"IF(SNPs!A1912<>\"\",SNPs!A1912,\"\")","v":""},{"$f":"IF(SNPs!B1912<>\"\",MID(SNPs!B1912,FIND(\"[\",SNPs!B1912)+1,FIND(\"/\",SNPs!B1912)-FIND(\"[\",SNPs!B1912)-1),\"\")","v":""},{"$f":"IF(SNPs!B1912<>\"\",MID(SNPs!B1912,FIND(\"[\",SNPs!B1912)+3,FIND(\"/\",SNPs!B1912)-FIND(\"/\",SNPs!B1912)+1),\"\")","v":""},{"$f":"IF(SNPs!B1912<>\"\",SNPs!B1912,\"\")","v":""}]
[{"$f":"IF(SNPs!A1913<>\"\",SNPs!A1913,\"\")","v":""},{"$f":"IF(SNPs!B1913<>\"\",MID(SNPs!B1913,FIND(\"[\",SNPs!B1913)+1,FIND(\"/\",SNPs!B1913)-FIND(\"[\",SNPs!B1913)-1),\"\")","v":""},{"$f":"IF(SNPs!B1913<>\"\",MID(SNPs!B1913,FIND(\"[\",SNPs!B1913)+3,FIND(\"/\",SNPs!B1913)-FIND(\"/\",SNPs!B1913)+1),\"\")","v":""},{"$f":"IF(SNPs!B1913<>\"\",SNPs!B1913,\"\")","v":""}]
[{"$f":"IF(SNPs!A1914<>\"\",SNPs!A1914,\"\")","v":""},{"$f":"IF(SNPs!B1914<>\"\",MID(SNPs!B1914,FIND(\"[\",SNPs!B1914)+1,FIND(\"/\",SNPs!B1914)-FIND(\"[\",SNPs!B1914)-1),\"\")","v":""},{"$f":"IF(SNPs!B1914<>\"\",MID(SNPs!B1914,FIND(\"[\",SNPs!B1914)+3,FIND(\"/\",SNPs!B1914)-FIND(\"/\",SNPs!B1914)+1),\"\")","v":""},{"$f":"IF(SNPs!B1914<>\"\",SNPs!B1914,\"\")","v":""}]
[{"$f":"IF(SNPs!A1915<>\"\",SNPs!A1915,\"\")","v":""},{"$f":"IF(SNPs!B1915<>\"\",MID(SNPs!B1915,FIND(\"[\",SNPs!B1915)+1,FIND(\"/\",SNPs!B1915)-FIND(\"[\",SNPs!B1915)-1),\"\")","v":""},{"$f":"IF(SNPs!B1915<>\"\",MID(SNPs!B1915,FIND(\"[\",SNPs!B1915)+3,FIND(\"/\",SNPs!B1915)-FIND(\"/\",SNPs!B1915)+1),\"\")","v":""},{"$f":"IF(SNPs!B1915<>\"\",SNPs!B1915,\"\")","v":""}]
[{"$f":"IF(SNPs!A1916<>\"\",SNPs!A1916,\"\")","v":""},{"$f":"IF(SNPs!B1916<>\"\",MID(SNPs!B1916,FIND(\"[\",SNPs!B1916)+1,FIND(\"/\",SNPs!B1916)-FIND(\"[\",SNPs!B1916)-1),\"\")","v":""},{"$f":"IF(SNPs!B1916<>\"\",MID(SNPs!B1916,FIND(\"[\",SNPs!B1916)+3,FIND(\"/\",SNPs!B1916)-FIND(\"/\",SNPs!B1916)+1),\"\")","v":""},{"$f":"IF(SNPs!B1916<>\"\",SNPs!B1916,\"\")","v":""}]
[{"$f":"IF(SNPs!A1917<>\"\",SNPs!A1917,\"\")","v":""},{"$f":"IF(SNPs!B1917<>\"\",MID(SNPs!B1917,FIND(\"[\",SNPs!B1917)+1,FIND(\"/\",SNPs!B1917)-FIND(\"[\",SNPs!B1917)-1),\"\")","v":""},{"$f":"IF(SNPs!B1917<>\"\",MID(SNPs!B1917,FIND(\"[\",SNPs!B1917)+3,FIND(\"/\",SNPs!B1917)-FIND(\"/\",SNPs!B1917)+1),\"\")","v":""},{"$f":"IF(SNPs!B1917<>\"\",SNPs!B1917,\"\")","v":""}]
[{"$f":"IF(SNPs!A1918<>\"\",SNPs!A1918,\"\")","v":""},{"$f":"IF(SNPs!B1918<>\"\",MID(SNPs!B1918,FIND(\"[\",SNPs!B1918)+1,FIND(\"/\",SNPs!B1918)-FIND(\"[\",SNPs!B1918)-1),\"\")","v":""},{"$f":"IF(SNPs!B1918<>\"\",MID(SNPs!B1918,FIND(\"[\",SNPs!B1918)+3,FIND(\"/\",SNPs!B1918)-FIND(\"/\",SNPs!B1918)+1),\"\")","v":""},{"$f":"IF(SNPs!B1918<>\"\",SNPs!B1918,\"\")","v":""}]
[{"$f":"IF(SNPs!A1919<>\"\",SNPs!A1919,\"\")","v":""},{"$f":"IF(SNPs!B1919<>\"\",MID(SNPs!B1919,FIND(\"[\",SNPs!B1919)+1,FIND(\"/\",SNPs!B1919)-FIND(\"[\",SNPs!B1919)-1),\"\")","v":""},{"$f":"IF(SNPs!B1919<>\"\",MID(SNPs!B1919,FIND(\"[\",SNPs!B1919)+3,FIND(\"/\",SNPs!B1919)-FIND(\"/\",SNPs!B1919)+1),\"\")","v":""},{"$f":"IF(SNPs!B1919<>\"\",SNPs!B1919,\"\")","v":""}]
[{"$f":"IF(SNPs!A1920<>\"\",SNPs!A1920,\"\")","v":""},{"$f":"IF(SNPs!B1920<>\"\",MID(SNPs!B1920,FIND(\"[\",SNPs!B1920)+1,FIND(\"/\",SNPs!B1920)-FIND(\"[\",SNPs!B1920)-1),\"\")","v":""},{"$f":"IF(SNPs!B1920<>\"\",MID(SNPs!B1920,FIND(\"[\",SNPs!B1920)+3,FIND(\"/\",SNPs!B1920)-FIND(\"/\",SNPs!B1920)+1),\"\")","v":""},{"$f":"IF(SNPs!B1920<>\"\",SNPs!B1920,\"\")","v":""}]
[{"$f":"IF(SNPs!A1921<>\"\",SNPs!A1921,\"\")","v":""},{"$f":"IF(SNPs!B1921<>\"\",MID(SNPs!B1921,FIND(\"[\",SNPs!B1921)+1,FIND(\"/\",SNPs!B1921)-FIND(\"[\",SNPs!B1921)-1),\"\")","v":""},{"$f":"IF(SNPs!B1921<>\"\",MID(SNPs!B1921,FIND(\"[\",SNPs!B1921)+3,FIND(\"/\",SNPs!B1921)-FIND(\"/\",SNPs!B1921)+1),\"\")","v":""},{"$f":"IF(SNPs!B1921<>\"\",SNPs!B1921,\"\")","v":""}]
[{"$f":"IF(SNPs!A1922<>\"\",SNPs!A1922,\"\")","v":""},{"$f":"IF(SNPs!B1922<>\"\",MID(SNPs!B1922,FIND(\"[\",SNPs!B1922)+1,FIND(\"/\",SNPs!B1922)-FIND(\"[\",SNPs!B1922)-1),\"\")","v":""},{"$f":"IF(SNPs!B1922<>\"\",MID(SNPs!B1922,FIND(\"[\",SNPs!B1922)+3,FIND(\"/\",SNPs!B1922)-FIND(\"/\",SNPs!B1922)+1),\"\")","v":""},{"$f":"IF(SNPs!B1922<>\"\",SNPs!B1922,\"\")","v":""}]
[{"$f":"IF(SNPs!A1923<>\"\",SNPs!A1923,\"\")","v":""},{"$f":"IF(SNPs!B1923<>\"\",MID(SNPs!B1923,FIND(\"[\",SNPs!B1923)+1,FIND(\"/\",SNPs!B1923)-FIND(\"[\",SNPs!B1923)-1),\"\")","v":""},{"$f":"IF(SNPs!B1923<>\"\",MID(SNPs!B1923,FIND(\"[\",SNPs!B1923)+3,FIND(\"/\",SNPs!B1923)-FIND(\"/\",SNPs!B1923)+1),\"\")","v":""},{"$f":"IF(SNPs!B1923<>\"\",SNPs!B1923,\"\")","v":""}]
[{"$f":"IF(SNPs!A1924<>\"\",SNPs!A1924,\"\")","v":""},{"$f":"IF(SNPs!B1924<>\"\",MID(SNPs!B1924,FIND(\"[\",SNPs!B1924)+1,FIND(\"/\",SNPs!B1924)-FIND(\"[\",SNPs!B1924)-1),\"\")","v":""},{"$f":"IF(SNPs!B1924<>\"\",MID(SNPs!B1924,FIND(\"[\",SNPs!B1924)+3,FIND(\"/\",SNPs!B1924)-FIND(\"/\",SNPs!B1924)+1),\"\")","v":""},{"$f":"IF(SNPs!B1924<>\"\",SNPs!B1924,\"\")","v":""}]
[{"$f":"IF(SNPs!A1925<>\"\",SNPs!A1925,\"\")","v":""},{"$f":"IF(SNPs!B1925<>\"\",MID(SNPs!B1925,FIND(\"[\",SNPs!B1925)+1,FIND(\"/\",SNPs!B1925)-FIND(\"[\",SNPs!B1925)-1),\"\")","v":""},{"$f":"IF(SNPs!B1925<>\"\",MID(SNPs!B1925,FIND(\"[\",SNPs!B1925)+3,FIND(\"/\",SNPs!B1925)-FIND(\"/\",SNPs!B1925)+1),\"\")","v":""},{"$f":"IF(SNPs!B1925<>\"\",SNPs!B1925,\"\")","v":""}]
[{"$f":"IF(SNPs!A1926<>\"\",SNPs!A1926,\"\")","v":""},{"$f":"IF(SNPs!B1926<>\"\",MID(SNPs!B1926,FIND(\"[\",SNPs!B1926)+1,FIND(\"/\",SNPs!B1926)-FIND(\"[\",SNPs!B1926)-1),\"\")","v":""},{"$f":"IF(SNPs!B1926<>\"\",MID(SNPs!B1926,FIND(\"[\",SNPs!B1926)+3,FIND(\"/\",SNPs!B1926)-FIND(\"/\",SNPs!B1926)+1),\"\")","v":""},{"$f":"IF(SNPs!B1926<>\"\",SNPs!B1926,\"\")","v":""}]
[{"$f":"IF(SNPs!A1927<>\"\",SNPs!A1927,\"\")","v":""},{"$f":"IF(SNPs!B1927<>\"\",MID(SNPs!B1927,FIND(\"[\",SNPs!B1927)+1,FIND(\"/\",SNPs!B1927)-FIND(\"[\",SNPs!B1927)-1),\"\")","v":""},{"$f":"IF(SNPs!B1927<>\"\",MID(SNPs!B1927,FIND(\"[\",SNPs!B1927)+3,FIND(\"/\",SNPs!B1927)-FIND(\"/\",SNPs!B1927)+1),\"\")","v":""},{"$f":"IF(SNPs!B1927<>\"\",SNPs!B1927,\"\")","v":""}]
[{"$f":"IF(SNPs!A1928<>\"\",SNPs!A1928,\"\")","v":""},{"$f":"IF(SNPs!B1928<>\"\",MID(SNPs!B1928,FIND(\"[\",SNPs!B1928)+1,FIND(\"/\",SNPs!B1928)-FIND(\"[\",SNPs!B1928)-1),\"\")","v":""},{"$f":"IF(SNPs!B1928<>\"\",MID(SNPs!B1928,FIND(\"[\",SNPs!B1928)+3,FIND(\"/\",SNPs!B1928)-FIND(\"/\",SNPs!B1928)+1),\"\")","v":""},{"$f":"IF(SNPs!B1928<>\"\",SNPs!B1928,\"\")","v":""}]
[{"$f":"IF(SNPs!A1929<>\"\",SNPs!A1929,\"\")","v":""},{"$f":"IF(SNPs!B1929<>\"\",MID(SNPs!B1929,FIND(\"[\",SNPs!B1929)+1,FIND(\"/\",SNPs!B1929)-FIND(\"[\",SNPs!B1929)-1),\"\")","v":""},{"$f":"IF(SNPs!B1929<>\"\",MID(SNPs!B1929,FIND(\"[\",SNPs!B1929)+3,FIND(\"/\",SNPs!B1929)-FIND(\"/\",SNPs!B1929)+1),\"\")","v":""},{"$f":"IF(SNPs!B1929<>\"\",SNPs!B1929,\"\")","v":""}]
[{"$f":"IF(SNPs!A1930<>\"\",SNPs!A1930,\"\")","v":""},{"$f":"IF(SNPs!B1930<>\"\",MID(SNPs!B1930,FIND(\"[\",SNPs!B1930)+1,FIND(\"/\",SNPs!B1930)-FIND(\"[\",SNPs!B1930)-1),\"\")","v":""},{"$f":"IF(SNPs!B1930<>\"\",MID(SNPs!B1930,FIND(\"[\",SNPs!B1930)+3,FIND(\"/\",SNPs!B1930)-FIND(\"/\",SNPs!B1930)+1),\"\")","v":""},{"$f":"IF(SNPs!B1930<>\"\",SNPs!B1930,\"\")","v":""}]
[{"$f":"IF(SNPs!A1931<>\"\",SNPs!A1931,\"\")","v":""},{"$f":"IF(SNPs!B1931<>\"\",MID(SNPs!B1931,FIND(\"[\",SNPs!B1931)+1,FIND(\"/\",SNPs!B1931)-FIND(\"[\",SNPs!B1931)-1),\"\")","v":""},{"$f":"IF(SNPs!B1931<>\"\",MID(SNPs!B1931,FIND(\"[\",SNPs!B1931)+3,FIND(\"/\",SNPs!B1931)-FIND(\"/\",SNPs!B1931)+1),\"\")","v":""},{"$f":"IF(SNPs!B1931<>\"\",SNPs!B1931,\"\")","v":""}]
[{"$f":"IF(SNPs!A1932<>\"\",SNPs!A1932,\"\")","v":""},{"$f":"IF(SNPs!B1932<>\"\",MID(SNPs!B1932,FIND(\"[\",SNPs!B1932)+1,FIND(\"/\",SNPs!B1932)-FIND(\"[\",SNPs!B1932)-1),\"\")","v":""},{"$f":"IF(SNPs!B1932<>\"\",MID(SNPs!B1932,FIND(\"[\",SNPs!B1932)+3,FIND(\"/\",SNPs!B1932)-FIND(\"/\",SNPs!B1932)+1),\"\")","v":""},{"$f":"IF(SNPs!B1932<>\"\",SNPs!B1932,\"\")","v":""}]
[{"$f":"IF(SNPs!A1933<>\"\",SNPs!A1933,\"\")","v":""},{"$f":"IF(SNPs!B1933<>\"\",MID(SNPs!B1933,FIND(\"[\",SNPs!B1933)+1,FIND(\"/\",SNPs!B1933)-FIND(\"[\",SNPs!B1933)-1),\"\")","v":""},{"$f":"IF(SNPs!B1933<>\"\",MID(SNPs!B1933,FIND(\"[\",SNPs!B1933)+3,FIND(\"/\",SNPs!B1933)-FIND(\"/\",SNPs!B1933)+1),\"\")","v":""},{"$f":"IF(SNPs!B1933<>\"\",SNPs!B1933,\"\")","v":""}]
[{"$f":"IF(SNPs!A1934<>\"\",SNPs!A1934,\"\")","v":""},{"$f":"IF(SNPs!B1934<>\"\",MID(SNPs!B1934,FIND(\"[\",SNPs!B1934)+1,FIND(\"/\",SNPs!B1934)-FIND(\"[\",SNPs!B1934)-1),\"\")","v":""},{"$f":"IF(SNPs!B1934<>\"\",MID(SNPs!B1934,FIND(\"[\",SNPs!B1934)+3,FIND(\"/\",SNPs!B1934)-FIND(\"/\",SNPs!B1934)+1),\"\")","v":""},{"$f":"IF(SNPs!B1934<>\"\",SNPs!B1934,\"\")","v":""}]
[{"$f":"IF(SNPs!A1935<>\"\",SNPs!A1935,\"\")","v":""},{"$f":"IF(SNPs!B1935<>\"\",MID(SNPs!B1935,FIND(\"[\",SNPs!B1935)+1,FIND(\"/\",SNPs!B1935)-FIND(\"[\",SNPs!B1935)-1),\"\")","v":""},{"$f":"IF(SNPs!B1935<>\"\",MID(SNPs!B1935,FIND(\"[\",SNPs!B1935)+3,FIND(\"/\",SNPs!B1935)-FIND(\"/\",SNPs!B1935)+1),\"\")","v":""},{"$f":"IF(SNPs!B1935<>\"\",SNPs!B1935,\"\")","v":""}]
[{"$f":"IF(SNPs!A1936<>\"\",SNPs!A1936,\"\")","v":""},{"$f":"IF(SNPs!B1936<>\"\",MID(SNPs!B1936,FIND(\"[\",SNPs!B1936)+1,FIND(\"/\",SNPs!B1936)-FIND(\"[\",SNPs!B1936)-1),\"\")","v":""},{"$f":"IF(SNPs!B1936<>\"\",MID(SNPs!B1936,FIND(\"[\",SNPs!B1936)+3,FIND(\"/\",SNPs!B1936)-FIND(\"/\",SNPs!B1936)+1),\"\")","v":""},{"$f":"IF(SNPs!B1936<>\"\",SNPs!B1936,\"\")","v":""}]
[{"$f":"IF(SNPs!A1937<>\"\",SNPs!A1937,\"\")","v":""},{"$f":"IF(SNPs!B1937<>\"\",MID(SNPs!B1937,FIND(\"[\",SNPs!B1937)+1,FIND(\"/\",SNPs!B1937)-FIND(\"[\",SNPs!B1937)-1),\"\")","v":""},{"$f":"IF(SNPs!B1937<>\"\",MID(SNPs!B1937,FIND(\"[\",SNPs!B1937)+3,FIND(\"/\",SNPs!B1937)-FIND(\"/\",SNPs!B1937)+1),\"\")","v":""},{"$f":"IF(SNPs!B1937<>\"\",SNPs!B1937,\"\")","v":""}]
[{"$f":"IF(SNPs!A1938<>\"\",SNPs!A1938,\"\")","v":""},{"$f":"IF(SNPs!B1938<>\"\",MID(SNPs!B1938,FIND(\"[\",SNPs!B1938)+1,FIND(\"/\",SNPs!B1938)-FIND(\"[\",SNPs!B1938)-1),\"\")","v":""},{"$f":"IF(SNPs!B1938<>\"\",MID(SNPs!B1938,FIND(\"[\",SNPs!B1938)+3,FIND(\"/\",SNPs!B1938)-FIND(\"/\",SNPs!B1938)+1),\"\")","v":""},{"$f":"IF(SNPs!B1938<>\"\",SNPs!B1938,\"\")","v":""}]
[{"$f":"IF(SNPs!A1939<>\"\",SNPs!A1939,\"\")","v":""},{"$f":"IF(SNPs!B1939<>\"\",MID(SNPs!B1939,FIND(\"[\",SNPs!B1939)+1,FIND(\"/\",SNPs!B1939)-FIND(\"[\",SNPs!B1939)-1),\"\")","v":""},{"$f":"IF(SNPs!B1939<>\"\",MID(SNPs!B1939,FIND(\"[\",SNPs!B1939)+3,FIND(\"/\",SNPs!B1939)-FIND(\"/\",SNPs!B1939)+1),\"\")","v":""},{"$f":"IF(SNPs!B1939<>\"\",SNPs!B1939,\"\")","v":""}]
[{"$f":"IF(SNPs!A1940<>\"\",SNPs!A1940,\"\")","v":""},{"$f":"IF(SNPs!B1940<>\"\",MID(SNPs!B1940,FIND(\"[\",SNPs!B1940)+1,FIND(\"/\",SNPs!B1940)-FIND(\"[\",SNPs!B1940)-1),\"\")","v":""},{"$f":"IF(SNPs!B1940<>\"\",MID(SNPs!B1940,FIND(\"[\",SNPs!B1940)+3,FIND(\"/\",SNPs!B1940)-FIND(\"/\",SNPs!B1940)+1),\"\")","v":""},{"$f":"IF(SNPs!B1940<>\"\",SNPs!B1940,\"\")","v":""}]
[{"$f":"IF(SNPs!A1941<>\"\",SNPs!A1941,\"\")","v":""},{"$f":"IF(SNPs!B1941<>\"\",MID(SNPs!B1941,FIND(\"[\",SNPs!B1941)+1,FIND(\"/\",SNPs!B1941)-FIND(\"[\",SNPs!B1941)-1),\"\")","v":""},{"$f":"IF(SNPs!B1941<>\"\",MID(SNPs!B1941,FIND(\"[\",SNPs!B1941)+3,FIND(\"/\",SNPs!B1941)-FIND(\"/\",SNPs!B1941)+1),\"\")","v":""},{"$f":"IF(SNPs!B1941<>\"\",SNPs!B1941,\"\")","v":""}]
[{"$f":"IF(SNPs!A1942<>\"\",SNPs!A1942,\"\")","v":""},{"$f":"IF(SNPs!B1942<>\"\",MID(SNPs!B1942,FIND(\"[\",SNPs!B1942)+1,FIND(\"/\",SNPs!B1942)-FIND(\"[\",SNPs!B1942)-1),\"\")","v":""},{"$f":"IF(SNPs!B1942<>\"\",MID(SNPs!B1942,FIND(\"[\",SNPs!B1942)+3,FIND(\"/\",SNPs!B1942)-FIND(\"/\",SNPs!B1942)+1),\"\")","v":""},{"$f":"IF(SNPs!B1942<>\"\",SNPs!B1942,\"\")","v":""}]
[{"$f":"IF(SNPs!A1943<>\"\",SNPs!A1943,\"\")","v":""},{"$f":"IF(SNPs!B1943<>\"\",MID(SNPs!B1943,FIND(\"[\",SNPs!B1943)+1,FIND(\"/\",SNPs!B1943)-FIND(\"[\",SNPs!B1943)-1),\"\")","v":""},{"$f":"IF(SNPs!B1943<>\"\",MID(SNPs!B1943,FIND(\"[\",SNPs!B1943)+3,FIND(\"/\",SNPs!B1943)-FIND(\"/\",SNPs!B1943)+1),\"\")","v":""},{"$f":"IF(SNPs!B1943<>\"\",SNPs!B1943,\"\")","v":""}]
[{"$f":"IF(SNPs!A1944<>\"\",SNPs!A1944,\"\")","v":""},{"$f":"IF(SNPs!B1944<>\"\",MID(SNPs!B1944,FIND(\"[\",SNPs!B1944)+1,FIND(\"/\",SNPs!B1944)-FIND(\"[\",SNPs!B1944)-1),\"\")","v":""},{"$f":"IF(SNPs!B1944<>\"\",MID(SNPs!B1944,FIND(\"[\",SNPs!B1944)+3,FIND(\"/\",SNPs!B1944)-FIND(\"/\",SNPs!B1944)+1),\"\")","v":""},{"$f":"IF(SNPs!B1944<>\"\",SNPs!B1944,\"\")","v":""}]
[{"$f":"IF(SNPs!A1945<>\"\",SNPs!A1945,\"\")","v":""},{"$f":"IF(SNPs!B1945<>\"\",MID(SNPs!B1945,FIND(\"[\",SNPs!B1945)+1,FIND(\"/\",SNPs!B1945)-FIND(\"[\",SNPs!B1945)-1),\"\")","v":""},{"$f":"IF(SNPs!B1945<>\"\",MID(SNPs!B1945,FIND(\"[\",SNPs!B1945)+3,FIND(\"/\",SNPs!B1945)-FIND(\"/\",SNPs!B1945)+1),\"\")","v":""},{"$f":"IF(SNPs!B1945<>\"\",SNPs!B1945,\"\")","v":""}]
[{"$f":"IF(SNPs!A1946<>\"\",SNPs!A1946,\"\")","v":""},{"$f":"IF(SNPs!B1946<>\"\",MID(SNPs!B1946,FIND(\"[\",SNPs!B1946)+1,FIND(\"/\",SNPs!B1946)-FIND(\"[\",SNPs!B1946)-1),\"\")","v":""},{"$f":"IF(SNPs!B1946<>\"\",MID(SNPs!B1946,FIND(\"[\",SNPs!B1946)+3,FIND(\"/\",SNPs!B1946)-FIND(\"/\",SNPs!B1946)+1),\"\")","v":""},{"$f":"IF(SNPs!B1946<>\"\",SNPs!B1946,\"\")","v":""}]
[{"$f":"IF(SNPs!A1947<>\"\",SNPs!A1947,\"\")","v":""},{"$f":"IF(SNPs!B1947<>\"\",MID(SNPs!B1947,FIND(\"[\",SNPs!B1947)+1,FIND(\"/\",SNPs!B1947)-FIND(\"[\",SNPs!B1947)-1),\"\")","v":""},{"$f":"IF(SNPs!B1947<>\"\",MID(SNPs!B1947,FIND(\"[\",SNPs!B1947)+3,FIND(\"/\",SNPs!B1947)-FIND(\"/\",SNPs!B1947)+1),\"\")","v":""},{"$f":"IF(SNPs!B1947<>\"\",SNPs!B1947,\"\")","v":""}]
[{"$f":"IF(SNPs!A1948<>\"\",SNPs!A1948,\"\")","v":""},{"$f":"IF(SNPs!B1948<>\"\",MID(SNPs!B1948,FIND(\"[\",SNPs!B1948)+1,FIND(\"/\",SNPs!B1948)-FIND(\"[\",SNPs!B1948)-1),\"\")","v":""},{"$f":"IF(SNPs!B1948<>\"\",MID(SNPs!B1948,FIND(\"[\",SNPs!B1948)+3,FIND(\"/\",SNPs!B1948)-FIND(\"/\",SNPs!B1948)+1),\"\")","v":""},{"$f":"IF(SNPs!B1948<>\"\",SNPs!B1948,\"\")","v":""}]
[{"$f":"IF(SNPs!A1949<>\"\",SNPs!A1949,\"\")","v":""},{"$f":"IF(SNPs!B1949<>\"\",MID(SNPs!B1949,FIND(\"[\",SNPs!B1949)+1,FIND(\"/\",SNPs!B1949)-FIND(\"[\",SNPs!B1949)-1),\"\")","v":""},{"$f":"IF(SNPs!B1949<>\"\",MID(SNPs!B1949,FIND(\"[\",SNPs!B1949)+3,FIND(\"/\",SNPs!B1949)-FIND(\"/\",SNPs!B1949)+1),\"\")","v":""},{"$f":"IF(SNPs!B1949<>\"\",SNPs!B1949,\"\")","v":""}]
[{"$f":"IF(SNPs!A1950<>\"\",SNPs!A1950,\"\")","v":""},{"$f":"IF(SNPs!B1950<>\"\",MID(SNPs!B1950,FIND(\"[\",SNPs!B1950)+1,FIND(\"/\",SNPs!B1950)-FIND(\"[\",SNPs!B1950)-1),\"\")","v":""},{"$f":"IF(SNPs!B1950<>\"\",MID(SNPs!B1950,FIND(\"[\",SNPs!B1950)+3,FIND(\"/\",SNPs!B1950)-FIND(\"/\",SNPs!B1950)+1),\"\")","v":""},{"$f":"IF(SNPs!B1950<>\"\",SNPs!B1950,\"\")","v":""}]
[{"$f":"IF(SNPs!A1951<>\"\",SNPs!A1951,\"\")","v":""},{"$f":"IF(SNPs!B1951<>\"\",MID(SNPs!B1951,FIND(\"[\",SNPs!B1951)+1,FIND(\"/\",SNPs!B1951)-FIND(\"[\",SNPs!B1951)-1),\"\")","v":""},{"$f":"IF(SNPs!B1951<>\"\",MID(SNPs!B1951,FIND(\"[\",SNPs!B1951)+3,FIND(\"/\",SNPs!B1951)-FIND(\"/\",SNPs!B1951)+1),\"\")","v":""},{"$f":"IF(SNPs!B1951<>\"\",SNPs!B1951,\"\")","v":""}]
[{"$f":"IF(SNPs!A1952<>\"\",SNPs!A1952,\"\")","v":""},{"$f":"IF(SNPs!B1952<>\"\",MID(SNPs!B1952,FIND(\"[\",SNPs!B1952)+1,FIND(\"/\",SNPs!B1952)-FIND(\"[\",SNPs!B1952)-1),\"\")","v":""},{"$f":"IF(SNPs!B1952<>\"\",MID(SNPs!B1952,FIND(\"[\",SNPs!B1952)+3,FIND(\"/\",SNPs!B1952)-FIND(\"/\",SNPs!B1952)+1),\"\")","v":""},{"$f":"IF(SNPs!B1952<>\"\",SNPs!B1952,\"\")","v":""}]
[{"$f":"IF(SNPs!A1953<>\"\",SNPs!A1953,\"\")","v":""},{"$f":"IF(SNPs!B1953<>\"\",MID(SNPs!B1953,FIND(\"[\",SNPs!B1953)+1,FIND(\"/\",SNPs!B1953)-FIND(\"[\",SNPs!B1953)-1),\"\")","v":""},{"$f":"IF(SNPs!B1953<>\"\",MID(SNPs!B1953,FIND(\"[\",SNPs!B1953)+3,FIND(\"/\",SNPs!B1953)-FIND(\"/\",SNPs!B1953)+1),\"\")","v":""},{"$f":"IF(SNPs!B1953<>\"\",SNPs!B1953,\"\")","v":""}]
[{"$f":"IF(SNPs!A1954<>\"\",SNPs!A1954,\"\")","v":""},{"$f":"IF(SNPs!B1954<>\"\",MID(SNPs!B1954,FIND(\"[\",SNPs!B1954)+1,FIND(\"/\",SNPs!B1954)-FIND(\"[\",SNPs!B1954)-1),\"\")","v":""},{"$f":"IF(SNPs!B1954<>\"\",MID(SNPs!B1954,FIND(\"[\",SNPs!B1954)+3,FIND(\"/\",SNPs!B1954)-FIND(\"/\",SNPs!B1954)+1),\"\")","v":""},{"$f":"IF(SNPs!B1954<>\"\",SNPs!B1954,\"\")","v":""}]
[{"$f":"IF(SNPs!A1955<>\"\",SNPs!A1955,\"\")","v":""},{"$f":"IF(SNPs!B1955<>\"\",MID(SNPs!B1955,FIND(\"[\",SNPs!B1955)+1,FIND(\"/\",SNPs!B1955)-FIND(\"[\",SNPs!B1955)-1),\"\")","v":""},{"$f":"IF(SNPs!B1955<>\"\",MID(SNPs!B1955,FIND(\"[\",SNPs!B1955)+3,FIND(\"/\",SNPs!B1955)-FIND(\"/\",SNPs!B1955)+1),\"\")","v":""},{"$f":"IF(SNPs!B1955<>\"\",SNPs!B1955,\"\")","v":""}]
[{"$f":"IF(SNPs!A1956<>\"\",SNPs!A1956,\"\")","v":""},{"$f":"IF(SNPs!B1956<>\"\",MID(SNPs!B1956,FIND(\"[\",SNPs!B1956)+1,FIND(\"/\",SNPs!B1956)-FIND(\"[\",SNPs!B1956)-1),\"\")","v":""},{"$f":"IF(SNPs!B1956<>\"\",MID(SNPs!B1956,FIND(\"[\",SNPs!B1956)+3,FIND(\"/\",SNPs!B1956)-FIND(\"/\",SNPs!B1956)+1),\"\")","v":""},{"$f":"IF(SNPs!B1956<>\"\",SNPs!B1956,\"\")","v":""}]
[{"$f":"IF(SNPs!A1957<>\"\",SNPs!A1957,\"\")","v":""},{"$f":"IF(SNPs!B1957<>\"\",MID(SNPs!B1957,FIND(\"[\",SNPs!B1957)+1,FIND(\"/\",SNPs!B1957)-FIND(\"[\",SNPs!B1957)-1),\"\")","v":""},{"$f":"IF(SNPs!B1957<>\"\",MID(SNPs!B1957,FIND(\"[\",SNPs!B1957)+3,FIND(\"/\",SNPs!B1957)-FIND(\"/\",SNPs!B1957)+1),\"\")","v":""},{"$f":"IF(SNPs!B1957<>\"\",SNPs!B1957,\"\")","v":""}]
[{"$f":"IF(SNPs!A1958<>\"\",SNPs!A1958,\"\")","v":""},{"$f":"IF(SNPs!B1958<>\"\",MID(SNPs!B1958,FIND(\"[\",SNPs!B1958)+1,FIND(\"/\",SNPs!B1958)-FIND(\"[\",SNPs!B1958)-1),\"\")","v":""},{"$f":"IF(SNPs!B1958<>\"\",MID(SNPs!B1958,FIND(\"[\",SNPs!B1958)+3,FIND(\"/\",SNPs!B1958)-FIND(\"/\",SNPs!B1958)+1),\"\")","v":""},{"$f":"IF(SNPs!B1958<>\"\",SNPs!B1958,\"\")","v":""}]
[{"$f":"IF(SNPs!A1959<>\"\",SNPs!A1959,\"\")","v":""},{"$f":"IF(SNPs!B1959<>\"\",MID(SNPs!B1959,FIND(\"[\",SNPs!B1959)+1,FIND(\"/\",SNPs!B1959)-FIND(\"[\",SNPs!B1959)-1),\"\")","v":""},{"$f":"IF(SNPs!B1959<>\"\",MID(SNPs!B1959,FIND(\"[\",SNPs!B1959)+3,FIND(\"/\",SNPs!B1959)-FIND(\"/\",SNPs!B1959)+1),\"\")","v":""},{"$f":"IF(SNPs!B1959<>\"\",SNPs!B1959,\"\")","v":""}]
[{"$f":"IF(SNPs!A1960<>\"\",SNPs!A1960,\"\")","v":""},{"$f":"IF(SNPs!B1960<>\"\",MID(SNPs!B1960,FIND(\"[\",SNPs!B1960)+1,FIND(\"/\",SNPs!B1960)-FIND(\"[\",SNPs!B1960)-1),\"\")","v":""},{"$f":"IF(SNPs!B1960<>\"\",MID(SNPs!B1960,FIND(\"[\",SNPs!B1960)+3,FIND(\"/\",SNPs!B1960)-FIND(\"/\",SNPs!B1960)+1),\"\")","v":""},{"$f":"IF(SNPs!B1960<>\"\",SNPs!B1960,\"\")","v":""}]
[{"$f":"IF(SNPs!A1961<>\"\",SNPs!A1961,\"\")","v":""},{"$f":"IF(SNPs!B1961<>\"\",MID(SNPs!B1961,FIND(\"[\",SNPs!B1961)+1,FIND(\"/\",SNPs!B1961)-FIND(\"[\",SNPs!B1961)-1),\"\")","v":""},{"$f":"IF(SNPs!B1961<>\"\",MID(SNPs!B1961,FIND(\"[\",SNPs!B1961)+3,FIND(\"/\",SNPs!B1961)-FIND(\"/\",SNPs!B1961)+1),\"\")","v":""},{"$f":"IF(SNPs!B1961<>\"\",SNPs!B1961,\"\")","v":""}]
[{"$f":"IF(SNPs!A1962<>\"\",SNPs!A1962,\"\")","v":""},{"$f":"IF(SNPs!B1962<>\"\",MID(SNPs!B1962,FIND(\"[\",SNPs!B1962)+1,FIND(\"/\",SNPs!B1962)-FIND(\"[\",SNPs!B1962)-1),\"\")","v":""},{"$f":"IF(SNPs!B1962<>\"\",MID(SNPs!B1962,FIND(\"[\",SNPs!B1962)+3,FIND(\"/\",SNPs!B1962)-FIND(\"/\",SNPs!B1962)+1),\"\")","v":""},{"$f":"IF(SNPs!B1962<>\"\",SNPs!B1962,\"\")","v":""}]
[{"$f":"IF(SNPs!A1963<>\"\",SNPs!A1963,\"\")","v":""},{"$f":"IF(SNPs!B1963<>\"\",MID(SNPs!B1963,FIND(\"[\",SNPs!B1963)+1,FIND(\"/\",SNPs!B1963)-FIND(\"[\",SNPs!B1963)-1),\"\")","v":""},{"$f":"IF(SNPs!B1963<>\"\",MID(SNPs!B1963,FIND(\"[\",SNPs!B1963)+3,FIND(\"/\",SNPs!B1963)-FIND(\"/\",SNPs!B1963)+1),\"\")","v":""},{"$f":"IF(SNPs!B1963<>\"\",SNPs!B1963,\"\")","v":""}]
[{"$f":"IF(SNPs!A1964<>\"\",SNPs!A1964,\"\")","v":""},{"$f":"IF(SNPs!B1964<>\"\",MID(SNPs!B1964,FIND(\"[\",SNPs!B1964)+1,FIND(\"/\",SNPs!B1964)-FIND(\"[\",SNPs!B1964)-1),\"\")","v":""},{"$f":"IF(SNPs!B1964<>\"\",MID(SNPs!B1964,FIND(\"[\",SNPs!B1964)+3,FIND(\"/\",SNPs!B1964)-FIND(\"/\",SNPs!B1964)+1),\"\")","v":""},{"$f":"IF(SNPs!B1964<>\"\",SNPs!B1964,\"\")","v":""}]
[{"$f":"IF(SNPs!A1965<>\"\",SNPs!A1965,\"\")","v":""},{"$f":"IF(SNPs!B1965<>\"\",MID(SNPs!B1965,FIND(\"[\",SNPs!B1965)+1,FIND(\"/\",SNPs!B1965)-FIND(\"[\",SNPs!B1965)-1),\"\")","v":""},{"$f":"IF(SNPs!B1965<>\"\",MID(SNPs!B1965,FIND(\"[\",SNPs!B1965)+3,FIND(\"/\",SNPs!B1965)-FIND(\"/\",SNPs!B1965)+1),\"\")","v":""},{"$f":"IF(SNPs!B1965<>\"\",SNPs!B1965,\"\")","v":""}]
[{"$f":"IF(SNPs!A1966<>\"\",SNPs!A1966,\"\")","v":""},{"$f":"IF(SNPs!B1966<>\"\",MID(SNPs!B1966,FIND(\"[\",SNPs!B1966)+1,FIND(\"/\",SNPs!B1966)-FIND(\"[\",SNPs!B1966)-1),\"\")","v":""},{"$f":"IF(SNPs!B1966<>\"\",MID(SNPs!B1966,FIND(\"[\",SNPs!B1966)+3,FIND(\"/\",SNPs!B1966)-FIND(\"/\",SNPs!B1966)+1),\"\")","v":""},{"$f":"IF(SNPs!B1966<>\"\",SNPs!B1966,\"\")","v":""}]
[{"$f":"IF(SNPs!A1967<>\"\",SNPs!A1967,\"\")","v":""},{"$f":"IF(SNPs!B1967<>\"\",MID(SNPs!B1967,FIND(\"[\",SNPs!B1967)+1,FIND(\"/\",SNPs!B1967)-FIND(\"[\",SNPs!B1967)-1),\"\")","v":""},{"$f":"IF(SNPs!B1967<>\"\",MID(SNPs!B1967,FIND(\"[\",SNPs!B1967)+3,FIND(\"/\",SNPs!B1967)-FIND(\"/\",SNPs!B1967)+1),\"\")","v":""},{"$f":"IF(SNPs!B1967<>\"\",SNPs!B1967,\"\")","v":""}]
[{"$f":"IF(SNPs!A1968<>\"\",SNPs!A1968,\"\")","v":""},{"$f":"IF(SNPs!B1968<>\"\",MID(SNPs!B1968,FIND(\"[\",SNPs!B1968)+1,FIND(\"/\",SNPs!B1968)-FIND(\"[\",SNPs!B1968)-1),\"\")","v":""},{"$f":"IF(SNPs!B1968<>\"\",MID(SNPs!B1968,FIND(\"[\",SNPs!B1968)+3,FIND(\"/\",SNPs!B1968)-FIND(\"/\",SNPs!B1968)+1),\"\")","v":""},{"$f":"IF(SNPs!B1968<>\"\",SNPs!B1968,\"\")","v":""}]
[{"$f":"IF(SNPs!A1969<>\"\",SNPs!A1969,\"\")","v":""},{"$f":"IF(SNPs!B1969<>\"\",MID(SNPs!B1969,FIND(\"[\",SNPs!B1969)+1,FIND(\"/\",SNPs!B1969)-FIND(\"[\",SNPs!B1969)-1),\"\")","v":""},{"$f":"IF(SNPs!B1969<>\"\",MID(SNPs!B1969,FIND(\"[\",SNPs!B1969)+3,FIND(\"/\",SNPs!B1969)-FIND(\"/\",SNPs!B1969)+1),\"\")","v":""},{"$f":"IF(SNPs!B1969<>\"\",SNPs!B1969,\"\")","v":""}]
[{"$f":"IF(SNPs!A1970<>\"\",SNPs!A1970,\"\")","v":""},{"$f":"IF(SNPs!B1970<>\"\",MID(SNPs!B1970,FIND(\"[\",SNPs!B1970)+1,FIND(\"/\",SNPs!B1970)-FIND(\"[\",SNPs!B1970)-1),\"\")","v":""},{"$f":"IF(SNPs!B1970<>\"\",MID(SNPs!B1970,FIND(\"[\",SNPs!B1970)+3,FIND(\"/\",SNPs!B1970)-FIND(\"/\",SNPs!B1970)+1),\"\")","v":""},{"$f":"IF(SNPs!B1970<>\"\",SNPs!B1970,\"\")","v":""}]
[{"$f":"IF(SNPs!A1971<>\"\",SNPs!A1971,\"\")","v":""},{"$f":"IF(SNPs!B1971<>\"\",MID(SNPs!B1971,FIND(\"[\",SNPs!B1971)+1,FIND(\"/\",SNPs!B1971)-FIND(\"[\",SNPs!B1971)-1),\"\")","v":""},{"$f":"IF(SNPs!B1971<>\"\",MID(SNPs!B1971,FIND(\"[\",SNPs!B1971)+3,FIND(\"/\",SNPs!B1971)-FIND(\"/\",SNPs!B1971)+1),\"\")","v":""},{"$f":"IF(SNPs!B1971<>\"\",SNPs!B1971,\"\")","v":""}]
[{"$f":"IF(SNPs!A1972<>\"\",SNPs!A1972,\"\")","v":""},{"$f":"IF(SNPs!B1972<>\"\",MID(SNPs!B1972,FIND(\"[\",SNPs!B1972)+1,FIND(\"/\",SNPs!B1972)-FIND(\"[\",SNPs!B1972)-1),\"\")","v":""},{"$f":"IF(SNPs!B1972<>\"\",MID(SNPs!B1972,FIND(\"[\",SNPs!B1972)+3,FIND(\"/\",SNPs!B1972)-FIND(\"/\",SNPs!B1972)+1),\"\")","v":""},{"$f":"IF(SNPs!B1972<>\"\",SNPs!B1972,\"\")","v":""}]
[{"$f":"IF(SNPs!A1973<>\"\",SNPs!A1973,\"\")","v":""},{"$f":"IF(SNPs!B1973<>\"\",MID(SNPs!B1973,FIND(\"[\",SNPs!B1973)+1,FIND(\"/\",SNPs!B1973)-FIND(\"[\",SNPs!B1973)-1),\"\")","v":""},{"$f":"IF(SNPs!B1973<>\"\",MID(SNPs!B1973,FIND(\"[\",SNPs!B1973)+3,FIND(\"/\",SNPs!B1973)-FIND(\"/\",SNPs!B1973)+1),\"\")","v":""},{"$f":"IF(SNPs!B1973<>\"\",SNPs!B1973,\"\")","v":""}]
[{"$f":"IF(SNPs!A1974<>\"\",SNPs!A1974,\"\")","v":""},{"$f":"IF(SNPs!B1974<>\"\",MID(SNPs!B1974,FIND(\"[\",SNPs!B1974)+1,FIND(\"/\",SNPs!B1974)-FIND(\"[\",SNPs!B1974)-1),\"\")","v":""},{"$f":"IF(SNPs!B1974<>\"\",MID(SNPs!B1974,FIND(\"[\",SNPs!B1974)+3,FIND(\"/\",SNPs!B1974)-FIND(\"/\",SNPs!B1974)+1),\"\")","v":""},{"$f":"IF(SNPs!B1974<>\"\",SNPs!B1974,\"\")","v":""}]
[{"$f":"IF(SNPs!A1975<>\"\",SNPs!A1975,\"\")","v":""},{"$f":"IF(SNPs!B1975<>\"\",MID(SNPs!B1975,FIND(\"[\",SNPs!B1975)+1,FIND(\"/\",SNPs!B1975)-FIND(\"[\",SNPs!B1975)-1),\"\")","v":""},{"$f":"IF(SNPs!B1975<>\"\",MID(SNPs!B1975,FIND(\"[\",SNPs!B1975)+3,FIND(\"/\",SNPs!B1975)-FIND(\"/\",SNPs!B1975)+1),\"\")","v":""},{"$f":"IF(SNPs!B1975<>\"\",SNPs!B1975,\"\")","v":""}]
[{"$f":"IF(SNPs!A1976<>\"\",SNPs!A1976,\"\")","v":""},{"$f":"IF(SNPs!B1976<>\"\",MID(SNPs!B1976,FIND(\"[\",SNPs!B1976)+1,FIND(\"/\",SNPs!B1976)-FIND(\"[\",SNPs!B1976)-1),\"\")","v":""},{"$f":"IF(SNPs!B1976<>\"\",MID(SNPs!B1976,FIND(\"[\",SNPs!B1976)+3,FIND(\"/\",SNPs!B1976)-FIND(\"/\",SNPs!B1976)+1),\"\")","v":""},{"$f":"IF(SNPs!B1976<>\"\",SNPs!B1976,\"\")","v":""}]
[{"$f":"IF(SNPs!A1977<>\"\",SNPs!A1977,\"\")","v":""},{"$f":"IF(SNPs!B1977<>\"\",MID(SNPs!B1977,FIND(\"[\",SNPs!B1977)+1,FIND(\"/\",SNPs!B1977)-FIND(\"[\",SNPs!B1977)-1),\"\")","v":""},{"$f":"IF(SNPs!B1977<>\"\",MID(SNPs!B1977,FIND(\"[\",SNPs!B1977)+3,FIND(\"/\",SNPs!B1977)-FIND(\"/\",SNPs!B1977)+1),\"\")","v":""},{"$f":"IF(SNPs!B1977<>\"\",SNPs!B1977,\"\")","v":""}]
[{"$f":"IF(SNPs!A1978<>\"\",SNPs!A1978,\"\")","v":""},{"$f":"IF(SNPs!B1978<>\"\",MID(SNPs!B1978,FIND(\"[\",SNPs!B1978)+1,FIND(\"/\",SNPs!B1978)-FIND(\"[\",SNPs!B1978)-1),\"\")","v":""},{"$f":"IF(SNPs!B1978<>\"\",MID(SNPs!B1978,FIND(\"[\",SNPs!B1978)+3,FIND(\"/\",SNPs!B1978)-FIND(\"/\",SNPs!B1978)+1),\"\")","v":""},{"$f":"IF(SNPs!B1978<>\"\",SNPs!B1978,\"\")","v":""}]
[{"$f":"IF(SNPs!A1979<>\"\",SNPs!A1979,\"\")","v":""},{"$f":"IF(SNPs!B1979<>\"\",MID(SNPs!B1979,FIND(\"[\",SNPs!B1979)+1,FIND(\"/\",SNPs!B1979)-FIND(\"[\",SNPs!B1979)-1),\"\")","v":""},{"$f":"IF(SNPs!B1979<>\"\",MID(SNPs!B1979,FIND(\"[\",SNPs!B1979)+3,FIND(\"/\",SNPs!B1979)-FIND(\"/\",SNPs!B1979)+1),\"\")","v":""},{"$f":"IF(SNPs!B1979<>\"\",SNPs!B1979,\"\")","v":""}]
[{"$f":"IF(SNPs!A1980<>\"\",SNPs!A1980,\"\")","v":""},{"$f":"IF(SNPs!B1980<>\"\",MID(SNPs!B1980,FIND(\"[\",SNPs!B1980)+1,FIND(\"/\",SNPs!B1980)-FIND(\"[\",SNPs!B1980)-1),\"\")","v":""},{"$f":"IF(SNPs!B1980<>\"\",MID(SNPs!B1980,FIND(\"[\",SNPs!B1980)+3,FIND(\"/\",SNPs!B1980)-FIND(\"/\",SNPs!B1980)+1),\"\")","v":""},{"$f":"IF(SNPs!B1980<>\"\",SNPs!B1980,\"\")","v":""}]
[{"$f":"IF(SNPs!A1981<>\"\",SNPs!A1981,\"\")","v":""},{"$f":"IF(SNPs!B1981<>\"\",MID(SNPs!B1981,FIND(\"[\",SNPs!B1981)+1,FIND(\"/\",SNPs!B1981)-FIND(\"[\",SNPs!B1981)-1),\"\")","v":""},{"$f":"IF(SNPs!B1981<>\"\",MID(SNPs!B1981,FIND(\"[\",SNPs!B1981)+3,FIND(\"/\",SNPs!B1981)-FIND(\"/\",SNPs!B1981)+1),\"\")","v":""},{"$f":"IF(SNPs!B1981<>\"\",SNPs!B1981,\"\")","v":""}]
[{"$f":"IF(SNPs!A1982<>\"\",SNPs!A1982,\"\")","v":""},{"$f":"IF(SNPs!B1982<>\"\",MID(SNPs!B1982,FIND(\"[\",SNPs!B1982)+1,FIND(\"/\",SNPs!B1982)-FIND(\"[\",SNPs!B1982)-1),\"\")","v":""},{"$f":"IF(SNPs!B1982<>\"\",MID(SNPs!B1982,FIND(\"[\",SNPs!B1982)+3,FIND(\"/\",SNPs!B1982)-FIND(\"/\",SNPs!B1982)+1),\"\")","v":""},{"$f":"IF(SNPs!B1982<>\"\",SNPs!B1982,\"\")","v":""}]
[{"$f":"IF(SNPs!A1983<>\"\",SNPs!A1983,\"\")","v":""},{"$f":"IF(SNPs!B1983<>\"\",MID(SNPs!B1983,FIND(\"[\",SNPs!B1983)+1,FIND(\"/\",SNPs!B1983)-FIND(\"[\",SNPs!B1983)-1),\"\")","v":""},{"$f":"IF(SNPs!B1983<>\"\",MID(SNPs!B1983,FIND(\"[\",SNPs!B1983)+3,FIND(\"/\",SNPs!B1983)-FIND(\"/\",SNPs!B1983)+1),\"\")","v":""},{"$f":"IF(SNPs!B1983<>\"\",SNPs!B1983,\"\")","v":""}]
[{"$f":"IF(SNPs!A1984<>\"\",SNPs!A1984,\"\")","v":""},{"$f":"IF(SNPs!B1984<>\"\",MID(SNPs!B1984,FIND(\"[\",SNPs!B1984)+1,FIND(\"/\",SNPs!B1984)-FIND(\"[\",SNPs!B1984)-1),\"\")","v":""},{"$f":"IF(SNPs!B1984<>\"\",MID(SNPs!B1984,FIND(\"[\",SNPs!B1984)+3,FIND(\"/\",SNPs!B1984)-FIND(\"/\",SNPs!B1984)+1),\"\")","v":""},{"$f":"IF(SNPs!B1984<>\"\",SNPs!B1984,\"\")","v":""}]
[{"$f":"IF(SNPs!A1985<>\"\",SNPs!A1985,\"\")","v":""},{"$f":"IF(SNPs!B1985<>\"\",MID(SNPs!B1985,FIND(\"[\",SNPs!B1985)+1,FIND(\"/\",SNPs!B1985)-FIND(\"[\",SNPs!B1985)-1),\"\")","v":""},{"$f":"IF(SNPs!B1985<>\"\",MID(SNPs!B1985,FIND(\"[\",SNPs!B1985)+3,FIND(\"/\",SNPs!B1985)-FIND(\"/\",SNPs!B1985)+1),\"\")","v":""},{"$f":"IF(SNPs!B1985<>\"\",SNPs!B1985,\"\")","v":""}]
[{"$f":"IF(SNPs!A1986<>\"\",SNPs!A1986,\"\")","v":""},{"$f":"IF(SNPs!B1986<>\"\",MID(SNPs!B1986,FIND(\"[\",SNPs!B1986)+1,FIND(\"/\",SNPs!B1986)-FIND(\"[\",SNPs!B1986)-1),\"\")","v":""},{"$f":"IF(SNPs!B1986<>\"\",MID(SNPs!B1986,FIND(\"[\",SNPs!B1986)+3,FIND(\"/\",SNPs!B1986)-FIND(\"/\",SNPs!B1986)+1),\"\")","v":""},{"$f":"IF(SNPs!B1986<>\"\",SNPs!B1986,\"\")","v":""}]
[{"$f":"IF(SNPs!A1987<>\"\",SNPs!A1987,\"\")","v":""},{"$f":"IF(SNPs!B1987<>\"\",MID(SNPs!B1987,FIND(\"[\",SNPs!B1987)+1,FIND(\"/\",SNPs!B1987)-FIND(\"[\",SNPs!B1987)-1),\"\")","v":""},{"$f":"IF(SNPs!B1987<>\"\",MID(SNPs!B1987,FIND(\"[\",SNPs!B1987)+3,FIND(\"/\",SNPs!B1987)-FIND(\"/\",SNPs!B1987)+1),\"\")","v":""},{"$f":"IF(SNPs!B1987<>\"\",SNPs!B1987,\"\")","v":""}]
[{"$f":"IF(SNPs!A1988<>\"\",SNPs!A1988,\"\")","v":""},{"$f":"IF(SNPs!B1988<>\"\",MID(SNPs!B1988,FIND(\"[\",SNPs!B1988)+1,FIND(\"/\",SNPs!B1988)-FIND(\"[\",SNPs!B1988)-1),\"\")","v":""},{"$f":"IF(SNPs!B1988<>\"\",MID(SNPs!B1988,FIND(\"[\",SNPs!B1988)+3,FIND(\"/\",SNPs!B1988)-FIND(\"/\",SNPs!B1988)+1),\"\")","v":""},{"$f":"IF(SNPs!B1988<>\"\",SNPs!B1988,\"\")","v":""}]
[{"$f":"IF(SNPs!A1989<>\"\",SNPs!A1989,\"\")","v":""},{"$f":"IF(SNPs!B1989<>\"\",MID(SNPs!B1989,FIND(\"[\",SNPs!B1989)+1,FIND(\"/\",SNPs!B1989)-FIND(\"[\",SNPs!B1989)-1),\"\")","v":""},{"$f":"IF(SNPs!B1989<>\"\",MID(SNPs!B1989,FIND(\"[\",SNPs!B1989)+3,FIND(\"/\",SNPs!B1989)-FIND(\"/\",SNPs!B1989)+1),\"\")","v":""},{"$f":"IF(SNPs!B1989<>\"\",SNPs!B1989,\"\")","v":""}]
[{"$f":"IF(SNPs!A1990<>\"\",SNPs!A1990,\"\")","v":""},{"$f":"IF(SNPs!B1990<>\"\",MID(SNPs!B1990,FIND(\"[\",SNPs!B1990)+1,FIND(\"/\",SNPs!B1990)-FIND(\"[\",SNPs!B1990)-1),\"\")","v":""},{"$f":"IF(SNPs!B1990<>\"\",MID(SNPs!B1990,FIND(\"[\",SNPs!B1990)+3,FIND(\"/\",SNPs!B1990)-FIND(\"/\",SNPs!B1990)+1),\"\")","v":""},{"$f":"IF(SNPs!B1990<>\"\",SNPs!B1990,\"\")","v":""}]
[{"$f":"IF(SNPs!A1991<>\"\",SNPs!A1991,\"\")","v":""},{"$f":"IF(SNPs!B1991<>\"\",MID(SNPs!B1991,FIND(\"[\",SNPs!B1991)+1,FIND(\"/\",SNPs!B1991)-FIND(\"[\",SNPs!B1991)-1),\"\")","v":""},{"$f":"IF(SNPs!B1991<>\"\",MID(SNPs!B1991,FIND(\"[\",SNPs!B1991)+3,FIND(\"/\",SNPs!B1991)-FIND(\"/\",SNPs!B1991)+1),\"\")","v":""},{"$f":"IF(SNPs!B1991<>\"\",SNPs!B1991,\"\")","v":""}]
[{"$f":"IF(SNPs!A1992<>\"\",SNPs!A1992,\"\")","v":""},{"$f":"IF(SNPs!B1992<>\"\",MID(SNPs!B1992,FIND(\"[\",SNPs!B1992)+1,FIND(\"/\",SNPs!B1992)-FIND(\"[\",SNPs!B1992)-1),\"\")","v":""},{"$f":"IF(SNPs!B1992<>\"\",MID(SNPs!B1992,FIND(\"[\",SNPs!B1992)+3,FIND(\"/\",SNPs!B1992)-FIND(\"/\",SNPs!B1992)+1),\"\")","v":""},{"$f":"IF(SNPs!B1992<>\"\",SNPs!B1992,\"\")","v":""}]
[{"$f":"IF(SNPs!A1993<>\"\",SNPs!A1993,\"\")","v":""},{"$f":"IF(SNPs!B1993<>\"\",MID(SNPs!B1993,FIND(\"[\",SNPs!B1993)+1,FIND(\"/\",SNPs!B1993)-FIND(\"[\",SNPs!B1993)-1),\"\")","v":""},{"$f":"IF(SNPs!B1993<>\"\",MID(SNPs!B1993,FIND(\"[\",SNPs!B1993)+3,FIND(\"/\",SNPs!B1993)-FIND(\"/\",SNPs!B1993)+1),\"\")","v":""},{"$f":"IF(SNPs!B1993<>\"\",SNPs!B1993,\"\")","v":""}]
[{"$f":"IF(SNPs!A1994<>\"\",SNPs!A1994,\"\")","v":""},{"$f":"IF(SNPs!B1994<>\"\",MID(SNPs!B1994,FIND(\"[\",SNPs!B1994)+1,FIND(\"/\",SNPs!B1994)-FIND(\"[\",SNPs!B1994)-1),\"\")","v":""},{"$f":"IF(SNPs!B1994<>\"\",MID(SNPs!B1994,FIND(\"[\",SNPs!B1994)+3,FIND(\"/\",SNPs!B1994)-FIND(\"/\",SNPs!B1994)+1),\"\")","v":""},{"$f":"IF(SNPs!B1994<>\"\",SNPs!B1994,\"\")","v":""}]
[{"$f":"IF(SNPs!A1995<>\"\",SNPs!A1995,\"\")","v":""},{"$f":"IF(SNPs!B1995<>\"\",MID(SNPs!B1995,FIND(\"[\",SNPs!B1995)+1,FIND(\"/\",SNPs!B1995)-FIND(\"[\",SNPs!B1995)-1),\"\")","v":""},{"$f":"IF(SNPs!B1995<>\"\",MID(SNPs!B1995,FIND(\"[\",SNPs!B1995)+3,FIND(\"/\",SNPs!B1995)-FIND(\"/\",SNPs!B1995)+1),\"\")","v":""},{"$f":"IF(SNPs!B1995<>\"\",SNPs!B1995,\"\")","v":""}]
[{"$f":"IF(SNPs!A1996<>\"\",SNPs!A1996,\"\")","v":""},{"$f":"IF(SNPs!B1996<>\"\",MID(SNPs!B1996,FIND(\"[\",SNPs!B1996)+1,FIND(\"/\",SNPs!B1996)-FIND(\"[\",SNPs!B1996)-1),\"\")","v":""},{"$f":"IF(SNPs!B1996<>\"\",MID(SNPs!B1996,FIND(\"[\",SNPs!B1996)+3,FIND(\"/\",SNPs!B1996)-FIND(\"/\",SNPs!B1996)+1),\"\")","v":""},{"$f":"IF(SNPs!B1996<>\"\",SNPs!B1996,\"\")","v":""}]
[{"$f":"IF(SNPs!A1997<>\"\",SNPs!A1997,\"\")","v":""},{"$f":"IF(SNPs!B1997<>\"\",MID(SNPs!B1997,FIND(\"[\",SNPs!B1997)+1,FIND(\"/\",SNPs!B1997)-FIND(\"[\",SNPs!B1997)-1),\"\")","v":""},{"$f":"IF(SNPs!B1997<>\"\",MID(SNPs!B1997,FIND(\"[\",SNPs!B1997)+3,FIND(\"/\",SNPs!B1997)-FIND(\"/\",SNPs!B1997)+1),\"\")","v":""},{"$f":"IF(SNPs!B1997<>\"\",SNPs!B1997,\"\")","v":""}]
[{"$f":"IF(SNPs!A1998<>\"\",SNPs!A1998,\"\")","v":""},{"$f":"IF(SNPs!B1998<>\"\",MID(SNPs!B1998,FIND(\"[\",SNPs!B1998)+1,FIND(\"/\",SNPs!B1998)-FIND(\"[\",SNPs!B1998)-1),\"\")","v":""},{"$f":"IF(SNPs!B1998<>\"\",MID(SNPs!B1998,FIND(\"[\",SNPs!B1998)+3,FIND(\"/\",SNPs!B1998)-FIND(\"/\",SNPs!B1998)+1),\"\")","v":""},{"$f":"IF(SNPs!B1998<>\"\",SNPs!B1998,\"\")","v":""}]
[{"$f":"IF(SNPs!A1999<>\"\",SNPs!A1999,\"\")","v":""},{"$f":"IF(SNPs!B1999<>\"\",MID(SNPs!B1999,FIND(\"[\",SNPs!B1999)+1,FIND(\"/\",SNPs!B1999)-FIND(\"[\",SNPs!B1999)-1),\"\")","v":""},{"$f":"IF(SNPs!B1999<>\"\",MID(SNPs!B1999,FIND(\"[\",SNPs!B1999)+3,FIND(\"/\",SNPs!B1999)-FIND(\"/\",SNPs!B1999)+1),\"\")","v":""},{"$f":"IF(SNPs!B1999<>\"\",SNPs!B1999,\"\")","v":""}]
[{"$f":"IF(SNPs!A2000<>\"\",SNPs!A2000,\"\")","v":""},{"$f":"IF(SNPs!B2000<>\"\",MID(SNPs!B2000,FIND(\"[\",SNPs!B2000)+1,FIND(\"/\",SNPs!B2000)-FIND(\"[\",SNPs!B2000)-1),\"\")","v":""},{"$f":"IF(SNPs!B2000<>\"\",MID(SNPs!B2000,FIND(\"[\",SNPs!B2000)+3,FIND(\"/\",SNPs!B2000)-FIND(\"/\",SNPs!B2000)+1),\"\")","v":""},{"$f":"IF(SNPs!B2000<>\"\",SNPs!B2000,\"\")","v":""}]
[{"$f":"IF(SNPs!A2001<>\"\",SNPs!A2001,\"\")","v":""},{"$f":"IF(SNPs!B2001<>\"\",MID(SNPs!B2001,FIND(\"[\",SNPs!B2001)+1,FIND(\"/\",SNPs!B2001)-FIND(\"[\",SNPs!B2001)-1),\"\")","v":""},{"$f":"IF(SNPs!B2001<>\"\",MID(SNPs!B2001,FIND(\"[\",SNPs!B2001)+3,FIND(\"/\",SNPs!B2001)-FIND(\"/\",SNPs!B2001)+1),\"\")","v":""},{"$f":"IF(SNPs!B2001<>\"\",SNPs!B2001,\"\")","v":""}]
[{"$f":"IF(SNPs!A2002<>\"\",SNPs!A2002,\"\")","v":""},{"$f":"IF(SNPs!B2002<>\"\",MID(SNPs!B2002,FIND(\"[\",SNPs!B2002)+1,FIND(\"/\",SNPs!B2002)-FIND(\"[\",SNPs!B2002)-1),\"\")","v":""},{"$f":"IF(SNPs!B2002<>\"\",MID(SNPs!B2002,FIND(\"[\",SNPs!B2002)+3,FIND(\"/\",SNPs!B2002)-FIND(\"/\",SNPs!B2002)+1),\"\")","v":""},{"$f":"IF(SNPs!B2002<>\"\",SNPs!B2002,\"\")","v":""}]
[{"$f":"IF(SNPs!A2003<>\"\",SNPs!A2003,\"\")","v":""},{"$f":"IF(SNPs!B2003<>\"\",MID(SNPs!B2003,FIND(\"[\",SNPs!B2003)+1,FIND(\"/\",SNPs!B2003)-FIND(\"[\",SNPs!B2003)-1),\"\")","v":""},{"$f":"IF(SNPs!B2003<>\"\",MID(SNPs!B2003,FIND(\"[\",SNPs!B2003)+3,FIND(\"/\",SNPs!B2003)-FIND(\"/\",SNPs!B2003)+1),\"\")","v":""},{"$f":"IF(SNPs!B2003<>\"\",SNPs!B2003,\"\")","v":""}]
[{"$f":"IF(SNPs!A2004<>\"\",SNPs!A2004,\"\")","v":""},{"$f":"IF(SNPs!B2004<>\"\",MID(SNPs!B2004,FIND(\"[\",SNPs!B2004)+1,FIND(\"/\",SNPs!B2004)-FIND(\"[\",SNPs!B2004)-1),\"\")","v":""},{"$f":"IF(SNPs!B2004<>\"\",MID(SNPs!B2004,FIND(\"[\",SNPs!B2004)+3,FIND(\"/\",SNPs!B2004)-FIND(\"/\",SNPs!B2004)+1),\"\")","v":""},{"$f":"IF(SNPs!B2004<>\"\",SNPs!B2004,\"\")","v":""}]
[{"$f":"IF(SNPs!A2005<>\"\",SNPs!A2005,\"\")","v":""},{"$f":"IF(SNPs!B2005<>\"\",MID(SNPs!B2005,FIND(\"[\",SNPs!B2005)+1,FIND(\"/\",SNPs!B2005)-FIND(\"[\",SNPs!B2005)-1),\"\")","v":""},{"$f":"IF(SNPs!B2005<>\"\",MID(SNPs!B2005,FIND(\"[\",SNPs!B2005)+3,FIND(\"/\",SNPs!B2005)-FIND(\"/\",SNPs!B2005)+1),\"\")","v":""},{"$f":"IF(SNPs!B2005<>\"\",SNPs!B2005,\"\")","v":""}]
[{"$f":"IF(SNPs!A2006<>\"\",SNPs!A2006,\"\")","v":""},{"$f":"IF(SNPs!B2006<>\"\",MID(SNPs!B2006,FIND(\"[\",SNPs!B2006)+1,FIND(\"/\",SNPs!B2006)-FIND(\"[\",SNPs!B2006)-1),\"\")","v":""},{"$f":"IF(SNPs!B2006<>\"\",MID(SNPs!B2006,FIND(\"[\",SNPs!B2006)+3,FIND(\"/\",SNPs!B2006)-FIND(\"/\",SNPs!B2006)+1),\"\")","v":""},{"$f":"IF(SNPs!B2006<>\"\",SNPs!B2006,\"\")","v":""}]
[{"$f":"IF(SNPs!A2007<>\"\",SNPs!A2007,\"\")","v":""},{"$f":"IF(SNPs!B2007<>\"\",MID(SNPs!B2007,FIND(\"[\",SNPs!B2007)+1,FIND(\"/\",SNPs!B2007)-FIND(\"[\",SNPs!B2007)-1),\"\")","v":""},{"$f":"IF(SNPs!B2007<>\"\",MID(SNPs!B2007,FIND(\"[\",SNPs!B2007)+3,FIND(\"/\",SNPs!B2007)-FIND(\"/\",SNPs!B2007)+1),\"\")","v":""},{"$f":"IF(SNPs!B2007<>\"\",SNPs!B2007,\"\")","v":""}]
[{"$f":"IF(SNPs!A2008<>\"\",SNPs!A2008,\"\")","v":""},{"$f":"IF(SNPs!B2008<>\"\",MID(SNPs!B2008,FIND(\"[\",SNPs!B2008)+1,FIND(\"/\",SNPs!B2008)-FIND(\"[\",SNPs!B2008)-1),\"\")","v":""},{"$f":"IF(SNPs!B2008<>\"\",MID(SNPs!B2008,FIND(\"[\",SNPs!B2008)+3,FIND(\"/\",SNPs!B2008)-FIND(\"/\",SNPs!B2008)+1),\"\")","v":""},{"$f":"IF(SNPs!B2008<>\"\",SNPs!B2008,\"\")","v":""}]
[{"$f":"IF(SNPs!A2009<>\"\",SNPs!A2009,\"\")","v":""},{"$f":"IF(SNPs!B2009<>\"\",MID(SNPs!B2009,FIND(\"[\",SNPs!B2009)+1,FIND(\"/\",SNPs!B2009)-FIND(\"[\",SNPs!B2009)-1),\"\")","v":""},{"$f":"IF(SNPs!B2009<>\"\",MID(SNPs!B2009,FIND(\"[\",SNPs!B2009)+3,FIND(\"/\",SNPs!B2009)-FIND(\"/\",SNPs!B2009)+1),\"\")","v":""},{"$f":"IF(SNPs!B2009<>\"\",SNPs!B2009,\"\")","v":""}]
[{"$f":"IF(SNPs!A2010<>\"\",SNPs!A2010,\"\")","v":""},{"$f":"IF(SNPs!B2010<>\"\",MID(SNPs!B2010,FIND(\"[\",SNPs!B2010)+1,FIND(\"/\",SNPs!B2010)-FIND(\"[\",SNPs!B2010)-1),\"\")","v":""},{"$f":"IF(SNPs!B2010<>\"\",MID(SNPs!B2010,FIND(\"[\",SNPs!B2010)+3,FIND(\"/\",SNPs!B2010)-FIND(\"/\",SNPs!B2010)+1),\"\")","v":""},{"$f":"IF(SNPs!B2010<>\"\",SNPs!B2010,\"\")","v":""}]
[{"$f":"IF(SNPs!A2011<>\"\",SNPs!A2011,\"\")","v":""},{"$f":"IF(SNPs!B2011<>\"\",MID(SNPs!B2011,FIND(\"[\",SNPs!B2011)+1,FIND(\"/\",SNPs!B2011)-FIND(\"[\",SNPs!B2011)-1),\"\")","v":""},{"$f":"IF(SNPs!B2011<>\"\",MID(SNPs!B2011,FIND(\"[\",SNPs!B2011)+3,FIND(\"/\",SNPs!B2011)-FIND(\"/\",SNPs!B2011)+1),\"\")","v":""},{"$f":"IF(SNPs!B2011<>\"\",SNPs!B2011,\"\")","v":""}]
[{"$f":"IF(SNPs!A2012<>\"\",SNPs!A2012,\"\")","v":""},{"$f":"IF(SNPs!B2012<>\"\",MID(SNPs!B2012,FIND(\"[\",SNPs!B2012)+1,FIND(\"/\",SNPs!B2012)-FIND(\"[\",SNPs!B2012)-1),\"\")","v":""},{"$f":"IF(SNPs!B2012<>\"\",MID(SNPs!B2012,FIND(\"[\",SNPs!B2012)+3,FIND(\"/\",SNPs!B2012)-FIND(\"/\",SNPs!B2012)+1),\"\")","v":""},{"$f":"IF(SNPs!B2012<>\"\",SNPs!B2012,\"\")","v":""}]
[{"$f":"IF(SNPs!A2013<>\"\",SNPs!A2013,\"\")","v":""},{"$f":"IF(SNPs!B2013<>\"\",MID(SNPs!B2013,FIND(\"[\",SNPs!B2013)+1,FIND(\"/\",SNPs!B2013)-FIND(\"[\",SNPs!B2013)-1),\"\")","v":""},{"$f":"IF(SNPs!B2013<>\"\",MID(SNPs!B2013,FIND(\"[\",SNPs!B2013)+3,FIND(\"/\",SNPs!B2013)-FIND(\"/\",SNPs!B2013)+1),\"\")","v":""},{"$f":"IF(SNPs!B2013<>\"\",SNPs!B2013,\"\")","v":""}]
[{"$f":"IF(SNPs!A2014<>\"\",SNPs!A2014,\"\")","v":""},{"$f":"IF(SNPs!B2014<>\"\",MID(SNPs!B2014,FIND(\"[\",SNPs!B2014)+1,FIND(\"/\",SNPs!B2014)-FIND(\"[\",SNPs!B2014)-1),\"\")","v":""},{"$f":"IF(SNPs!B2014<>\"\",MID(SNPs!B2014,FIND(\"[\",SNPs!B2014)+3,FIND(\"/\",SNPs!B2014)-FIND(\"/\",SNPs!B2014)+1),\"\")","v":""},{"$f":"IF(SNPs!B2014<>\"\",SNPs!B2014,\"\")","v":""}]
[{"$f":"IF(SNPs!A2015<>\"\",SNPs!A2015,\"\")","v":""},{"$f":"IF(SNPs!B2015<>\"\",MID(SNPs!B2015,FIND(\"[\",SNPs!B2015)+1,FIND(\"/\",SNPs!B2015)-FIND(\"[\",SNPs!B2015)-1),\"\")","v":""},{"$f":"IF(SNPs!B2015<>\"\",MID(SNPs!B2015,FIND(\"[\",SNPs!B2015)+3,FIND(\"/\",SNPs!B2015)-FIND(\"/\",SNPs!B2015)+1),\"\")","v":""},{"$f":"IF(SNPs!B2015<>\"\",SNPs!B2015,\"\")","v":""}]
[{"$f":"IF(SNPs!A2016<>\"\",SNPs!A2016,\"\")","v":""},{"$f":"IF(SNPs!B2016<>\"\",MID(SNPs!B2016,FIND(\"[\",SNPs!B2016)+1,FIND(\"/\",SNPs!B2016)-FIND(\"[\",SNPs!B2016)-1),\"\")","v":""},{"$f":"IF(SNPs!B2016<>\"\",MID(SNPs!B2016,FIND(\"[\",SNPs!B2016)+3,FIND(\"/\",SNPs!B2016)-FIND(\"/\",SNPs!B2016)+1),\"\")","v":""},{"$f":"IF(SNPs!B2016<>\"\",SNPs!B2016,\"\")","v":""}]
[{"$f":"IF(SNPs!A2017<>\"\",SNPs!A2017,\"\")","v":""},{"$f":"IF(SNPs!B2017<>\"\",MID(SNPs!B2017,FIND(\"[\",SNPs!B2017)+1,FIND(\"/\",SNPs!B2017)-FIND(\"[\",SNPs!B2017)-1),\"\")","v":""},{"$f":"IF(SNPs!B2017<>\"\",MID(SNPs!B2017,FIND(\"[\",SNPs!B2017)+3,FIND(\"/\",SNPs!B2017)-FIND(\"/\",SNPs!B2017)+1),\"\")","v":""},{"$f":"IF(SNPs!B2017<>\"\",SNPs!B2017,\"\")","v":""}]
[{"$f":"IF(SNPs!A2018<>\"\",SNPs!A2018,\"\")","v":""},{"$f":"IF(SNPs!B2018<>\"\",MID(SNPs!B2018,FIND(\"[\",SNPs!B2018)+1,FIND(\"/\",SNPs!B2018)-FIND(\"[\",SNPs!B2018)-1),\"\")","v":""},{"$f":"IF(SNPs!B2018<>\"\",MID(SNPs!B2018,FIND(\"[\",SNPs!B2018)+3,FIND(\"/\",SNPs!B2018)-FIND(\"/\",SNPs!B2018)+1),\"\")","v":""},{"$f":"IF(SNPs!B2018<>\"\",SNPs!B2018,\"\")","v":""}]
[{"$f":"IF(SNPs!A2019<>\"\",SNPs!A2019,\"\")","v":""},{"$f":"IF(SNPs!B2019<>\"\",MID(SNPs!B2019,FIND(\"[\",SNPs!B2019)+1,FIND(\"/\",SNPs!B2019)-FIND(\"[\",SNPs!B2019)-1),\"\")","v":""},{"$f":"IF(SNPs!B2019<>\"\",MID(SNPs!B2019,FIND(\"[\",SNPs!B2019)+3,FIND(\"/\",SNPs!B2019)-FIND(\"/\",SNPs!B2019)+1),\"\")","v":""},{"$f":"IF(SNPs!B2019<>\"\",SNPs!B2019,\"\")","v":""}]
[{"$f":"IF(SNPs!A2020<>\"\",SNPs!A2020,\"\")","v":""},{"$f":"IF(SNPs!B2020<>\"\",MID(SNPs!B2020,FIND(\"[\",SNPs!B2020)+1,FIND(\"/\",SNPs!B2020)-FIND(\"[\",SNPs!B2020)-1),\"\")","v":""},{"$f":"IF(SNPs!B2020<>\"\",MID(SNPs!B2020,FIND(\"[\",SNPs!B2020)+3,FIND(\"/\",SNPs!B2020)-FIND(\"/\",SNPs!B2020)+1),\"\")","v":""},{"$f":"IF(SNPs!B2020<>\"\",SNPs!B2020,\"\")","v":""}]
[{"$f":"IF(SNPs!A2021<>\"\",SNPs!A2021,\"\")","v":""},{"$f":"IF(SNPs!B2021<>\"\",MID(SNPs!B2021,FIND(\"[\",SNPs!B2021)+1,FIND(\"/\",SNPs!B2021)-FIND(\"[\",SNPs!B2021)-1),\"\")","v":""},{"$f":"IF(SNPs!B2021<>\"\",MID(SNPs!B2021,FIND(\"[\",SNPs!B2021)+3,FIND(\"/\",SNPs!B2021)-FIND(\"/\",SNPs!B2021)+1),\"\")","v":""},{"$f":"IF(SNPs!B2021<>\"\",SNPs!B2021,\"\")","v":""}]
[{"$f":"IF(SNPs!A2022<>\"\",SNPs!A2022,\"\")","v":""},{"$f":"IF(SNPs!B2022<>\"\",MID(SNPs!B2022,FIND(\"[\",SNPs!B2022)+1,FIND(\"/\",SNPs!B2022)-FIND(\"[\",SNPs!B2022)-1),\"\")","v":""},{"$f":"IF(SNPs!B2022<>\"\",MID(SNPs!B2022,FIND(\"[\",SNPs!B2022)+3,FIND(\"/\",SNPs!B2022)-FIND(\"/\",SNPs!B2022)+1),\"\")","v":""},{"$f":"IF(SNPs!B2022<>\"\",SNPs!B2022,\"\")","v":""}]
[{"$f":"IF(SNPs!A2023<>\"\",SNPs!A2023,\"\")","v":""},{"$f":"IF(SNPs!B2023<>\"\",MID(SNPs!B2023,FIND(\"[\",SNPs!B2023)+1,FIND(\"/\",SNPs!B2023)-FIND(\"[\",SNPs!B2023)-1),\"\")","v":""},{"$f":"IF(SNPs!B2023<>\"\",MID(SNPs!B2023,FIND(\"[\",SNPs!B2023)+3,FIND(\"/\",SNPs!B2023)-FIND(\"/\",SNPs!B2023)+1),\"\")","v":""},{"$f":"IF(SNPs!B2023<>\"\",SNPs!B2023,\"\")","v":""}]
[{"$f":"IF(SNPs!A2024<>\"\",SNPs!A2024,\"\")","v":""},{"$f":"IF(SNPs!B2024<>\"\",MID(SNPs!B2024,FIND(\"[\",SNPs!B2024)+1,FIND(\"/\",SNPs!B2024)-FIND(\"[\",SNPs!B2024)-1),\"\")","v":""},{"$f":"IF(SNPs!B2024<>\"\",MID(SNPs!B2024,FIND(\"[\",SNPs!B2024)+3,FIND(\"/\",SNPs!B2024)-FIND(\"/\",SNPs!B2024)+1),\"\")","v":""},{"$f":"IF(SNPs!B2024<>\"\",SNPs!B2024,\"\")","v":""}]
[{"$f":"IF(SNPs!A2025<>\"\",SNPs!A2025,\"\")","v":""},{"$f":"IF(SNPs!B2025<>\"\",MID(SNPs!B2025,FIND(\"[\",SNPs!B2025)+1,FIND(\"/\",SNPs!B2025)-FIND(\"[\",SNPs!B2025)-1),\"\")","v":""},{"$f":"IF(SNPs!B2025<>\"\",MID(SNPs!B2025,FIND(\"[\",SNPs!B2025)+3,FIND(\"/\",SNPs!B2025)-FIND(\"/\",SNPs!B2025)+1),\"\")","v":""},{"$f":"IF(SNPs!B2025<>\"\",SNPs!B2025,\"\")","v":""}]
[{"$f":"IF(SNPs!A2026<>\"\",SNPs!A2026,\"\")","v":""},{"$f":"IF(SNPs!B2026<>\"\",MID(SNPs!B2026,FIND(\"[\",SNPs!B2026)+1,FIND(\"/\",SNPs!B2026)-FIND(\"[\",SNPs!B2026)-1),\"\")","v":""},{"$f":"IF(SNPs!B2026<>\"\",MID(SNPs!B2026,FIND(\"[\",SNPs!B2026)+3,FIND(\"/\",SNPs!B2026)-FIND(\"/\",SNPs!B2026)+1),\"\")","v":""},{"$f":"IF(SNPs!B2026<>\"\",SNPs!B2026,\"\")","v":""}]
[{"$f":"IF(SNPs!A2027<>\"\",SNPs!A2027,\"\")","v":""},{"$f":"IF(SNPs!B2027<>\"\",MID(SNPs!B2027,FIND(\"[\",SNPs!B2027)+1,FIND(\"/\",SNPs!B2027)-FIND(\"[\",SNPs!B2027)-1),\"\")","v":""},{"$f":"IF(SNPs!B2027<>\"\",MID(SNPs!B2027,FIND(\"[\",SNPs!B2027)+3,FIND(\"/\",SNPs!B2027)-FIND(\"/\",SNPs!B2027)+1),\"\")","v":""},{"$f":"IF(SNPs!B2027<>\"\",SNPs!B2027,\"\")","v":""}]
[{"$f":"IF(SNPs!A2028<>\"\",SNPs!A2028,\"\")","v":""},{"$f":"IF(SNPs!B2028<>\"\",MID(SNPs!B2028,FIND(\"[\",SNPs!B2028)+1,FIND(\"/\",SNPs!B2028)-FIND(\"[\",SNPs!B2028)-1),\"\")","v":""},{"$f":"IF(SNPs!B2028<>\"\",MID(SNPs!B2028,FIND(\"[\",SNPs!B2028)+3,FIND(\"/\",SNPs!B2028)-FIND(\"/\",SNPs!B2028)+1),\"\")","v":""},{"$f":"IF(SNPs!B2028<>\"\",SNPs!B2028,\"\")","v":""}]
[{"$f":"IF(SNPs!A2029<>\"\",SNPs!A2029,\"\")","v":""},{"$f":"IF(SNPs!B2029<>\"\",MID(SNPs!B2029,FIND(\"[\",SNPs!B2029)+1,FIND(\"/\",SNPs!B2029)-FIND(\"[\",SNPs!B2029)-1),\"\")","v":""},{"$f":"IF(SNPs!B2029<>\"\",MID(SNPs!B2029,FIND(\"[\",SNPs!B2029)+3,FIND(\"/\",SNPs!B2029)-FIND(\"/\",SNPs!B2029)+1),\"\")","v":""},{"$f":"IF(SNPs!B2029<>\"\",SNPs!B2029,\"\")","v":""}]
[{"$f":"IF(SNPs!A2030<>\"\",SNPs!A2030,\"\")","v":""},{"$f":"IF(SNPs!B2030<>\"\",MID(SNPs!B2030,FIND(\"[\",SNPs!B2030)+1,FIND(\"/\",SNPs!B2030)-FIND(\"[\",SNPs!B2030)-1),\"\")","v":""},{"$f":"IF(SNPs!B2030<>\"\",MID(SNPs!B2030,FIND(\"[\",SNPs!B2030)+3,FIND(\"/\",SNPs!B2030)-FIND(\"/\",SNPs!B2030)+1),\"\")","v":""},{"$f":"IF(SNPs!B2030<>\"\",SNPs!B2030,\"\")","v":""}]
[{"$f":"IF(SNPs!A2031<>\"\",SNPs!A2031,\"\")","v":""},{"$f":"IF(SNPs!B2031<>\"\",MID(SNPs!B2031,FIND(\"[\",SNPs!B2031)+1,FIND(\"/\",SNPs!B2031)-FIND(\"[\",SNPs!B2031)-1),\"\")","v":""},{"$f":"IF(SNPs!B2031<>\"\",MID(SNPs!B2031,FIND(\"[\",SNPs!B2031)+3,FIND(\"/\",SNPs!B2031)-FIND(\"/\",SNPs!B2031)+1),\"\")","v":""},{"$f":"IF(SNPs!B2031<>\"\",SNPs!B2031,\"\")","v":""}]
[{"$f":"IF(SNPs!A2032<>\"\",SNPs!A2032,\"\")","v":""},{"$f":"IF(SNPs!B2032<>\"\",MID(SNPs!B2032,FIND(\"[\",SNPs!B2032)+1,FIND(\"/\",SNPs!B2032)-FIND(\"[\",SNPs!B2032)-1),\"\")","v":""},{"$f":"IF(SNPs!B2032<>\"\",MID(SNPs!B2032,FIND(\"[\",SNPs!B2032)+3,FIND(\"/\",SNPs!B2032)-FIND(\"/\",SNPs!B2032)+1),\"\")","v":""},{"$f":"IF(SNPs!B2032<>\"\",SNPs!B2032,\"\")","v":""}]
[{"$f":"IF(SNPs!A2033<>\"\",SNPs!A2033,\"\")","v":""},{"$f":"IF(SNPs!B2033<>\"\",MID(SNPs!B2033,FIND(\"[\",SNPs!B2033)+1,FIND(\"/\",SNPs!B2033)-FIND(\"[\",SNPs!B2033)-1),\"\")","v":""},{"$f":"IF(SNPs!B2033<>\"\",MID(SNPs!B2033,FIND(\"[\",SNPs!B2033)+3,FIND(\"/\",SNPs!B2033)-FIND(\"/\",SNPs!B2033)+1),\"\")","v":""},{"$f":"IF(SNPs!B2033<>\"\",SNPs!B2033,\"\")","v":""}]
[{"$f":"IF(SNPs!A2034<>\"\",SNPs!A2034,\"\")","v":""},{"$f":"IF(SNPs!B2034<>\"\",MID(SNPs!B2034,FIND(\"[\",SNPs!B2034)+1,FIND(\"/\",SNPs!B2034)-FIND(\"[\",SNPs!B2034)-1),\"\")","v":""},{"$f":"IF(SNPs!B2034<>\"\",MID(SNPs!B2034,FIND(\"[\",SNPs!B2034)+3,FIND(\"/\",SNPs!B2034)-FIND(\"/\",SNPs!B2034)+1),\"\")","v":""},{"$f":"IF(SNPs!B2034<>\"\",SNPs!B2034,\"\")","v":""}]
[{"$f":"IF(SNPs!A2035<>\"\",SNPs!A2035,\"\")","v":""},{"$f":"IF(SNPs!B2035<>\"\",MID(SNPs!B2035,FIND(\"[\",SNPs!B2035)+1,FIND(\"/\",SNPs!B2035)-FIND(\"[\",SNPs!B2035)-1),\"\")","v":""},{"$f":"IF(SNPs!B2035<>\"\",MID(SNPs!B2035,FIND(\"[\",SNPs!B2035)+3,FIND(\"/\",SNPs!B2035)-FIND(\"/\",SNPs!B2035)+1),\"\")","v":""},{"$f":"IF(SNPs!B2035<>\"\",SNPs!B2035,\"\")","v":""}]
[{"$f":"IF(SNPs!A2036<>\"\",SNPs!A2036,\"\")","v":""},{"$f":"IF(SNPs!B2036<>\"\",MID(SNPs!B2036,FIND(\"[\",SNPs!B2036)+1,FIND(\"/\",SNPs!B2036)-FIND(\"[\",SNPs!B2036)-1),\"\")","v":""},{"$f":"IF(SNPs!B2036<>\"\",MID(SNPs!B2036,FIND(\"[\",SNPs!B2036)+3,FIND(\"/\",SNPs!B2036)-FIND(\"/\",SNPs!B2036)+1),\"\")","v":""},{"$f":"IF(SNPs!B2036<>\"\",SNPs!B2036,\"\")","v":""}]
[{"$f":"IF(SNPs!A2037<>\"\",SNPs!A2037,\"\")","v":""},{"$f":"IF(SNPs!B2037<>\"\",MID(SNPs!B2037,FIND(\"[\",SNPs!B2037)+1,FIND(\"/\",SNPs!B2037)-FIND(\"[\",SNPs!B2037)-1),\"\")","v":""},{"$f":"IF(SNPs!B2037<>\"\",MID(SNPs!B2037,FIND(\"[\",SNPs!B2037)+3,FIND(\"/\",SNPs!B2037)-FIND(\"/\",SNPs!B2037)+1),\"\")","v":""},{"$f":"IF(SNPs!B2037<>\"\",SNPs!B2037,\"\")","v":""}]
[{"$f":"IF(SNPs!A2038<>\"\",SNPs!A2038,\"\")","v":""},{"$f":"IF(SNPs!B2038<>\"\",MID(SNPs!B2038,FIND(\"[\",SNPs!B2038)+1,FIND(\"/\",SNPs!B2038)-FIND(\"[\",SNPs!B2038)-1),\"\")","v":""},{"$f":"IF(SNPs!B2038<>\"\",MID(SNPs!B2038,FIND(\"[\",SNPs!B2038)+3,FIND(\"/\",SNPs!B2038)-FIND(\"/\",SNPs!B2038)+1),\"\")","v":""},{"$f":"IF(SNPs!B2038<>\"\",SNPs!B2038,\"\")","v":""}]
[{"$f":"IF(SNPs!A2039<>\"\",SNPs!A2039,\"\")","v":""},{"$f":"IF(SNPs!B2039<>\"\",MID(SNPs!B2039,FIND(\"[\",SNPs!B2039)+1,FIND(\"/\",SNPs!B2039)-FIND(\"[\",SNPs!B2039)-1),\"\")","v":""},{"$f":"IF(SNPs!B2039<>\"\",MID(SNPs!B2039,FIND(\"[\",SNPs!B2039)+3,FIND(\"/\",SNPs!B2039)-FIND(\"/\",SNPs!B2039)+1),\"\")","v":""},{"$f":"IF(SNPs!B2039<>\"\",SNPs!B2039,\"\")","v":""}]
[{"$f":"IF(SNPs!A2040<>\"\",SNPs!A2040,\"\")","v":""},{"$f":"IF(SNPs!B2040<>\"\",MID(SNPs!B2040,FIND(\"[\",SNPs!B2040)+1,FIND(\"/\",SNPs!B2040)-FIND(\"[\",SNPs!B2040)-1),\"\")","v":""},{"$f":"IF(SNPs!B2040<>\"\",MID(SNPs!B2040,FIND(\"[\",SNPs!B2040)+3,FIND(\"/\",SNPs!B2040)-FIND(\"/\",SNPs!B2040)+1),\"\")","v":""},{"$f":"IF(SNPs!B2040<>\"\",SNPs!B2040,\"\")","v":""}]
[{"$f":"IF(SNPs!A2041<>\"\",SNPs!A2041,\"\")","v":""},{"$f":"IF(SNPs!B2041<>\"\",MID(SNPs!B2041,FIND(\"[\",SNPs!B2041)+1,FIND(\"/\",SNPs!B2041)-FIND(\"[\",SNPs!B2041)-1),\"\")","v":""},{"$f":"IF(SNPs!B2041<>\"\",MID(SNPs!B2041,FIND(\"[\",SNPs!B2041)+3,FIND(\"/\",SNPs!B2041)-FIND(\"/\",SNPs!B2041)+1),\"\")","v":""},{"$f":"IF(SNPs!B2041<>\"\",SNPs!B2041,\"\")","v":""}]
[{"$f":"IF(SNPs!A2042<>\"\",SNPs!A2042,\"\")","v":""},{"$f":"IF(SNPs!B2042<>\"\",MID(SNPs!B2042,FIND(\"[\",SNPs!B2042)+1,FIND(\"/\",SNPs!B2042)-FIND(\"[\",SNPs!B2042)-1),\"\")","v":""},{"$f":"IF(SNPs!B2042<>\"\",MID(SNPs!B2042,FIND(\"[\",SNPs!B2042)+3,FIND(\"/\",SNPs!B2042)-FIND(\"/\",SNPs!B2042)+1),\"\")","v":""},{"$f":"IF(SNPs!B2042<>\"\",SNPs!B2042,\"\")","v":""}]
[{"$f":"IF(SNPs!A2043<>\"\",SNPs!A2043,\"\")","v":""},{"$f":"IF(SNPs!B2043<>\"\",MID(SNPs!B2043,FIND(\"[\",SNPs!B2043)+1,FIND(\"/\",SNPs!B2043)-FIND(\"[\",SNPs!B2043)-1),\"\")","v":""},{"$f":"IF(SNPs!B2043<>\"\",MID(SNPs!B2043,FIND(\"[\",SNPs!B2043)+3,FIND(\"/\",SNPs!B2043)-FIND(\"/\",SNPs!B2043)+1),\"\")","v":""},{"$f":"IF(SNPs!B2043<>\"\",SNPs!B2043,\"\")","v":""}]
[{"$f":"IF(SNPs!A2044<>\"\",SNPs!A2044,\"\")","v":""},{"$f":"IF(SNPs!B2044<>\"\",MID(SNPs!B2044,FIND(\"[\",SNPs!B2044)+1,FIND(\"/\",SNPs!B2044)-FIND(\"[\",SNPs!B2044)-1),\"\")","v":""},{"$f":"IF(SNPs!B2044<>\"\",MID(SNPs!B2044,FIND(\"[\",SNPs!B2044)+3,FIND(\"/\",SNPs!B2044)-FIND(\"/\",SNPs!B2044)+1),\"\")","v":""},{"$f":"IF(SNPs!B2044<>\"\",SNPs!B2044,\"\")","v":""}]
[{"$f":"IF(SNPs!A2045<>\"\",SNPs!A2045,\"\")","v":""},{"$f":"IF(SNPs!B2045<>\"\",MID(SNPs!B2045,FIND(\"[\",SNPs!B2045)+1,FIND(\"/\",SNPs!B2045)-FIND(\"[\",SNPs!B2045)-1),\"\")","v":""},{"$f":"IF(SNPs!B2045<>\"\",MID(SNPs!B2045,FIND(\"[\",SNPs!B2045)+3,FIND(\"/\",SNPs!B2045)-FIND(\"/\",SNPs!B2045)+1),\"\")","v":""},{"$f":"IF(SNPs!B2045<>\"\",SNPs!B2045,\"\")","v":""}]
[{"$f":"IF(SNPs!A2046<>\"\",SNPs!A2046,\"\")","v":""},{"$f":"IF(SNPs!B2046<>\"\",MID(SNPs!B2046,FIND(\"[\",SNPs!B2046)+1,FIND(\"/\",SNPs!B2046)-FIND(\"[\",SNPs!B2046)-1),\"\")","v":""},{"$f":"IF(SNPs!B2046<>\"\",MID(SNPs!B2046,FIND(\"[\",SNPs!B2046)+3,FIND(\"/\",SNPs!B2046)-FIND(\"/\",SNPs!B2046)+1),\"\")","v":""},{"$f":"IF(SNPs!B2046<>\"\",SNPs!B2046,\"\")","v":""}]
[{"$f":"IF(SNPs!A2047<>\"\",SNPs!A2047,\"\")","v":""},{"$f":"IF(SNPs!B2047<>\"\",MID(SNPs!B2047,FIND(\"[\",SNPs!B2047)+1,FIND(\"/\",SNPs!B2047)-FIND(\"[\",SNPs!B2047)-1),\"\")","v":""},{"$f":"IF(SNPs!B2047<>\"\",MID(SNPs!B2047,FIND(\"[\",SNPs!B2047)+3,FIND(\"/\",SNPs!B2047)-FIND(\"/\",SNPs!B2047)+1),\"\")","v":""},{"$f":"IF(SNPs!B2047<>\"\",SNPs!B2047,\"\")","v":""}]
[{"$f":"IF(SNPs!A2048<>\"\",SNPs!A2048,\"\")","v":""},{"$f":"IF(SNPs!B2048<>\"\",MID(SNPs!B2048,FIND(\"[\",SNPs!B2048)+1,FIND(\"/\",SNPs!B2048)-FIND(\"[\",SNPs!B2048)-1),\"\")","v":""},{"$f":"IF(SNPs!B2048<>\"\",MID(SNPs!B2048,FIND(\"[\",SNPs!B2048)+3,FIND(\"/\",SNPs!B2048)-FIND(\"/\",SNPs!B2048)+1),\"\")","v":""},{"$f":"IF(SNPs!B2048<>\"\",SNPs!B2048,\"\")","v":""}]
[{"$f":"IF(SNPs!A2049<>\"\",SNPs!A2049,\"\")","v":""},{"$f":"IF(SNPs!B2049<>\"\",MID(SNPs!B2049,FIND(\"[\",SNPs!B2049)+1,FIND(\"/\",SNPs!B2049)-FIND(\"[\",SNPs!B2049)-1),\"\")","v":""},{"$f":"IF(SNPs!B2049<>\"\",MID(SNPs!B2049,FIND(\"[\",SNPs!B2049)+3,FIND(\"/\",SNPs!B2049)-FIND(\"/\",SNPs!B2049)+1),\"\")","v":""},{"$f":"IF(SNPs!B2049<>\"\",SNPs!B2049,\"\")","v":""}]
[{"$f":"IF(SNPs!A2050<>\"\",SNPs!A2050,\"\")","v":""},{"$f":"IF(SNPs!B2050<>\"\",MID(SNPs!B2050,FIND(\"[\",SNPs!B2050)+1,FIND(\"/\",SNPs!B2050)-FIND(\"[\",SNPs!B2050)-1),\"\")","v":""},{"$f":"IF(SNPs!B2050<>\"\",MID(SNPs!B2050,FIND(\"[\",SNPs!B2050)+3,FIND(\"/\",SNPs!B2050)-FIND(\"/\",SNPs!B2050)+1),\"\")","v":""},{"$f":"IF(SNPs!B2050<>\"\",SNPs!B2050,\"\")","v":""}]
[{"$f":"IF(SNPs!A2051<>\"\",SNPs!A2051,\"\")","v":""},{"$f":"IF(SNPs!B2051<>\"\",MID(SNPs!B2051,FIND(\"[\",SNPs!B2051)+1,FIND(\"/\",SNPs!B2051)-FIND(\"[\",SNPs!B2051)-1),\"\")","v":""},{"$f":"IF(SNPs!B2051<>\"\",MID(SNPs!B2051,FIND(\"[\",SNPs!B2051)+3,FIND(\"/\",SNPs!B2051)-FIND(\"/\",SNPs!B2051)+1),\"\")","v":""},{"$f":"IF(SNPs!B2051<>\"\",SNPs!B2051,\"\")","v":""}]
[{"$f":"IF(SNPs!A2052<>\"\",SNPs!A2052,\"\")","v":""},{"$f":"IF(SNPs!B2052<>\"\",MID(SNPs!B2052,FIND(\"[\",SNPs!B2052)+1,FIND(\"/\",SNPs!B2052)-FIND(\"[\",SNPs!B2052)-1),\"\")","v":""},{"$f":"IF(SNPs!B2052<>\"\",MID(SNPs!B2052,FIND(\"[\",SNPs!B2052)+3,FIND(\"/\",SNPs!B2052)-FIND(\"/\",SNPs!B2052)+1),\"\")","v":""},{"$f":"IF(SNPs!B2052<>\"\",SNPs!B2052,\"\")","v":""}]
[{"$f":"IF(SNPs!A2053<>\"\",SNPs!A2053,\"\")","v":""},{"$f":"IF(SNPs!B2053<>\"\",MID(SNPs!B2053,FIND(\"[\",SNPs!B2053)+1,FIND(\"/\",SNPs!B2053)-FIND(\"[\",SNPs!B2053)-1),\"\")","v":""},{"$f":"IF(SNPs!B2053<>\"\",MID(SNPs!B2053,FIND(\"[\",SNPs!B2053)+3,FIND(\"/\",SNPs!B2053)-FIND(\"/\",SNPs!B2053)+1),\"\")","v":""},{"$f":"IF(SNPs!B2053<>\"\",SNPs!B2053,\"\")","v":""}]
[{"$f":"IF(SNPs!A2054<>\"\",SNPs!A2054,\"\")","v":""},{"$f":"IF(SNPs!B2054<>\"\",MID(SNPs!B2054,FIND(\"[\",SNPs!B2054)+1,FIND(\"/\",SNPs!B2054)-FIND(\"[\",SNPs!B2054)-1),\"\")","v":""},{"$f":"IF(SNPs!B2054<>\"\",MID(SNPs!B2054,FIND(\"[\",SNPs!B2054)+3,FIND(\"/\",SNPs!B2054)-FIND(\"/\",SNPs!B2054)+1),\"\")","v":""},{"$f":"IF(SNPs!B2054<>\"\",SNPs!B2054,\"\")","v":""}]
[{"$f":"IF(SNPs!A2055<>\"\",SNPs!A2055,\"\")","v":""},{"$f":"IF(SNPs!B2055<>\"\",MID(SNPs!B2055,FIND(\"[\",SNPs!B2055)+1,FIND(\"/\",SNPs!B2055)-FIND(\"[\",SNPs!B2055)-1),\"\")","v":""},{"$f":"IF(SNPs!B2055<>\"\",MID(SNPs!B2055,FIND(\"[\",SNPs!B2055)+3,FIND(\"/\",SNPs!B2055)-FIND(\"/\",SNPs!B2055)+1),\"\")","v":""},{"$f":"IF(SNPs!B2055<>\"\",SNPs!B2055,\"\")","v":""}]
[{"$f":"IF(SNPs!A2056<>\"\",SNPs!A2056,\"\")","v":""},{"$f":"IF(SNPs!B2056<>\"\",MID(SNPs!B2056,FIND(\"[\",SNPs!B2056)+1,FIND(\"/\",SNPs!B2056)-FIND(\"[\",SNPs!B2056)-1),\"\")","v":""},{"$f":"IF(SNPs!B2056<>\"\",MID(SNPs!B2056,FIND(\"[\",SNPs!B2056)+3,FIND(\"/\",SNPs!B2056)-FIND(\"/\",SNPs!B2056)+1),\"\")","v":""},{"$f":"IF(SNPs!B2056<>\"\",SNPs!B2056,\"\")","v":""}]
[{"$f":"IF(SNPs!A2057<>\"\",SNPs!A2057,\"\")","v":""},{"$f":"IF(SNPs!B2057<>\"\",MID(SNPs!B2057,FIND(\"[\",SNPs!B2057)+1,FIND(\"/\",SNPs!B2057)-FIND(\"[\",SNPs!B2057)-1),\"\")","v":""},{"$f":"IF(SNPs!B2057<>\"\",MID(SNPs!B2057,FIND(\"[\",SNPs!B2057)+3,FIND(\"/\",SNPs!B2057)-FIND(\"/\",SNPs!B2057)+1),\"\")","v":""},{"$f":"IF(SNPs!B2057<>\"\",SNPs!B2057,\"\")","v":""}]
[{"$f":"IF(SNPs!A2058<>\"\",SNPs!A2058,\"\")","v":""},{"$f":"IF(SNPs!B2058<>\"\",MID(SNPs!B2058,FIND(\"[\",SNPs!B2058)+1,FIND(\"/\",SNPs!B2058)-FIND(\"[\",SNPs!B2058)-1),\"\")","v":""},{"$f":"IF(SNPs!B2058<>\"\",MID(SNPs!B2058,FIND(\"[\",SNPs!B2058)+3,FIND(\"/\",SNPs!B2058)-FIND(\"/\",SNPs!B2058)+1),\"\")","v":""},{"$f":"IF(SNPs!B2058<>\"\",SNPs!B2058,\"\")","v":""}]
[{"$f":"IF(SNPs!A2059<>\"\",SNPs!A2059,\"\")","v":""},{"$f":"IF(SNPs!B2059<>\"\",MID(SNPs!B2059,FIND(\"[\",SNPs!B2059)+1,FIND(\"/\",SNPs!B2059)-FIND(\"[\",SNPs!B2059)-1),\"\")","v":""},{"$f":"IF(SNPs!B2059<>\"\",MID(SNPs!B2059,FIND(\"[\",SNPs!B2059)+3,FIND(\"/\",SNPs!B2059)-FIND(\"/\",SNPs!B2059)+1),\"\")","v":""},{"$f":"IF(SNPs!B2059<>\"\",SNPs!B2059,\"\")","v":""}]
[{"$f":"IF(SNPs!A2060<>\"\",SNPs!A2060,\"\")","v":""},{"$f":"IF(SNPs!B2060<>\"\",MID(SNPs!B2060,FIND(\"[\",SNPs!B2060)+1,FIND(\"/\",SNPs!B2060)-FIND(\"[\",SNPs!B2060)-1),\"\")","v":""},{"$f":"IF(SNPs!B2060<>\"\",MID(SNPs!B2060,FIND(\"[\",SNPs!B2060)+3,FIND(\"/\",SNPs!B2060)-FIND(\"/\",SNPs!B2060)+1),\"\")","v":""},{"$f":"IF(SNPs!B2060<>\"\",SNPs!B2060,\"\")","v":""}]
[{"$f":"IF(SNPs!A2061<>\"\",SNPs!A2061,\"\")","v":""},{"$f":"IF(SNPs!B2061<>\"\",MID(SNPs!B2061,FIND(\"[\",SNPs!B2061)+1,FIND(\"/\",SNPs!B2061)-FIND(\"[\",SNPs!B2061)-1),\"\")","v":""},{"$f":"IF(SNPs!B2061<>\"\",MID(SNPs!B2061,FIND(\"[\",SNPs!B2061)+3,FIND(\"/\",SNPs!B2061)-FIND(\"/\",SNPs!B2061)+1),\"\")","v":""},{"$f":"IF(SNPs!B2061<>\"\",SNPs!B2061,\"\")","v":""}]
[{"$f":"IF(SNPs!A2062<>\"\",SNPs!A2062,\"\")","v":""},{"$f":"IF(SNPs!B2062<>\"\",MID(SNPs!B2062,FIND(\"[\",SNPs!B2062)+1,FIND(\"/\",SNPs!B2062)-FIND(\"[\",SNPs!B2062)-1),\"\")","v":""},{"$f":"IF(SNPs!B2062<>\"\",MID(SNPs!B2062,FIND(\"[\",SNPs!B2062)+3,FIND(\"/\",SNPs!B2062)-FIND(\"/\",SNPs!B2062)+1),\"\")","v":""},{"$f":"IF(SNPs!B2062<>\"\",SNPs!B2062,\"\")","v":""}]
[{"$f":"IF(SNPs!A2063<>\"\",SNPs!A2063,\"\")","v":""},{"$f":"IF(SNPs!B2063<>\"\",MID(SNPs!B2063,FIND(\"[\",SNPs!B2063)+1,FIND(\"/\",SNPs!B2063)-FIND(\"[\",SNPs!B2063)-1),\"\")","v":""},{"$f":"IF(SNPs!B2063<>\"\",MID(SNPs!B2063,FIND(\"[\",SNPs!B2063)+3,FIND(\"/\",SNPs!B2063)-FIND(\"/\",SNPs!B2063)+1),\"\")","v":""},{"$f":"IF(SNPs!B2063<>\"\",SNPs!B2063,\"\")","v":""}]
[{"$f":"IF(SNPs!A2064<>\"\",SNPs!A2064,\"\")","v":""},{"$f":"IF(SNPs!B2064<>\"\",MID(SNPs!B2064,FIND(\"[\",SNPs!B2064)+1,FIND(\"/\",SNPs!B2064)-FIND(\"[\",SNPs!B2064)-1),\"\")","v":""},{"$f":"IF(SNPs!B2064<>\"\",MID(SNPs!B2064,FIND(\"[\",SNPs!B2064)+3,FIND(\"/\",SNPs!B2064)-FIND(\"/\",SNPs!B2064)+1),\"\")","v":""},{"$f":"IF(SNPs!B2064<>\"\",SNPs!B2064,\"\")","v":""}]
[{"$f":"IF(SNPs!A2065<>\"\",SNPs!A2065,\"\")","v":""},{"$f":"IF(SNPs!B2065<>\"\",MID(SNPs!B2065,FIND(\"[\",SNPs!B2065)+1,FIND(\"/\",SNPs!B2065)-FIND(\"[\",SNPs!B2065)-1),\"\")","v":""},{"$f":"IF(SNPs!B2065<>\"\",MID(SNPs!B2065,FIND(\"[\",SNPs!B2065)+3,FIND(\"/\",SNPs!B2065)-FIND(\"/\",SNPs!B2065)+1),\"\")","v":""},{"$f":"IF(SNPs!B2065<>\"\",SNPs!B2065,\"\")","v":""}]
[{"$f":"IF(SNPs!A2066<>\"\",SNPs!A2066,\"\")","v":""},{"$f":"IF(SNPs!B2066<>\"\",MID(SNPs!B2066,FIND(\"[\",SNPs!B2066)+1,FIND(\"/\",SNPs!B2066)-FIND(\"[\",SNPs!B2066)-1),\"\")","v":""},{"$f":"IF(SNPs!B2066<>\"\",MID(SNPs!B2066,FIND(\"[\",SNPs!B2066)+3,FIND(\"/\",SNPs!B2066)-FIND(\"/\",SNPs!B2066)+1),\"\")","v":""},{"$f":"IF(SNPs!B2066<>\"\",SNPs!B2066,\"\")","v":""}]
[{"$f":"IF(SNPs!A2067<>\"\",SNPs!A2067,\"\")","v":""},{"$f":"IF(SNPs!B2067<>\"\",MID(SNPs!B2067,FIND(\"[\",SNPs!B2067)+1,FIND(\"/\",SNPs!B2067)-FIND(\"[\",SNPs!B2067)-1),\"\")","v":""},{"$f":"IF(SNPs!B2067<>\"\",MID(SNPs!B2067,FIND(\"[\",SNPs!B2067)+3,FIND(\"/\",SNPs!B2067)-FIND(\"/\",SNPs!B2067)+1),\"\")","v":""},{"$f":"IF(SNPs!B2067<>\"\",SNPs!B2067,\"\")","v":""}]
[{"$f":"IF(SNPs!A2068<>\"\",SNPs!A2068,\"\")","v":""},{"$f":"IF(SNPs!B2068<>\"\",MID(SNPs!B2068,FIND(\"[\",SNPs!B2068)+1,FIND(\"/\",SNPs!B2068)-FIND(\"[\",SNPs!B2068)-1),\"\")","v":""},{"$f":"IF(SNPs!B2068<>\"\",MID(SNPs!B2068,FIND(\"[\",SNPs!B2068)+3,FIND(\"/\",SNPs!B2068)-FIND(\"/\",SNPs!B2068)+1),\"\")","v":""},{"$f":"IF(SNPs!B2068<>\"\",SNPs!B2068,\"\")","v":""}]
[{"$f":"IF(SNPs!A2069<>\"\",SNPs!A2069,\"\")","v":""},{"$f":"IF(SNPs!B2069<>\"\",MID(SNPs!B2069,FIND(\"[\",SNPs!B2069)+1,FIND(\"/\",SNPs!B2069)-FIND(\"[\",SNPs!B2069)-1),\"\")","v":""},{"$f":"IF(SNPs!B2069<>\"\",MID(SNPs!B2069,FIND(\"[\",SNPs!B2069)+3,FIND(\"/\",SNPs!B2069)-FIND(\"/\",SNPs!B2069)+1),\"\")","v":""},{"$f":"IF(SNPs!B2069<>\"\",SNPs!B2069,\"\")","v":""}]
[{"$f":"IF(SNPs!A2070<>\"\",SNPs!A2070,\"\")","v":""},{"$f":"IF(SNPs!B2070<>\"\",MID(SNPs!B2070,FIND(\"[\",SNPs!B2070)+1,FIND(\"/\",SNPs!B2070)-FIND(\"[\",SNPs!B2070)-1),\"\")","v":""},{"$f":"IF(SNPs!B2070<>\"\",MID(SNPs!B2070,FIND(\"[\",SNPs!B2070)+3,FIND(\"/\",SNPs!B2070)-FIND(\"/\",SNPs!B2070)+1),\"\")","v":""},{"$f":"IF(SNPs!B2070<>\"\",SNPs!B2070,\"\")","v":""}]
[{"$f":"IF(SNPs!A2071<>\"\",SNPs!A2071,\"\")","v":""},{"$f":"IF(SNPs!B2071<>\"\",MID(SNPs!B2071,FIND(\"[\",SNPs!B2071)+1,FIND(\"/\",SNPs!B2071)-FIND(\"[\",SNPs!B2071)-1),\"\")","v":""},{"$f":"IF(SNPs!B2071<>\"\",MID(SNPs!B2071,FIND(\"[\",SNPs!B2071)+3,FIND(\"/\",SNPs!B2071)-FIND(\"/\",SNPs!B2071)+1),\"\")","v":""},{"$f":"IF(SNPs!B2071<>\"\",SNPs!B2071,\"\")","v":""}]
[{"$f":"IF(SNPs!A2072<>\"\",SNPs!A2072,\"\")","v":""},{"$f":"IF(SNPs!B2072<>\"\",MID(SNPs!B2072,FIND(\"[\",SNPs!B2072)+1,FIND(\"/\",SNPs!B2072)-FIND(\"[\",SNPs!B2072)-1),\"\")","v":""},{"$f":"IF(SNPs!B2072<>\"\",MID(SNPs!B2072,FIND(\"[\",SNPs!B2072)+3,FIND(\"/\",SNPs!B2072)-FIND(\"/\",SNPs!B2072)+1),\"\")","v":""},{"$f":"IF(SNPs!B2072<>\"\",SNPs!B2072,\"\")","v":""}]
[{"$f":"IF(SNPs!A2073<>\"\",SNPs!A2073,\"\")","v":""},{"$f":"IF(SNPs!B2073<>\"\",MID(SNPs!B2073,FIND(\"[\",SNPs!B2073)+1,FIND(\"/\",SNPs!B2073)-FIND(\"[\",SNPs!B2073)-1),\"\")","v":""},{"$f":"IF(SNPs!B2073<>\"\",MID(SNPs!B2073,FIND(\"[\",SNPs!B2073)+3,FIND(\"/\",SNPs!B2073)-FIND(\"/\",SNPs!B2073)+1),\"\")","v":""},{"$f":"IF(SNPs!B2073<>\"\",SNPs!B2073,\"\")","v":""}]
[{"$f":"IF(SNPs!A2074<>\"\",SNPs!A2074,\"\")","v":""},{"$f":"IF(SNPs!B2074<>\"\",MID(SNPs!B2074,FIND(\"[\",SNPs!B2074)+1,FIND(\"/\",SNPs!B2074)-FIND(\"[\",SNPs!B2074)-1),\"\")","v":""},{"$f":"IF(SNPs!B2074<>\"\",MID(SNPs!B2074,FIND(\"[\",SNPs!B2074)+3,FIND(\"/\",SNPs!B2074)-FIND(\"/\",SNPs!B2074)+1),\"\")","v":""},{"$f":"IF(SNPs!B2074<>\"\",SNPs!B2074,\"\")","v":""}]
[{"$f":"IF(SNPs!A2075<>\"\",SNPs!A2075,\"\")","v":""},{"$f":"IF(SNPs!B2075<>\"\",MID(SNPs!B2075,FIND(\"[\",SNPs!B2075)+1,FIND(\"/\",SNPs!B2075)-FIND(\"[\",SNPs!B2075)-1),\"\")","v":""},{"$f":"IF(SNPs!B2075<>\"\",MID(SNPs!B2075,FIND(\"[\",SNPs!B2075)+3,FIND(\"/\",SNPs!B2075)-FIND(\"/\",SNPs!B2075)+1),\"\")","v":""},{"$f":"IF(SNPs!B2075<>\"\",SNPs!B2075,\"\")","v":""}]
[{"$f":"IF(SNPs!A2076<>\"\",SNPs!A2076,\"\")","v":""},{"$f":"IF(SNPs!B2076<>\"\",MID(SNPs!B2076,FIND(\"[\",SNPs!B2076)+1,FIND(\"/\",SNPs!B2076)-FIND(\"[\",SNPs!B2076)-1),\"\")","v":""},{"$f":"IF(SNPs!B2076<>\"\",MID(SNPs!B2076,FIND(\"[\",SNPs!B2076)+3,FIND(\"/\",SNPs!B2076)-FIND(\"/\",SNPs!B2076)+1),\"\")","v":""},{"$f":"IF(SNPs!B2076<>\"\",SNPs!B2076,\"\")","v":""}]
[{"$f":"IF(SNPs!A2077<>\"\",SNPs!A2077,\"\")","v":""},{"$f":"IF(SNPs!B2077<>\"\",MID(SNPs!B2077,FIND(\"[\",SNPs!B2077)+1,FIND(\"/\",SNPs!B2077)-FIND(\"[\",SNPs!B2077)-1),\"\")","v":""},{"$f":"IF(SNPs!B2077<>\"\",MID(SNPs!B2077,FIND(\"[\",SNPs!B2077)+3,FIND(\"/\",SNPs!B2077)-FIND(\"/\",SNPs!B2077)+1),\"\")","v":""},{"$f":"IF(SNPs!B2077<>\"\",SNPs!B2077,\"\")","v":""}]
[{"$f":"IF(SNPs!A2078<>\"\",SNPs!A2078,\"\")","v":""},{"$f":"IF(SNPs!B2078<>\"\",MID(SNPs!B2078,FIND(\"[\",SNPs!B2078)+1,FIND(\"/\",SNPs!B2078)-FIND(\"[\",SNPs!B2078)-1),\"\")","v":""},{"$f":"IF(SNPs!B2078<>\"\",MID(SNPs!B2078,FIND(\"[\",SNPs!B2078)+3,FIND(\"/\",SNPs!B2078)-FIND(\"/\",SNPs!B2078)+1),\"\")","v":""},{"$f":"IF(SNPs!B2078<>\"\",SNPs!B2078,\"\")","v":""}]
[{"$f":"IF(SNPs!A2079<>\"\",SNPs!A2079,\"\")","v":""},{"$f":"IF(SNPs!B2079<>\"\",MID(SNPs!B2079,FIND(\"[\",SNPs!B2079)+1,FIND(\"/\",SNPs!B2079)-FIND(\"[\",SNPs!B2079)-1),\"\")","v":""},{"$f":"IF(SNPs!B2079<>\"\",MID(SNPs!B2079,FIND(\"[\",SNPs!B2079)+3,FIND(\"/\",SNPs!B2079)-FIND(\"/\",SNPs!B2079)+1),\"\")","v":""},{"$f":"IF(SNPs!B2079<>\"\",SNPs!B2079,\"\")","v":""}]
[{"$f":"IF(SNPs!A2080<>\"\",SNPs!A2080,\"\")","v":""},{"$f":"IF(SNPs!B2080<>\"\",MID(SNPs!B2080,FIND(\"[\",SNPs!B2080)+1,FIND(\"/\",SNPs!B2080)-FIND(\"[\",SNPs!B2080)-1),\"\")","v":""},{"$f":"IF(SNPs!B2080<>\"\",MID(SNPs!B2080,FIND(\"[\",SNPs!B2080)+3,FIND(\"/\",SNPs!B2080)-FIND(\"/\",SNPs!B2080)+1),\"\")","v":""},{"$f":"IF(SNPs!B2080<>\"\",SNPs!B2080,\"\")","v":""}]
[{"$f":"IF(SNPs!A2081<>\"\",SNPs!A2081,\"\")","v":""},{"$f":"IF(SNPs!B2081<>\"\",MID(SNPs!B2081,FIND(\"[\",SNPs!B2081)+1,FIND(\"/\",SNPs!B2081)-FIND(\"[\",SNPs!B2081)-1),\"\")","v":""},{"$f":"IF(SNPs!B2081<>\"\",MID(SNPs!B2081,FIND(\"[\",SNPs!B2081)+3,FIND(\"/\",SNPs!B2081)-FIND(\"/\",SNPs!B2081)+1),\"\")","v":""},{"$f":"IF(SNPs!B2081<>\"\",SNPs!B2081,\"\")","v":""}]
[{"$f":"IF(SNPs!A2082<>\"\",SNPs!A2082,\"\")","v":""},{"$f":"IF(SNPs!B2082<>\"\",MID(SNPs!B2082,FIND(\"[\",SNPs!B2082)+1,FIND(\"/\",SNPs!B2082)-FIND(\"[\",SNPs!B2082)-1),\"\")","v":""},{"$f":"IF(SNPs!B2082<>\"\",MID(SNPs!B2082,FIND(\"[\",SNPs!B2082)+3,FIND(\"/\",SNPs!B2082)-FIND(\"/\",SNPs!B2082)+1),\"\")","v":""},{"$f":"IF(SNPs!B2082<>\"\",SNPs!B2082,\"\")","v":""}]
[{"$f":"IF(SNPs!A2083<>\"\",SNPs!A2083,\"\")","v":""},{"$f":"IF(SNPs!B2083<>\"\",MID(SNPs!B2083,FIND(\"[\",SNPs!B2083)+1,FIND(\"/\",SNPs!B2083)-FIND(\"[\",SNPs!B2083)-1),\"\")","v":""},{"$f":"IF(SNPs!B2083<>\"\",MID(SNPs!B2083,FIND(\"[\",SNPs!B2083)+3,FIND(\"/\",SNPs!B2083)-FIND(\"/\",SNPs!B2083)+1),\"\")","v":""},{"$f":"IF(SNPs!B2083<>\"\",SNPs!B2083,\"\")","v":""}]
[{"$f":"IF(SNPs!A2084<>\"\",SNPs!A2084,\"\")","v":""},{"$f":"IF(SNPs!B2084<>\"\",MID(SNPs!B2084,FIND(\"[\",SNPs!B2084)+1,FIND(\"/\",SNPs!B2084)-FIND(\"[\",SNPs!B2084)-1),\"\")","v":""},{"$f":"IF(SNPs!B2084<>\"\",MID(SNPs!B2084,FIND(\"[\",SNPs!B2084)+3,FIND(\"/\",SNPs!B2084)-FIND(\"/\",SNPs!B2084)+1),\"\")","v":""},{"$f":"IF(SNPs!B2084<>\"\",SNPs!B2084,\"\")","v":""}]
[{"$f":"IF(SNPs!A2085<>\"\",SNPs!A2085,\"\")","v":""},{"$f":"IF(SNPs!B2085<>\"\",MID(SNPs!B2085,FIND(\"[\",SNPs!B2085)+1,FIND(\"/\",SNPs!B2085)-FIND(\"[\",SNPs!B2085)-1),\"\")","v":""},{"$f":"IF(SNPs!B2085<>\"\",MID(SNPs!B2085,FIND(\"[\",SNPs!B2085)+3,FIND(\"/\",SNPs!B2085)-FIND(\"/\",SNPs!B2085)+1),\"\")","v":""},{"$f":"IF(SNPs!B2085<>\"\",SNPs!B2085,\"\")","v":""}]
[{"$f":"IF(SNPs!A2086<>\"\",SNPs!A2086,\"\")","v":""},{"$f":"IF(SNPs!B2086<>\"\",MID(SNPs!B2086,FIND(\"[\",SNPs!B2086)+1,FIND(\"/\",SNPs!B2086)-FIND(\"[\",SNPs!B2086)-1),\"\")","v":""},{"$f":"IF(SNPs!B2086<>\"\",MID(SNPs!B2086,FIND(\"[\",SNPs!B2086)+3,FIND(\"/\",SNPs!B2086)-FIND(\"/\",SNPs!B2086)+1),\"\")","v":""},{"$f":"IF(SNPs!B2086<>\"\",SNPs!B2086,\"\")","v":""}]
[{"$f":"IF(SNPs!A2087<>\"\",SNPs!A2087,\"\")","v":""},{"$f":"IF(SNPs!B2087<>\"\",MID(SNPs!B2087,FIND(\"[\",SNPs!B2087)+1,FIND(\"/\",SNPs!B2087)-FIND(\"[\",SNPs!B2087)-1),\"\")","v":""},{"$f":"IF(SNPs!B2087<>\"\",MID(SNPs!B2087,FIND(\"[\",SNPs!B2087)+3,FIND(\"/\",SNPs!B2087)-FIND(\"/\",SNPs!B2087)+1),\"\")","v":""},{"$f":"IF(SNPs!B2087<>\"\",SNPs!B2087,\"\")","v":""}]
[{"$f":"IF(SNPs!A2088<>\"\",SNPs!A2088,\"\")","v":""},{"$f":"IF(SNPs!B2088<>\"\",MID(SNPs!B2088,FIND(\"[\",SNPs!B2088)+1,FIND(\"/\",SNPs!B2088)-FIND(\"[\",SNPs!B2088)-1),\"\")","v":""},{"$f":"IF(SNPs!B2088<>\"\",MID(SNPs!B2088,FIND(\"[\",SNPs!B2088)+3,FIND(\"/\",SNPs!B2088)-FIND(\"/\",SNPs!B2088)+1),\"\")","v":""},{"$f":"IF(SNPs!B2088<>\"\",SNPs!B2088,\"\")","v":""}]
[{"$f":"IF(SNPs!A2089<>\"\",SNPs!A2089,\"\")","v":""},{"$f":"IF(SNPs!B2089<>\"\",MID(SNPs!B2089,FIND(\"[\",SNPs!B2089)+1,FIND(\"/\",SNPs!B2089)-FIND(\"[\",SNPs!B2089)-1),\"\")","v":""},{"$f":"IF(SNPs!B2089<>\"\",MID(SNPs!B2089,FIND(\"[\",SNPs!B2089)+3,FIND(\"/\",SNPs!B2089)-FIND(\"/\",SNPs!B2089)+1),\"\")","v":""},{"$f":"IF(SNPs!B2089<>\"\",SNPs!B2089,\"\")","v":""}]
[{"$f":"IF(SNPs!A2090<>\"\",SNPs!A2090,\"\")","v":""},{"$f":"IF(SNPs!B2090<>\"\",MID(SNPs!B2090,FIND(\"[\",SNPs!B2090)+1,FIND(\"/\",SNPs!B2090)-FIND(\"[\",SNPs!B2090)-1),\"\")","v":""},{"$f":"IF(SNPs!B2090<>\"\",MID(SNPs!B2090,FIND(\"[\",SNPs!B2090)+3,FIND(\"/\",SNPs!B2090)-FIND(\"/\",SNPs!B2090)+1),\"\")","v":""},{"$f":"IF(SNPs!B2090<>\"\",SNPs!B2090,\"\")","v":""}]
[{"$f":"IF(SNPs!A2091<>\"\",SNPs!A2091,\"\")","v":""},{"$f":"IF(SNPs!B2091<>\"\",MID(SNPs!B2091,FIND(\"[\",SNPs!B2091)+1,FIND(\"/\",SNPs!B2091)-FIND(\"[\",SNPs!B2091)-1),\"\")","v":""},{"$f":"IF(SNPs!B2091<>\"\",MID(SNPs!B2091,FIND(\"[\",SNPs!B2091)+3,FIND(\"/\",SNPs!B2091)-FIND(\"/\",SNPs!B2091)+1),\"\")","v":""},{"$f":"IF(SNPs!B2091<>\"\",SNPs!B2091,\"\")","v":""}]
[{"$f":"IF(SNPs!A2092<>\"\",SNPs!A2092,\"\")","v":""},{"$f":"IF(SNPs!B2092<>\"\",MID(SNPs!B2092,FIND(\"[\",SNPs!B2092)+1,FIND(\"/\",SNPs!B2092)-FIND(\"[\",SNPs!B2092)-1),\"\")","v":""},{"$f":"IF(SNPs!B2092<>\"\",MID(SNPs!B2092,FIND(\"[\",SNPs!B2092)+3,FIND(\"/\",SNPs!B2092)-FIND(\"/\",SNPs!B2092)+1),\"\")","v":""},{"$f":"IF(SNPs!B2092<>\"\",SNPs!B2092,\"\")","v":""}]
[{"$f":"IF(SNPs!A2093<>\"\",SNPs!A2093,\"\")","v":""},{"$f":"IF(SNPs!B2093<>\"\",MID(SNPs!B2093,FIND(\"[\",SNPs!B2093)+1,FIND(\"/\",SNPs!B2093)-FIND(\"[\",SNPs!B2093)-1),\"\")","v":""},{"$f":"IF(SNPs!B2093<>\"\",MID(SNPs!B2093,FIND(\"[\",SNPs!B2093)+3,FIND(\"/\",SNPs!B2093)-FIND(\"/\",SNPs!B2093)+1),\"\")","v":""},{"$f":"IF(SNPs!B2093<>\"\",SNPs!B2093,\"\")","v":""}]
[{"$f":"IF(SNPs!A2094<>\"\",SNPs!A2094,\"\")","v":""},{"$f":"IF(SNPs!B2094<>\"\",MID(SNPs!B2094,FIND(\"[\",SNPs!B2094)+1,FIND(\"/\",SNPs!B2094)-FIND(\"[\",SNPs!B2094)-1),\"\")","v":""},{"$f":"IF(SNPs!B2094<>\"\",MID(SNPs!B2094,FIND(\"[\",SNPs!B2094)+3,FIND(\"/\",SNPs!B2094)-FIND(\"/\",SNPs!B2094)+1),\"\")","v":""},{"$f":"IF(SNPs!B2094<>\"\",SNPs!B2094,\"\")","v":""}]
[{"$f":"IF(SNPs!A2095<>\"\",SNPs!A2095,\"\")","v":""},{"$f":"IF(SNPs!B2095<>\"\",MID(SNPs!B2095,FIND(\"[\",SNPs!B2095)+1,FIND(\"/\",SNPs!B2095)-FIND(\"[\",SNPs!B2095)-1),\"\")","v":""},{"$f":"IF(SNPs!B2095<>\"\",MID(SNPs!B2095,FIND(\"[\",SNPs!B2095)+3,FIND(\"/\",SNPs!B2095)-FIND(\"/\",SNPs!B2095)+1),\"\")","v":""},{"$f":"IF(SNPs!B2095<>\"\",SNPs!B2095,\"\")","v":""}]
[{"$f":"IF(SNPs!A2096<>\"\",SNPs!A2096,\"\")","v":""},{"$f":"IF(SNPs!B2096<>\"\",MID(SNPs!B2096,FIND(\"[\",SNPs!B2096)+1,FIND(\"/\",SNPs!B2096)-FIND(\"[\",SNPs!B2096)-1),\"\")","v":""},{"$f":"IF(SNPs!B2096<>\"\",MID(SNPs!B2096,FIND(\"[\",SNPs!B2096)+3,FIND(\"/\",SNPs!B2096)-FIND(\"/\",SNPs!B2096)+1),\"\")","v":""},{"$f":"IF(SNPs!B2096<>\"\",SNPs!B2096,\"\")","v":""}]
[{"$f":"IF(SNPs!A2097<>\"\",SNPs!A2097,\"\")","v":""},{"$f":"IF(SNPs!B2097<>\"\",MID(SNPs!B2097,FIND(\"[\",SNPs!B2097)+1,FIND(\"/\",SNPs!B2097)-FIND(\"[\",SNPs!B2097)-1),\"\")","v":""},{"$f":"IF(SNPs!B2097<>\"\",MID(SNPs!B2097,FIND(\"[\",SNPs!B2097)+3,FIND(\"/\",SNPs!B2097)-FIND(\"/\",SNPs!B2097)+1),\"\")","v":""},{"$f":"IF(SNPs!B2097<>\"\",SNPs!B2097,\"\")","v":""}]
[{"$f":"IF(SNPs!A2098<>\"\",SNPs!A2098,\"\")","v":""},{"$f":"IF(SNPs!B2098<>\"\",MID(SNPs!B2098,FIND(\"[\",SNPs!B2098)+1,FIND(\"/\",SNPs!B2098)-FIND(\"[\",SNPs!B2098)-1),\"\")","v":""},{"$f":"IF(SNPs!B2098<>\"\",MID(SNPs!B2098,FIND(\"[\",SNPs!B2098)+3,FIND(\"/\",SNPs!B2098)-FIND(\"/\",SNPs!B2098)+1),\"\")","v":""},{"$f":"IF(SNPs!B2098<>\"\",SNPs!B2098,\"\")","v":""}]
[{"$f":"IF(SNPs!A2099<>\"\",SNPs!A2099,\"\")","v":""},{"$f":"IF(SNPs!B2099<>\"\",MID(SNPs!B2099,FIND(\"[\",SNPs!B2099)+1,FIND(\"/\",SNPs!B2099)-FIND(\"[\",SNPs!B2099)-1),\"\")","v":""},{"$f":"IF(SNPs!B2099<>\"\",MID(SNPs!B2099,FIND(\"[\",SNPs!B2099)+3,FIND(\"/\",SNPs!B2099)-FIND(\"/\",SNPs!B2099)+1),\"\")","v":""},{"$f":"IF(SNPs!B2099<>\"\",SNPs!B2099,\"\")","v":""}]
[{"$f":"IF(SNPs!A2100<>\"\",SNPs!A2100,\"\")","v":""},{"$f":"IF(SNPs!B2100<>\"\",MID(SNPs!B2100,FIND(\"[\",SNPs!B2100)+1,FIND(\"/\",SNPs!B2100)-FIND(\"[\",SNPs!B2100)-1),\"\")","v":""},{"$f":"IF(SNPs!B2100<>\"\",MID(SNPs!B2100,FIND(\"[\",SNPs!B2100)+3,FIND(\"/\",SNPs!B2100)-FIND(\"/\",SNPs!B2100)+1),\"\")","v":""},{"$f":"IF(SNPs!B2100<>\"\",SNPs!B2100,\"\")","v":""}]
[{"$f":"IF(SNPs!A2101<>\"\",SNPs!A2101,\"\")","v":""},{"$f":"IF(SNPs!B2101<>\"\",MID(SNPs!B2101,FIND(\"[\",SNPs!B2101)+1,FIND(\"/\",SNPs!B2101)-FIND(\"[\",SNPs!B2101)-1),\"\")","v":""},{"$f":"IF(SNPs!B2101<>\"\",MID(SNPs!B2101,FIND(\"[\",SNPs!B2101)+3,FIND(\"/\",SNPs!B2101)-FIND(\"/\",SNPs!B2101)+1),\"\")","v":""},{"$f":"IF(SNPs!B2101<>\"\",SNPs!B2101,\"\")","v":""}]
[{"$f":"IF(SNPs!A2102<>\"\",SNPs!A2102,\"\")","v":""},{"$f":"IF(SNPs!B2102<>\"\",MID(SNPs!B2102,FIND(\"[\",SNPs!B2102)+1,FIND(\"/\",SNPs!B2102)-FIND(\"[\",SNPs!B2102)-1),\"\")","v":""},{"$f":"IF(SNPs!B2102<>\"\",MID(SNPs!B2102,FIND(\"[\",SNPs!B2102)+3,FIND(\"/\",SNPs!B2102)-FIND(\"/\",SNPs!B2102)+1),\"\")","v":""},{"$f":"IF(SNPs!B2102<>\"\",SNPs!B2102,\"\")","v":""}]
[{"$f":"IF(SNPs!A2103<>\"\",SNPs!A2103,\"\")","v":""},{"$f":"IF(SNPs!B2103<>\"\",MID(SNPs!B2103,FIND(\"[\",SNPs!B2103)+1,FIND(\"/\",SNPs!B2103)-FIND(\"[\",SNPs!B2103)-1),\"\")","v":""},{"$f":"IF(SNPs!B2103<>\"\",MID(SNPs!B2103,FIND(\"[\",SNPs!B2103)+3,FIND(\"/\",SNPs!B2103)-FIND(\"/\",SNPs!B2103)+1),\"\")","v":""},{"$f":"IF(SNPs!B2103<>\"\",SNPs!B2103,\"\")","v":""}]
[{"$f":"IF(SNPs!A2104<>\"\",SNPs!A2104,\"\")","v":""},{"$f":"IF(SNPs!B2104<>\"\",MID(SNPs!B2104,FIND(\"[\",SNPs!B2104)+1,FIND(\"/\",SNPs!B2104)-FIND(\"[\",SNPs!B2104)-1),\"\")","v":""},{"$f":"IF(SNPs!B2104<>\"\",MID(SNPs!B2104,FIND(\"[\",SNPs!B2104)+3,FIND(\"/\",SNPs!B2104)-FIND(\"/\",SNPs!B2104)+1),\"\")","v":""},{"$f":"IF(SNPs!B2104<>\"\",SNPs!B2104,\"\")","v":""}]
[{"$f":"IF(SNPs!A2105<>\"\",SNPs!A2105,\"\")","v":""},{"$f":"IF(SNPs!B2105<>\"\",MID(SNPs!B2105,FIND(\"[\",SNPs!B2105)+1,FIND(\"/\",SNPs!B2105)-FIND(\"[\",SNPs!B2105)-1),\"\")","v":""},{"$f":"IF(SNPs!B2105<>\"\",MID(SNPs!B2105,FIND(\"[\",SNPs!B2105)+3,FIND(\"/\",SNPs!B2105)-FIND(\"/\",SNPs!B2105)+1),\"\")","v":""},{"$f":"IF(SNPs!B2105<>\"\",SNPs!B2105,\"\")","v":""}]
[{"$f":"IF(SNPs!A2106<>\"\",SNPs!A2106,\"\")","v":""},{"$f":"IF(SNPs!B2106<>\"\",MID(SNPs!B2106,FIND(\"[\",SNPs!B2106)+1,FIND(\"/\",SNPs!B2106)-FIND(\"[\",SNPs!B2106)-1),\"\")","v":""},{"$f":"IF(SNPs!B2106<>\"\",MID(SNPs!B2106,FIND(\"[\",SNPs!B2106)+3,FIND(\"/\",SNPs!B2106)-FIND(\"/\",SNPs!B2106)+1),\"\")","v":""},{"$f":"IF(SNPs!B2106<>\"\",SNPs!B2106,\"\")","v":""}]
[{"$f":"IF(SNPs!A2107<>\"\",SNPs!A2107,\"\")","v":""},{"$f":"IF(SNPs!B2107<>\"\",MID(SNPs!B2107,FIND(\"[\",SNPs!B2107)+1,FIND(\"/\",SNPs!B2107)-FIND(\"[\",SNPs!B2107)-1),\"\")","v":""},{"$f":"IF(SNPs!B2107<>\"\",MID(SNPs!B2107,FIND(\"[\",SNPs!B2107)+3,FIND(\"/\",SNPs!B2107)-FIND(\"/\",SNPs!B2107)+1),\"\")","v":""},{"$f":"IF(SNPs!B2107<>\"\",SNPs!B2107,\"\")","v":""}]
[{"$f":"IF(SNPs!A2108<>\"\",SNPs!A2108,\"\")","v":""},{"$f":"IF(SNPs!B2108<>\"\",MID(SNPs!B2108,FIND(\"[\",SNPs!B2108)+1,FIND(\"/\",SNPs!B2108)-FIND(\"[\",SNPs!B2108)-1),\"\")","v":""},{"$f":"IF(SNPs!B2108<>\"\",MID(SNPs!B2108,FIND(\"[\",SNPs!B2108)+3,FIND(\"/\",SNPs!B2108)-FIND(\"/\",SNPs!B2108)+1),\"\")","v":""},{"$f":"IF(SNPs!B2108<>\"\",SNPs!B2108,\"\")","v":""}]
[{"$f":"IF(SNPs!A2109<>\"\",SNPs!A2109,\"\")","v":""},{"$f":"IF(SNPs!B2109<>\"\",MID(SNPs!B2109,FIND(\"[\",SNPs!B2109)+1,FIND(\"/\",SNPs!B2109)-FIND(\"[\",SNPs!B2109)-1),\"\")","v":""},{"$f":"IF(SNPs!B2109<>\"\",MID(SNPs!B2109,FIND(\"[\",SNPs!B2109)+3,FIND(\"/\",SNPs!B2109)-FIND(\"/\",SNPs!B2109)+1),\"\")","v":""},{"$f":"IF(SNPs!B2109<>\"\",SNPs!B2109,\"\")","v":""}]
[{"$f":"IF(SNPs!A2110<>\"\",SNPs!A2110,\"\")","v":""},{"$f":"IF(SNPs!B2110<>\"\",MID(SNPs!B2110,FIND(\"[\",SNPs!B2110)+1,FIND(\"/\",SNPs!B2110)-FIND(\"[\",SNPs!B2110)-1),\"\")","v":""},{"$f":"IF(SNPs!B2110<>\"\",MID(SNPs!B2110,FIND(\"[\",SNPs!B2110)+3,FIND(\"/\",SNPs!B2110)-FIND(\"/\",SNPs!B2110)+1),\"\")","v":""},{"$f":"IF(SNPs!B2110<>\"\",SNPs!B2110,\"\")","v":""}]
[{"$f":"IF(SNPs!A2111<>\"\",SNPs!A2111,\"\")","v":""},{"$f":"IF(SNPs!B2111<>\"\",MID(SNPs!B2111,FIND(\"[\",SNPs!B2111)+1,FIND(\"/\",SNPs!B2111)-FIND(\"[\",SNPs!B2111)-1),\"\")","v":""},{"$f":"IF(SNPs!B2111<>\"\",MID(SNPs!B2111,FIND(\"[\",SNPs!B2111)+3,FIND(\"/\",SNPs!B2111)-FIND(\"/\",SNPs!B2111)+1),\"\")","v":""},{"$f":"IF(SNPs!B2111<>\"\",SNPs!B2111,\"\")","v":""}]
[{"$f":"IF(SNPs!A2112<>\"\",SNPs!A2112,\"\")","v":""},{"$f":"IF(SNPs!B2112<>\"\",MID(SNPs!B2112,FIND(\"[\",SNPs!B2112)+1,FIND(\"/\",SNPs!B2112)-FIND(\"[\",SNPs!B2112)-1),\"\")","v":""},{"$f":"IF(SNPs!B2112<>\"\",MID(SNPs!B2112,FIND(\"[\",SNPs!B2112)+3,FIND(\"/\",SNPs!B2112)-FIND(\"/\",SNPs!B2112)+1),\"\")","v":""},{"$f":"IF(SNPs!B2112<>\"\",SNPs!B2112,\"\")","v":""}]
[{"$f":"IF(SNPs!A2113<>\"\",SNPs!A2113,\"\")","v":""},{"$f":"IF(SNPs!B2113<>\"\",MID(SNPs!B2113,FIND(\"[\",SNPs!B2113)+1,FIND(\"/\",SNPs!B2113)-FIND(\"[\",SNPs!B2113)-1),\"\")","v":""},{"$f":"IF(SNPs!B2113<>\"\",MID(SNPs!B2113,FIND(\"[\",SNPs!B2113)+3,FIND(\"/\",SNPs!B2113)-FIND(\"/\",SNPs!B2113)+1),\"\")","v":""},{"$f":"IF(SNPs!B2113<>\"\",SNPs!B2113,\"\")","v":""}]
[{"$f":"IF(SNPs!A2114<>\"\",SNPs!A2114,\"\")","v":""},{"$f":"IF(SNPs!B2114<>\"\",MID(SNPs!B2114,FIND(\"[\",SNPs!B2114)+1,FIND(\"/\",SNPs!B2114)-FIND(\"[\",SNPs!B2114)-1),\"\")","v":""},{"$f":"IF(SNPs!B2114<>\"\",MID(SNPs!B2114,FIND(\"[\",SNPs!B2114)+3,FIND(\"/\",SNPs!B2114)-FIND(\"/\",SNPs!B2114)+1),\"\")","v":""},{"$f":"IF(SNPs!B2114<>\"\",SNPs!B2114,\"\")","v":""}]
[{"$f":"IF(SNPs!A2115<>\"\",SNPs!A2115,\"\")","v":""},{"$f":"IF(SNPs!B2115<>\"\",MID(SNPs!B2115,FIND(\"[\",SNPs!B2115)+1,FIND(\"/\",SNPs!B2115)-FIND(\"[\",SNPs!B2115)-1),\"\")","v":""},{"$f":"IF(SNPs!B2115<>\"\",MID(SNPs!B2115,FIND(\"[\",SNPs!B2115)+3,FIND(\"/\",SNPs!B2115)-FIND(\"/\",SNPs!B2115)+1),\"\")","v":""},{"$f":"IF(SNPs!B2115<>\"\",SNPs!B2115,\"\")","v":""}]
[{"$f":"IF(SNPs!A2116<>\"\",SNPs!A2116,\"\")","v":""},{"$f":"IF(SNPs!B2116<>\"\",MID(SNPs!B2116,FIND(\"[\",SNPs!B2116)+1,FIND(\"/\",SNPs!B2116)-FIND(\"[\",SNPs!B2116)-1),\"\")","v":""},{"$f":"IF(SNPs!B2116<>\"\",MID(SNPs!B2116,FIND(\"[\",SNPs!B2116)+3,FIND(\"/\",SNPs!B2116)-FIND(\"/\",SNPs!B2116)+1),\"\")","v":""},{"$f":"IF(SNPs!B2116<>\"\",SNPs!B2116,\"\")","v":""}]
[{"$f":"IF(SNPs!A2117<>\"\",SNPs!A2117,\"\")","v":""},{"$f":"IF(SNPs!B2117<>\"\",MID(SNPs!B2117,FIND(\"[\",SNPs!B2117)+1,FIND(\"/\",SNPs!B2117)-FIND(\"[\",SNPs!B2117)-1),\"\")","v":""},{"$f":"IF(SNPs!B2117<>\"\",MID(SNPs!B2117,FIND(\"[\",SNPs!B2117)+3,FIND(\"/\",SNPs!B2117)-FIND(\"/\",SNPs!B2117)+1),\"\")","v":""},{"$f":"IF(SNPs!B2117<>\"\",SNPs!B2117,\"\")","v":""}]
[{"$f":"IF(SNPs!A2118<>\"\",SNPs!A2118,\"\")","v":""},{"$f":"IF(SNPs!B2118<>\"\",MID(SNPs!B2118,FIND(\"[\",SNPs!B2118)+1,FIND(\"/\",SNPs!B2118)-FIND(\"[\",SNPs!B2118)-1),\"\")","v":""},{"$f":"IF(SNPs!B2118<>\"\",MID(SNPs!B2118,FIND(\"[\",SNPs!B2118)+3,FIND(\"/\",SNPs!B2118)-FIND(\"/\",SNPs!B2118)+1),\"\")","v":""},{"$f":"IF(SNPs!B2118<>\"\",SNPs!B2118,\"\")","v":""}]
[{"$f":"IF(SNPs!A2119<>\"\",SNPs!A2119,\"\")","v":""},{"$f":"IF(SNPs!B2119<>\"\",MID(SNPs!B2119,FIND(\"[\",SNPs!B2119)+1,FIND(\"/\",SNPs!B2119)-FIND(\"[\",SNPs!B2119)-1),\"\")","v":""},{"$f":"IF(SNPs!B2119<>\"\",MID(SNPs!B2119,FIND(\"[\",SNPs!B2119)+3,FIND(\"/\",SNPs!B2119)-FIND(\"/\",SNPs!B2119)+1),\"\")","v":""},{"$f":"IF(SNPs!B2119<>\"\",SNPs!B2119,\"\")","v":""}]
[{"$f":"IF(SNPs!A2120<>\"\",SNPs!A2120,\"\")","v":""},{"$f":"IF(SNPs!B2120<>\"\",MID(SNPs!B2120,FIND(\"[\",SNPs!B2120)+1,FIND(\"/\",SNPs!B2120)-FIND(\"[\",SNPs!B2120)-1),\"\")","v":""},{"$f":"IF(SNPs!B2120<>\"\",MID(SNPs!B2120,FIND(\"[\",SNPs!B2120)+3,FIND(\"/\",SNPs!B2120)-FIND(\"/\",SNPs!B2120)+1),\"\")","v":""},{"$f":"IF(SNPs!B2120<>\"\",SNPs!B2120,\"\")","v":""}]
[{"$f":"IF(SNPs!A2121<>\"\",SNPs!A2121,\"\")","v":""},{"$f":"IF(SNPs!B2121<>\"\",MID(SNPs!B2121,FIND(\"[\",SNPs!B2121)+1,FIND(\"/\",SNPs!B2121)-FIND(\"[\",SNPs!B2121)-1),\"\")","v":""},{"$f":"IF(SNPs!B2121<>\"\",MID(SNPs!B2121,FIND(\"[\",SNPs!B2121)+3,FIND(\"/\",SNPs!B2121)-FIND(\"/\",SNPs!B2121)+1),\"\")","v":""},{"$f":"IF(SNPs!B2121<>\"\",SNPs!B2121,\"\")","v":""}]
[{"$f":"IF(SNPs!A2122<>\"\",SNPs!A2122,\"\")","v":""},{"$f":"IF(SNPs!B2122<>\"\",MID(SNPs!B2122,FIND(\"[\",SNPs!B2122)+1,FIND(\"/\",SNPs!B2122)-FIND(\"[\",SNPs!B2122)-1),\"\")","v":""},{"$f":"IF(SNPs!B2122<>\"\",MID(SNPs!B2122,FIND(\"[\",SNPs!B2122)+3,FIND(\"/\",SNPs!B2122)-FIND(\"/\",SNPs!B2122)+1),\"\")","v":""},{"$f":"IF(SNPs!B2122<>\"\",SNPs!B2122,\"\")","v":""}]
[{"$f":"IF(SNPs!A2123<>\"\",SNPs!A2123,\"\")","v":""},{"$f":"IF(SNPs!B2123<>\"\",MID(SNPs!B2123,FIND(\"[\",SNPs!B2123)+1,FIND(\"/\",SNPs!B2123)-FIND(\"[\",SNPs!B2123)-1),\"\")","v":""},{"$f":"IF(SNPs!B2123<>\"\",MID(SNPs!B2123,FIND(\"[\",SNPs!B2123)+3,FIND(\"/\",SNPs!B2123)-FIND(\"/\",SNPs!B2123)+1),\"\")","v":""},{"$f":"IF(SNPs!B2123<>\"\",SNPs!B2123,\"\")","v":""}]
[{"$f":"IF(SNPs!A2124<>\"\",SNPs!A2124,\"\")","v":""},{"$f":"IF(SNPs!B2124<>\"\",MID(SNPs!B2124,FIND(\"[\",SNPs!B2124)+1,FIND(\"/\",SNPs!B2124)-FIND(\"[\",SNPs!B2124)-1),\"\")","v":""},{"$f":"IF(SNPs!B2124<>\"\",MID(SNPs!B2124,FIND(\"[\",SNPs!B2124)+3,FIND(\"/\",SNPs!B2124)-FIND(\"/\",SNPs!B2124)+1),\"\")","v":""},{"$f":"IF(SNPs!B2124<>\"\",SNPs!B2124,\"\")","v":""}]
[{"$f":"IF(SNPs!A2125<>\"\",SNPs!A2125,\"\")","v":""},{"$f":"IF(SNPs!B2125<>\"\",MID(SNPs!B2125,FIND(\"[\",SNPs!B2125)+1,FIND(\"/\",SNPs!B2125)-FIND(\"[\",SNPs!B2125)-1),\"\")","v":""},{"$f":"IF(SNPs!B2125<>\"\",MID(SNPs!B2125,FIND(\"[\",SNPs!B2125)+3,FIND(\"/\",SNPs!B2125)-FIND(\"/\",SNPs!B2125)+1),\"\")","v":""},{"$f":"IF(SNPs!B2125<>\"\",SNPs!B2125,\"\")","v":""}]
[{"$f":"IF(SNPs!A2126<>\"\",SNPs!A2126,\"\")","v":""},{"$f":"IF(SNPs!B2126<>\"\",MID(SNPs!B2126,FIND(\"[\",SNPs!B2126)+1,FIND(\"/\",SNPs!B2126)-FIND(\"[\",SNPs!B2126)-1),\"\")","v":""},{"$f":"IF(SNPs!B2126<>\"\",MID(SNPs!B2126,FIND(\"[\",SNPs!B2126)+3,FIND(\"/\",SNPs!B2126)-FIND(\"/\",SNPs!B2126)+1),\"\")","v":""},{"$f":"IF(SNPs!B2126<>\"\",SNPs!B2126,\"\")","v":""}]
[{"$f":"IF(SNPs!A2127<>\"\",SNPs!A2127,\"\")","v":""},{"$f":"IF(SNPs!B2127<>\"\",MID(SNPs!B2127,FIND(\"[\",SNPs!B2127)+1,FIND(\"/\",SNPs!B2127)-FIND(\"[\",SNPs!B2127)-1),\"\")","v":""},{"$f":"IF(SNPs!B2127<>\"\",MID(SNPs!B2127,FIND(\"[\",SNPs!B2127)+3,FIND(\"/\",SNPs!B2127)-FIND(\"/\",SNPs!B2127)+1),\"\")","v":""},{"$f":"IF(SNPs!B2127<>\"\",SNPs!B2127,\"\")","v":""}]
[{"$f":"IF(SNPs!A2128<>\"\",SNPs!A2128,\"\")","v":""},{"$f":"IF(SNPs!B2128<>\"\",MID(SNPs!B2128,FIND(\"[\",SNPs!B2128)+1,FIND(\"/\",SNPs!B2128)-FIND(\"[\",SNPs!B2128)-1),\"\")","v":""},{"$f":"IF(SNPs!B2128<>\"\",MID(SNPs!B2128,FIND(\"[\",SNPs!B2128)+3,FIND(\"/\",SNPs!B2128)-FIND(\"/\",SNPs!B2128)+1),\"\")","v":""},{"$f":"IF(SNPs!B2128<>\"\",SNPs!B2128,\"\")","v":""}]
[{"$f":"IF(SNPs!A2129<>\"\",SNPs!A2129,\"\")","v":""},{"$f":"IF(SNPs!B2129<>\"\",MID(SNPs!B2129,FIND(\"[\",SNPs!B2129)+1,FIND(\"/\",SNPs!B2129)-FIND(\"[\",SNPs!B2129)-1),\"\")","v":""},{"$f":"IF(SNPs!B2129<>\"\",MID(SNPs!B2129,FIND(\"[\",SNPs!B2129)+3,FIND(\"/\",SNPs!B2129)-FIND(\"/\",SNPs!B2129)+1),\"\")","v":""},{"$f":"IF(SNPs!B2129<>\"\",SNPs!B2129,\"\")","v":""}]
[{"$f":"IF(SNPs!A2130<>\"\",SNPs!A2130,\"\")","v":""},{"$f":"IF(SNPs!B2130<>\"\",MID(SNPs!B2130,FIND(\"[\",SNPs!B2130)+1,FIND(\"/\",SNPs!B2130)-FIND(\"[\",SNPs!B2130)-1),\"\")","v":""},{"$f":"IF(SNPs!B2130<>\"\",MID(SNPs!B2130,FIND(\"[\",SNPs!B2130)+3,FIND(\"/\",SNPs!B2130)-FIND(\"/\",SNPs!B2130)+1),\"\")","v":""},{"$f":"IF(SNPs!B2130<>\"\",SNPs!B2130,\"\")","v":""}]
[{"$f":"IF(SNPs!A2131<>\"\",SNPs!A2131,\"\")","v":""},{"$f":"IF(SNPs!B2131<>\"\",MID(SNPs!B2131,FIND(\"[\",SNPs!B2131)+1,FIND(\"/\",SNPs!B2131)-FIND(\"[\",SNPs!B2131)-1),\"\")","v":""},{"$f":"IF(SNPs!B2131<>\"\",MID(SNPs!B2131,FIND(\"[\",SNPs!B2131)+3,FIND(\"/\",SNPs!B2131)-FIND(\"/\",SNPs!B2131)+1),\"\")","v":""},{"$f":"IF(SNPs!B2131<>\"\",SNPs!B2131,\"\")","v":""}]
[{"$f":"IF(SNPs!A2132<>\"\",SNPs!A2132,\"\")","v":""},{"$f":"IF(SNPs!B2132<>\"\",MID(SNPs!B2132,FIND(\"[\",SNPs!B2132)+1,FIND(\"/\",SNPs!B2132)-FIND(\"[\",SNPs!B2132)-1),\"\")","v":""},{"$f":"IF(SNPs!B2132<>\"\",MID(SNPs!B2132,FIND(\"[\",SNPs!B2132)+3,FIND(\"/\",SNPs!B2132)-FIND(\"/\",SNPs!B2132)+1),\"\")","v":""},{"$f":"IF(SNPs!B2132<>\"\",SNPs!B2132,\"\")","v":""}]
[{"$f":"IF(SNPs!A2133<>\"\",SNPs!A2133,\"\")","v":""},{"$f":"IF(SNPs!B2133<>\"\",MID(SNPs!B2133,FIND(\"[\",SNPs!B2133)+1,FIND(\"/\",SNPs!B2133)-FIND(\"[\",SNPs!B2133)-1),\"\")","v":""},{"$f":"IF(SNPs!B2133<>\"\",MID(SNPs!B2133,FIND(\"[\",SNPs!B2133)+3,FIND(\"/\",SNPs!B2133)-FIND(\"/\",SNPs!B2133)+1),\"\")","v":""},{"$f":"IF(SNPs!B2133<>\"\",SNPs!B2133,\"\")","v":""}]
[{"$f":"IF(SNPs!A2134<>\"\",SNPs!A2134,\"\")","v":""},{"$f":"IF(SNPs!B2134<>\"\",MID(SNPs!B2134,FIND(\"[\",SNPs!B2134)+1,FIND(\"/\",SNPs!B2134)-FIND(\"[\",SNPs!B2134)-1),\"\")","v":""},{"$f":"IF(SNPs!B2134<>\"\",MID(SNPs!B2134,FIND(\"[\",SNPs!B2134)+3,FIND(\"/\",SNPs!B2134)-FIND(\"/\",SNPs!B2134)+1),\"\")","v":""},{"$f":"IF(SNPs!B2134<>\"\",SNPs!B2134,\"\")","v":""}]
[{"$f":"IF(SNPs!A2135<>\"\",SNPs!A2135,\"\")","v":""},{"$f":"IF(SNPs!B2135<>\"\",MID(SNPs!B2135,FIND(\"[\",SNPs!B2135)+1,FIND(\"/\",SNPs!B2135)-FIND(\"[\",SNPs!B2135)-1),\"\")","v":""},{"$f":"IF(SNPs!B2135<>\"\",MID(SNPs!B2135,FIND(\"[\",SNPs!B2135)+3,FIND(\"/\",SNPs!B2135)-FIND(\"/\",SNPs!B2135)+1),\"\")","v":""},{"$f":"IF(SNPs!B2135<>\"\",SNPs!B2135,\"\")","v":""}]
[{"$f":"IF(SNPs!A2136<>\"\",SNPs!A2136,\"\")","v":""},{"$f":"IF(SNPs!B2136<>\"\",MID(SNPs!B2136,FIND(\"[\",SNPs!B2136)+1,FIND(\"/\",SNPs!B2136)-FIND(\"[\",SNPs!B2136)-1),\"\")","v":""},{"$f":"IF(SNPs!B2136<>\"\",MID(SNPs!B2136,FIND(\"[\",SNPs!B2136)+3,FIND(\"/\",SNPs!B2136)-FIND(\"/\",SNPs!B2136)+1),\"\")","v":""},{"$f":"IF(SNPs!B2136<>\"\",SNPs!B2136,\"\")","v":""}]
[{"$f":"IF(SNPs!A2137<>\"\",SNPs!A2137,\"\")","v":""},{"$f":"IF(SNPs!B2137<>\"\",MID(SNPs!B2137,FIND(\"[\",SNPs!B2137)+1,FIND(\"/\",SNPs!B2137)-FIND(\"[\",SNPs!B2137)-1),\"\")","v":""},{"$f":"IF(SNPs!B2137<>\"\",MID(SNPs!B2137,FIND(\"[\",SNPs!B2137)+3,FIND(\"/\",SNPs!B2137)-FIND(\"/\",SNPs!B2137)+1),\"\")","v":""},{"$f":"IF(SNPs!B2137<>\"\",SNPs!B2137,\"\")","v":""}]
[{"$f":"IF(SNPs!A2138<>\"\",SNPs!A2138,\"\")","v":""},{"$f":"IF(SNPs!B2138<>\"\",MID(SNPs!B2138,FIND(\"[\",SNPs!B2138)+1,FIND(\"/\",SNPs!B2138)-FIND(\"[\",SNPs!B2138)-1),\"\")","v":""},{"$f":"IF(SNPs!B2138<>\"\",MID(SNPs!B2138,FIND(\"[\",SNPs!B2138)+3,FIND(\"/\",SNPs!B2138)-FIND(\"/\",SNPs!B2138)+1),\"\")","v":""},{"$f":"IF(SNPs!B2138<>\"\",SNPs!B2138,\"\")","v":""}]
[{"$f":"IF(SNPs!A2139<>\"\",SNPs!A2139,\"\")","v":""},{"$f":"IF(SNPs!B2139<>\"\",MID(SNPs!B2139,FIND(\"[\",SNPs!B2139)+1,FIND(\"/\",SNPs!B2139)-FIND(\"[\",SNPs!B2139)-1),\"\")","v":""},{"$f":"IF(SNPs!B2139<>\"\",MID(SNPs!B2139,FIND(\"[\",SNPs!B2139)+3,FIND(\"/\",SNPs!B2139)-FIND(\"/\",SNPs!B2139)+1),\"\")","v":""},{"$f":"IF(SNPs!B2139<>\"\",SNPs!B2139,\"\")","v":""}]
[{"$f":"IF(SNPs!A2140<>\"\",SNPs!A2140,\"\")","v":""},{"$f":"IF(SNPs!B2140<>\"\",MID(SNPs!B2140,FIND(\"[\",SNPs!B2140)+1,FIND(\"/\",SNPs!B2140)-FIND(\"[\",SNPs!B2140)-1),\"\")","v":""},{"$f":"IF(SNPs!B2140<>\"\",MID(SNPs!B2140,FIND(\"[\",SNPs!B2140)+3,FIND(\"/\",SNPs!B2140)-FIND(\"/\",SNPs!B2140)+1),\"\")","v":""},{"$f":"IF(SNPs!B2140<>\"\",SNPs!B2140,\"\")","v":""}]
[{"$f":"IF(SNPs!A2141<>\"\",SNPs!A2141,\"\")","v":""},{"$f":"IF(SNPs!B2141<>\"\",MID(SNPs!B2141,FIND(\"[\",SNPs!B2141)+1,FIND(\"/\",SNPs!B2141)-FIND(\"[\",SNPs!B2141)-1),\"\")","v":""},{"$f":"IF(SNPs!B2141<>\"\",MID(SNPs!B2141,FIND(\"[\",SNPs!B2141)+3,FIND(\"/\",SNPs!B2141)-FIND(\"/\",SNPs!B2141)+1),\"\")","v":""},{"$f":"IF(SNPs!B2141<>\"\",SNPs!B2141,\"\")","v":""}]
[{"$f":"IF(SNPs!A2142<>\"\",SNPs!A2142,\"\")","v":""},{"$f":"IF(SNPs!B2142<>\"\",MID(SNPs!B2142,FIND(\"[\",SNPs!B2142)+1,FIND(\"/\",SNPs!B2142)-FIND(\"[\",SNPs!B2142)-1),\"\")","v":""},{"$f":"IF(SNPs!B2142<>\"\",MID(SNPs!B2142,FIND(\"[\",SNPs!B2142)+3,FIND(\"/\",SNPs!B2142)-FIND(\"/\",SNPs!B2142)+1),\"\")","v":""},{"$f":"IF(SNPs!B2142<>\"\",SNPs!B2142,\"\")","v":""}]
[{"$f":"IF(SNPs!A2143<>\"\",SNPs!A2143,\"\")","v":""},{"$f":"IF(SNPs!B2143<>\"\",MID(SNPs!B2143,FIND(\"[\",SNPs!B2143)+1,FIND(\"/\",SNPs!B2143)-FIND(\"[\",SNPs!B2143)-1),\"\")","v":""},{"$f":"IF(SNPs!B2143<>\"\",MID(SNPs!B2143,FIND(\"[\",SNPs!B2143)+3,FIND(\"/\",SNPs!B2143)-FIND(\"/\",SNPs!B2143)+1),\"\")","v":""},{"$f":"IF(SNPs!B2143<>\"\",SNPs!B2143,\"\")","v":""}]
[{"$f":"IF(SNPs!A2144<>\"\",SNPs!A2144,\"\")","v":""},{"$f":"IF(SNPs!B2144<>\"\",MID(SNPs!B2144,FIND(\"[\",SNPs!B2144)+1,FIND(\"/\",SNPs!B2144)-FIND(\"[\",SNPs!B2144)-1),\"\")","v":""},{"$f":"IF(SNPs!B2144<>\"\",MID(SNPs!B2144,FIND(\"[\",SNPs!B2144)+3,FIND(\"/\",SNPs!B2144)-FIND(\"/\",SNPs!B2144)+1),\"\")","v":""},{"$f":"IF(SNPs!B2144<>\"\",SNPs!B2144,\"\")","v":""}]
[{"$f":"IF(SNPs!A2145<>\"\",SNPs!A2145,\"\")","v":""},{"$f":"IF(SNPs!B2145<>\"\",MID(SNPs!B2145,FIND(\"[\",SNPs!B2145)+1,FIND(\"/\",SNPs!B2145)-FIND(\"[\",SNPs!B2145)-1),\"\")","v":""},{"$f":"IF(SNPs!B2145<>\"\",MID(SNPs!B2145,FIND(\"[\",SNPs!B2145)+3,FIND(\"/\",SNPs!B2145)-FIND(\"/\",SNPs!B2145)+1),\"\")","v":""},{"$f":"IF(SNPs!B2145<>\"\",SNPs!B2145,\"\")","v":""}]
[{"$f":"IF(SNPs!A2146<>\"\",SNPs!A2146,\"\")","v":""},{"$f":"IF(SNPs!B2146<>\"\",MID(SNPs!B2146,FIND(\"[\",SNPs!B2146)+1,FIND(\"/\",SNPs!B2146)-FIND(\"[\",SNPs!B2146)-1),\"\")","v":""},{"$f":"IF(SNPs!B2146<>\"\",MID(SNPs!B2146,FIND(\"[\",SNPs!B2146)+3,FIND(\"/\",SNPs!B2146)-FIND(\"/\",SNPs!B2146)+1),\"\")","v":""},{"$f":"IF(SNPs!B2146<>\"\",SNPs!B2146,\"\")","v":""}]
[{"$f":"IF(SNPs!A2147<>\"\",SNPs!A2147,\"\")","v":""},{"$f":"IF(SNPs!B2147<>\"\",MID(SNPs!B2147,FIND(\"[\",SNPs!B2147)+1,FIND(\"/\",SNPs!B2147)-FIND(\"[\",SNPs!B2147)-1),\"\")","v":""},{"$f":"IF(SNPs!B2147<>\"\",MID(SNPs!B2147,FIND(\"[\",SNPs!B2147)+3,FIND(\"/\",SNPs!B2147)-FIND(\"/\",SNPs!B2147)+1),\"\")","v":""},{"$f":"IF(SNPs!B2147<>\"\",SNPs!B2147,\"\")","v":""}]
[{"$f":"IF(SNPs!A2148<>\"\",SNPs!A2148,\"\")","v":""},{"$f":"IF(SNPs!B2148<>\"\",MID(SNPs!B2148,FIND(\"[\",SNPs!B2148)+1,FIND(\"/\",SNPs!B2148)-FIND(\"[\",SNPs!B2148)-1),\"\")","v":""},{"$f":"IF(SNPs!B2148<>\"\",MID(SNPs!B2148,FIND(\"[\",SNPs!B2148)+3,FIND(\"/\",SNPs!B2148)-FIND(\"/\",SNPs!B2148)+1),\"\")","v":""},{"$f":"IF(SNPs!B2148<>\"\",SNPs!B2148,\"\")","v":""}]
[{"$f":"IF(SNPs!A2149<>\"\",SNPs!A2149,\"\")","v":""},{"$f":"IF(SNPs!B2149<>\"\",MID(SNPs!B2149,FIND(\"[\",SNPs!B2149)+1,FIND(\"/\",SNPs!B2149)-FIND(\"[\",SNPs!B2149)-1),\"\")","v":""},{"$f":"IF(SNPs!B2149<>\"\",MID(SNPs!B2149,FIND(\"[\",SNPs!B2149)+3,FIND(\"/\",SNPs!B2149)-FIND(\"/\",SNPs!B2149)+1),\"\")","v":""},{"$f":"IF(SNPs!B2149<>\"\",SNPs!B2149,\"\")","v":""}]
[{"$f":"IF(SNPs!A2150<>\"\",SNPs!A2150,\"\")","v":""},{"$f":"IF(SNPs!B2150<>\"\",MID(SNPs!B2150,FIND(\"[\",SNPs!B2150)+1,FIND(\"/\",SNPs!B2150)-FIND(\"[\",SNPs!B2150)-1),\"\")","v":""},{"$f":"IF(SNPs!B2150<>\"\",MID(SNPs!B2150,FIND(\"[\",SNPs!B2150)+3,FIND(\"/\",SNPs!B2150)-FIND(\"/\",SNPs!B2150)+1),\"\")","v":""},{"$f":"IF(SNPs!B2150<>\"\",SNPs!B2150,\"\")","v":""}]
[{"$f":"IF(SNPs!A2151<>\"\",SNPs!A2151,\"\")","v":""},{"$f":"IF(SNPs!B2151<>\"\",MID(SNPs!B2151,FIND(\"[\",SNPs!B2151)+1,FIND(\"/\",SNPs!B2151)-FIND(\"[\",SNPs!B2151)-1),\"\")","v":""},{"$f":"IF(SNPs!B2151<>\"\",MID(SNPs!B2151,FIND(\"[\",SNPs!B2151)+3,FIND(\"/\",SNPs!B2151)-FIND(\"/\",SNPs!B2151)+1),\"\")","v":""},{"$f":"IF(SNPs!B2151<>\"\",SNPs!B2151,\"\")","v":""}]
[{"$f":"IF(SNPs!A2152<>\"\",SNPs!A2152,\"\")","v":""},{"$f":"IF(SNPs!B2152<>\"\",MID(SNPs!B2152,FIND(\"[\",SNPs!B2152)+1,FIND(\"/\",SNPs!B2152)-FIND(\"[\",SNPs!B2152)-1),\"\")","v":""},{"$f":"IF(SNPs!B2152<>\"\",MID(SNPs!B2152,FIND(\"[\",SNPs!B2152)+3,FIND(\"/\",SNPs!B2152)-FIND(\"/\",SNPs!B2152)+1),\"\")","v":""},{"$f":"IF(SNPs!B2152<>\"\",SNPs!B2152,\"\")","v":""}]
[{"$f":"IF(SNPs!A2153<>\"\",SNPs!A2153,\"\")","v":""},{"$f":"IF(SNPs!B2153<>\"\",MID(SNPs!B2153,FIND(\"[\",SNPs!B2153)+1,FIND(\"/\",SNPs!B2153)-FIND(\"[\",SNPs!B2153)-1),\"\")","v":""},{"$f":"IF(SNPs!B2153<>\"\",MID(SNPs!B2153,FIND(\"[\",SNPs!B2153)+3,FIND(\"/\",SNPs!B2153)-FIND(\"/\",SNPs!B2153)+1),\"\")","v":""},{"$f":"IF(SNPs!B2153<>\"\",SNPs!B2153,\"\")","v":""}]
[{"$f":"IF(SNPs!A2154<>\"\",SNPs!A2154,\"\")","v":""},{"$f":"IF(SNPs!B2154<>\"\",MID(SNPs!B2154,FIND(\"[\",SNPs!B2154)+1,FIND(\"/\",SNPs!B2154)-FIND(\"[\",SNPs!B2154)-1),\"\")","v":""},{"$f":"IF(SNPs!B2154<>\"\",MID(SNPs!B2154,FIND(\"[\",SNPs!B2154)+3,FIND(\"/\",SNPs!B2154)-FIND(\"/\",SNPs!B2154)+1),\"\")","v":""},{"$f":"IF(SNPs!B2154<>\"\",SNPs!B2154,\"\")","v":""}]
[{"$f":"IF(SNPs!A2155<>\"\",SNPs!A2155,\"\")","v":""},{"$f":"IF(SNPs!B2155<>\"\",MID(SNPs!B2155,FIND(\"[\",SNPs!B2155)+1,FIND(\"/\",SNPs!B2155)-FIND(\"[\",SNPs!B2155)-1),\"\")","v":""},{"$f":"IF(SNPs!B2155<>\"\",MID(SNPs!B2155,FIND(\"[\",SNPs!B2155)+3,FIND(\"/\",SNPs!B2155)-FIND(\"/\",SNPs!B2155)+1),\"\")","v":""},{"$f":"IF(SNPs!B2155<>\"\",SNPs!B2155,\"\")","v":""}]
[{"$f":"IF(SNPs!A2156<>\"\",SNPs!A2156,\"\")","v":""},{"$f":"IF(SNPs!B2156<>\"\",MID(SNPs!B2156,FIND(\"[\",SNPs!B2156)+1,FIND(\"/\",SNPs!B2156)-FIND(\"[\",SNPs!B2156)-1),\"\")","v":""},{"$f":"IF(SNPs!B2156<>\"\",MID(SNPs!B2156,FIND(\"[\",SNPs!B2156)+3,FIND(\"/\",SNPs!B2156)-FIND(\"/\",SNPs!B2156)+1),\"\")","v":""},{"$f":"IF(SNPs!B2156<>\"\",SNPs!B2156,\"\")","v":""}]
[{"$f":"IF(SNPs!A2157<>\"\",SNPs!A2157,\"\")","v":""},{"$f":"IF(SNPs!B2157<>\"\",MID(SNPs!B2157,FIND(\"[\",SNPs!B2157)+1,FIND(\"/\",SNPs!B2157)-FIND(\"[\",SNPs!B2157)-1),\"\")","v":""},{"$f":"IF(SNPs!B2157<>\"\",MID(SNPs!B2157,FIND(\"[\",SNPs!B2157)+3,FIND(\"/\",SNPs!B2157)-FIND(\"/\",SNPs!B2157)+1),\"\")","v":""},{"$f":"IF(SNPs!B2157<>\"\",SNPs!B2157,\"\")","v":""}]
[{"$f":"IF(SNPs!A2158<>\"\",SNPs!A2158,\"\")","v":""},{"$f":"IF(SNPs!B2158<>\"\",MID(SNPs!B2158,FIND(\"[\",SNPs!B2158)+1,FIND(\"/\",SNPs!B2158)-FIND(\"[\",SNPs!B2158)-1),\"\")","v":""},{"$f":"IF(SNPs!B2158<>\"\",MID(SNPs!B2158,FIND(\"[\",SNPs!B2158)+3,FIND(\"/\",SNPs!B2158)-FIND(\"/\",SNPs!B2158)+1),\"\")","v":""},{"$f":"IF(SNPs!B2158<>\"\",SNPs!B2158,\"\")","v":""}]
[{"$f":"IF(SNPs!A2159<>\"\",SNPs!A2159,\"\")","v":""},{"$f":"IF(SNPs!B2159<>\"\",MID(SNPs!B2159,FIND(\"[\",SNPs!B2159)+1,FIND(\"/\",SNPs!B2159)-FIND(\"[\",SNPs!B2159)-1),\"\")","v":""},{"$f":"IF(SNPs!B2159<>\"\",MID(SNPs!B2159,FIND(\"[\",SNPs!B2159)+3,FIND(\"/\",SNPs!B2159)-FIND(\"/\",SNPs!B2159)+1),\"\")","v":""},{"$f":"IF(SNPs!B2159<>\"\",SNPs!B2159,\"\")","v":""}]
[{"$f":"IF(SNPs!A2160<>\"\",SNPs!A2160,\"\")","v":""},{"$f":"IF(SNPs!B2160<>\"\",MID(SNPs!B2160,FIND(\"[\",SNPs!B2160)+1,FIND(\"/\",SNPs!B2160)-FIND(\"[\",SNPs!B2160)-1),\"\")","v":""},{"$f":"IF(SNPs!B2160<>\"\",MID(SNPs!B2160,FIND(\"[\",SNPs!B2160)+3,FIND(\"/\",SNPs!B2160)-FIND(\"/\",SNPs!B2160)+1),\"\")","v":""},{"$f":"IF(SNPs!B2160<>\"\",SNPs!B2160,\"\")","v":""}]
[{"$f":"IF(SNPs!A2161<>\"\",SNPs!A2161,\"\")","v":""},{"$f":"IF(SNPs!B2161<>\"\",MID(SNPs!B2161,FIND(\"[\",SNPs!B2161)+1,FIND(\"/\",SNPs!B2161)-FIND(\"[\",SNPs!B2161)-1),\"\")","v":""},{"$f":"IF(SNPs!B2161<>\"\",MID(SNPs!B2161,FIND(\"[\",SNPs!B2161)+3,FIND(\"/\",SNPs!B2161)-FIND(\"/\",SNPs!B2161)+1),\"\")","v":""},{"$f":"IF(SNPs!B2161<>\"\",SNPs!B2161,\"\")","v":""}]
[{"$f":"IF(SNPs!A2162<>\"\",SNPs!A2162,\"\")","v":""},{"$f":"IF(SNPs!B2162<>\"\",MID(SNPs!B2162,FIND(\"[\",SNPs!B2162)+1,FIND(\"/\",SNPs!B2162)-FIND(\"[\",SNPs!B2162)-1),\"\")","v":""},{"$f":"IF(SNPs!B2162<>\"\",MID(SNPs!B2162,FIND(\"[\",SNPs!B2162)+3,FIND(\"/\",SNPs!B2162)-FIND(\"/\",SNPs!B2162)+1),\"\")","v":""},{"$f":"IF(SNPs!B2162<>\"\",SNPs!B2162,\"\")","v":""}]
[{"$f":"IF(SNPs!A2163<>\"\",SNPs!A2163,\"\")","v":""},{"$f":"IF(SNPs!B2163<>\"\",MID(SNPs!B2163,FIND(\"[\",SNPs!B2163)+1,FIND(\"/\",SNPs!B2163)-FIND(\"[\",SNPs!B2163)-1),\"\")","v":""},{"$f":"IF(SNPs!B2163<>\"\",MID(SNPs!B2163,FIND(\"[\",SNPs!B2163)+3,FIND(\"/\",SNPs!B2163)-FIND(\"/\",SNPs!B2163)+1),\"\")","v":""},{"$f":"IF(SNPs!B2163<>\"\",SNPs!B2163,\"\")","v":""}]
[{"$f":"IF(SNPs!A2164<>\"\",SNPs!A2164,\"\")","v":""},{"$f":"IF(SNPs!B2164<>\"\",MID(SNPs!B2164,FIND(\"[\",SNPs!B2164)+1,FIND(\"/\",SNPs!B2164)-FIND(\"[\",SNPs!B2164)-1),\"\")","v":""},{"$f":"IF(SNPs!B2164<>\"\",MID(SNPs!B2164,FIND(\"[\",SNPs!B2164)+3,FIND(\"/\",SNPs!B2164)-FIND(\"/\",SNPs!B2164)+1),\"\")","v":""},{"$f":"IF(SNPs!B2164<>\"\",SNPs!B2164,\"\")","v":""}]
[{"$f":"IF(SNPs!A2165<>\"\",SNPs!A2165,\"\")","v":""},{"$f":"IF(SNPs!B2165<>\"\",MID(SNPs!B2165,FIND(\"[\",SNPs!B2165)+1,FIND(\"/\",SNPs!B2165)-FIND(\"[\",SNPs!B2165)-1),\"\")","v":""},{"$f":"IF(SNPs!B2165<>\"\",MID(SNPs!B2165,FIND(\"[\",SNPs!B2165)+3,FIND(\"/\",SNPs!B2165)-FIND(\"/\",SNPs!B2165)+1),\"\")","v":""},{"$f":"IF(SNPs!B2165<>\"\",SNPs!B2165,\"\")","v":""}]
[{"$f":"IF(SNPs!A2166<>\"\",SNPs!A2166,\"\")","v":""},{"$f":"IF(SNPs!B2166<>\"\",MID(SNPs!B2166,FIND(\"[\",SNPs!B2166)+1,FIND(\"/\",SNPs!B2166)-FIND(\"[\",SNPs!B2166)-1),\"\")","v":""},{"$f":"IF(SNPs!B2166<>\"\",MID(SNPs!B2166,FIND(\"[\",SNPs!B2166)+3,FIND(\"/\",SNPs!B2166)-FIND(\"/\",SNPs!B2166)+1),\"\")","v":""},{"$f":"IF(SNPs!B2166<>\"\",SNPs!B2166,\"\")","v":""}]
[{"$f":"IF(SNPs!A2167<>\"\",SNPs!A2167,\"\")","v":""},{"$f":"IF(SNPs!B2167<>\"\",MID(SNPs!B2167,FIND(\"[\",SNPs!B2167)+1,FIND(\"/\",SNPs!B2167)-FIND(\"[\",SNPs!B2167)-1),\"\")","v":""},{"$f":"IF(SNPs!B2167<>\"\",MID(SNPs!B2167,FIND(\"[\",SNPs!B2167)+3,FIND(\"/\",SNPs!B2167)-FIND(\"/\",SNPs!B2167)+1),\"\")","v":""},{"$f":"IF(SNPs!B2167<>\"\",SNPs!B2167,\"\")","v":""}]
[{"$f":"IF(SNPs!A2168<>\"\",SNPs!A2168,\"\")","v":""},{"$f":"IF(SNPs!B2168<>\"\",MID(SNPs!B2168,FIND(\"[\",SNPs!B2168)+1,FIND(\"/\",SNPs!B2168)-FIND(\"[\",SNPs!B2168)-1),\"\")","v":""},{"$f":"IF(SNPs!B2168<>\"\",MID(SNPs!B2168,FIND(\"[\",SNPs!B2168)+3,FIND(\"/\",SNPs!B2168)-FIND(\"/\",SNPs!B2168)+1),\"\")","v":""},{"$f":"IF(SNPs!B2168<>\"\",SNPs!B2168,\"\")","v":""}]
[{"$f":"IF(SNPs!A2169<>\"\",SNPs!A2169,\"\")","v":""},{"$f":"IF(SNPs!B2169<>\"\",MID(SNPs!B2169,FIND(\"[\",SNPs!B2169)+1,FIND(\"/\",SNPs!B2169)-FIND(\"[\",SNPs!B2169)-1),\"\")","v":""},{"$f":"IF(SNPs!B2169<>\"\",MID(SNPs!B2169,FIND(\"[\",SNPs!B2169)+3,FIND(\"/\",SNPs!B2169)-FIND(\"/\",SNPs!B2169)+1),\"\")","v":""},{"$f":"IF(SNPs!B2169<>\"\",SNPs!B2169,\"\")","v":""}]
[{"$f":"IF(SNPs!A2170<>\"\",SNPs!A2170,\"\")","v":""},{"$f":"IF(SNPs!B2170<>\"\",MID(SNPs!B2170,FIND(\"[\",SNPs!B2170)+1,FIND(\"/\",SNPs!B2170)-FIND(\"[\",SNPs!B2170)-1),\"\")","v":""},{"$f":"IF(SNPs!B2170<>\"\",MID(SNPs!B2170,FIND(\"[\",SNPs!B2170)+3,FIND(\"/\",SNPs!B2170)-FIND(\"/\",SNPs!B2170)+1),\"\")","v":""},{"$f":"IF(SNPs!B2170<>\"\",SNPs!B2170,\"\")","v":""}]
[{"$f":"IF(SNPs!A2171<>\"\",SNPs!A2171,\"\")","v":""},{"$f":"IF(SNPs!B2171<>\"\",MID(SNPs!B2171,FIND(\"[\",SNPs!B2171)+1,FIND(\"/\",SNPs!B2171)-FIND(\"[\",SNPs!B2171)-1),\"\")","v":""},{"$f":"IF(SNPs!B2171<>\"\",MID(SNPs!B2171,FIND(\"[\",SNPs!B2171)+3,FIND(\"/\",SNPs!B2171)-FIND(\"/\",SNPs!B2171)+1),\"\")","v":""},{"$f":"IF(SNPs!B2171<>\"\",SNPs!B2171,\"\")","v":""}]
[{"$f":"IF(SNPs!A2172<>\"\",SNPs!A2172,\"\")","v":""},{"$f":"IF(SNPs!B2172<>\"\",MID(SNPs!B2172,FIND(\"[\",SNPs!B2172)+1,FIND(\"/\",SNPs!B2172)-FIND(\"[\",SNPs!B2172)-1),\"\")","v":""},{"$f":"IF(SNPs!B2172<>\"\",MID(SNPs!B2172,FIND(\"[\",SNPs!B2172)+3,FIND(\"/\",SNPs!B2172)-FIND(\"/\",SNPs!B2172)+1),\"\")","v":""},{"$f":"IF(SNPs!B2172<>\"\",SNPs!B2172,\"\")","v":""}]
[{"$f":"IF(SNPs!A2173<>\"\",SNPs!A2173,\"\")","v":""},{"$f":"IF(SNPs!B2173<>\"\",MID(SNPs!B2173,FIND(\"[\",SNPs!B2173)+1,FIND(\"/\",SNPs!B2173)-FIND(\"[\",SNPs!B2173)-1),\"\")","v":""},{"$f":"IF(SNPs!B2173<>\"\",MID(SNPs!B2173,FIND(\"[\",SNPs!B2173)+3,FIND(\"/\",SNPs!B2173)-FIND(\"/\",SNPs!B2173)+1),\"\")","v":""},{"$f":"IF(SNPs!B2173<>\"\",SNPs!B2173,\"\")","v":""}]
[{"$f":"IF(SNPs!A2174<>\"\",SNPs!A2174,\"\")","v":""},{"$f":"IF(SNPs!B2174<>\"\",MID(SNPs!B2174,FIND(\"[\",SNPs!B2174)+1,FIND(\"/\",SNPs!B2174)-FIND(\"[\",SNPs!B2174)-1),\"\")","v":""},{"$f":"IF(SNPs!B2174<>\"\",MID(SNPs!B2174,FIND(\"[\",SNPs!B2174)+3,FIND(\"/\",SNPs!B2174)-FIND(\"/\",SNPs!B2174)+1),\"\")","v":""},{"$f":"IF(SNPs!B2174<>\"\",SNPs!B2174,\"\")","v":""}]
[{"$f":"IF(SNPs!A2175<>\"\",SNPs!A2175,\"\")","v":""},{"$f":"IF(SNPs!B2175<>\"\",MID(SNPs!B2175,FIND(\"[\",SNPs!B2175)+1,FIND(\"/\",SNPs!B2175)-FIND(\"[\",SNPs!B2175)-1),\"\")","v":""},{"$f":"IF(SNPs!B2175<>\"\",MID(SNPs!B2175,FIND(\"[\",SNPs!B2175)+3,FIND(\"/\",SNPs!B2175)-FIND(\"/\",SNPs!B2175)+1),\"\")","v":""},{"$f":"IF(SNPs!B2175<>\"\",SNPs!B2175,\"\")","v":""}]
[{"$f":"IF(SNPs!A2176<>\"\",SNPs!A2176,\"\")","v":""},{"$f":"IF(SNPs!B2176<>\"\",MID(SNPs!B2176,FIND(\"[\",SNPs!B2176)+1,FIND(\"/\",SNPs!B2176)-FIND(\"[\",SNPs!B2176)-1),\"\")","v":""},{"$f":"IF(SNPs!B2176<>\"\",MID(SNPs!B2176,FIND(\"[\",SNPs!B2176)+3,FIND(\"/\",SNPs!B2176)-FIND(\"/\",SNPs!B2176)+1),\"\")","v":""},{"$f":"IF(SNPs!B2176<>\"\",SNPs!B2176,\"\")","v":""}]
[{"$f":"IF(SNPs!A2177<>\"\",SNPs!A2177,\"\")","v":""},{"$f":"IF(SNPs!B2177<>\"\",MID(SNPs!B2177,FIND(\"[\",SNPs!B2177)+1,FIND(\"/\",SNPs!B2177)-FIND(\"[\",SNPs!B2177)-1),\"\")","v":""},{"$f":"IF(SNPs!B2177<>\"\",MID(SNPs!B2177,FIND(\"[\",SNPs!B2177)+3,FIND(\"/\",SNPs!B2177)-FIND(\"/\",SNPs!B2177)+1),\"\")","v":""},{"$f":"IF(SNPs!B2177<>\"\",SNPs!B2177,\"\")","v":""}]
[{"$f":"IF(SNPs!A2178<>\"\",SNPs!A2178,\"\")","v":""},{"$f":"IF(SNPs!B2178<>\"\",MID(SNPs!B2178,FIND(\"[\",SNPs!B2178)+1,FIND(\"/\",SNPs!B2178)-FIND(\"[\",SNPs!B2178)-1),\"\")","v":""},{"$f":"IF(SNPs!B2178<>\"\",MID(SNPs!B2178,FIND(\"[\",SNPs!B2178)+3,FIND(\"/\",SNPs!B2178)-FIND(\"/\",SNPs!B2178)+1),\"\")","v":""},{"$f":"IF(SNPs!B2178<>\"\",SNPs!B2178,\"\")","v":""}]
[{"$f":"IF(SNPs!A2179<>\"\",SNPs!A2179,\"\")","v":""},{"$f":"IF(SNPs!B2179<>\"\",MID(SNPs!B2179,FIND(\"[\",SNPs!B2179)+1,FIND(\"/\",SNPs!B2179)-FIND(\"[\",SNPs!B2179)-1),\"\")","v":""},{"$f":"IF(SNPs!B2179<>\"\",MID(SNPs!B2179,FIND(\"[\",SNPs!B2179)+3,FIND(\"/\",SNPs!B2179)-FIND(\"/\",SNPs!B2179)+1),\"\")","v":""},{"$f":"IF(SNPs!B2179<>\"\",SNPs!B2179,\"\")","v":""}]
[{"$f":"IF(SNPs!A2180<>\"\",SNPs!A2180,\"\")","v":""},{"$f":"IF(SNPs!B2180<>\"\",MID(SNPs!B2180,FIND(\"[\",SNPs!B2180)+1,FIND(\"/\",SNPs!B2180)-FIND(\"[\",SNPs!B2180)-1),\"\")","v":""},{"$f":"IF(SNPs!B2180<>\"\",MID(SNPs!B2180,FIND(\"[\",SNPs!B2180)+3,FIND(\"/\",SNPs!B2180)-FIND(\"/\",SNPs!B2180)+1),\"\")","v":""},{"$f":"IF(SNPs!B2180<>\"\",SNPs!B2180,\"\")","v":""}]
[{"$f":"IF(SNPs!A2181<>\"\",SNPs!A2181,\"\")","v":""},{"$f":"IF(SNPs!B2181<>\"\",MID(SNPs!B2181,FIND(\"[\",SNPs!B2181)+1,FIND(\"/\",SNPs!B2181)-FIND(\"[\",SNPs!B2181)-1),\"\")","v":""},{"$f":"IF(SNPs!B2181<>\"\",MID(SNPs!B2181,FIND(\"[\",SNPs!B2181)+3,FIND(\"/\",SNPs!B2181)-FIND(\"/\",SNPs!B2181)+1),\"\")","v":""},{"$f":"IF(SNPs!B2181<>\"\",SNPs!B2181,\"\")","v":""}]
[{"$f":"IF(SNPs!A2182<>\"\",SNPs!A2182,\"\")","v":""},{"$f":"IF(SNPs!B2182<>\"\",MID(SNPs!B2182,FIND(\"[\",SNPs!B2182)+1,FIND(\"/\",SNPs!B2182)-FIND(\"[\",SNPs!B2182)-1),\"\")","v":""},{"$f":"IF(SNPs!B2182<>\"\",MID(SNPs!B2182,FIND(\"[\",SNPs!B2182)+3,FIND(\"/\",SNPs!B2182)-FIND(\"/\",SNPs!B2182)+1),\"\")","v":""},{"$f":"IF(SNPs!B2182<>\"\",SNPs!B2182,\"\")","v":""}]
[{"$f":"IF(SNPs!A2183<>\"\",SNPs!A2183,\"\")","v":""},{"$f":"IF(SNPs!B2183<>\"\",MID(SNPs!B2183,FIND(\"[\",SNPs!B2183)+1,FIND(\"/\",SNPs!B2183)-FIND(\"[\",SNPs!B2183)-1),\"\")","v":""},{"$f":"IF(SNPs!B2183<>\"\",MID(SNPs!B2183,FIND(\"[\",SNPs!B2183)+3,FIND(\"/\",SNPs!B2183)-FIND(\"/\",SNPs!B2183)+1),\"\")","v":""},{"$f":"IF(SNPs!B2183<>\"\",SNPs!B2183,\"\")","v":""}]
[{"$f":"IF(SNPs!A2184<>\"\",SNPs!A2184,\"\")","v":""},{"$f":"IF(SNPs!B2184<>\"\",MID(SNPs!B2184,FIND(\"[\",SNPs!B2184)+1,FIND(\"/\",SNPs!B2184)-FIND(\"[\",SNPs!B2184)-1),\"\")","v":""},{"$f":"IF(SNPs!B2184<>\"\",MID(SNPs!B2184,FIND(\"[\",SNPs!B2184)+3,FIND(\"/\",SNPs!B2184)-FIND(\"/\",SNPs!B2184)+1),\"\")","v":""},{"$f":"IF(SNPs!B2184<>\"\",SNPs!B2184,\"\")","v":""}]
[{"$f":"IF(SNPs!A2185<>\"\",SNPs!A2185,\"\")","v":""},{"$f":"IF(SNPs!B2185<>\"\",MID(SNPs!B2185,FIND(\"[\",SNPs!B2185)+1,FIND(\"/\",SNPs!B2185)-FIND(\"[\",SNPs!B2185)-1),\"\")","v":""},{"$f":"IF(SNPs!B2185<>\"\",MID(SNPs!B2185,FIND(\"[\",SNPs!B2185)+3,FIND(\"/\",SNPs!B2185)-FIND(\"/\",SNPs!B2185)+1),\"\")","v":""},{"$f":"IF(SNPs!B2185<>\"\",SNPs!B2185,\"\")","v":""}]
[{"$f":"IF(SNPs!A2186<>\"\",SNPs!A2186,\"\")","v":""},{"$f":"IF(SNPs!B2186<>\"\",MID(SNPs!B2186,FIND(\"[\",SNPs!B2186)+1,FIND(\"/\",SNPs!B2186)-FIND(\"[\",SNPs!B2186)-1),\"\")","v":""},{"$f":"IF(SNPs!B2186<>\"\",MID(SNPs!B2186,FIND(\"[\",SNPs!B2186)+3,FIND(\"/\",SNPs!B2186)-FIND(\"/\",SNPs!B2186)+1),\"\")","v":""},{"$f":"IF(SNPs!B2186<>\"\",SNPs!B2186,\"\")","v":""}]
[{"$f":"IF(SNPs!A2187<>\"\",SNPs!A2187,\"\")","v":""},{"$f":"IF(SNPs!B2187<>\"\",MID(SNPs!B2187,FIND(\"[\",SNPs!B2187)+1,FIND(\"/\",SNPs!B2187)-FIND(\"[\",SNPs!B2187)-1),\"\")","v":""},{"$f":"IF(SNPs!B2187<>\"\",MID(SNPs!B2187,FIND(\"[\",SNPs!B2187)+3,FIND(\"/\",SNPs!B2187)-FIND(\"/\",SNPs!B2187)+1),\"\")","v":""},{"$f":"IF(SNPs!B2187<>\"\",SNPs!B2187,\"\")","v":""}]
[{"$f":"IF(SNPs!A2188<>\"\",SNPs!A2188,\"\")","v":""},{"$f":"IF(SNPs!B2188<>\"\",MID(SNPs!B2188,FIND(\"[\",SNPs!B2188)+1,FIND(\"/\",SNPs!B2188)-FIND(\"[\",SNPs!B2188)-1),\"\")","v":""},{"$f":"IF(SNPs!B2188<>\"\",MID(SNPs!B2188,FIND(\"[\",SNPs!B2188)+3,FIND(\"/\",SNPs!B2188)-FIND(\"/\",SNPs!B2188)+1),\"\")","v":""},{"$f":"IF(SNPs!B2188<>\"\",SNPs!B2188,\"\")","v":""}]
[{"$f":"IF(SNPs!A2189<>\"\",SNPs!A2189,\"\")","v":""},{"$f":"IF(SNPs!B2189<>\"\",MID(SNPs!B2189,FIND(\"[\",SNPs!B2189)+1,FIND(\"/\",SNPs!B2189)-FIND(\"[\",SNPs!B2189)-1),\"\")","v":""},{"$f":"IF(SNPs!B2189<>\"\",MID(SNPs!B2189,FIND(\"[\",SNPs!B2189)+3,FIND(\"/\",SNPs!B2189)-FIND(\"/\",SNPs!B2189)+1),\"\")","v":""},{"$f":"IF(SNPs!B2189<>\"\",SNPs!B2189,\"\")","v":""}]
[{"$f":"IF(SNPs!A2190<>\"\",SNPs!A2190,\"\")","v":""},{"$f":"IF(SNPs!B2190<>\"\",MID(SNPs!B2190,FIND(\"[\",SNPs!B2190)+1,FIND(\"/\",SNPs!B2190)-FIND(\"[\",SNPs!B2190)-1),\"\")","v":""},{"$f":"IF(SNPs!B2190<>\"\",MID(SNPs!B2190,FIND(\"[\",SNPs!B2190)+3,FIND(\"/\",SNPs!B2190)-FIND(\"/\",SNPs!B2190)+1),\"\")","v":""},{"$f":"IF(SNPs!B2190<>\"\",SNPs!B2190,\"\")","v":""}]
[{"$f":"IF(SNPs!A2191<>\"\",SNPs!A2191,\"\")","v":""},{"$f":"IF(SNPs!B2191<>\"\",MID(SNPs!B2191,FIND(\"[\",SNPs!B2191)+1,FIND(\"/\",SNPs!B2191)-FIND(\"[\",SNPs!B2191)-1),\"\")","v":""},{"$f":"IF(SNPs!B2191<>\"\",MID(SNPs!B2191,FIND(\"[\",SNPs!B2191)+3,FIND(\"/\",SNPs!B2191)-FIND(\"/\",SNPs!B2191)+1),\"\")","v":""},{"$f":"IF(SNPs!B2191<>\"\",SNPs!B2191,\"\")","v":""}]
[{"$f":"IF(SNPs!A2192<>\"\",SNPs!A2192,\"\")","v":""},{"$f":"IF(SNPs!B2192<>\"\",MID(SNPs!B2192,FIND(\"[\",SNPs!B2192)+1,FIND(\"/\",SNPs!B2192)-FIND(\"[\",SNPs!B2192)-1),\"\")","v":""},{"$f":"IF(SNPs!B2192<>\"\",MID(SNPs!B2192,FIND(\"[\",SNPs!B2192)+3,FIND(\"/\",SNPs!B2192)-FIND(\"/\",SNPs!B2192)+1),\"\")","v":""},{"$f":"IF(SNPs!B2192<>\"\",SNPs!B2192,\"\")","v":""}]
[{"$f":"IF(SNPs!A2193<>\"\",SNPs!A2193,\"\")","v":""},{"$f":"IF(SNPs!B2193<>\"\",MID(SNPs!B2193,FIND(\"[\",SNPs!B2193)+1,FIND(\"/\",SNPs!B2193)-FIND(\"[\",SNPs!B2193)-1),\"\")","v":""},{"$f":"IF(SNPs!B2193<>\"\",MID(SNPs!B2193,FIND(\"[\",SNPs!B2193)+3,FIND(\"/\",SNPs!B2193)-FIND(\"/\",SNPs!B2193)+1),\"\")","v":""},{"$f":"IF(SNPs!B2193<>\"\",SNPs!B2193,\"\")","v":""}]
[{"$f":"IF(SNPs!A2194<>\"\",SNPs!A2194,\"\")","v":""},{"$f":"IF(SNPs!B2194<>\"\",MID(SNPs!B2194,FIND(\"[\",SNPs!B2194)+1,FIND(\"/\",SNPs!B2194)-FIND(\"[\",SNPs!B2194)-1),\"\")","v":""},{"$f":"IF(SNPs!B2194<>\"\",MID(SNPs!B2194,FIND(\"[\",SNPs!B2194)+3,FIND(\"/\",SNPs!B2194)-FIND(\"/\",SNPs!B2194)+1),\"\")","v":""},{"$f":"IF(SNPs!B2194<>\"\",SNPs!B2194,\"\")","v":""}]
[{"$f":"IF(SNPs!A2195<>\"\",SNPs!A2195,\"\")","v":""},{"$f":"IF(SNPs!B2195<>\"\",MID(SNPs!B2195,FIND(\"[\",SNPs!B2195)+1,FIND(\"/\",SNPs!B2195)-FIND(\"[\",SNPs!B2195)-1),\"\")","v":""},{"$f":"IF(SNPs!B2195<>\"\",MID(SNPs!B2195,FIND(\"[\",SNPs!B2195)+3,FIND(\"/\",SNPs!B2195)-FIND(\"/\",SNPs!B2195)+1),\"\")","v":""},{"$f":"IF(SNPs!B2195<>\"\",SNPs!B2195,\"\")","v":""}]
[{"$f":"IF(SNPs!A2196<>\"\",SNPs!A2196,\"\")","v":""},{"$f":"IF(SNPs!B2196<>\"\",MID(SNPs!B2196,FIND(\"[\",SNPs!B2196)+1,FIND(\"/\",SNPs!B2196)-FIND(\"[\",SNPs!B2196)-1),\"\")","v":""},{"$f":"IF(SNPs!B2196<>\"\",MID(SNPs!B2196,FIND(\"[\",SNPs!B2196)+3,FIND(\"/\",SNPs!B2196)-FIND(\"/\",SNPs!B2196)+1),\"\")","v":""},{"$f":"IF(SNPs!B2196<>\"\",SNPs!B2196,\"\")","v":""}]
[{"$f":"IF(SNPs!A2197<>\"\",SNPs!A2197,\"\")","v":""},{"$f":"IF(SNPs!B2197<>\"\",MID(SNPs!B2197,FIND(\"[\",SNPs!B2197)+1,FIND(\"/\",SNPs!B2197)-FIND(\"[\",SNPs!B2197)-1),\"\")","v":""},{"$f":"IF(SNPs!B2197<>\"\",MID(SNPs!B2197,FIND(\"[\",SNPs!B2197)+3,FIND(\"/\",SNPs!B2197)-FIND(\"/\",SNPs!B2197)+1),\"\")","v":""},{"$f":"IF(SNPs!B2197<>\"\",SNPs!B2197,\"\")","v":""}]
[{"$f":"IF(SNPs!A2198<>\"\",SNPs!A2198,\"\")","v":""},{"$f":"IF(SNPs!B2198<>\"\",MID(SNPs!B2198,FIND(\"[\",SNPs!B2198)+1,FIND(\"/\",SNPs!B2198)-FIND(\"[\",SNPs!B2198)-1),\"\")","v":""},{"$f":"IF(SNPs!B2198<>\"\",MID(SNPs!B2198,FIND(\"[\",SNPs!B2198)+3,FIND(\"/\",SNPs!B2198)-FIND(\"/\",SNPs!B2198)+1),\"\")","v":""},{"$f":"IF(SNPs!B2198<>\"\",SNPs!B2198,\"\")","v":""}]
[{"$f":"IF(SNPs!A2199<>\"\",SNPs!A2199,\"\")","v":""},{"$f":"IF(SNPs!B2199<>\"\",MID(SNPs!B2199,FIND(\"[\",SNPs!B2199)+1,FIND(\"/\",SNPs!B2199)-FIND(\"[\",SNPs!B2199)-1),\"\")","v":""},{"$f":"IF(SNPs!B2199<>\"\",MID(SNPs!B2199,FIND(\"[\",SNPs!B2199)+3,FIND(\"/\",SNPs!B2199)-FIND(\"/\",SNPs!B2199)+1),\"\")","v":""},{"$f":"IF(SNPs!B2199<>\"\",SNPs!B2199,\"\")","v":""}]
[{"$f":"IF(SNPs!A2200<>\"\",SNPs!A2200,\"\")","v":""},{"$f":"IF(SNPs!B2200<>\"\",MID(SNPs!B2200,FIND(\"[\",SNPs!B2200)+1,FIND(\"/\",SNPs!B2200)-FIND(\"[\",SNPs!B2200)-1),\"\")","v":""},{"$f":"IF(SNPs!B2200<>\"\",MID(SNPs!B2200,FIND(\"[\",SNPs!B2200)+3,FIND(\"/\",SNPs!B2200)-FIND(\"/\",SNPs!B2200)+1),\"\")","v":""},{"$f":"IF(SNPs!B2200<>\"\",SNPs!B2200,\"\")","v":""}]
[{"$f":"IF(SNPs!A2201<>\"\",SNPs!A2201,\"\")","v":""},{"$f":"IF(SNPs!B2201<>\"\",MID(SNPs!B2201,FIND(\"[\",SNPs!B2201)+1,FIND(\"/\",SNPs!B2201)-FIND(\"[\",SNPs!B2201)-1),\"\")","v":""},{"$f":"IF(SNPs!B2201<>\"\",MID(SNPs!B2201,FIND(\"[\",SNPs!B2201)+3,FIND(\"/\",SNPs!B2201)-FIND(\"/\",SNPs!B2201)+1),\"\")","v":""},{"$f":"IF(SNPs!B2201<>\"\",SNPs!B2201,\"\")","v":""}]
[{"$f":"IF(SNPs!A2202<>\"\",SNPs!A2202,\"\")","v":""},{"$f":"IF(SNPs!B2202<>\"\",MID(SNPs!B2202,FIND(\"[\",SNPs!B2202)+1,FIND(\"/\",SNPs!B2202)-FIND(\"[\",SNPs!B2202)-1),\"\")","v":""},{"$f":"IF(SNPs!B2202<>\"\",MID(SNPs!B2202,FIND(\"[\",SNPs!B2202)+3,FIND(\"/\",SNPs!B2202)-FIND(\"/\",SNPs!B2202)+1),\"\")","v":""},{"$f":"IF(SNPs!B2202<>\"\",SNPs!B2202,\"\")","v":""}]
[{"$f":"IF(SNPs!A2203<>\"\",SNPs!A2203,\"\")","v":""},{"$f":"IF(SNPs!B2203<>\"\",MID(SNPs!B2203,FIND(\"[\",SNPs!B2203)+1,FIND(\"/\",SNPs!B2203)-FIND(\"[\",SNPs!B2203)-1),\"\")","v":""},{"$f":"IF(SNPs!B2203<>\"\",MID(SNPs!B2203,FIND(\"[\",SNPs!B2203)+3,FIND(\"/\",SNPs!B2203)-FIND(\"/\",SNPs!B2203)+1),\"\")","v":""},{"$f":"IF(SNPs!B2203<>\"\",SNPs!B2203,\"\")","v":""}]
[{"$f":"IF(SNPs!A2204<>\"\",SNPs!A2204,\"\")","v":""},{"$f":"IF(SNPs!B2204<>\"\",MID(SNPs!B2204,FIND(\"[\",SNPs!B2204)+1,FIND(\"/\",SNPs!B2204)-FIND(\"[\",SNPs!B2204)-1),\"\")","v":""},{"$f":"IF(SNPs!B2204<>\"\",MID(SNPs!B2204,FIND(\"[\",SNPs!B2204)+3,FIND(\"/\",SNPs!B2204)-FIND(\"/\",SNPs!B2204)+1),\"\")","v":""},{"$f":"IF(SNPs!B2204<>\"\",SNPs!B2204,\"\")","v":""}]
[{"$f":"IF(SNPs!A2205<>\"\",SNPs!A2205,\"\")","v":""},{"$f":"IF(SNPs!B2205<>\"\",MID(SNPs!B2205,FIND(\"[\",SNPs!B2205)+1,FIND(\"/\",SNPs!B2205)-FIND(\"[\",SNPs!B2205)-1),\"\")","v":""},{"$f":"IF(SNPs!B2205<>\"\",MID(SNPs!B2205,FIND(\"[\",SNPs!B2205)+3,FIND(\"/\",SNPs!B2205)-FIND(\"/\",SNPs!B2205)+1),\"\")","v":""},{"$f":"IF(SNPs!B2205<>\"\",SNPs!B2205,\"\")","v":""}]
[{"$f":"IF(SNPs!A2206<>\"\",SNPs!A2206,\"\")","v":""},{"$f":"IF(SNPs!B2206<>\"\",MID(SNPs!B2206,FIND(\"[\",SNPs!B2206)+1,FIND(\"/\",SNPs!B2206)-FIND(\"[\",SNPs!B2206)-1),\"\")","v":""},{"$f":"IF(SNPs!B2206<>\"\",MID(SNPs!B2206,FIND(\"[\",SNPs!B2206)+3,FIND(\"/\",SNPs!B2206)-FIND(\"/\",SNPs!B2206)+1),\"\")","v":""},{"$f":"IF(SNPs!B2206<>\"\",SNPs!B2206,\"\")","v":""}]
[{"$f":"IF(SNPs!A2207<>\"\",SNPs!A2207,\"\")","v":""},{"$f":"IF(SNPs!B2207<>\"\",MID(SNPs!B2207,FIND(\"[\",SNPs!B2207)+1,FIND(\"/\",SNPs!B2207)-FIND(\"[\",SNPs!B2207)-1),\"\")","v":""},{"$f":"IF(SNPs!B2207<>\"\",MID(SNPs!B2207,FIND(\"[\",SNPs!B2207)+3,FIND(\"/\",SNPs!B2207)-FIND(\"/\",SNPs!B2207)+1),\"\")","v":""},{"$f":"IF(SNPs!B2207<>\"\",SNPs!B2207,\"\")","v":""}]
[{"$f":"IF(SNPs!A2208<>\"\",SNPs!A2208,\"\")","v":""},{"$f":"IF(SNPs!B2208<>\"\",MID(SNPs!B2208,FIND(\"[\",SNPs!B2208)+1,FIND(\"/\",SNPs!B2208)-FIND(\"[\",SNPs!B2208)-1),\"\")","v":""},{"$f":"IF(SNPs!B2208<>\"\",MID(SNPs!B2208,FIND(\"[\",SNPs!B2208)+3,FIND(\"/\",SNPs!B2208)-FIND(\"/\",SNPs!B2208)+1),\"\")","v":""},{"$f":"IF(SNPs!B2208<>\"\",SNPs!B2208,\"\")","v":""}]
[{"$f":"IF(SNPs!A2209<>\"\",SNPs!A2209,\"\")","v":""},{"$f":"IF(SNPs!B2209<>\"\",MID(SNPs!B2209,FIND(\"[\",SNPs!B2209)+1,FIND(\"/\",SNPs!B2209)-FIND(\"[\",SNPs!B2209)-1),\"\")","v":""},{"$f":"IF(SNPs!B2209<>\"\",MID(SNPs!B2209,FIND(\"[\",SNPs!B2209)+3,FIND(\"/\",SNPs!B2209)-FIND(\"/\",SNPs!B2209)+1),\"\")","v":""},{"$f":"IF(SNPs!B2209<>\"\",SNPs!B2209,\"\")","v":""}]
[{"$f":"IF(SNPs!A2210<>\"\",SNPs!A2210,\"\")","v":""},{"$f":"IF(SNPs!B2210<>\"\",MID(SNPs!B2210,FIND(\"[\",SNPs!B2210)+1,FIND(\"/\",SNPs!B2210)-FIND(\"[\",SNPs!B2210)-1),\"\")","v":""},{"$f":"IF(SNPs!B2210<>\"\",MID(SNPs!B2210,FIND(\"[\",SNPs!B2210)+3,FIND(\"/\",SNPs!B2210)-FIND(\"/\",SNPs!B2210)+1),\"\")","v":""},{"$f":"IF(SNPs!B2210<>\"\",SNPs!B2210,\"\")","v":""}]
[{"$f":"IF(SNPs!A2211<>\"\",SNPs!A2211,\"\")","v":""},{"$f":"IF(SNPs!B2211<>\"\",MID(SNPs!B2211,FIND(\"[\",SNPs!B2211)+1,FIND(\"/\",SNPs!B2211)-FIND(\"[\",SNPs!B2211)-1),\"\")","v":""},{"$f":"IF(SNPs!B2211<>\"\",MID(SNPs!B2211,FIND(\"[\",SNPs!B2211)+3,FIND(\"/\",SNPs!B2211)-FIND(\"/\",SNPs!B2211)+1),\"\")","v":""},{"$f":"IF(SNPs!B2211<>\"\",SNPs!B2211,\"\")","v":""}]
[{"$f":"IF(SNPs!A2212<>\"\",SNPs!A2212,\"\")","v":""},{"$f":"IF(SNPs!B2212<>\"\",MID(SNPs!B2212,FIND(\"[\",SNPs!B2212)+1,FIND(\"/\",SNPs!B2212)-FIND(\"[\",SNPs!B2212)-1),\"\")","v":""},{"$f":"IF(SNPs!B2212<>\"\",MID(SNPs!B2212,FIND(\"[\",SNPs!B2212)+3,FIND(\"/\",SNPs!B2212)-FIND(\"/\",SNPs!B2212)+1),\"\")","v":""},{"$f":"IF(SNPs!B2212<>\"\",SNPs!B2212,\"\")","v":""}]
[{"$f":"IF(SNPs!A2213<>\"\",SNPs!A2213,\"\")","v":""},{"$f":"IF(SNPs!B2213<>\"\",MID(SNPs!B2213,FIND(\"[\",SNPs!B2213)+1,FIND(\"/\",SNPs!B2213)-FIND(\"[\",SNPs!B2213)-1),\"\")","v":""},{"$f":"IF(SNPs!B2213<>\"\",MID(SNPs!B2213,FIND(\"[\",SNPs!B2213)+3,FIND(\"/\",SNPs!B2213)-FIND(\"/\",SNPs!B2213)+1),\"\")","v":""},{"$f":"IF(SNPs!B2213<>\"\",SNPs!B2213,\"\")","v":""}]
[{"$f":"IF(SNPs!A2214<>\"\",SNPs!A2214,\"\")","v":""},{"$f":"IF(SNPs!B2214<>\"\",MID(SNPs!B2214,FIND(\"[\",SNPs!B2214)+1,FIND(\"/\",SNPs!B2214)-FIND(\"[\",SNPs!B2214)-1),\"\")","v":""},{"$f":"IF(SNPs!B2214<>\"\",MID(SNPs!B2214,FIND(\"[\",SNPs!B2214)+3,FIND(\"/\",SNPs!B2214)-FIND(\"/\",SNPs!B2214)+1),\"\")","v":""},{"$f":"IF(SNPs!B2214<>\"\",SNPs!B2214,\"\")","v":""}]
[{"$f":"IF(SNPs!A2215<>\"\",SNPs!A2215,\"\")","v":""},{"$f":"IF(SNPs!B2215<>\"\",MID(SNPs!B2215,FIND(\"[\",SNPs!B2215)+1,FIND(\"/\",SNPs!B2215)-FIND(\"[\",SNPs!B2215)-1),\"\")","v":""},{"$f":"IF(SNPs!B2215<>\"\",MID(SNPs!B2215,FIND(\"[\",SNPs!B2215)+3,FIND(\"/\",SNPs!B2215)-FIND(\"/\",SNPs!B2215)+1),\"\")","v":""},{"$f":"IF(SNPs!B2215<>\"\",SNPs!B2215,\"\")","v":""}]
[{"$f":"IF(SNPs!A2216<>\"\",SNPs!A2216,\"\")","v":""},{"$f":"IF(SNPs!B2216<>\"\",MID(SNPs!B2216,FIND(\"[\",SNPs!B2216)+1,FIND(\"/\",SNPs!B2216)-FIND(\"[\",SNPs!B2216)-1),\"\")","v":""},{"$f":"IF(SNPs!B2216<>\"\",MID(SNPs!B2216,FIND(\"[\",SNPs!B2216)+3,FIND(\"/\",SNPs!B2216)-FIND(\"/\",SNPs!B2216)+1),\"\")","v":""},{"$f":"IF(SNPs!B2216<>\"\",SNPs!B2216,\"\")","v":""}]
[{"$f":"IF(SNPs!A2217<>\"\",SNPs!A2217,\"\")","v":""},{"$f":"IF(SNPs!B2217<>\"\",MID(SNPs!B2217,FIND(\"[\",SNPs!B2217)+1,FIND(\"/\",SNPs!B2217)-FIND(\"[\",SNPs!B2217)-1),\"\")","v":""},{"$f":"IF(SNPs!B2217<>\"\",MID(SNPs!B2217,FIND(\"[\",SNPs!B2217)+3,FIND(\"/\",SNPs!B2217)-FIND(\"/\",SNPs!B2217)+1),\"\")","v":""},{"$f":"IF(SNPs!B2217<>\"\",SNPs!B2217,\"\")","v":""}]
[{"$f":"IF(SNPs!A2218<>\"\",SNPs!A2218,\"\")","v":""},{"$f":"IF(SNPs!B2218<>\"\",MID(SNPs!B2218,FIND(\"[\",SNPs!B2218)+1,FIND(\"/\",SNPs!B2218)-FIND(\"[\",SNPs!B2218)-1),\"\")","v":""},{"$f":"IF(SNPs!B2218<>\"\",MID(SNPs!B2218,FIND(\"[\",SNPs!B2218)+3,FIND(\"/\",SNPs!B2218)-FIND(\"/\",SNPs!B2218)+1),\"\")","v":""},{"$f":"IF(SNPs!B2218<>\"\",SNPs!B2218,\"\")","v":""}]
[{"$f":"IF(SNPs!A2219<>\"\",SNPs!A2219,\"\")","v":""},{"$f":"IF(SNPs!B2219<>\"\",MID(SNPs!B2219,FIND(\"[\",SNPs!B2219)+1,FIND(\"/\",SNPs!B2219)-FIND(\"[\",SNPs!B2219)-1),\"\")","v":""},{"$f":"IF(SNPs!B2219<>\"\",MID(SNPs!B2219,FIND(\"[\",SNPs!B2219)+3,FIND(\"/\",SNPs!B2219)-FIND(\"/\",SNPs!B2219)+1),\"\")","v":""},{"$f":"IF(SNPs!B2219<>\"\",SNPs!B2219,\"\")","v":""}]
[{"$f":"IF(SNPs!A2220<>\"\",SNPs!A2220,\"\")","v":""},{"$f":"IF(SNPs!B2220<>\"\",MID(SNPs!B2220,FIND(\"[\",SNPs!B2220)+1,FIND(\"/\",SNPs!B2220)-FIND(\"[\",SNPs!B2220)-1),\"\")","v":""},{"$f":"IF(SNPs!B2220<>\"\",MID(SNPs!B2220,FIND(\"[\",SNPs!B2220)+3,FIND(\"/\",SNPs!B2220)-FIND(\"/\",SNPs!B2220)+1),\"\")","v":""},{"$f":"IF(SNPs!B2220<>\"\",SNPs!B2220,\"\")","v":""}]
[{"$f":"IF(SNPs!A2221<>\"\",SNPs!A2221,\"\")","v":""},{"$f":"IF(SNPs!B2221<>\"\",MID(SNPs!B2221,FIND(\"[\",SNPs!B2221)+1,FIND(\"/\",SNPs!B2221)-FIND(\"[\",SNPs!B2221)-1),\"\")","v":""},{"$f":"IF(SNPs!B2221<>\"\",MID(SNPs!B2221,FIND(\"[\",SNPs!B2221)+3,FIND(\"/\",SNPs!B2221)-FIND(\"/\",SNPs!B2221)+1),\"\")","v":""},{"$f":"IF(SNPs!B2221<>\"\",SNPs!B2221,\"\")","v":""}]
[{"$f":"IF(SNPs!A2222<>\"\",SNPs!A2222,\"\")","v":""},{"$f":"IF(SNPs!B2222<>\"\",MID(SNPs!B2222,FIND(\"[\",SNPs!B2222)+1,FIND(\"/\",SNPs!B2222)-FIND(\"[\",SNPs!B2222)-1),\"\")","v":""},{"$f":"IF(SNPs!B2222<>\"\",MID(SNPs!B2222,FIND(\"[\",SNPs!B2222)+3,FIND(\"/\",SNPs!B2222)-FIND(\"/\",SNPs!B2222)+1),\"\")","v":""},{"$f":"IF(SNPs!B2222<>\"\",SNPs!B2222,\"\")","v":""}]
[{"$f":"IF(SNPs!A2223<>\"\",SNPs!A2223,\"\")","v":""},{"$f":"IF(SNPs!B2223<>\"\",MID(SNPs!B2223,FIND(\"[\",SNPs!B2223)+1,FIND(\"/\",SNPs!B2223)-FIND(\"[\",SNPs!B2223)-1),\"\")","v":""},{"$f":"IF(SNPs!B2223<>\"\",MID(SNPs!B2223,FIND(\"[\",SNPs!B2223)+3,FIND(\"/\",SNPs!B2223)-FIND(\"/\",SNPs!B2223)+1),\"\")","v":""},{"$f":"IF(SNPs!B2223<>\"\",SNPs!B2223,\"\")","v":""}]
[{"$f":"IF(SNPs!A2224<>\"\",SNPs!A2224,\"\")","v":""},{"$f":"IF(SNPs!B2224<>\"\",MID(SNPs!B2224,FIND(\"[\",SNPs!B2224)+1,FIND(\"/\",SNPs!B2224)-FIND(\"[\",SNPs!B2224)-1),\"\")","v":""},{"$f":"IF(SNPs!B2224<>\"\",MID(SNPs!B2224,FIND(\"[\",SNPs!B2224)+3,FIND(\"/\",SNPs!B2224)-FIND(\"/\",SNPs!B2224)+1),\"\")","v":""},{"$f":"IF(SNPs!B2224<>\"\",SNPs!B2224,\"\")","v":""}]
[{"$f":"IF(SNPs!A2225<>\"\",SNPs!A2225,\"\")","v":""},{"$f":"IF(SNPs!B2225<>\"\",MID(SNPs!B2225,FIND(\"[\",SNPs!B2225)+1,FIND(\"/\",SNPs!B2225)-FIND(\"[\",SNPs!B2225)-1),\"\")","v":""},{"$f":"IF(SNPs!B2225<>\"\",MID(SNPs!B2225,FIND(\"[\",SNPs!B2225)+3,FIND(\"/\",SNPs!B2225)-FIND(\"/\",SNPs!B2225)+1),\"\")","v":""},{"$f":"IF(SNPs!B2225<>\"\",SNPs!B2225,\"\")","v":""}]
[{"$f":"IF(SNPs!A2226<>\"\",SNPs!A2226,\"\")","v":""},{"$f":"IF(SNPs!B2226<>\"\",MID(SNPs!B2226,FIND(\"[\",SNPs!B2226)+1,FIND(\"/\",SNPs!B2226)-FIND(\"[\",SNPs!B2226)-1),\"\")","v":""},{"$f":"IF(SNPs!B2226<>\"\",MID(SNPs!B2226,FIND(\"[\",SNPs!B2226)+3,FIND(\"/\",SNPs!B2226)-FIND(\"/\",SNPs!B2226)+1),\"\")","v":""},{"$f":"IF(SNPs!B2226<>\"\",SNPs!B2226,\"\")","v":""}]
[{"$f":"IF(SNPs!A2227<>\"\",SNPs!A2227,\"\")","v":""},{"$f":"IF(SNPs!B2227<>\"\",MID(SNPs!B2227,FIND(\"[\",SNPs!B2227)+1,FIND(\"/\",SNPs!B2227)-FIND(\"[\",SNPs!B2227)-1),\"\")","v":""},{"$f":"IF(SNPs!B2227<>\"\",MID(SNPs!B2227,FIND(\"[\",SNPs!B2227)+3,FIND(\"/\",SNPs!B2227)-FIND(\"/\",SNPs!B2227)+1),\"\")","v":""},{"$f":"IF(SNPs!B2227<>\"\",SNPs!B2227,\"\")","v":""}]
[{"$f":"IF(SNPs!A2228<>\"\",SNPs!A2228,\"\")","v":""},{"$f":"IF(SNPs!B2228<>\"\",MID(SNPs!B2228,FIND(\"[\",SNPs!B2228)+1,FIND(\"/\",SNPs!B2228)-FIND(\"[\",SNPs!B2228)-1),\"\")","v":""},{"$f":"IF(SNPs!B2228<>\"\",MID(SNPs!B2228,FIND(\"[\",SNPs!B2228)+3,FIND(\"/\",SNPs!B2228)-FIND(\"/\",SNPs!B2228)+1),\"\")","v":""},{"$f":"IF(SNPs!B2228<>\"\",SNPs!B2228,\"\")","v":""}]
[{"$f":"IF(SNPs!A2229<>\"\",SNPs!A2229,\"\")","v":""},{"$f":"IF(SNPs!B2229<>\"\",MID(SNPs!B2229,FIND(\"[\",SNPs!B2229)+1,FIND(\"/\",SNPs!B2229)-FIND(\"[\",SNPs!B2229)-1),\"\")","v":""},{"$f":"IF(SNPs!B2229<>\"\",MID(SNPs!B2229,FIND(\"[\",SNPs!B2229)+3,FIND(\"/\",SNPs!B2229)-FIND(\"/\",SNPs!B2229)+1),\"\")","v":""},{"$f":"IF(SNPs!B2229<>\"\",SNPs!B2229,\"\")","v":""}]
[{"$f":"IF(SNPs!A2230<>\"\",SNPs!A2230,\"\")","v":""},{"$f":"IF(SNPs!B2230<>\"\",MID(SNPs!B2230,FIND(\"[\",SNPs!B2230)+1,FIND(\"/\",SNPs!B2230)-FIND(\"[\",SNPs!B2230)-1),\"\")","v":""},{"$f":"IF(SNPs!B2230<>\"\",MID(SNPs!B2230,FIND(\"[\",SNPs!B2230)+3,FIND(\"/\",SNPs!B2230)-FIND(\"/\",SNPs!B2230)+1),\"\")","v":""},{"$f":"IF(SNPs!B2230<>\"\",SNPs!B2230,\"\")","v":""}]
[{"$f":"IF(SNPs!A2231<>\"\",SNPs!A2231,\"\")","v":""},{"$f":"IF(SNPs!B2231<>\"\",MID(SNPs!B2231,FIND(\"[\",SNPs!B2231)+1,FIND(\"/\",SNPs!B2231)-FIND(\"[\",SNPs!B2231)-1),\"\")","v":""},{"$f":"IF(SNPs!B2231<>\"\",MID(SNPs!B2231,FIND(\"[\",SNPs!B2231)+3,FIND(\"/\",SNPs!B2231)-FIND(\"/\",SNPs!B2231)+1),\"\")","v":""},{"$f":"IF(SNPs!B2231<>\"\",SNPs!B2231,\"\")","v":""}]
[{"$f":"IF(SNPs!A2232<>\"\",SNPs!A2232,\"\")","v":""},{"$f":"IF(SNPs!B2232<>\"\",MID(SNPs!B2232,FIND(\"[\",SNPs!B2232)+1,FIND(\"/\",SNPs!B2232)-FIND(\"[\",SNPs!B2232)-1),\"\")","v":""},{"$f":"IF(SNPs!B2232<>\"\",MID(SNPs!B2232,FIND(\"[\",SNPs!B2232)+3,FIND(\"/\",SNPs!B2232)-FIND(\"/\",SNPs!B2232)+1),\"\")","v":""},{"$f":"IF(SNPs!B2232<>\"\",SNPs!B2232,\"\")","v":""}]
[{"$f":"IF(SNPs!A2233<>\"\",SNPs!A2233,\"\")","v":""},{"$f":"IF(SNPs!B2233<>\"\",MID(SNPs!B2233,FIND(\"[\",SNPs!B2233)+1,FIND(\"/\",SNPs!B2233)-FIND(\"[\",SNPs!B2233)-1),\"\")","v":""},{"$f":"IF(SNPs!B2233<>\"\",MID(SNPs!B2233,FIND(\"[\",SNPs!B2233)+3,FIND(\"/\",SNPs!B2233)-FIND(\"/\",SNPs!B2233)+1),\"\")","v":""},{"$f":"IF(SNPs!B2233<>\"\",SNPs!B2233,\"\")","v":""}]
[{"$f":"IF(SNPs!A2234<>\"\",SNPs!A2234,\"\")","v":""},{"$f":"IF(SNPs!B2234<>\"\",MID(SNPs!B2234,FIND(\"[\",SNPs!B2234)+1,FIND(\"/\",SNPs!B2234)-FIND(\"[\",SNPs!B2234)-1),\"\")","v":""},{"$f":"IF(SNPs!B2234<>\"\",MID(SNPs!B2234,FIND(\"[\",SNPs!B2234)+3,FIND(\"/\",SNPs!B2234)-FIND(\"/\",SNPs!B2234)+1),\"\")","v":""},{"$f":"IF(SNPs!B2234<>\"\",SNPs!B2234,\"\")","v":""}]
[{"$f":"IF(SNPs!A2235<>\"\",SNPs!A2235,\"\")","v":""},{"$f":"IF(SNPs!B2235<>\"\",MID(SNPs!B2235,FIND(\"[\",SNPs!B2235)+1,FIND(\"/\",SNPs!B2235)-FIND(\"[\",SNPs!B2235)-1),\"\")","v":""},{"$f":"IF(SNPs!B2235<>\"\",MID(SNPs!B2235,FIND(\"[\",SNPs!B2235)+3,FIND(\"/\",SNPs!B2235)-FIND(\"/\",SNPs!B2235)+1),\"\")","v":""},{"$f":"IF(SNPs!B2235<>\"\",SNPs!B2235,\"\")","v":""}]
[{"$f":"IF(SNPs!A2236<>\"\",SNPs!A2236,\"\")","v":""},{"$f":"IF(SNPs!B2236<>\"\",MID(SNPs!B2236,FIND(\"[\",SNPs!B2236)+1,FIND(\"/\",SNPs!B2236)-FIND(\"[\",SNPs!B2236)-1),\"\")","v":""},{"$f":"IF(SNPs!B2236<>\"\",MID(SNPs!B2236,FIND(\"[\",SNPs!B2236)+3,FIND(\"/\",SNPs!B2236)-FIND(\"/\",SNPs!B2236)+1),\"\")","v":""},{"$f":"IF(SNPs!B2236<>\"\",SNPs!B2236,\"\")","v":""}]
[{"$f":"IF(SNPs!A2237<>\"\",SNPs!A2237,\"\")","v":""},{"$f":"IF(SNPs!B2237<>\"\",MID(SNPs!B2237,FIND(\"[\",SNPs!B2237)+1,FIND(\"/\",SNPs!B2237)-FIND(\"[\",SNPs!B2237)-1),\"\")","v":""},{"$f":"IF(SNPs!B2237<>\"\",MID(SNPs!B2237,FIND(\"[\",SNPs!B2237)+3,FIND(\"/\",SNPs!B2237)-FIND(\"/\",SNPs!B2237)+1),\"\")","v":""},{"$f":"IF(SNPs!B2237<>\"\",SNPs!B2237,\"\")","v":""}]
[{"$f":"IF(SNPs!A2238<>\"\",SNPs!A2238,\"\")","v":""},{"$f":"IF(SNPs!B2238<>\"\",MID(SNPs!B2238,FIND(\"[\",SNPs!B2238)+1,FIND(\"/\",SNPs!B2238)-FIND(\"[\",SNPs!B2238)-1),\"\")","v":""},{"$f":"IF(SNPs!B2238<>\"\",MID(SNPs!B2238,FIND(\"[\",SNPs!B2238)+3,FIND(\"/\",SNPs!B2238)-FIND(\"/\",SNPs!B2238)+1),\"\")","v":""},{"$f":"IF(SNPs!B2238<>\"\",SNPs!B2238,\"\")","v":""}]
[{"$f":"IF(SNPs!A2239<>\"\",SNPs!A2239,\"\")","v":""},{"$f":"IF(SNPs!B2239<>\"\",MID(SNPs!B2239,FIND(\"[\",SNPs!B2239)+1,FIND(\"/\",SNPs!B2239)-FIND(\"[\",SNPs!B2239)-1),\"\")","v":""},{"$f":"IF(SNPs!B2239<>\"\",MID(SNPs!B2239,FIND(\"[\",SNPs!B2239)+3,FIND(\"/\",SNPs!B2239)-FIND(\"/\",SNPs!B2239)+1),\"\")","v":""},{"$f":"IF(SNPs!B2239<>\"\",SNPs!B2239,\"\")","v":""}]
[{"$f":"IF(SNPs!A2240<>\"\",SNPs!A2240,\"\")","v":""},{"$f":"IF(SNPs!B2240<>\"\",MID(SNPs!B2240,FIND(\"[\",SNPs!B2240)+1,FIND(\"/\",SNPs!B2240)-FIND(\"[\",SNPs!B2240)-1),\"\")","v":""},{"$f":"IF(SNPs!B2240<>\"\",MID(SNPs!B2240,FIND(\"[\",SNPs!B2240)+3,FIND(\"/\",SNPs!B2240)-FIND(\"/\",SNPs!B2240)+1),\"\")","v":""},{"$f":"IF(SNPs!B2240<>\"\",SNPs!B2240,\"\")","v":""}]
[{"$f":"IF(SNPs!A2241<>\"\",SNPs!A2241,\"\")","v":""},{"$f":"IF(SNPs!B2241<>\"\",MID(SNPs!B2241,FIND(\"[\",SNPs!B2241)+1,FIND(\"/\",SNPs!B2241)-FIND(\"[\",SNPs!B2241)-1),\"\")","v":""},{"$f":"IF(SNPs!B2241<>\"\",MID(SNPs!B2241,FIND(\"[\",SNPs!B2241)+3,FIND(\"/\",SNPs!B2241)-FIND(\"/\",SNPs!B2241)+1),\"\")","v":""},{"$f":"IF(SNPs!B2241<>\"\",SNPs!B2241,\"\")","v":""}]
[{"$f":"IF(SNPs!A2242<>\"\",SNPs!A2242,\"\")","v":""},{"$f":"IF(SNPs!B2242<>\"\",MID(SNPs!B2242,FIND(\"[\",SNPs!B2242)+1,FIND(\"/\",SNPs!B2242)-FIND(\"[\",SNPs!B2242)-1),\"\")","v":""},{"$f":"IF(SNPs!B2242<>\"\",MID(SNPs!B2242,FIND(\"[\",SNPs!B2242)+3,FIND(\"/\",SNPs!B2242)-FIND(\"/\",SNPs!B2242)+1),\"\")","v":""},{"$f":"IF(SNPs!B2242<>\"\",SNPs!B2242,\"\")","v":""}]
[{"$f":"IF(SNPs!A2243<>\"\",SNPs!A2243,\"\")","v":""},{"$f":"IF(SNPs!B2243<>\"\",MID(SNPs!B2243,FIND(\"[\",SNPs!B2243)+1,FIND(\"/\",SNPs!B2243)-FIND(\"[\",SNPs!B2243)-1),\"\")","v":""},{"$f":"IF(SNPs!B2243<>\"\",MID(SNPs!B2243,FIND(\"[\",SNPs!B2243)+3,FIND(\"/\",SNPs!B2243)-FIND(\"/\",SNPs!B2243)+1),\"\")","v":""},{"$f":"IF(SNPs!B2243<>\"\",SNPs!B2243,\"\")","v":""}]
[{"$f":"IF(SNPs!A2244<>\"\",SNPs!A2244,\"\")","v":""},{"$f":"IF(SNPs!B2244<>\"\",MID(SNPs!B2244,FIND(\"[\",SNPs!B2244)+1,FIND(\"/\",SNPs!B2244)-FIND(\"[\",SNPs!B2244)-1),\"\")","v":""},{"$f":"IF(SNPs!B2244<>\"\",MID(SNPs!B2244,FIND(\"[\",SNPs!B2244)+3,FIND(\"/\",SNPs!B2244)-FIND(\"/\",SNPs!B2244)+1),\"\")","v":""},{"$f":"IF(SNPs!B2244<>\"\",SNPs!B2244,\"\")","v":""}]
[{"$f":"IF(SNPs!A2245<>\"\",SNPs!A2245,\"\")","v":""},{"$f":"IF(SNPs!B2245<>\"\",MID(SNPs!B2245,FIND(\"[\",SNPs!B2245)+1,FIND(\"/\",SNPs!B2245)-FIND(\"[\",SNPs!B2245)-1),\"\")","v":""},{"$f":"IF(SNPs!B2245<>\"\",MID(SNPs!B2245,FIND(\"[\",SNPs!B2245)+3,FIND(\"/\",SNPs!B2245)-FIND(\"/\",SNPs!B2245)+1),\"\")","v":""},{"$f":"IF(SNPs!B2245<>\"\",SNPs!B2245,\"\")","v":""}]
[{"$f":"IF(SNPs!A2246<>\"\",SNPs!A2246,\"\")","v":""},{"$f":"IF(SNPs!B2246<>\"\",MID(SNPs!B2246,FIND(\"[\",SNPs!B2246)+1,FIND(\"/\",SNPs!B2246)-FIND(\"[\",SNPs!B2246)-1),\"\")","v":""},{"$f":"IF(SNPs!B2246<>\"\",MID(SNPs!B2246,FIND(\"[\",SNPs!B2246)+3,FIND(\"/\",SNPs!B2246)-FIND(\"/\",SNPs!B2246)+1),\"\")","v":""},{"$f":"IF(SNPs!B2246<>\"\",SNPs!B2246,\"\")","v":""}]
[{"$f":"IF(SNPs!A2247<>\"\",SNPs!A2247,\"\")","v":""},{"$f":"IF(SNPs!B2247<>\"\",MID(SNPs!B2247,FIND(\"[\",SNPs!B2247)+1,FIND(\"/\",SNPs!B2247)-FIND(\"[\",SNPs!B2247)-1),\"\")","v":""},{"$f":"IF(SNPs!B2247<>\"\",MID(SNPs!B2247,FIND(\"[\",SNPs!B2247)+3,FIND(\"/\",SNPs!B2247)-FIND(\"/\",SNPs!B2247)+1),\"\")","v":""},{"$f":"IF(SNPs!B2247<>\"\",SNPs!B2247,\"\")","v":""}]
[{"$f":"IF(SNPs!A2248<>\"\",SNPs!A2248,\"\")","v":""},{"$f":"IF(SNPs!B2248<>\"\",MID(SNPs!B2248,FIND(\"[\",SNPs!B2248)+1,FIND(\"/\",SNPs!B2248)-FIND(\"[\",SNPs!B2248)-1),\"\")","v":""},{"$f":"IF(SNPs!B2248<>\"\",MID(SNPs!B2248,FIND(\"[\",SNPs!B2248)+3,FIND(\"/\",SNPs!B2248)-FIND(\"/\",SNPs!B2248)+1),\"\")","v":""},{"$f":"IF(SNPs!B2248<>\"\",SNPs!B2248,\"\")","v":""}]
[{"$f":"IF(SNPs!A2249<>\"\",SNPs!A2249,\"\")","v":""},{"$f":"IF(SNPs!B2249<>\"\",MID(SNPs!B2249,FIND(\"[\",SNPs!B2249)+1,FIND(\"/\",SNPs!B2249)-FIND(\"[\",SNPs!B2249)-1),\"\")","v":""},{"$f":"IF(SNPs!B2249<>\"\",MID(SNPs!B2249,FIND(\"[\",SNPs!B2249)+3,FIND(\"/\",SNPs!B2249)-FIND(\"/\",SNPs!B2249)+1),\"\")","v":""},{"$f":"IF(SNPs!B2249<>\"\",SNPs!B2249,\"\")","v":""}]
[{"$f":"IF(SNPs!A2250<>\"\",SNPs!A2250,\"\")","v":""},{"$f":"IF(SNPs!B2250<>\"\",MID(SNPs!B2250,FIND(\"[\",SNPs!B2250)+1,FIND(\"/\",SNPs!B2250)-FIND(\"[\",SNPs!B2250)-1),\"\")","v":""},{"$f":"IF(SNPs!B2250<>\"\",MID(SNPs!B2250,FIND(\"[\",SNPs!B2250)+3,FIND(\"/\",SNPs!B2250)-FIND(\"/\",SNPs!B2250)+1),\"\")","v":""},{"$f":"IF(SNPs!B2250<>\"\",SNPs!B2250,\"\")","v":""}]
[{"$f":"IF(SNPs!A2251<>\"\",SNPs!A2251,\"\")","v":""},{"$f":"IF(SNPs!B2251<>\"\",MID(SNPs!B2251,FIND(\"[\",SNPs!B2251)+1,FIND(\"/\",SNPs!B2251)-FIND(\"[\",SNPs!B2251)-1),\"\")","v":""},{"$f":"IF(SNPs!B2251<>\"\",MID(SNPs!B2251,FIND(\"[\",SNPs!B2251)+3,FIND(\"/\",SNPs!B2251)-FIND(\"/\",SNPs!B2251)+1),\"\")","v":""},{"$f":"IF(SNPs!B2251<>\"\",SNPs!B2251,\"\")","v":""}]
[{"$f":"IF(SNPs!A2252<>\"\",SNPs!A2252,\"\")","v":""},{"$f":"IF(SNPs!B2252<>\"\",MID(SNPs!B2252,FIND(\"[\",SNPs!B2252)+1,FIND(\"/\",SNPs!B2252)-FIND(\"[\",SNPs!B2252)-1),\"\")","v":""},{"$f":"IF(SNPs!B2252<>\"\",MID(SNPs!B2252,FIND(\"[\",SNPs!B2252)+3,FIND(\"/\",SNPs!B2252)-FIND(\"/\",SNPs!B2252)+1),\"\")","v":""},{"$f":"IF(SNPs!B2252<>\"\",SNPs!B2252,\"\")","v":""}]
[{"$f":"IF(SNPs!A2253<>\"\",SNPs!A2253,\"\")","v":""},{"$f":"IF(SNPs!B2253<>\"\",MID(SNPs!B2253,FIND(\"[\",SNPs!B2253)+1,FIND(\"/\",SNPs!B2253)-FIND(\"[\",SNPs!B2253)-1),\"\")","v":""},{"$f":"IF(SNPs!B2253<>\"\",MID(SNPs!B2253,FIND(\"[\",SNPs!B2253)+3,FIND(\"/\",SNPs!B2253)-FIND(\"/\",SNPs!B2253)+1),\"\")","v":""},{"$f":"IF(SNPs!B2253<>\"\",SNPs!B2253,\"\")","v":""}]
[{"$f":"IF(SNPs!A2254<>\"\",SNPs!A2254,\"\")","v":""},{"$f":"IF(SNPs!B2254<>\"\",MID(SNPs!B2254,FIND(\"[\",SNPs!B2254)+1,FIND(\"/\",SNPs!B2254)-FIND(\"[\",SNPs!B2254)-1),\"\")","v":""},{"$f":"IF(SNPs!B2254<>\"\",MID(SNPs!B2254,FIND(\"[\",SNPs!B2254)+3,FIND(\"/\",SNPs!B2254)-FIND(\"/\",SNPs!B2254)+1),\"\")","v":""},{"$f":"IF(SNPs!B2254<>\"\",SNPs!B2254,\"\")","v":""}]
[{"$f":"IF(SNPs!A2255<>\"\",SNPs!A2255,\"\")","v":""},{"$f":"IF(SNPs!B2255<>\"\",MID(SNPs!B2255,FIND(\"[\",SNPs!B2255)+1,FIND(\"/\",SNPs!B2255)-FIND(\"[\",SNPs!B2255)-1),\"\")","v":""},{"$f":"IF(SNPs!B2255<>\"\",MID(SNPs!B2255,FIND(\"[\",SNPs!B2255)+3,FIND(\"/\",SNPs!B2255)-FIND(\"/\",SNPs!B2255)+1),\"\")","v":""},{"$f":"IF(SNPs!B2255<>\"\",SNPs!B2255,\"\")","v":""}]
[{"$f":"IF(SNPs!A2256<>\"\",SNPs!A2256,\"\")","v":""},{"$f":"IF(SNPs!B2256<>\"\",MID(SNPs!B2256,FIND(\"[\",SNPs!B2256)+1,FIND(\"/\",SNPs!B2256)-FIND(\"[\",SNPs!B2256)-1),\"\")","v":""},{"$f":"IF(SNPs!B2256<>\"\",MID(SNPs!B2256,FIND(\"[\",SNPs!B2256)+3,FIND(\"/\",SNPs!B2256)-FIND(\"/\",SNPs!B2256)+1),\"\")","v":""},{"$f":"IF(SNPs!B2256<>\"\",SNPs!B2256,\"\")","v":""}]
[{"$f":"IF(SNPs!A2257<>\"\",SNPs!A2257,\"\")","v":""},{"$f":"IF(SNPs!B2257<>\"\",MID(SNPs!B2257,FIND(\"[\",SNPs!B2257)+1,FIND(\"/\",SNPs!B2257)-FIND(\"[\",SNPs!B2257)-1),\"\")","v":""},{"$f":"IF(SNPs!B2257<>\"\",MID(SNPs!B2257,FIND(\"[\",SNPs!B2257)+3,FIND(\"/\",SNPs!B2257)-FIND(\"/\",SNPs!B2257)+1),\"\")","v":""},{"$f":"IF(SNPs!B2257<>\"\",SNPs!B2257,\"\")","v":""}]
[{"$f":"IF(SNPs!A2258<>\"\",SNPs!A2258,\"\")","v":""},{"$f":"IF(SNPs!B2258<>\"\",MID(SNPs!B2258,FIND(\"[\",SNPs!B2258)+1,FIND(\"/\",SNPs!B2258)-FIND(\"[\",SNPs!B2258)-1),\"\")","v":""},{"$f":"IF(SNPs!B2258<>\"\",MID(SNPs!B2258,FIND(\"[\",SNPs!B2258)+3,FIND(\"/\",SNPs!B2258)-FIND(\"/\",SNPs!B2258)+1),\"\")","v":""},{"$f":"IF(SNPs!B2258<>\"\",SNPs!B2258,\"\")","v":""}]
[{"$f":"IF(SNPs!A2259<>\"\",SNPs!A2259,\"\")","v":""},{"$f":"IF(SNPs!B2259<>\"\",MID(SNPs!B2259,FIND(\"[\",SNPs!B2259)+1,FIND(\"/\",SNPs!B2259)-FIND(\"[\",SNPs!B2259)-1),\"\")","v":""},{"$f":"IF(SNPs!B2259<>\"\",MID(SNPs!B2259,FIND(\"[\",SNPs!B2259)+3,FIND(\"/\",SNPs!B2259)-FIND(\"/\",SNPs!B2259)+1),\"\")","v":""},{"$f":"IF(SNPs!B2259<>\"\",SNPs!B2259,\"\")","v":""}]
[{"$f":"IF(SNPs!A2260<>\"\",SNPs!A2260,\"\")","v":""},{"$f":"IF(SNPs!B2260<>\"\",MID(SNPs!B2260,FIND(\"[\",SNPs!B2260)+1,FIND(\"/\",SNPs!B2260)-FIND(\"[\",SNPs!B2260)-1),\"\")","v":""},{"$f":"IF(SNPs!B2260<>\"\",MID(SNPs!B2260,FIND(\"[\",SNPs!B2260)+3,FIND(\"/\",SNPs!B2260)-FIND(\"/\",SNPs!B2260)+1),\"\")","v":""},{"$f":"IF(SNPs!B2260<>\"\",SNPs!B2260,\"\")","v":""}]
[{"$f":"IF(SNPs!A2261<>\"\",SNPs!A2261,\"\")","v":""},{"$f":"IF(SNPs!B2261<>\"\",MID(SNPs!B2261,FIND(\"[\",SNPs!B2261)+1,FIND(\"/\",SNPs!B2261)-FIND(\"[\",SNPs!B2261)-1),\"\")","v":""},{"$f":"IF(SNPs!B2261<>\"\",MID(SNPs!B2261,FIND(\"[\",SNPs!B2261)+3,FIND(\"/\",SNPs!B2261)-FIND(\"/\",SNPs!B2261)+1),\"\")","v":""},{"$f":"IF(SNPs!B2261<>\"\",SNPs!B2261,\"\")","v":""}]
[{"$f":"IF(SNPs!A2262<>\"\",SNPs!A2262,\"\")","v":""},{"$f":"IF(SNPs!B2262<>\"\",MID(SNPs!B2262,FIND(\"[\",SNPs!B2262)+1,FIND(\"/\",SNPs!B2262)-FIND(\"[\",SNPs!B2262)-1),\"\")","v":""},{"$f":"IF(SNPs!B2262<>\"\",MID(SNPs!B2262,FIND(\"[\",SNPs!B2262)+3,FIND(\"/\",SNPs!B2262)-FIND(\"/\",SNPs!B2262)+1),\"\")","v":""},{"$f":"IF(SNPs!B2262<>\"\",SNPs!B2262,\"\")","v":""}]
[{"$f":"IF(SNPs!A2263<>\"\",SNPs!A2263,\"\")","v":""},{"$f":"IF(SNPs!B2263<>\"\",MID(SNPs!B2263,FIND(\"[\",SNPs!B2263)+1,FIND(\"/\",SNPs!B2263)-FIND(\"[\",SNPs!B2263)-1),\"\")","v":""},{"$f":"IF(SNPs!B2263<>\"\",MID(SNPs!B2263,FIND(\"[\",SNPs!B2263)+3,FIND(\"/\",SNPs!B2263)-FIND(\"/\",SNPs!B2263)+1),\"\")","v":""},{"$f":"IF(SNPs!B2263<>\"\",SNPs!B2263,\"\")","v":""}]
[{"$f":"IF(SNPs!A2264<>\"\",SNPs!A2264,\"\")","v":""},{"$f":"IF(SNPs!B2264<>\"\",MID(SNPs!B2264,FIND(\"[\",SNPs!B2264)+1,FIND(\"/\",SNPs!B2264)-FIND(\"[\",SNPs!B2264)-1),\"\")","v":""},{"$f":"IF(SNPs!B2264<>\"\",MID(SNPs!B2264,FIND(\"[\",SNPs!B2264)+3,FIND(\"/\",SNPs!B2264)-FIND(\"/\",SNPs!B2264)+1),\"\")","v":""},{"$f":"IF(SNPs!B2264<>\"\",SNPs!B2264,\"\")","v":""}]
[{"$f":"IF(SNPs!A2265<>\"\",SNPs!A2265,\"\")","v":""},{"$f":"IF(SNPs!B2265<>\"\",MID(SNPs!B2265,FIND(\"[\",SNPs!B2265)+1,FIND(\"/\",SNPs!B2265)-FIND(\"[\",SNPs!B2265)-1),\"\")","v":""},{"$f":"IF(SNPs!B2265<>\"\",MID(SNPs!B2265,FIND(\"[\",SNPs!B2265)+3,FIND(\"/\",SNPs!B2265)-FIND(\"/\",SNPs!B2265)+1),\"\")","v":""},{"$f":"IF(SNPs!B2265<>\"\",SNPs!B2265,\"\")","v":""}]
[{"$f":"IF(SNPs!A2266<>\"\",SNPs!A2266,\"\")","v":""},{"$f":"IF(SNPs!B2266<>\"\",MID(SNPs!B2266,FIND(\"[\",SNPs!B2266)+1,FIND(\"/\",SNPs!B2266)-FIND(\"[\",SNPs!B2266)-1),\"\")","v":""},{"$f":"IF(SNPs!B2266<>\"\",MID(SNPs!B2266,FIND(\"[\",SNPs!B2266)+3,FIND(\"/\",SNPs!B2266)-FIND(\"/\",SNPs!B2266)+1),\"\")","v":""},{"$f":"IF(SNPs!B2266<>\"\",SNPs!B2266,\"\")","v":""}]
[{"$f":"IF(SNPs!A2267<>\"\",SNPs!A2267,\"\")","v":""},{"$f":"IF(SNPs!B2267<>\"\",MID(SNPs!B2267,FIND(\"[\",SNPs!B2267)+1,FIND(\"/\",SNPs!B2267)-FIND(\"[\",SNPs!B2267)-1),\"\")","v":""},{"$f":"IF(SNPs!B2267<>\"\",MID(SNPs!B2267,FIND(\"[\",SNPs!B2267)+3,FIND(\"/\",SNPs!B2267)-FIND(\"/\",SNPs!B2267)+1),\"\")","v":""},{"$f":"IF(SNPs!B2267<>\"\",SNPs!B2267,\"\")","v":""}]
[{"$f":"IF(SNPs!A2268<>\"\",SNPs!A2268,\"\")","v":""},{"$f":"IF(SNPs!B2268<>\"\",MID(SNPs!B2268,FIND(\"[\",SNPs!B2268)+1,FIND(\"/\",SNPs!B2268)-FIND(\"[\",SNPs!B2268)-1),\"\")","v":""},{"$f":"IF(SNPs!B2268<>\"\",MID(SNPs!B2268,FIND(\"[\",SNPs!B2268)+3,FIND(\"/\",SNPs!B2268)-FIND(\"/\",SNPs!B2268)+1),\"\")","v":""},{"$f":"IF(SNPs!B2268<>\"\",SNPs!B2268,\"\")","v":""}]
[{"$f":"IF(SNPs!A2269<>\"\",SNPs!A2269,\"\")","v":""},{"$f":"IF(SNPs!B2269<>\"\",MID(SNPs!B2269,FIND(\"[\",SNPs!B2269)+1,FIND(\"/\",SNPs!B2269)-FIND(\"[\",SNPs!B2269)-1),\"\")","v":""},{"$f":"IF(SNPs!B2269<>\"\",MID(SNPs!B2269,FIND(\"[\",SNPs!B2269)+3,FIND(\"/\",SNPs!B2269)-FIND(\"/\",SNPs!B2269)+1),\"\")","v":""},{"$f":"IF(SNPs!B2269<>\"\",SNPs!B2269,\"\")","v":""}]
[{"$f":"IF(SNPs!A2270<>\"\",SNPs!A2270,\"\")","v":""},{"$f":"IF(SNPs!B2270<>\"\",MID(SNPs!B2270,FIND(\"[\",SNPs!B2270)+1,FIND(\"/\",SNPs!B2270)-FIND(\"[\",SNPs!B2270)-1),\"\")","v":""},{"$f":"IF(SNPs!B2270<>\"\",MID(SNPs!B2270,FIND(\"[\",SNPs!B2270)+3,FIND(\"/\",SNPs!B2270)-FIND(\"/\",SNPs!B2270)+1),\"\")","v":""},{"$f":"IF(SNPs!B2270<>\"\",SNPs!B2270,\"\")","v":""}]
[{"$f":"IF(SNPs!A2271<>\"\",SNPs!A2271,\"\")","v":""},{"$f":"IF(SNPs!B2271<>\"\",MID(SNPs!B2271,FIND(\"[\",SNPs!B2271)+1,FIND(\"/\",SNPs!B2271)-FIND(\"[\",SNPs!B2271)-1),\"\")","v":""},{"$f":"IF(SNPs!B2271<>\"\",MID(SNPs!B2271,FIND(\"[\",SNPs!B2271)+3,FIND(\"/\",SNPs!B2271)-FIND(\"/\",SNPs!B2271)+1),\"\")","v":""},{"$f":"IF(SNPs!B2271<>\"\",SNPs!B2271,\"\")","v":""}]
[{"$f":"IF(SNPs!A2272<>\"\",SNPs!A2272,\"\")","v":""},{"$f":"IF(SNPs!B2272<>\"\",MID(SNPs!B2272,FIND(\"[\",SNPs!B2272)+1,FIND(\"/\",SNPs!B2272)-FIND(\"[\",SNPs!B2272)-1),\"\")","v":""},{"$f":"IF(SNPs!B2272<>\"\",MID(SNPs!B2272,FIND(\"[\",SNPs!B2272)+3,FIND(\"/\",SNPs!B2272)-FIND(\"/\",SNPs!B2272)+1),\"\")","v":""},{"$f":"IF(SNPs!B2272<>\"\",SNPs!B2272,\"\")","v":""}]
[{"$f":"IF(SNPs!A2273<>\"\",SNPs!A2273,\"\")","v":""},{"$f":"IF(SNPs!B2273<>\"\",MID(SNPs!B2273,FIND(\"[\",SNPs!B2273)+1,FIND(\"/\",SNPs!B2273)-FIND(\"[\",SNPs!B2273)-1),\"\")","v":""},{"$f":"IF(SNPs!B2273<>\"\",MID(SNPs!B2273,FIND(\"[\",SNPs!B2273)+3,FIND(\"/\",SNPs!B2273)-FIND(\"/\",SNPs!B2273)+1),\"\")","v":""},{"$f":"IF(SNPs!B2273<>\"\",SNPs!B2273,\"\")","v":""}]
[{"$f":"IF(SNPs!A2274<>\"\",SNPs!A2274,\"\")","v":""},{"$f":"IF(SNPs!B2274<>\"\",MID(SNPs!B2274,FIND(\"[\",SNPs!B2274)+1,FIND(\"/\",SNPs!B2274)-FIND(\"[\",SNPs!B2274)-1),\"\")","v":""},{"$f":"IF(SNPs!B2274<>\"\",MID(SNPs!B2274,FIND(\"[\",SNPs!B2274)+3,FIND(\"/\",SNPs!B2274)-FIND(\"/\",SNPs!B2274)+1),\"\")","v":""},{"$f":"IF(SNPs!B2274<>\"\",SNPs!B2274,\"\")","v":""}]
[{"$f":"IF(SNPs!A2275<>\"\",SNPs!A2275,\"\")","v":""},{"$f":"IF(SNPs!B2275<>\"\",MID(SNPs!B2275,FIND(\"[\",SNPs!B2275)+1,FIND(\"/\",SNPs!B2275)-FIND(\"[\",SNPs!B2275)-1),\"\")","v":""},{"$f":"IF(SNPs!B2275<>\"\",MID(SNPs!B2275,FIND(\"[\",SNPs!B2275)+3,FIND(\"/\",SNPs!B2275)-FIND(\"/\",SNPs!B2275)+1),\"\")","v":""},{"$f":"IF(SNPs!B2275<>\"\",SNPs!B2275,\"\")","v":""}]
[{"$f":"IF(SNPs!A2276<>\"\",SNPs!A2276,\"\")","v":""},{"$f":"IF(SNPs!B2276<>\"\",MID(SNPs!B2276,FIND(\"[\",SNPs!B2276)+1,FIND(\"/\",SNPs!B2276)-FIND(\"[\",SNPs!B2276)-1),\"\")","v":""},{"$f":"IF(SNPs!B2276<>\"\",MID(SNPs!B2276,FIND(\"[\",SNPs!B2276)+3,FIND(\"/\",SNPs!B2276)-FIND(\"/\",SNPs!B2276)+1),\"\")","v":""},{"$f":"IF(SNPs!B2276<>\"\",SNPs!B2276,\"\")","v":""}]
[{"$f":"IF(SNPs!A2277<>\"\",SNPs!A2277,\"\")","v":""},{"$f":"IF(SNPs!B2277<>\"\",MID(SNPs!B2277,FIND(\"[\",SNPs!B2277)+1,FIND(\"/\",SNPs!B2277)-FIND(\"[\",SNPs!B2277)-1),\"\")","v":""},{"$f":"IF(SNPs!B2277<>\"\",MID(SNPs!B2277,FIND(\"[\",SNPs!B2277)+3,FIND(\"/\",SNPs!B2277)-FIND(\"/\",SNPs!B2277)+1),\"\")","v":""},{"$f":"IF(SNPs!B2277<>\"\",SNPs!B2277,\"\")","v":""}]
[{"$f":"IF(SNPs!A2278<>\"\",SNPs!A2278,\"\")","v":""},{"$f":"IF(SNPs!B2278<>\"\",MID(SNPs!B2278,FIND(\"[\",SNPs!B2278)+1,FIND(\"/\",SNPs!B2278)-FIND(\"[\",SNPs!B2278)-1),\"\")","v":""},{"$f":"IF(SNPs!B2278<>\"\",MID(SNPs!B2278,FIND(\"[\",SNPs!B2278)+3,FIND(\"/\",SNPs!B2278)-FIND(\"/\",SNPs!B2278)+1),\"\")","v":""},{"$f":"IF(SNPs!B2278<>\"\",SNPs!B2278,\"\")","v":""}]
[{"$f":"IF(SNPs!A2279<>\"\",SNPs!A2279,\"\")","v":""},{"$f":"IF(SNPs!B2279<>\"\",MID(SNPs!B2279,FIND(\"[\",SNPs!B2279)+1,FIND(\"/\",SNPs!B2279)-FIND(\"[\",SNPs!B2279)-1),\"\")","v":""},{"$f":"IF(SNPs!B2279<>\"\",MID(SNPs!B2279,FIND(\"[\",SNPs!B2279)+3,FIND(\"/\",SNPs!B2279)-FIND(\"/\",SNPs!B2279)+1),\"\")","v":""},{"$f":"IF(SNPs!B2279<>\"\",SNPs!B2279,\"\")","v":""}]
[{"$f":"IF(SNPs!A2280<>\"\",SNPs!A2280,\"\")","v":""},{"$f":"IF(SNPs!B2280<>\"\",MID(SNPs!B2280,FIND(\"[\",SNPs!B2280)+1,FIND(\"/\",SNPs!B2280)-FIND(\"[\",SNPs!B2280)-1),\"\")","v":""},{"$f":"IF(SNPs!B2280<>\"\",MID(SNPs!B2280,FIND(\"[\",SNPs!B2280)+3,FIND(\"/\",SNPs!B2280)-FIND(\"/\",SNPs!B2280)+1),\"\")","v":""},{"$f":"IF(SNPs!B2280<>\"\",SNPs!B2280,\"\")","v":""}]
[{"$f":"IF(SNPs!A2281<>\"\",SNPs!A2281,\"\")","v":""},{"$f":"IF(SNPs!B2281<>\"\",MID(SNPs!B2281,FIND(\"[\",SNPs!B2281)+1,FIND(\"/\",SNPs!B2281)-FIND(\"[\",SNPs!B2281)-1),\"\")","v":""},{"$f":"IF(SNPs!B2281<>\"\",MID(SNPs!B2281,FIND(\"[\",SNPs!B2281)+3,FIND(\"/\",SNPs!B2281)-FIND(\"/\",SNPs!B2281)+1),\"\")","v":""},{"$f":"IF(SNPs!B2281<>\"\",SNPs!B2281,\"\")","v":""}]
[{"$f":"IF(SNPs!A2282<>\"\",SNPs!A2282,\"\")","v":""},{"$f":"IF(SNPs!B2282<>\"\",MID(SNPs!B2282,FIND(\"[\",SNPs!B2282)+1,FIND(\"/\",SNPs!B2282)-FIND(\"[\",SNPs!B2282)-1),\"\")","v":""},{"$f":"IF(SNPs!B2282<>\"\",MID(SNPs!B2282,FIND(\"[\",SNPs!B2282)+3,FIND(\"/\",SNPs!B2282)-FIND(\"/\",SNPs!B2282)+1),\"\")","v":""},{"$f":"IF(SNPs!B2282<>\"\",SNPs!B2282,\"\")","v":""}]
[{"$f":"IF(SNPs!A2283<>\"\",SNPs!A2283,\"\")","v":""},{"$f":"IF(SNPs!B2283<>\"\",MID(SNPs!B2283,FIND(\"[\",SNPs!B2283)+1,FIND(\"/\",SNPs!B2283)-FIND(\"[\",SNPs!B2283)-1),\"\")","v":""},{"$f":"IF(SNPs!B2283<>\"\",MID(SNPs!B2283,FIND(\"[\",SNPs!B2283)+3,FIND(\"/\",SNPs!B2283)-FIND(\"/\",SNPs!B2283)+1),\"\")","v":""},{"$f":"IF(SNPs!B2283<>\"\",SNPs!B2283,\"\")","v":""}]
[{"$f":"IF(SNPs!A2284<>\"\",SNPs!A2284,\"\")","v":""},{"$f":"IF(SNPs!B2284<>\"\",MID(SNPs!B2284,FIND(\"[\",SNPs!B2284)+1,FIND(\"/\",SNPs!B2284)-FIND(\"[\",SNPs!B2284)-1),\"\")","v":""},{"$f":"IF(SNPs!B2284<>\"\",MID(SNPs!B2284,FIND(\"[\",SNPs!B2284)+3,FIND(\"/\",SNPs!B2284)-FIND(\"/\",SNPs!B2284)+1),\"\")","v":""},{"$f":"IF(SNPs!B2284<>\"\",SNPs!B2284,\"\")","v":""}]
[{"$f":"IF(SNPs!A2285<>\"\",SNPs!A2285,\"\")","v":""},{"$f":"IF(SNPs!B2285<>\"\",MID(SNPs!B2285,FIND(\"[\",SNPs!B2285)+1,FIND(\"/\",SNPs!B2285)-FIND(\"[\",SNPs!B2285)-1),\"\")","v":""},{"$f":"IF(SNPs!B2285<>\"\",MID(SNPs!B2285,FIND(\"[\",SNPs!B2285)+3,FIND(\"/\",SNPs!B2285)-FIND(\"/\",SNPs!B2285)+1),\"\")","v":""},{"$f":"IF(SNPs!B2285<>\"\",SNPs!B2285,\"\")","v":""}]
[{"$f":"IF(SNPs!A2286<>\"\",SNPs!A2286,\"\")","v":""},{"$f":"IF(SNPs!B2286<>\"\",MID(SNPs!B2286,FIND(\"[\",SNPs!B2286)+1,FIND(\"/\",SNPs!B2286)-FIND(\"[\",SNPs!B2286)-1),\"\")","v":""},{"$f":"IF(SNPs!B2286<>\"\",MID(SNPs!B2286,FIND(\"[\",SNPs!B2286)+3,FIND(\"/\",SNPs!B2286)-FIND(\"/\",SNPs!B2286)+1),\"\")","v":""},{"$f":"IF(SNPs!B2286<>\"\",SNPs!B2286,\"\")","v":""}]
[{"$f":"IF(SNPs!A2287<>\"\",SNPs!A2287,\"\")","v":""},{"$f":"IF(SNPs!B2287<>\"\",MID(SNPs!B2287,FIND(\"[\",SNPs!B2287)+1,FIND(\"/\",SNPs!B2287)-FIND(\"[\",SNPs!B2287)-1),\"\")","v":""},{"$f":"IF(SNPs!B2287<>\"\",MID(SNPs!B2287,FIND(\"[\",SNPs!B2287)+3,FIND(\"/\",SNPs!B2287)-FIND(\"/\",SNPs!B2287)+1),\"\")","v":""},{"$f":"IF(SNPs!B2287<>\"\",SNPs!B2287,\"\")","v":""}]
[{"$f":"IF(SNPs!A2288<>\"\",SNPs!A2288,\"\")","v":""},{"$f":"IF(SNPs!B2288<>\"\",MID(SNPs!B2288,FIND(\"[\",SNPs!B2288)+1,FIND(\"/\",SNPs!B2288)-FIND(\"[\",SNPs!B2288)-1),\"\")","v":""},{"$f":"IF(SNPs!B2288<>\"\",MID(SNPs!B2288,FIND(\"[\",SNPs!B2288)+3,FIND(\"/\",SNPs!B2288)-FIND(\"/\",SNPs!B2288)+1),\"\")","v":""},{"$f":"IF(SNPs!B2288<>\"\",SNPs!B2288,\"\")","v":""}]
[{"$f":"IF(SNPs!A2289<>\"\",SNPs!A2289,\"\")","v":""},{"$f":"IF(SNPs!B2289<>\"\",MID(SNPs!B2289,FIND(\"[\",SNPs!B2289)+1,FIND(\"/\",SNPs!B2289)-FIND(\"[\",SNPs!B2289)-1),\"\")","v":""},{"$f":"IF(SNPs!B2289<>\"\",MID(SNPs!B2289,FIND(\"[\",SNPs!B2289)+3,FIND(\"/\",SNPs!B2289)-FIND(\"/\",SNPs!B2289)+1),\"\")","v":""},{"$f":"IF(SNPs!B2289<>\"\",SNPs!B2289,\"\")","v":""}]
[{"$f":"IF(SNPs!A2290<>\"\",SNPs!A2290,\"\")","v":""},{"$f":"IF(SNPs!B2290<>\"\",MID(SNPs!B2290,FIND(\"[\",SNPs!B2290)+1,FIND(\"/\",SNPs!B2290)-FIND(\"[\",SNPs!B2290)-1),\"\")","v":""},{"$f":"IF(SNPs!B2290<>\"\",MID(SNPs!B2290,FIND(\"[\",SNPs!B2290)+3,FIND(\"/\",SNPs!B2290)-FIND(\"/\",SNPs!B2290)+1),\"\")","v":""},{"$f":"IF(SNPs!B2290<>\"\",SNPs!B2290,\"\")","v":""}]
[{"$f":"IF(SNPs!A2291<>\"\",SNPs!A2291,\"\")","v":""},{"$f":"IF(SNPs!B2291<>\"\",MID(SNPs!B2291,FIND(\"[\",SNPs!B2291)+1,FIND(\"/\",SNPs!B2291)-FIND(\"[\",SNPs!B2291)-1),\"\")","v":""},{"$f":"IF(SNPs!B2291<>\"\",MID(SNPs!B2291,FIND(\"[\",SNPs!B2291)+3,FIND(\"/\",SNPs!B2291)-FIND(\"/\",SNPs!B2291)+1),\"\")","v":""},{"$f":"IF(SNPs!B2291<>\"\",SNPs!B2291,\"\")","v":""}]
[{"$f":"IF(SNPs!A2292<>\"\",SNPs!A2292,\"\")","v":""},{"$f":"IF(SNPs!B2292<>\"\",MID(SNPs!B2292,FIND(\"[\",SNPs!B2292)+1,FIND(\"/\",SNPs!B2292)-FIND(\"[\",SNPs!B2292)-1),\"\")","v":""},{"$f":"IF(SNPs!B2292<>\"\",MID(SNPs!B2292,FIND(\"[\",SNPs!B2292)+3,FIND(\"/\",SNPs!B2292)-FIND(\"/\",SNPs!B2292)+1),\"\")","v":""},{"$f":"IF(SNPs!B2292<>\"\",SNPs!B2292,\"\")","v":""}]
[{"$f":"IF(SNPs!A2293<>\"\",SNPs!A2293,\"\")","v":""},{"$f":"IF(SNPs!B2293<>\"\",MID(SNPs!B2293,FIND(\"[\",SNPs!B2293)+1,FIND(\"/\",SNPs!B2293)-FIND(\"[\",SNPs!B2293)-1),\"\")","v":""},{"$f":"IF(SNPs!B2293<>\"\",MID(SNPs!B2293,FIND(\"[\",SNPs!B2293)+3,FIND(\"/\",SNPs!B2293)-FIND(\"/\",SNPs!B2293)+1),\"\")","v":""},{"$f":"IF(SNPs!B2293<>\"\",SNPs!B2293,\"\")","v":""}]
[{"$f":"IF(SNPs!A2294<>\"\",SNPs!A2294,\"\")","v":""},{"$f":"IF(SNPs!B2294<>\"\",MID(SNPs!B2294,FIND(\"[\",SNPs!B2294)+1,FIND(\"/\",SNPs!B2294)-FIND(\"[\",SNPs!B2294)-1),\"\")","v":""},{"$f":"IF(SNPs!B2294<>\"\",MID(SNPs!B2294,FIND(\"[\",SNPs!B2294)+3,FIND(\"/\",SNPs!B2294)-FIND(\"/\",SNPs!B2294)+1),\"\")","v":""},{"$f":"IF(SNPs!B2294<>\"\",SNPs!B2294,\"\")","v":""}]
[{"$f":"IF(SNPs!A2295<>\"\",SNPs!A2295,\"\")","v":""},{"$f":"IF(SNPs!B2295<>\"\",MID(SNPs!B2295,FIND(\"[\",SNPs!B2295)+1,FIND(\"/\",SNPs!B2295)-FIND(\"[\",SNPs!B2295)-1),\"\")","v":""},{"$f":"IF(SNPs!B2295<>\"\",MID(SNPs!B2295,FIND(\"[\",SNPs!B2295)+3,FIND(\"/\",SNPs!B2295)-FIND(\"/\",SNPs!B2295)+1),\"\")","v":""},{"$f":"IF(SNPs!B2295<>\"\",SNPs!B2295,\"\")","v":""}]
[{"$f":"IF(SNPs!A2296<>\"\",SNPs!A2296,\"\")","v":""},{"$f":"IF(SNPs!B2296<>\"\",MID(SNPs!B2296,FIND(\"[\",SNPs!B2296)+1,FIND(\"/\",SNPs!B2296)-FIND(\"[\",SNPs!B2296)-1),\"\")","v":""},{"$f":"IF(SNPs!B2296<>\"\",MID(SNPs!B2296,FIND(\"[\",SNPs!B2296)+3,FIND(\"/\",SNPs!B2296)-FIND(\"/\",SNPs!B2296)+1),\"\")","v":""},{"$f":"IF(SNPs!B2296<>\"\",SNPs!B2296,\"\")","v":""}]
[{"$f":"IF(SNPs!A2297<>\"\",SNPs!A2297,\"\")","v":""},{"$f":"IF(SNPs!B2297<>\"\",MID(SNPs!B2297,FIND(\"[\",SNPs!B2297)+1,FIND(\"/\",SNPs!B2297)-FIND(\"[\",SNPs!B2297)-1),\"\")","v":""},{"$f":"IF(SNPs!B2297<>\"\",MID(SNPs!B2297,FIND(\"[\",SNPs!B2297)+3,FIND(\"/\",SNPs!B2297)-FIND(\"/\",SNPs!B2297)+1),\"\")","v":""},{"$f":"IF(SNPs!B2297<>\"\",SNPs!B2297,\"\")","v":""}]
[{"$f":"IF(SNPs!A2298<>\"\",SNPs!A2298,\"\")","v":""},{"$f":"IF(SNPs!B2298<>\"\",MID(SNPs!B2298,FIND(\"[\",SNPs!B2298)+1,FIND(\"/\",SNPs!B2298)-FIND(\"[\",SNPs!B2298)-1),\"\")","v":""},{"$f":"IF(SNPs!B2298<>\"\",MID(SNPs!B2298,FIND(\"[\",SNPs!B2298)+3,FIND(\"/\",SNPs!B2298)-FIND(\"/\",SNPs!B2298)+1),\"\")","v":""},{"$f":"IF(SNPs!B2298<>\"\",SNPs!B2298,\"\")","v":""}]
[{"$f":"IF(SNPs!A2299<>\"\",SNPs!A2299,\"\")","v":""},{"$f":"IF(SNPs!B2299<>\"\",MID(SNPs!B2299,FIND(\"[\",SNPs!B2299)+1,FIND(\"/\",SNPs!B2299)-FIND(\"[\",SNPs!B2299)-1),\"\")","v":""},{"$f":"IF(SNPs!B2299<>\"\",MID(SNPs!B2299,FIND(\"[\",SNPs!B2299)+3,FIND(\"/\",SNPs!B2299)-FIND(\"/\",SNPs!B2299)+1),\"\")","v":""},{"$f":"IF(SNPs!B2299<>\"\",SNPs!B2299,\"\")","v":""}]
[{"$f":"IF(SNPs!A2300<>\"\",SNPs!A2300,\"\")","v":""},{"$f":"IF(SNPs!B2300<>\"\",MID(SNPs!B2300,FIND(\"[\",SNPs!B2300)+1,FIND(\"/\",SNPs!B2300)-FIND(\"[\",SNPs!B2300)-1),\"\")","v":""},{"$f":"IF(SNPs!B2300<>\"\",MID(SNPs!B2300,FIND(\"[\",SNPs!B2300)+3,FIND(\"/\",SNPs!B2300)-FIND(\"/\",SNPs!B2300)+1),\"\")","v":""},{"$f":"IF(SNPs!B2300<>\"\",SNPs!B2300,\"\")","v":""}]
[{"$f":"IF(SNPs!A2301<>\"\",SNPs!A2301,\"\")","v":""},{"$f":"IF(SNPs!B2301<>\"\",MID(SNPs!B2301,FIND(\"[\",SNPs!B2301)+1,FIND(\"/\",SNPs!B2301)-FIND(\"[\",SNPs!B2301)-1),\"\")","v":""},{"$f":"IF(SNPs!B2301<>\"\",MID(SNPs!B2301,FIND(\"[\",SNPs!B2301)+3,FIND(\"/\",SNPs!B2301)-FIND(\"/\",SNPs!B2301)+1),\"\")","v":""},{"$f":"IF(SNPs!B2301<>\"\",SNPs!B2301,\"\")","v":""}]
[{"$f":"IF(SNPs!A2302<>\"\",SNPs!A2302,\"\")","v":""},{"$f":"IF(SNPs!B2302<>\"\",MID(SNPs!B2302,FIND(\"[\",SNPs!B2302)+1,FIND(\"/\",SNPs!B2302)-FIND(\"[\",SNPs!B2302)-1),\"\")","v":""},{"$f":"IF(SNPs!B2302<>\"\",MID(SNPs!B2302,FIND(\"[\",SNPs!B2302)+3,FIND(\"/\",SNPs!B2302)-FIND(\"/\",SNPs!B2302)+1),\"\")","v":""},{"$f":"IF(SNPs!B2302<>\"\",SNPs!B2302,\"\")","v":""}]
[{"$f":"IF(SNPs!A2303<>\"\",SNPs!A2303,\"\")","v":""},{"$f":"IF(SNPs!B2303<>\"\",MID(SNPs!B2303,FIND(\"[\",SNPs!B2303)+1,FIND(\"/\",SNPs!B2303)-FIND(\"[\",SNPs!B2303)-1),\"\")","v":""},{"$f":"IF(SNPs!B2303<>\"\",MID(SNPs!B2303,FIND(\"[\",SNPs!B2303)+3,FIND(\"/\",SNPs!B2303)-FIND(\"/\",SNPs!B2303)+1),\"\")","v":""},{"$f":"IF(SNPs!B2303<>\"\",SNPs!B2303,\"\")","v":""}]
[{"$f":"IF(SNPs!A2304<>\"\",SNPs!A2304,\"\")","v":""},{"$f":"IF(SNPs!B2304<>\"\",MID(SNPs!B2304,FIND(\"[\",SNPs!B2304)+1,FIND(\"/\",SNPs!B2304)-FIND(\"[\",SNPs!B2304)-1),\"\")","v":""},{"$f":"IF(SNPs!B2304<>\"\",MID(SNPs!B2304,FIND(\"[\",SNPs!B2304)+3,FIND(\"/\",SNPs!B2304)-FIND(\"/\",SNPs!B2304)+1),\"\")","v":""},{"$f":"IF(SNPs!B2304<>\"\",SNPs!B2304,\"\")","v":""}]
[{"$f":"IF(SNPs!A2305<>\"\",SNPs!A2305,\"\")","v":""},{"$f":"IF(SNPs!B2305<>\"\",MID(SNPs!B2305,FIND(\"[\",SNPs!B2305)+1,FIND(\"/\",SNPs!B2305)-FIND(\"[\",SNPs!B2305)-1),\"\")","v":""},{"$f":"IF(SNPs!B2305<>\"\",MID(SNPs!B2305,FIND(\"[\",SNPs!B2305)+3,FIND(\"/\",SNPs!B2305)-FIND(\"/\",SNPs!B2305)+1),\"\")","v":""},{"$f":"IF(SNPs!B2305<>\"\",SNPs!B2305,\"\")","v":""}]
[{"$f":"IF(SNPs!A2306<>\"\",SNPs!A2306,\"\")","v":""},{"$f":"IF(SNPs!B2306<>\"\",MID(SNPs!B2306,FIND(\"[\",SNPs!B2306)+1,FIND(\"/\",SNPs!B2306)-FIND(\"[\",SNPs!B2306)-1),\"\")","v":""},{"$f":"IF(SNPs!B2306<>\"\",MID(SNPs!B2306,FIND(\"[\",SNPs!B2306)+3,FIND(\"/\",SNPs!B2306)-FIND(\"/\",SNPs!B2306)+1),\"\")","v":""},{"$f":"IF(SNPs!B2306<>\"\",SNPs!B2306,\"\")","v":""}]
[{"$f":"IF(SNPs!A2307<>\"\",SNPs!A2307,\"\")","v":""},{"$f":"IF(SNPs!B2307<>\"\",MID(SNPs!B2307,FIND(\"[\",SNPs!B2307)+1,FIND(\"/\",SNPs!B2307)-FIND(\"[\",SNPs!B2307)-1),\"\")","v":""},{"$f":"IF(SNPs!B2307<>\"\",MID(SNPs!B2307,FIND(\"[\",SNPs!B2307)+3,FIND(\"/\",SNPs!B2307)-FIND(\"/\",SNPs!B2307)+1),\"\")","v":""},{"$f":"IF(SNPs!B2307<>\"\",SNPs!B2307,\"\")","v":""}]
[{"$f":"IF(SNPs!A2308<>\"\",SNPs!A2308,\"\")","v":""},{"$f":"IF(SNPs!B2308<>\"\",MID(SNPs!B2308,FIND(\"[\",SNPs!B2308)+1,FIND(\"/\",SNPs!B2308)-FIND(\"[\",SNPs!B2308)-1),\"\")","v":""},{"$f":"IF(SNPs!B2308<>\"\",MID(SNPs!B2308,FIND(\"[\",SNPs!B2308)+3,FIND(\"/\",SNPs!B2308)-FIND(\"/\",SNPs!B2308)+1),\"\")","v":""},{"$f":"IF(SNPs!B2308<>\"\",SNPs!B2308,\"\")","v":""}]
[{"$f":"IF(SNPs!A2309<>\"\",SNPs!A2309,\"\")","v":""},{"$f":"IF(SNPs!B2309<>\"\",MID(SNPs!B2309,FIND(\"[\",SNPs!B2309)+1,FIND(\"/\",SNPs!B2309)-FIND(\"[\",SNPs!B2309)-1),\"\")","v":""},{"$f":"IF(SNPs!B2309<>\"\",MID(SNPs!B2309,FIND(\"[\",SNPs!B2309)+3,FIND(\"/\",SNPs!B2309)-FIND(\"/\",SNPs!B2309)+1),\"\")","v":""},{"$f":"IF(SNPs!B2309<>\"\",SNPs!B2309,\"\")","v":""}]
[{"$f":"IF(SNPs!A2310<>\"\",SNPs!A2310,\"\")","v":""},{"$f":"IF(SNPs!B2310<>\"\",MID(SNPs!B2310,FIND(\"[\",SNPs!B2310)+1,FIND(\"/\",SNPs!B2310)-FIND(\"[\",SNPs!B2310)-1),\"\")","v":""},{"$f":"IF(SNPs!B2310<>\"\",MID(SNPs!B2310,FIND(\"[\",SNPs!B2310)+3,FIND(\"/\",SNPs!B2310)-FIND(\"/\",SNPs!B2310)+1),\"\")","v":""},{"$f":"IF(SNPs!B2310<>\"\",SNPs!B2310,\"\")","v":""}]
[{"$f":"IF(SNPs!A2311<>\"\",SNPs!A2311,\"\")","v":""},{"$f":"IF(SNPs!B2311<>\"\",MID(SNPs!B2311,FIND(\"[\",SNPs!B2311)+1,FIND(\"/\",SNPs!B2311)-FIND(\"[\",SNPs!B2311)-1),\"\")","v":""},{"$f":"IF(SNPs!B2311<>\"\",MID(SNPs!B2311,FIND(\"[\",SNPs!B2311)+3,FIND(\"/\",SNPs!B2311)-FIND(\"/\",SNPs!B2311)+1),\"\")","v":""},{"$f":"IF(SNPs!B2311<>\"\",SNPs!B2311,\"\")","v":""}]
[{"$f":"IF(SNPs!A2312<>\"\",SNPs!A2312,\"\")","v":""},{"$f":"IF(SNPs!B2312<>\"\",MID(SNPs!B2312,FIND(\"[\",SNPs!B2312)+1,FIND(\"/\",SNPs!B2312)-FIND(\"[\",SNPs!B2312)-1),\"\")","v":""},{"$f":"IF(SNPs!B2312<>\"\",MID(SNPs!B2312,FIND(\"[\",SNPs!B2312)+3,FIND(\"/\",SNPs!B2312)-FIND(\"/\",SNPs!B2312)+1),\"\")","v":""},{"$f":"IF(SNPs!B2312<>\"\",SNPs!B2312,\"\")","v":""}]
[{"$f":"IF(SNPs!A2313<>\"\",SNPs!A2313,\"\")","v":""},{"$f":"IF(SNPs!B2313<>\"\",MID(SNPs!B2313,FIND(\"[\",SNPs!B2313)+1,FIND(\"/\",SNPs!B2313)-FIND(\"[\",SNPs!B2313)-1),\"\")","v":""},{"$f":"IF(SNPs!B2313<>\"\",MID(SNPs!B2313,FIND(\"[\",SNPs!B2313)+3,FIND(\"/\",SNPs!B2313)-FIND(\"/\",SNPs!B2313)+1),\"\")","v":""},{"$f":"IF(SNPs!B2313<>\"\",SNPs!B2313,\"\")","v":""}]
[{"$f":"IF(SNPs!A2314<>\"\",SNPs!A2314,\"\")","v":""},{"$f":"IF(SNPs!B2314<>\"\",MID(SNPs!B2314,FIND(\"[\",SNPs!B2314)+1,FIND(\"/\",SNPs!B2314)-FIND(\"[\",SNPs!B2314)-1),\"\")","v":""},{"$f":"IF(SNPs!B2314<>\"\",MID(SNPs!B2314,FIND(\"[\",SNPs!B2314)+3,FIND(\"/\",SNPs!B2314)-FIND(\"/\",SNPs!B2314)+1),\"\")","v":""},{"$f":"IF(SNPs!B2314<>\"\",SNPs!B2314,\"\")","v":""}]
[{"$f":"IF(SNPs!A2315<>\"\",SNPs!A2315,\"\")","v":""},{"$f":"IF(SNPs!B2315<>\"\",MID(SNPs!B2315,FIND(\"[\",SNPs!B2315)+1,FIND(\"/\",SNPs!B2315)-FIND(\"[\",SNPs!B2315)-1),\"\")","v":""},{"$f":"IF(SNPs!B2315<>\"\",MID(SNPs!B2315,FIND(\"[\",SNPs!B2315)+3,FIND(\"/\",SNPs!B2315)-FIND(\"/\",SNPs!B2315)+1),\"\")","v":""},{"$f":"IF(SNPs!B2315<>\"\",SNPs!B2315,\"\")","v":""}]
[{"$f":"IF(SNPs!A2316<>\"\",SNPs!A2316,\"\")","v":""},{"$f":"IF(SNPs!B2316<>\"\",MID(SNPs!B2316,FIND(\"[\",SNPs!B2316)+1,FIND(\"/\",SNPs!B2316)-FIND(\"[\",SNPs!B2316)-1),\"\")","v":""},{"$f":"IF(SNPs!B2316<>\"\",MID(SNPs!B2316,FIND(\"[\",SNPs!B2316)+3,FIND(\"/\",SNPs!B2316)-FIND(\"/\",SNPs!B2316)+1),\"\")","v":""},{"$f":"IF(SNPs!B2316<>\"\",SNPs!B2316,\"\")","v":""}]
[{"$f":"IF(SNPs!A2317<>\"\",SNPs!A2317,\"\")","v":""},{"$f":"IF(SNPs!B2317<>\"\",MID(SNPs!B2317,FIND(\"[\",SNPs!B2317)+1,FIND(\"/\",SNPs!B2317)-FIND(\"[\",SNPs!B2317)-1),\"\")","v":""},{"$f":"IF(SNPs!B2317<>\"\",MID(SNPs!B2317,FIND(\"[\",SNPs!B2317)+3,FIND(\"/\",SNPs!B2317)-FIND(\"/\",SNPs!B2317)+1),\"\")","v":""},{"$f":"IF(SNPs!B2317<>\"\",SNPs!B2317,\"\")","v":""}]
[{"$f":"IF(SNPs!A2318<>\"\",SNPs!A2318,\"\")","v":""},{"$f":"IF(SNPs!B2318<>\"\",MID(SNPs!B2318,FIND(\"[\",SNPs!B2318)+1,FIND(\"/\",SNPs!B2318)-FIND(\"[\",SNPs!B2318)-1),\"\")","v":""},{"$f":"IF(SNPs!B2318<>\"\",MID(SNPs!B2318,FIND(\"[\",SNPs!B2318)+3,FIND(\"/\",SNPs!B2318)-FIND(\"/\",SNPs!B2318)+1),\"\")","v":""},{"$f":"IF(SNPs!B2318<>\"\",SNPs!B2318,\"\")","v":""}]
[{"$f":"IF(SNPs!A2319<>\"\",SNPs!A2319,\"\")","v":""},{"$f":"IF(SNPs!B2319<>\"\",MID(SNPs!B2319,FIND(\"[\",SNPs!B2319)+1,FIND(\"/\",SNPs!B2319)-FIND(\"[\",SNPs!B2319)-1),\"\")","v":""},{"$f":"IF(SNPs!B2319<>\"\",MID(SNPs!B2319,FIND(\"[\",SNPs!B2319)+3,FIND(\"/\",SNPs!B2319)-FIND(\"/\",SNPs!B2319)+1),\"\")","v":""},{"$f":"IF(SNPs!B2319<>\"\",SNPs!B2319,\"\")","v":""}]
[{"$f":"IF(SNPs!A2320<>\"\",SNPs!A2320,\"\")","v":""},{"$f":"IF(SNPs!B2320<>\"\",MID(SNPs!B2320,FIND(\"[\",SNPs!B2320)+1,FIND(\"/\",SNPs!B2320)-FIND(\"[\",SNPs!B2320)-1),\"\")","v":""},{"$f":"IF(SNPs!B2320<>\"\",MID(SNPs!B2320,FIND(\"[\",SNPs!B2320)+3,FIND(\"/\",SNPs!B2320)-FIND(\"/\",SNPs!B2320)+1),\"\")","v":""},{"$f":"IF(SNPs!B2320<>\"\",SNPs!B2320,\"\")","v":""}]
[{"$f":"IF(SNPs!A2321<>\"\",SNPs!A2321,\"\")","v":""},{"$f":"IF(SNPs!B2321<>\"\",MID(SNPs!B2321,FIND(\"[\",SNPs!B2321)+1,FIND(\"/\",SNPs!B2321)-FIND(\"[\",SNPs!B2321)-1),\"\")","v":""},{"$f":"IF(SNPs!B2321<>\"\",MID(SNPs!B2321,FIND(\"[\",SNPs!B2321)+3,FIND(\"/\",SNPs!B2321)-FIND(\"/\",SNPs!B2321)+1),\"\")","v":""},{"$f":"IF(SNPs!B2321<>\"\",SNPs!B2321,\"\")","v":""}]
[{"$f":"IF(SNPs!A2322<>\"\",SNPs!A2322,\"\")","v":""},{"$f":"IF(SNPs!B2322<>\"\",MID(SNPs!B2322,FIND(\"[\",SNPs!B2322)+1,FIND(\"/\",SNPs!B2322)-FIND(\"[\",SNPs!B2322)-1),\"\")","v":""},{"$f":"IF(SNPs!B2322<>\"\",MID(SNPs!B2322,FIND(\"[\",SNPs!B2322)+3,FIND(\"/\",SNPs!B2322)-FIND(\"/\",SNPs!B2322)+1),\"\")","v":""},{"$f":"IF(SNPs!B2322<>\"\",SNPs!B2322,\"\")","v":""}]
[{"$f":"IF(SNPs!A2323<>\"\",SNPs!A2323,\"\")","v":""},{"$f":"IF(SNPs!B2323<>\"\",MID(SNPs!B2323,FIND(\"[\",SNPs!B2323)+1,FIND(\"/\",SNPs!B2323)-FIND(\"[\",SNPs!B2323)-1),\"\")","v":""},{"$f":"IF(SNPs!B2323<>\"\",MID(SNPs!B2323,FIND(\"[\",SNPs!B2323)+3,FIND(\"/\",SNPs!B2323)-FIND(\"/\",SNPs!B2323)+1),\"\")","v":""},{"$f":"IF(SNPs!B2323<>\"\",SNPs!B2323,\"\")","v":""}]
[{"$f":"IF(SNPs!A2324<>\"\",SNPs!A2324,\"\")","v":""},{"$f":"IF(SNPs!B2324<>\"\",MID(SNPs!B2324,FIND(\"[\",SNPs!B2324)+1,FIND(\"/\",SNPs!B2324)-FIND(\"[\",SNPs!B2324)-1),\"\")","v":""},{"$f":"IF(SNPs!B2324<>\"\",MID(SNPs!B2324,FIND(\"[\",SNPs!B2324)+3,FIND(\"/\",SNPs!B2324)-FIND(\"/\",SNPs!B2324)+1),\"\")","v":""},{"$f":"IF(SNPs!B2324<>\"\",SNPs!B2324,\"\")","v":""}]
[{"$f":"IF(SNPs!A2325<>\"\",SNPs!A2325,\"\")","v":""},{"$f":"IF(SNPs!B2325<>\"\",MID(SNPs!B2325,FIND(\"[\",SNPs!B2325)+1,FIND(\"/\",SNPs!B2325)-FIND(\"[\",SNPs!B2325)-1),\"\")","v":""},{"$f":"IF(SNPs!B2325<>\"\",MID(SNPs!B2325,FIND(\"[\",SNPs!B2325)+3,FIND(\"/\",SNPs!B2325)-FIND(\"/\",SNPs!B2325)+1),\"\")","v":""},{"$f":"IF(SNPs!B2325<>\"\",SNPs!B2325,\"\")","v":""}]
[{"$f":"IF(SNPs!A2326<>\"\",SNPs!A2326,\"\")","v":""},{"$f":"IF(SNPs!B2326<>\"\",MID(SNPs!B2326,FIND(\"[\",SNPs!B2326)+1,FIND(\"/\",SNPs!B2326)-FIND(\"[\",SNPs!B2326)-1),\"\")","v":""},{"$f":"IF(SNPs!B2326<>\"\",MID(SNPs!B2326,FIND(\"[\",SNPs!B2326)+3,FIND(\"/\",SNPs!B2326)-FIND(\"/\",SNPs!B2326)+1),\"\")","v":""},{"$f":"IF(SNPs!B2326<>\"\",SNPs!B2326,\"\")","v":""}]
[{"$f":"IF(SNPs!A2327<>\"\",SNPs!A2327,\"\")","v":""},{"$f":"IF(SNPs!B2327<>\"\",MID(SNPs!B2327,FIND(\"[\",SNPs!B2327)+1,FIND(\"/\",SNPs!B2327)-FIND(\"[\",SNPs!B2327)-1),\"\")","v":""},{"$f":"IF(SNPs!B2327<>\"\",MID(SNPs!B2327,FIND(\"[\",SNPs!B2327)+3,FIND(\"/\",SNPs!B2327)-FIND(\"/\",SNPs!B2327)+1),\"\")","v":""},{"$f":"IF(SNPs!B2327<>\"\",SNPs!B2327,\"\")","v":""}]
[{"$f":"IF(SNPs!A2328<>\"\",SNPs!A2328,\"\")","v":""},{"$f":"IF(SNPs!B2328<>\"\",MID(SNPs!B2328,FIND(\"[\",SNPs!B2328)+1,FIND(\"/\",SNPs!B2328)-FIND(\"[\",SNPs!B2328)-1),\"\")","v":""},{"$f":"IF(SNPs!B2328<>\"\",MID(SNPs!B2328,FIND(\"[\",SNPs!B2328)+3,FIND(\"/\",SNPs!B2328)-FIND(\"/\",SNPs!B2328)+1),\"\")","v":""},{"$f":"IF(SNPs!B2328<>\"\",SNPs!B2328,\"\")","v":""}]
[{"$f":"IF(SNPs!A2329<>\"\",SNPs!A2329,\"\")","v":""},{"$f":"IF(SNPs!B2329<>\"\",MID(SNPs!B2329,FIND(\"[\",SNPs!B2329)+1,FIND(\"/\",SNPs!B2329)-FIND(\"[\",SNPs!B2329)-1),\"\")","v":""},{"$f":"IF(SNPs!B2329<>\"\",MID(SNPs!B2329,FIND(\"[\",SNPs!B2329)+3,FIND(\"/\",SNPs!B2329)-FIND(\"/\",SNPs!B2329)+1),\"\")","v":""},{"$f":"IF(SNPs!B2329<>\"\",SNPs!B2329,\"\")","v":""}]
[{"$f":"IF(SNPs!A2330<>\"\",SNPs!A2330,\"\")","v":""},{"$f":"IF(SNPs!B2330<>\"\",MID(SNPs!B2330,FIND(\"[\",SNPs!B2330)+1,FIND(\"/\",SNPs!B2330)-FIND(\"[\",SNPs!B2330)-1),\"\")","v":""},{"$f":"IF(SNPs!B2330<>\"\",MID(SNPs!B2330,FIND(\"[\",SNPs!B2330)+3,FIND(\"/\",SNPs!B2330)-FIND(\"/\",SNPs!B2330)+1),\"\")","v":""},{"$f":"IF(SNPs!B2330<>\"\",SNPs!B2330,\"\")","v":""}]
[{"$f":"IF(SNPs!A2331<>\"\",SNPs!A2331,\"\")","v":""},{"$f":"IF(SNPs!B2331<>\"\",MID(SNPs!B2331,FIND(\"[\",SNPs!B2331)+1,FIND(\"/\",SNPs!B2331)-FIND(\"[\",SNPs!B2331)-1),\"\")","v":""},{"$f":"IF(SNPs!B2331<>\"\",MID(SNPs!B2331,FIND(\"[\",SNPs!B2331)+3,FIND(\"/\",SNPs!B2331)-FIND(\"/\",SNPs!B2331)+1),\"\")","v":""},{"$f":"IF(SNPs!B2331<>\"\",SNPs!B2331,\"\")","v":""}]
[{"$f":"IF(SNPs!A2332<>\"\",SNPs!A2332,\"\")","v":""},{"$f":"IF(SNPs!B2332<>\"\",MID(SNPs!B2332,FIND(\"[\",SNPs!B2332)+1,FIND(\"/\",SNPs!B2332)-FIND(\"[\",SNPs!B2332)-1),\"\")","v":""},{"$f":"IF(SNPs!B2332<>\"\",MID(SNPs!B2332,FIND(\"[\",SNPs!B2332)+3,FIND(\"/\",SNPs!B2332)-FIND(\"/\",SNPs!B2332)+1),\"\")","v":""},{"$f":"IF(SNPs!B2332<>\"\",SNPs!B2332,\"\")","v":""}]
[{"$f":"IF(SNPs!A2333<>\"\",SNPs!A2333,\"\")","v":""},{"$f":"IF(SNPs!B2333<>\"\",MID(SNPs!B2333,FIND(\"[\",SNPs!B2333)+1,FIND(\"/\",SNPs!B2333)-FIND(\"[\",SNPs!B2333)-1),\"\")","v":""},{"$f":"IF(SNPs!B2333<>\"\",MID(SNPs!B2333,FIND(\"[\",SNPs!B2333)+3,FIND(\"/\",SNPs!B2333)-FIND(\"/\",SNPs!B2333)+1),\"\")","v":""},{"$f":"IF(SNPs!B2333<>\"\",SNPs!B2333,\"\")","v":""}]
[{"$f":"IF(SNPs!A2334<>\"\",SNPs!A2334,\"\")","v":""},{"$f":"IF(SNPs!B2334<>\"\",MID(SNPs!B2334,FIND(\"[\",SNPs!B2334)+1,FIND(\"/\",SNPs!B2334)-FIND(\"[\",SNPs!B2334)-1),\"\")","v":""},{"$f":"IF(SNPs!B2334<>\"\",MID(SNPs!B2334,FIND(\"[\",SNPs!B2334)+3,FIND(\"/\",SNPs!B2334)-FIND(\"/\",SNPs!B2334)+1),\"\")","v":""},{"$f":"IF(SNPs!B2334<>\"\",SNPs!B2334,\"\")","v":""}]
[{"$f":"IF(SNPs!A2335<>\"\",SNPs!A2335,\"\")","v":""},{"$f":"IF(SNPs!B2335<>\"\",MID(SNPs!B2335,FIND(\"[\",SNPs!B2335)+1,FIND(\"/\",SNPs!B2335)-FIND(\"[\",SNPs!B2335)-1),\"\")","v":""},{"$f":"IF(SNPs!B2335<>\"\",MID(SNPs!B2335,FIND(\"[\",SNPs!B2335)+3,FIND(\"/\",SNPs!B2335)-FIND(\"/\",SNPs!B2335)+1),\"\")","v":""},{"$f":"IF(SNPs!B2335<>\"\",SNPs!B2335,\"\")","v":""}]
[{"$f":"IF(SNPs!A2336<>\"\",SNPs!A2336,\"\")","v":""},{"$f":"IF(SNPs!B2336<>\"\",MID(SNPs!B2336,FIND(\"[\",SNPs!B2336)+1,FIND(\"/\",SNPs!B2336)-FIND(\"[\",SNPs!B2336)-1),\"\")","v":""},{"$f":"IF(SNPs!B2336<>\"\",MID(SNPs!B2336,FIND(\"[\",SNPs!B2336)+3,FIND(\"/\",SNPs!B2336)-FIND(\"/\",SNPs!B2336)+1),\"\")","v":""},{"$f":"IF(SNPs!B2336<>\"\",SNPs!B2336,\"\")","v":""}]
[{"$f":"IF(SNPs!A2337<>\"\",SNPs!A2337,\"\")","v":""},{"$f":"IF(SNPs!B2337<>\"\",MID(SNPs!B2337,FIND(\"[\",SNPs!B2337)+1,FIND(\"/\",SNPs!B2337)-FIND(\"[\",SNPs!B2337)-1),\"\")","v":""},{"$f":"IF(SNPs!B2337<>\"\",MID(SNPs!B2337,FIND(\"[\",SNPs!B2337)+3,FIND(\"/\",SNPs!B2337)-FIND(\"/\",SNPs!B2337)+1),\"\")","v":""},{"$f":"IF(SNPs!B2337<>\"\",SNPs!B2337,\"\")","v":""}]
[{"$f":"IF(SNPs!A2338<>\"\",SNPs!A2338,\"\")","v":""},{"$f":"IF(SNPs!B2338<>\"\",MID(SNPs!B2338,FIND(\"[\",SNPs!B2338)+1,FIND(\"/\",SNPs!B2338)-FIND(\"[\",SNPs!B2338)-1),\"\")","v":""},{"$f":"IF(SNPs!B2338<>\"\",MID(SNPs!B2338,FIND(\"[\",SNPs!B2338)+3,FIND(\"/\",SNPs!B2338)-FIND(\"/\",SNPs!B2338)+1),\"\")","v":""},{"$f":"IF(SNPs!B2338<>\"\",SNPs!B2338,\"\")","v":""}]
[{"$f":"IF(SNPs!A2339<>\"\",SNPs!A2339,\"\")","v":""},{"$f":"IF(SNPs!B2339<>\"\",MID(SNPs!B2339,FIND(\"[\",SNPs!B2339)+1,FIND(\"/\",SNPs!B2339)-FIND(\"[\",SNPs!B2339)-1),\"\")","v":""},{"$f":"IF(SNPs!B2339<>\"\",MID(SNPs!B2339,FIND(\"[\",SNPs!B2339)+3,FIND(\"/\",SNPs!B2339)-FIND(\"/\",SNPs!B2339)+1),\"\")","v":""},{"$f":"IF(SNPs!B2339<>\"\",SNPs!B2339,\"\")","v":""}]
[{"$f":"IF(SNPs!A2340<>\"\",SNPs!A2340,\"\")","v":""},{"$f":"IF(SNPs!B2340<>\"\",MID(SNPs!B2340,FIND(\"[\",SNPs!B2340)+1,FIND(\"/\",SNPs!B2340)-FIND(\"[\",SNPs!B2340)-1),\"\")","v":""},{"$f":"IF(SNPs!B2340<>\"\",MID(SNPs!B2340,FIND(\"[\",SNPs!B2340)+3,FIND(\"/\",SNPs!B2340)-FIND(\"/\",SNPs!B2340)+1),\"\")","v":""},{"$f":"IF(SNPs!B2340<>\"\",SNPs!B2340,\"\")","v":""}]
[{"$f":"IF(SNPs!A2341<>\"\",SNPs!A2341,\"\")","v":""},{"$f":"IF(SNPs!B2341<>\"\",MID(SNPs!B2341,FIND(\"[\",SNPs!B2341)+1,FIND(\"/\",SNPs!B2341)-FIND(\"[\",SNPs!B2341)-1),\"\")","v":""},{"$f":"IF(SNPs!B2341<>\"\",MID(SNPs!B2341,FIND(\"[\",SNPs!B2341)+3,FIND(\"/\",SNPs!B2341)-FIND(\"/\",SNPs!B2341)+1),\"\")","v":""},{"$f":"IF(SNPs!B2341<>\"\",SNPs!B2341,\"\")","v":""}]
[{"$f":"IF(SNPs!A2342<>\"\",SNPs!A2342,\"\")","v":""},{"$f":"IF(SNPs!B2342<>\"\",MID(SNPs!B2342,FIND(\"[\",SNPs!B2342)+1,FIND(\"/\",SNPs!B2342)-FIND(\"[\",SNPs!B2342)-1),\"\")","v":""},{"$f":"IF(SNPs!B2342<>\"\",MID(SNPs!B2342,FIND(\"[\",SNPs!B2342)+3,FIND(\"/\",SNPs!B2342)-FIND(\"/\",SNPs!B2342)+1),\"\")","v":""},{"$f":"IF(SNPs!B2342<>\"\",SNPs!B2342,\"\")","v":""}]
[{"$f":"IF(SNPs!A2343<>\"\",SNPs!A2343,\"\")","v":""},{"$f":"IF(SNPs!B2343<>\"\",MID(SNPs!B2343,FIND(\"[\",SNPs!B2343)+1,FIND(\"/\",SNPs!B2343)-FIND(\"[\",SNPs!B2343)-1),\"\")","v":""},{"$f":"IF(SNPs!B2343<>\"\",MID(SNPs!B2343,FIND(\"[\",SNPs!B2343)+3,FIND(\"/\",SNPs!B2343)-FIND(\"/\",SNPs!B2343)+1),\"\")","v":""},{"$f":"IF(SNPs!B2343<>\"\",SNPs!B2343,\"\")","v":""}]
[{"$f":"IF(SNPs!A2344<>\"\",SNPs!A2344,\"\")","v":""},{"$f":"IF(SNPs!B2344<>\"\",MID(SNPs!B2344,FIND(\"[\",SNPs!B2344)+1,FIND(\"/\",SNPs!B2344)-FIND(\"[\",SNPs!B2344)-1),\"\")","v":""},{"$f":"IF(SNPs!B2344<>\"\",MID(SNPs!B2344,FIND(\"[\",SNPs!B2344)+3,FIND(\"/\",SNPs!B2344)-FIND(\"/\",SNPs!B2344)+1),\"\")","v":""},{"$f":"IF(SNPs!B2344<>\"\",SNPs!B2344,\"\")","v":""}]
[{"$f":"IF(SNPs!A2345<>\"\",SNPs!A2345,\"\")","v":""},{"$f":"IF(SNPs!B2345<>\"\",MID(SNPs!B2345,FIND(\"[\",SNPs!B2345)+1,FIND(\"/\",SNPs!B2345)-FIND(\"[\",SNPs!B2345)-1),\"\")","v":""},{"$f":"IF(SNPs!B2345<>\"\",MID(SNPs!B2345,FIND(\"[\",SNPs!B2345)+3,FIND(\"/\",SNPs!B2345)-FIND(\"/\",SNPs!B2345)+1),\"\")","v":""},{"$f":"IF(SNPs!B2345<>\"\",SNPs!B2345,\"\")","v":""}]
[{"$f":"IF(SNPs!A2346<>\"\",SNPs!A2346,\"\")","v":""},{"$f":"IF(SNPs!B2346<>\"\",MID(SNPs!B2346,FIND(\"[\",SNPs!B2346)+1,FIND(\"/\",SNPs!B2346)-FIND(\"[\",SNPs!B2346)-1),\"\")","v":""},{"$f":"IF(SNPs!B2346<>\"\",MID(SNPs!B2346,FIND(\"[\",SNPs!B2346)+3,FIND(\"/\",SNPs!B2346)-FIND(\"/\",SNPs!B2346)+1),\"\")","v":""},{"$f":"IF(SNPs!B2346<>\"\",SNPs!B2346,\"\")","v":""}]
[{"$f":"IF(SNPs!A2347<>\"\",SNPs!A2347,\"\")","v":""},{"$f":"IF(SNPs!B2347<>\"\",MID(SNPs!B2347,FIND(\"[\",SNPs!B2347)+1,FIND(\"/\",SNPs!B2347)-FIND(\"[\",SNPs!B2347)-1),\"\")","v":""},{"$f":"IF(SNPs!B2347<>\"\",MID(SNPs!B2347,FIND(\"[\",SNPs!B2347)+3,FIND(\"/\",SNPs!B2347)-FIND(\"/\",SNPs!B2347)+1),\"\")","v":""},{"$f":"IF(SNPs!B2347<>\"\",SNPs!B2347,\"\")","v":""}]
[{"$f":"IF(SNPs!A2348<>\"\",SNPs!A2348,\"\")","v":""},{"$f":"IF(SNPs!B2348<>\"\",MID(SNPs!B2348,FIND(\"[\",SNPs!B2348)+1,FIND(\"/\",SNPs!B2348)-FIND(\"[\",SNPs!B2348)-1),\"\")","v":""},{"$f":"IF(SNPs!B2348<>\"\",MID(SNPs!B2348,FIND(\"[\",SNPs!B2348)+3,FIND(\"/\",SNPs!B2348)-FIND(\"/\",SNPs!B2348)+1),\"\")","v":""},{"$f":"IF(SNPs!B2348<>\"\",SNPs!B2348,\"\")","v":""}]
[{"$f":"IF(SNPs!A2349<>\"\",SNPs!A2349,\"\")","v":""},{"$f":"IF(SNPs!B2349<>\"\",MID(SNPs!B2349,FIND(\"[\",SNPs!B2349)+1,FIND(\"/\",SNPs!B2349)-FIND(\"[\",SNPs!B2349)-1),\"\")","v":""},{"$f":"IF(SNPs!B2349<>\"\",MID(SNPs!B2349,FIND(\"[\",SNPs!B2349)+3,FIND(\"/\",SNPs!B2349)-FIND(\"/\",SNPs!B2349)+1),\"\")","v":""},{"$f":"IF(SNPs!B2349<>\"\",SNPs!B2349,\"\")","v":""}]
[{"$f":"IF(SNPs!A2350<>\"\",SNPs!A2350,\"\")","v":""},{"$f":"IF(SNPs!B2350<>\"\",MID(SNPs!B2350,FIND(\"[\",SNPs!B2350)+1,FIND(\"/\",SNPs!B2350)-FIND(\"[\",SNPs!B2350)-1),\"\")","v":""},{"$f":"IF(SNPs!B2350<>\"\",MID(SNPs!B2350,FIND(\"[\",SNPs!B2350)+3,FIND(\"/\",SNPs!B2350)-FIND(\"/\",SNPs!B2350)+1),\"\")","v":""},{"$f":"IF(SNPs!B2350<>\"\",SNPs!B2350,\"\")","v":""}]
[{"$f":"IF(SNPs!A2351<>\"\",SNPs!A2351,\"\")","v":""},{"$f":"IF(SNPs!B2351<>\"\",MID(SNPs!B2351,FIND(\"[\",SNPs!B2351)+1,FIND(\"/\",SNPs!B2351)-FIND(\"[\",SNPs!B2351)-1),\"\")","v":""},{"$f":"IF(SNPs!B2351<>\"\",MID(SNPs!B2351,FIND(\"[\",SNPs!B2351)+3,FIND(\"/\",SNPs!B2351)-FIND(\"/\",SNPs!B2351)+1),\"\")","v":""},{"$f":"IF(SNPs!B2351<>\"\",SNPs!B2351,\"\")","v":""}]
[{"$f":"IF(SNPs!A2352<>\"\",SNPs!A2352,\"\")","v":""},{"$f":"IF(SNPs!B2352<>\"\",MID(SNPs!B2352,FIND(\"[\",SNPs!B2352)+1,FIND(\"/\",SNPs!B2352)-FIND(\"[\",SNPs!B2352)-1),\"\")","v":""},{"$f":"IF(SNPs!B2352<>\"\",MID(SNPs!B2352,FIND(\"[\",SNPs!B2352)+3,FIND(\"/\",SNPs!B2352)-FIND(\"/\",SNPs!B2352)+1),\"\")","v":""},{"$f":"IF(SNPs!B2352<>\"\",SNPs!B2352,\"\")","v":""}]
[{"$f":"IF(SNPs!A2353<>\"\",SNPs!A2353,\"\")","v":""},{"$f":"IF(SNPs!B2353<>\"\",MID(SNPs!B2353,FIND(\"[\",SNPs!B2353)+1,FIND(\"/\",SNPs!B2353)-FIND(\"[\",SNPs!B2353)-1),\"\")","v":""},{"$f":"IF(SNPs!B2353<>\"\",MID(SNPs!B2353,FIND(\"[\",SNPs!B2353)+3,FIND(\"/\",SNPs!B2353)-FIND(\"/\",SNPs!B2353)+1),\"\")","v":""},{"$f":"IF(SNPs!B2353<>\"\",SNPs!B2353,\"\")","v":""}]
[{"$f":"IF(SNPs!A2354<>\"\",SNPs!A2354,\"\")","v":""},{"$f":"IF(SNPs!B2354<>\"\",MID(SNPs!B2354,FIND(\"[\",SNPs!B2354)+1,FIND(\"/\",SNPs!B2354)-FIND(\"[\",SNPs!B2354)-1),\"\")","v":""},{"$f":"IF(SNPs!B2354<>\"\",MID(SNPs!B2354,FIND(\"[\",SNPs!B2354)+3,FIND(\"/\",SNPs!B2354)-FIND(\"/\",SNPs!B2354)+1),\"\")","v":""},{"$f":"IF(SNPs!B2354<>\"\",SNPs!B2354,\"\")","v":""}]
[{"$f":"IF(SNPs!A2355<>\"\",SNPs!A2355,\"\")","v":""},{"$f":"IF(SNPs!B2355<>\"\",MID(SNPs!B2355,FIND(\"[\",SNPs!B2355)+1,FIND(\"/\",SNPs!B2355)-FIND(\"[\",SNPs!B2355)-1),\"\")","v":""},{"$f":"IF(SNPs!B2355<>\"\",MID(SNPs!B2355,FIND(\"[\",SNPs!B2355)+3,FIND(\"/\",SNPs!B2355)-FIND(\"/\",SNPs!B2355)+1),\"\")","v":""},{"$f":"IF(SNPs!B2355<>\"\",SNPs!B2355,\"\")","v":""}]
[{"$f":"IF(SNPs!A2356<>\"\",SNPs!A2356,\"\")","v":""},{"$f":"IF(SNPs!B2356<>\"\",MID(SNPs!B2356,FIND(\"[\",SNPs!B2356)+1,FIND(\"/\",SNPs!B2356)-FIND(\"[\",SNPs!B2356)-1),\"\")","v":""},{"$f":"IF(SNPs!B2356<>\"\",MID(SNPs!B2356,FIND(\"[\",SNPs!B2356)+3,FIND(\"/\",SNPs!B2356)-FIND(\"/\",SNPs!B2356)+1),\"\")","v":""},{"$f":"IF(SNPs!B2356<>\"\",SNPs!B2356,\"\")","v":""}]
[{"$f":"IF(SNPs!A2357<>\"\",SNPs!A2357,\"\")","v":""},{"$f":"IF(SNPs!B2357<>\"\",MID(SNPs!B2357,FIND(\"[\",SNPs!B2357)+1,FIND(\"/\",SNPs!B2357)-FIND(\"[\",SNPs!B2357)-1),\"\")","v":""},{"$f":"IF(SNPs!B2357<>\"\",MID(SNPs!B2357,FIND(\"[\",SNPs!B2357)+3,FIND(\"/\",SNPs!B2357)-FIND(\"/\",SNPs!B2357)+1),\"\")","v":""},{"$f":"IF(SNPs!B2357<>\"\",SNPs!B2357,\"\")","v":""}]
[{"$f":"IF(SNPs!A2358<>\"\",SNPs!A2358,\"\")","v":""},{"$f":"IF(SNPs!B2358<>\"\",MID(SNPs!B2358,FIND(\"[\",SNPs!B2358)+1,FIND(\"/\",SNPs!B2358)-FIND(\"[\",SNPs!B2358)-1),\"\")","v":""},{"$f":"IF(SNPs!B2358<>\"\",MID(SNPs!B2358,FIND(\"[\",SNPs!B2358)+3,FIND(\"/\",SNPs!B2358)-FIND(\"/\",SNPs!B2358)+1),\"\")","v":""},{"$f":"IF(SNPs!B2358<>\"\",SNPs!B2358,\"\")","v":""}]
[{"$f":"IF(SNPs!A2359<>\"\",SNPs!A2359,\"\")","v":""},{"$f":"IF(SNPs!B2359<>\"\",MID(SNPs!B2359,FIND(\"[\",SNPs!B2359)+1,FIND(\"/\",SNPs!B2359)-FIND(\"[\",SNPs!B2359)-1),\"\")","v":""},{"$f":"IF(SNPs!B2359<>\"\",MID(SNPs!B2359,FIND(\"[\",SNPs!B2359)+3,FIND(\"/\",SNPs!B2359)-FIND(\"/\",SNPs!B2359)+1),\"\")","v":""},{"$f":"IF(SNPs!B2359<>\"\",SNPs!B2359,\"\")","v":""}]
[{"$f":"IF(SNPs!A2360<>\"\",SNPs!A2360,\"\")","v":""},{"$f":"IF(SNPs!B2360<>\"\",MID(SNPs!B2360,FIND(\"[\",SNPs!B2360)+1,FIND(\"/\",SNPs!B2360)-FIND(\"[\",SNPs!B2360)-1),\"\")","v":""},{"$f":"IF(SNPs!B2360<>\"\",MID(SNPs!B2360,FIND(\"[\",SNPs!B2360)+3,FIND(\"/\",SNPs!B2360)-FIND(\"/\",SNPs!B2360)+1),\"\")","v":""},{"$f":"IF(SNPs!B2360<>\"\",SNPs!B2360,\"\")","v":""}]